{"text_format":"1","workbook":"xlsx","n_sheets":45,"sheets":["Datos de la IE","Primaria","Inicial","Secundaria","Inicial_y_Primaria","Inicial_y_Secundaria","Primaria_y_Secundaria","Inicial_Primaria_y_Secundaria","C5_Monit Normas","C3_Monit Efectivas Sec","C3_Monit Efectivas Prim","C3_Monit Efectivas Ini","C3_Monit Lectivas","C2_Monit 1","C1_Monit Sec2","C1_Monit Sec","C1_Monit Prim2","C1_Monit Prim","C1_Monit PrimEIB","C1_Monit Ini2","C1_Monit Ini","C1_Monit IniEIB","1 Monitoreo de Metas","Hoja5","C1_Inicial 2","C1_Inicial_EIB","Monitoreo de metas","1 Matriz Diagnóstica","2 Matriz Planificación","C1_ECE","C1_Form InEIB","C1_Form Ini","C1_Form Ini2","C1_Form PrimEIB","C1_FormPrim","C1_FormPrim2","C1_FormSec","C1_FormSec2","C2_Form1","C3_Form Ini","C3_FormPrim","C3_FormSec","C5_Convivencia Escolar","Matriz Implementación","C4_Form Acompañamiento"],"not_rendered":{"charts":6,"images":10,"macros":1,"external_links":0,"defined_names":14,"comments":0,"pivot_tables":0},"unopened":[],"bounds":{"document_bytes":16777216,"sheet_cells":100000,"rows_first":2000,"rows_last":500,"rows_between":2000,"halvings":0,"cell_chars":16384,"cell_head_chars":4096},"cells_cut":0,"cells_raw":0,"read":"whole","date_system":"1900"}

{"sheet":"Datos de la IE","index":0,"n_rows":29,"n_cols":8,"rows_kept":29,"cut":false,"hidden":false,"merged":[[13,2,13,4],[14,2,14,4],[15,2,15,4],[14,5,14,6],[14,7,14,8],[6,2,6,3],[7,2,7,3],[11,1,11,8],[12,2,12,4],[12,5,12,6],[12,7,12,8],[6,4,6,6],[7,4,7,6],[9,2,9,8],[17,7,17,8],[17,2,17,4],[16,2,16,4],[15,5,15,6],[15,7,15,8],[26,1,26,8],[3,2,3,8],[4,2,4,8],[5,2,5,8],[0,0,1,16383],[13,5,13,6],[13,7,13,8],[8,4,8,6],[8,7,8,8],[8,2,8,3],[6,7,6,8],[7,7,7,8],[19,1,19,8],[16,5,16,6],[16,7,16,8],[17,5,17,6]]}
["Datos generales de la Institución Educativa"]
[]
[]
[null,"Nombre de la IE:"]
[null,"Director de la IE:"]
[null,"Año lectivo:",2017,2017]
[null,"DRE:",null,null,"UGEL:"]
[null,"Departamento:",null,null,"Provincia:"]
[null,"Distrito:",null,null,"Centro Poblado:"]
[null,"Dirección de la IE:"]
[]
[null,"Características de la IE:"]
[null,"Código Modular","Nivel educativo",null,null,"Número de estudiantes",null,"Número de docentes"]
[]
[]
[]
[]
[]
[]
[null,"Según las características de tu IE, selecciona una opción para configurar el Índice del Aplicativo:"]
[]
[]
[]
[]
[]
[]
[null,"Nota: Completa primero esta hoja, luego las hojas referidas a los CGE y los reportes opcionales (si lo consideras necesario) y finalmente la Matriz de diagnóstico, objetivos y metas así como la Matriz de planificación.\nRECUERDA QUE: Lo más importante del aplicativo son las matrices señaladas y las demás hojas deben usarse siempre y cuando te sean últiles y faciliten el monitoreo del logro de las metas de tu IE."]
[]
[null,"Observación: El aplicativo está elaborado en Excel 2013. Si se usan versiones anteriores de Excel, podrían haber campos que no funcionen adecuadamente."]

{"sheet":"Primaria","index":1,"n_rows":38,"n_cols":11,"rows_kept":38,"cut":false,"hidden":true,"merged":[[3,3,3,15],[6,3,9,15]]}
[]
[]
[]
[]
[]
[]
[null,null,null,"Estimado (a) director (a), \nEste aplicativo ha sido diseñado para ayudarte en la formulación y monitoreo del Plan Anual de Trabajo (PAT), en estrecha relación con los Compromisos de Gestión Escolar formulados para el año 2017.\nEsperamos, que el aplicativo se convierta en una herramienta útil para tu gestión escolar.\n\nNovedades\n* La versión 2017 integra en un solo aplicativo los procesos de formulación y monitoreo del PAT. \n* El seguimiento a los compromisos 1, 4 y 5 se realiza en las primeras matrices de la Sección 2.\n* Los reportes de uso opcional pueden ayudar a la formulación y monitoreo del PAT. Sin embargo, su llenado no es obligatorio."]
[]
[]
[]
[]
[]
[]
[null,null,null,null,"Sección 1: Elaboración del PAT",null,null,null,null,null,"Sección 2: Monitoreo del PAT"]
[]
[null,null,null,null,"Matriz de diagnóstico, objetivos y metas de la IE",null,null,null,null,null,"Matriz de monitoreo de metas"]
[null,null,null,null,"Matriz de planificación de actividades de la IE",null,null,null,null,null,"Matriz de seguimiento a planificación"]
[]
[null,null,null,null,"Compromiso de Gestión 1",null,null,null,null,null,"Compromiso de Gestion 2"]
[null,null,null,null,"Diagnóstico de resultados y metas de la ECE",null,null,null,null,null,"Resultados de retención anual"]
[]
[null,null,null,null,"Compromiso de Gestión 2"]
[null,null,null,null,"Diagnóstico de resultados y metas de retención anual",null,null,null,null,null,"Compromiso de Gestion 3"]
[null,null,null,null,null,null,null,null,null,null,"Seguimiento a horas lectivas 2017, según calendarización del año escolar"]
[null,null,null,null,"Compromiso de Gestión 3",null,null,null,null,null,"Seguimiento a jornadas laborales efectivas, Nivel Primaria"]
[null,null,null,null,"Calendarización del año escolar, Nivel Primaria"]
[]
[null,null,null,null,"Compromiso de Gestión 4"]
[null,null,null,null,"Plan de visitas de monitoreo y/o reuniones de interaprendizaje"]
[]
[null,null,null,null,"Compromiso de Gestión 5"]
[null,null,null,null,"Datos sobre Convivencia Escolar en la IE"]
[]
[null,null,null,null,"Reportes de uso opcional para la elaboración del PAT",null,null,null,null,null,"Reportes de uso opcional para el monitoreo del PAT"]
[null,null,null,null,"Análisis de notas de años anteriores, Nivel Primaria EIB",null,null,null,null,null,"Seguimiento a notas 2017, Nivel Primaria EIB"]
[null,null,null,null,"Análisis de notas de años anteriores, Nivel Primaria (2)",null,null,null,null,null,"Seguimiento a notas 2017, Nivel Primaria (1)"]
[null,null,null,null,"Análisis de notas de años anteriores, Nivel Primaria (2)",null,null,null,null,null,"Seguimiento a notas 2017, Nivel Primaria (2)"]
[null,null,null,null,null,null,null,null,null,null,"Seguimiento a casos de violencia en la IE"]

{"sheet":"Inicial","index":2,"n_rows":37,"n_cols":11,"rows_kept":37,"cut":false,"hidden":false,"merged":[[2,3,2,14],[5,3,8,15]]}
[]
[]
[]
[]
[]
[null,null,null,"Estimado (a) director (a), \nEste aplicativo ha sido diseñado para ayudarte en la formulación y monitoreo del Plan Anual de Trabajo (PAT), en estrecha relación con los Compromisos de Gestión Escolar formulados para el año 2017.\nEsperamos, que el aplicativo se convierta en una herramienta útil para tu gestión escolar.\n\nNovedades\n* La versión 2017 integra en un solo aplicativo los procesos de formulación y monitoreo del PAT. \n* El seguimiento a los compromisos 1, 4 y 5 se realiza en las primeras matrices de la Sección 2.\n* Los reportes de uso opcional pueden ayudar a la formulación y monitoreo del PAT. Sin embargo, su llenado no es obligatorio."]
[]
[]
[]
[]
[]
[]
[null,null,null,null,"Sección 1: Elaboración del PAT",null,null,null,null,null,"Sección 2: Monitoreo del PAT"]
[]
[null,null,null,null,"Matriz de diagnóstico, objetivos y metas de la IE",null,null,null,null,null,"Matriz de monitoreo de metas"]
[null,null,null,null,"Matriz de planificación de actividades de la IE",null,null,null,null,null,"Matriz de seguimiento a planificación"]
[null,null,null,null,null,null,null,null,null,null,"Compromiso de Gestion 2"]
[null,null,null,null,"Compromiso de Gestión 1",null,null,null,null,null,"Resultados de retención anual"]
[null,null,null,null,"Diagnóstico de resultados y metas de la ECE"]
[null,null,null,null,null,null,null,null,null,null,"Compromiso de Gestion 3"]
[null,null,null,null,"Compromiso de Gestión 2",null,null,null,null,null,"Seguimiento a horas lectivas 2017, según calendarización del año escolar"]
[null,null,null,null,"Diagnóstico de resultados y metas de retención anual",null,null,null,null,null,"Seguimiento a jornadas laborales efectivas, Nivel Inicial"]
[]
[null,null,null,null,"Compromiso de Gestión 3"]
[null,null,null,null,"Calendarización del año escolar, Nivel Inicial"]
[]
[null,null,null,null,"Compromiso de Gestión 4"]
[null,null,null,null,"Plan de visitas de monitoreo y/o reuniones de interaprendizaje"]
[]
[null,null,null,null,"Compromiso de Gestión 5"]
[null,null,null,null,"Datos sobre Convivencia Escolar en la IE"]
[]
[null,null,null,null,"Reportes de uso opcional para la elaboración del PAT",null,null,null,null,null,"Reportes de uso opcional para el monitoreo del PAT"]
[null,null,null,null,"Análisis de notas de años anteriores, Nivel Inicial EIB",null,null,null,null,null,"Seguimiento a notas 2017, Nivel Inicial EIB"]
[null,null,null,null,"Análisis de notas de años anteriores, Nivel Inicial (1)",null,null,null,null,null,"Seguimiento a notas 2017, Nivel Inicial (1)"]
[null,null,null,null,"Análisis de notas de años anteriores, Nivel Inicial (2)",null,null,null,null,null,"Seguimiento a notas 2017, Nivel Inicial (2)"]
[null,null,null,null,null,null,null,null,null,null,"Seguimiento a casos de violencia en la IE"]

{"sheet":"Secundaria","index":3,"n_rows":36,"n_cols":12,"rows_kept":36,"cut":false,"hidden":true,"merged":[[2,3,2,13],[5,3,8,15]]}
[]
[]
[]
[]
[]
[null,null,null,"Estimado (a) director (a), \nEste aplicativo ha sido diseñado para ayudarte en la formulación y monitoreo del Plan Anual de Trabajo (PAT), en estrecha relación con los Compromisos de Gestión Escolar formulados para el año 2017.\nEsperamos, que el aplicativo se convierta en una herramienta útil para tu gestión escolar.\n\nNovedades\n* La versión 2017 integra en un solo aplicativo los procesos de formulación y monitoreo del PAT. \n* El seguimiento a los compromisos 1, 4 y 5 se realiza en las primeras matrices de la Sección 2.\n* Los reportes de uso opcional pueden ayudar a la formulación y monitoreo del PAT. Sin embargo, su llenado no es obligatorio."]
[]
[]
[]
[]
[]
[]
[null,null,null,null,"Sección 1: Elaboración del PAT",null,null,null,null,null,"Sección 2: Monitoreo del PAT"]
[]
[null,null,null,null,"Matriz de diagnóstico, objetivos y metas de la IE",null,null,null,null,null,null,"Matriz de monitoreo de metas"]
[null,null,null,null,"Matriz de planificación de actividades de la IE",null,null,null,null,null,null,"Matriz de seguimiento a planificación"]
[]
[null,null,null,null,"Compromiso de Gestión 1",null,null,null,null,null,null,"Compromiso de Gestion 2"]
[null,null,null,null,"Diagnóstico de resultados y metas de la ECE",null,null,null,null,null,null,"Resultados de retención anual"]
[]
[null,null,null,null,"Compromiso de Gestión 2",null,null,null,null,null,null,"Compromiso de Gestion 3"]
[null,null,null,null,"Diagnóstico de resultados y metas de retención anual",null,null,null,null,null,null,"Seguimiento a horas lectivas 2017, según calendarización del año escolar"]
[null,null,null,null,null,null,null,null,null,null,null,"Seguimiento a jornadas laborales efectivas, Nivel Secundaria"]
[null,null,null,null,"Compromiso de Gestión 3"]
[null,null,null,null,"Calendarización del año escolar, Nivel Secundaria"]
[]
[null,null,null,null,"Compromiso de Gestión 4"]
[null,null,null,null,"Plan de visitas de monitoreo y/o reuniones de interaprendizaje"]
[]
[null,null,null,null,"Compromiso de Gestión 5"]
[null,null,null,null,"Datos sobre Convivencia Escolar en la IE"]
[]
[null,null,null,null,"Reportes de uso opcional para la elaboración del PAT",null,null,null,null,null,null,"Reportes de uso opcional para el monitoreo del PAT"]
[null,null,null,null,"Análisis de notas de años anteriores, Nivel Secundaria (1)",null,null,null,null,null,null,"Seguimiento a notas 2017, Nivel Secundaria (1)"]
[null,null,null,null,"Análisis de notas de años anteriores, Nivel Secundaria (2)",null,null,null,null,null,null,"Seguimiento a notas 2017, Nivel Secundaria (2)"]
[null,null,null,null,null,null,null,null,null,null,null,"Seguimiento a casos de violencia en la IE"]

{"sheet":"Inicial_y_Primaria","index":4,"n_rows":41,"n_cols":11,"rows_kept":41,"cut":false,"hidden":true,"merged":[[3,3,3,14],[6,3,9,17]]}
[]
[]
[]
[]
[]
[]
[null,null,null,"Estimado (a) director (a), \nEste aplicativo ha sido diseñado para ayudarte en la formulación y monitoreo del Plan Anual de Trabajo (PAT), en estrecha relación con los Compromisos de Gestión Escolar formulados para el año 2017.\nEsperamos, que el aplicativo se convierta en una herramienta útil para tu gestión escolar.\n\nNovedades\n* La versión 2017 integra en un solo aplicativo los procesos de formulación y monitoreo del PAT. \n* El seguimiento a los compromisos 1, 4 y 5 se realiza en las primeras matrices de la Sección 2.\n* Los reportes de uso opcional pueden ayudar a la formulación y monitoreo del PAT. Sin embargo, su llenado no es obligatorio."]
[]
[]
[]
[]
[]
[null,null,null,null,"Sección 1: Elaboración del PAT",null,null,null,null,null,"Sección 2: Monitoreo del PAT"]
[]
[null,null,null,null,"Matriz de diagnóstico, objetivos y metas de la IE",null,null,null,null,null,"Matriz de monitoreo de metas"]
[null,null,null,null,"Matriz de planificación de actividades de la IE",null,null,null,null,null,"Matriz de seguimiento a planificación"]
[]
[null,null,null,null,"Compromiso de Gestión 1",null,null,null,null,null,"Compromiso de Gestion 2"]
[null,null,null,null,"Diagnóstico de resultados y metas de la ECE",null,null,null,null,null,"Resultados de retención anual"]
[]
[null,null,null,null,"Compromiso de Gestión 2",null,null,null,null,null,"Compromiso de Gestion 3"]
[null,null,null,null,"Diagnóstico de resultados y metas de retención anual",null,null,null,null,null,"Seguimiento a horas lectivas 2017, según calendarización del año escolar"]
[null,null,null,null,null,null,null,null,null,null,"Seguimiento a jornadas laborales efectivas, Nivel Inicial"]
[null,null,null,null,"Compromiso de Gestión 3",null,null,null,null,null,"Seguimiento a jornadas laborales efectivas, Nivel Primaria"]
[null,null,null,null,"Calendarización del año escolar, Nivel Inicial"]
[null,null,null,null,"Calendarización del año escolar, Nivel Primaria"]
[]
[null,null,null,null,"Compromiso de Gestión 4"]
[null,null,null,null,"Plan de visitas de monitoreo y/o reuniones de interaprendizaje"]
[]
[null,null,null,null,"Compromiso de Gestión 5"]
[null,null,null,null,"Datos sobre Convivencia Escolar en la IE"]
[]
[null,null,null,null,"Reportes de uso opcional para la elaboración del PAT",null,null,null,null,null,"Reportes de uso opcional para el monitoreo del PAT"]
[null,null,null,null,"Análisis de notas de años anteriores, Nivel Inicial EIB",null,null,null,null,null,"Seguimiento a notas 2017, Nivel Inicial EIB"]
[null,null,null,null,"Análisis de notas de años anteriores, Nivel Inicial (1)",null,null,null,null,null,"Seguimiento a notas 2017, Nivel Inicial (1)"]
[null,null,null,null,"Análisis de notas de años anteriores, Nivel Inicial (2)",null,null,null,null,null,"Seguimiento a notas 2017, Nivel Inicial (2)"]
[null,null,null,null,"Análisis de notas de años anteriores, Nivel Primaria EIB",null,null,null,null,null,"Seguimiento a notas 2017, Nivel Primaria EIB"]
[null,null,null,null,"Análisis de notas de años anteriores, Nivel Primaria (1)",null,null,null,null,null,"Seguimiento a notas 2017, Nivel Primaria (1)"]
[null,null,null,null,"Análisis de notas de años anteriores, Nivel Primaria (2)",null,null,null,null,null,"Seguimiento a notas 2017, Nivel Primaria (2)"]
[null,null,null,null,null,null,null,null,null,null,"Seguimiento a casos de violencia en la IE"]

{"sheet":"Inicial_y_Secundaria","index":5,"n_rows":41,"n_cols":11,"rows_kept":41,"cut":false,"hidden":true,"merged":[[3,3,3,15],[6,3,9,17]]}
[]
[]
[]
[]
[]
[]
[null,null,null,"Estimado (a) director (a), \nEste aplicativo ha sido diseñado para ayudarte en la formulación y monitoreo del Plan Anual de Trabajo (PAT), en estrecha relación con los Compromisos de Gestión Escolar formulados para el año 2017.\nEsperamos, que el aplicativo se convierta en una herramienta útil para tu gestión escolar.\n\nNovedades\n* La versión 2017 integra en un solo aplicativo los procesos de formulación y monitoreo del PAT. \n* El seguimiento a los compromisos 1, 4 y 5 se realiza en las primeras matrices de la Sección 2.\n* Los reportes de uso opcional pueden ayudar a la formulación y monitoreo del PAT. Sin embargo, su llenado no es obligatorio."]
[]
[]
[]
[]
[]
[]
[null,null,null,null,"Sección 1: Elaboración del PAT",null,null,null,null,null,"Sección 2: Monitoreo del PAT"]
[]
[null,null,null,null,"Matriz de diagnóstico, objetivos y metas de la IE",null,null,null,null,null,"Matriz de monitoreo de metas"]
[null,null,null,null,"Matriz de planificación de actividades de la IE",null,null,null,null,null,"Matriz de seguimiento a planificación"]
[]
[null,null,null,null,"Compromiso de Gestión 1",null,null,null,null,null,"Compromiso de Gestion 2"]
[null,null,null,null,"Diagnóstico de resultados y metas de la ECE",null,null,null,null,null,"Resultados de retención anual"]
[]
[null,null,null,null,"Compromiso de Gestión 2",null,null,null,null,null,"Compromiso de Gestion 3"]
[null,null,null,null,"Diagnóstico de resultados y metas de retención anual",null,null,null,null,null,"Seguimiento a horas lectivas 2017, según calendarización del año escolar"]
[null,null,null,null,null,null,null,null,null,null,"Seguimiento a jornadas laborales efectivas, Nivel Inicial"]
[null,null,null,null,"Compromiso de Gestión 3",null,null,null,null,null,"Seguimiento a jornadas laborales efectivas, Nivel Secundaria"]
[null,null,null,null,"Calendarización del año escolar, Nivel Inicial"]
[null,null,null,null,"Calendarización del año escolar, Nivel Secundaria"]
[]
[null,null,null,null,"Compromiso de Gestión 4"]
[null,null,null,null,"Plan de visitas de monitoreo y/o reuniones de interaprendizaje"]
[]
[null,null,null,null,"Compromiso de Gestión 5"]
[null,null,null,null,"Datos sobre Convivencia Escolar en la IE"]
[]
[null,null,null,null,"Reportes de uso opcional para la elaboración del PAT",null,null,null,null,null,"Reportes de uso opcional para el monitoreo del PAT"]
[null,null,null,null,"Análisis de notas de años anteriores, Nivel Inicial EIB",null,null,null,null,null,"Seguimiento a notas 2017, Nivel Inicial EIB"]
[null,null,null,null,"Análisis de notas de años anteriores, Nivel Inicial (1)",null,null,null,null,null,"Seguimiento a notas 2017, Nivel Inicial (1)"]
[null,null,null,null,"Análisis de notas de años anteriores, Nivel Inicial (2)",null,null,null,null,null,"Seguimiento a notas 2017, Nivel Inicial (2)"]
[null,null,null,null,"Análisis de notas de años anteriores, Nivel Secundaria (1)",null,null,null,null,null,"Seguimiento a notas 2017, Nivel Secundaria (1)"]
[null,null,null,null,"Análisis de notas de años anteriores, Nivel Secundaria (2)",null,null,null,null,null,"Seguimiento a notas 2017, Nivel Secundaria (2)"]
[null,null,null,null,null,null,null,null,null,null,"Seguimiento a casos de violencia en la IE"]

{"sheet":"Primaria_y_Secundaria","index":6,"n_rows":41,"n_cols":11,"rows_kept":41,"cut":false,"hidden":true,"merged":[[2,3,2,15],[5,3,8,17]]}
[]
[]
[]
[]
[]
[null,null,null,"Estimado (a) director (a), \nEste aplicativo ha sido diseñado para ayudarte en la formulación y monitoreo del Plan Anual de Trabajo (PAT), en estrecha relación con los Compromisos de Gestión Escolar formulados para el año 2017.\nEsperamos, que el aplicativo se convierta en una herramienta útil para tu gestión escolar.\n\nNovedades\n* La versión 2017 integra en un solo aplicativo los procesos de formulación y monitoreo del PAT. \n* El seguimiento a los compromisos 1, 4 y 5 se realiza en las primeras matrices de la Sección 2.\n* Los reportes de uso opcional pueden ayudar a la formulación y monitoreo del PAT. Sin embargo, su llenado no es obligatorio."]
[]
[]
[]
[]
[]
[]
[]
[null,null,null,null,"Sección 1: Elaboración del PAT",null,null,null,null,null,"Sección 2: Monitoreo del PAT"]
[]
[null,null,null,null,"Matriz de diagnóstico, objetivos y metas de la IE",null,null,null,null,null,"Matriz de monitoreo de metas"]
[null,null,null,null,"Matriz de planificación de actividades de la IE",null,null,null,null,null,"Matriz de seguimiento a planificación"]
[]
[null,null,null,null,"Compromiso de Gestión 1",null,null,null,null,null,"Compromiso de Gestion 2"]
[null,null,null,null,"Diagnóstico de resultados y metas de la ECE",null,null,null,null,null,"Resultados de retención anual"]
[]
[null,null,null,null,"Compromiso de Gestión 2",null,null,null,null,null,"Compromiso de Gestion 3"]
[null,null,null,null,"Diagnóstico de resultados y metas de retención anual",null,null,null,null,null,"Seguimiento a horas lectivas 2017, según calendarización del año escolar"]
[null,null,null,null,null,null,null,null,null,null,"Seguimiento a jornadas laborales efectivas, Nivel Primaria"]
[null,null,null,null,"Compromiso de Gestión 3",null,null,null,null,null,"Seguimiento a jornadas laborales efectivas, Nivel Secundaria"]
[null,null,null,null,"Calendarización del año escolar, Nivel Primaria"]
[null,null,null,null,"Calendarización del año escolar, Nivel Secundaria"]
[]
[null,null,null,null,"Compromiso de Gestión 4"]
[null,null,null,null,"Plan de visitas de monitoreo y/o reuniones de interaprendizaje"]
[]
[null,null,null,null,"Compromiso de Gestión 5"]
[null,null,null,null,"Datos sobre Convivencia Escolar en la IE"]
[]
[null,null,null,null,"Reportes de uso opcional para la elaboración del PAT",null,null,null,null,null,"Reportes de uso opcional para el monitoreo del PAT"]
[null,null,null,null,"Análisis de notas de años anteriores, Nivel Primaria EIB",null,null,null,null,null,"Seguimiento a notas 2017, Nivel Primaria EIB"]
[null,null,null,null,"Análisis de notas de años anteriores, Nivel Primaria (1)",null,null,null,null,null,"Seguimiento a notas 2017, Nivel Primaria (1)"]
[null,null,null,null,"Análisis de notas de años anteriores, Nivel Primaria (2)",null,null,null,null,null,"Seguimiento a notas 2017, Nivel Primaria (2)"]
[null,null,null,null,"Análisis de notas de años anteriores, Nivel Secundaria (1)",null,null,null,null,null,"Seguimiento a notas 2017, Nivel Secundaria (1)"]
[null,null,null,null,"Análisis de notas de años anteriores, Nivel Secundaria (2)",null,null,null,null,null,"Seguimiento a notas 2017, Nivel Secundaria (2)"]
[null,null,null,null,null,null,null,null,null,null,"Seguimiento a casos de violencia en la IE"]

{"sheet":"Inicial_Primaria_y_Secundaria","index":7,"n_rows":46,"n_cols":10,"rows_kept":46,"cut":false,"hidden":true,"merged":[[2,1,2,15],[5,1,8,16]]}
[]
[]
[]
[]
[]
[null,"Estimado (a) director (a), \nEste aplicativo ha sido diseñado para ayudarte en la formulación y monitoreo del Plan Anual de Trabajo (PAT), en estrecha relación con los Compromisos de Gestión Escolar formulados para el año 2017.\nEsperamos, que el aplicativo se convierta en una herramienta útil para tu gestión escolar.\n\nNovedades\n* La versión 2017 integra en un solo aplicativo los procesos de formulación y monitoreo del PAT. \n* El seguimiento a los compromisos 1, 4 y 5 se realiza en las primeras matrices de la Sección 2.\n* Los reportes de uso opcional pueden ayudar a la formulación y monitoreo del PAT. Sin embargo, su llenado no es obligatorio."]
[]
[]
[]
[]
[]
[]
[]
[]
[null,null,"Sección 1: Elaboración del PAT",null,null,null,null,null,null,"Sección 2: Monitoreo del PAT"]
[]
[null,null,"Matriz de diagnóstico, objetivos y metas de la IE",null,null,null,null,null,null,"Matriz de monitoreo de metas"]
[null,null,"Matriz de planificación de actividades de la IE",null,null,null,null,null,null,"Matriz de seguimiento a  planificación"]
[]
[null,null,"Compromiso de Gestión 1"]
[null,null,"Diagnóstico de resultados y metas de la ECE"]
[]
[null,null,"Compromiso de Gestión 2",null,null,null,null,null,null,"Compromiso de Gestion 2"]
[null,null,"Diagnóstico de resultados y metas de retención anual",null,null,null,null,null,null,"Resultados de retención anual"]
[]
[null,null,"Compromiso de Gestión 3",null,null,null,null,null,null,"Compromiso de Gestion 3"]
[null,null,"Calendarización del año escolar, Nivel Inicial",null,null,null,null,null,null,"Seguimiento a horas lectivas 2017, según calendarización del año escolar"]
[null,null,"Calendarización del año escolar, Nivel Primaria",null,null,null,null,null,null,"Seguimiento a jornadas laborales efectivas, Nivel Inicial"]
[null,null,"Calendarización del año escolar, Nivel Secundaria",null,null,null,null,null,null,"Seguimiento a jornadas laborales efectivas, Nivel Primaria"]
[null,null,null,null,null,null,null,null,null,"Seguimiento a jornadas laborales efectivas, Nivel Secundaria"]
[null,null,"Compromiso de Gestión 4"]
[null,null,"Plan de visitas de monitoreo y/o reuniones de interaprendizaje"]
[]
[null,null,"Compromiso de Gestión 5"]
[null,null,"Datos sobre Convivencia Escolar en la IE"]
[]
[null,null,"Reportes de uso opcional para la elaboración del PAT",null,null,null,null,null,null,"Reportes de uso opcional para el monitoreo del PAT"]
[null,null,"Análisis de notas de años anteriores, Nivel Inicial EIB",null,null,null,null,null,null,"Seguimiento a notas 2017, Nivel Inicial EIB"]
[null,null,"Análisis de notas de años anteriores, Nivel Inicial (1)",null,null,null,null,null,null,"Seguimiento a notas 2017, Nivel Inicial (1)"]
[null,null,"Análisis de notas de años anteriores, Nivel Inicial (2)",null,null,null,null,null,null,"Seguimiento a notas 2017, Nivel Inicial (2)"]
[null,null,"Análisis de notas de años anteriores, Nivel Primaria EIB",null,null,null,null,null,null,"Seguimiento a notas 2017, Nivel Primaria EIB"]
[null,null,"Análisis de notas de años anteriores, Nivel Primaria (1)",null,null,null,null,null,null,"Seguimiento a notas 2017, Nivel Primaria (1)"]
[null,null,"Análisis de notas de años anteriores, Nivel Primaria (2)",null,null,null,null,null,null,"Seguimiento a notas 2017, Nivel Primaria (2)"]
[null,null,"Análisis de notas de años anteriores, Nivel Secundaria (1)",null,null,null,null,null,null,"Seguimiento a notas 2017, Nivel Secundaria (1)"]
[null,null,"Análisis de notas de años anteriores, Nivel Secundaria (2)",null,null,null,null,null,null,"Seguimiento a notas 2017, Nivel Secundaria (2)"]
[null,null,null,null,null,null,null,null,null,"Seguimiento a casos de violencia en la IE"]

{"sheet":"C5_Monit Normas","index":8,"n_rows":72,"n_cols":12,"rows_kept":72,"cut":false,"hidden":true,"merged":[[0,2,0,6],[0,7,0,8],[9,2,9,5],[11,9,11,11],[21,9,22,9],[11,2,16,2],[11,3,12,3],[11,4,12,4],[11,5,11,8],[19,2,19,8],[20,2,20,8],[21,2,22,2],[21,3,22,3],[21,4,22,4],[21,5,21,8],[53,2,56,2],[58,2,61,2],[63,2,66,2],[68,2,71,2],[23,2,26,2],[28,2,31,2],[33,2,36,2],[38,2,41,2],[43,2,46,2],[48,2,51,2]]}
[null,null,"Seguimiento a casos de violencia en la IE"]
[null,null,"¿Qué hacer?"]
[null,null,"1° Lleva el registro de los casos presentados de violencia escolar, en el libro de incidencias y en la plataforma del Síseve."]
[null,null,"2° Haz el seguimiento de los casos, según el protocolo de atención. La tabla de \"Registro mensual\" te servirá en ese proceso."]
[null,null,"Nota: Si usas el portal SíseVe y llevas el seguimiento ahí, entonces no es necesario completar esta hoja."]
[null,null,"SíseVe - Sistema especializado en atención de casos sobre Violencia Escolar"]
[]
[null,null,"Resultados 2017 ➨"]
[null,null,null,null,null,null,"Julio","Anual"]
[null,null,"Porcentaje de casos de violencia escolar atendidos sobre el total de casos registrados.",null,null,null,{"$f":"IF(SUM(J26,J31,J36,J41,J46)=0,\"100%\",SUM(F26:I26,F31:I31,F36:I36,F41:I41,F46:I46)/SUM(J26,J31,J36,J41,J46))","v":"100%"},{"$f":"IF(K16=0,\"100%\",SUM(F17:I17))","v":"100%"}]
[]
[null,null,"CONSOLIDADO ANUAL 2016","Involucrados","Registro","Casos de violencia actual según su estado actual",null,null,null,"CASOS"]
[null,null,null,null,null,"Acción de la IE","Derivación","Seguimiento","Cierre","TOTAL","ATENDIDOS","% ATENDIDOS"]
[null,null,null,"De adultos a escolares",{"$f":"SUM(E24,E29,E34,E39,E44,E49,E54,E59,E64,E69)","v":0},0,0,0,0,{"$f":"SUM(E14:I14)","v":0},{"$f":"SUM(F14:I14)","v":0},{"$f":"IF(J14=0,\"100%\",K14/J14)","v":"100%"}]
[null,null,null,"Entre escolares",0,0,0,0,0,{"$f":"SUM(E15:I15)","v":0},{"$f":"SUM(F15:I15)","v":0},{"$f":"IF(J15=0,\"100%\",K15/J15)","v":"100%"}]
[null,null,null,"Total del año",{"$f":"SUM(E14:E15)","v":0},0,0,0,0,0,0,{"$f":"IF(J16=0,\"100%\",K16/J16)","v":"100%"}]
[null,null,null,"% del año según estado de casos.",{"$f":"IFERROR(E16/$J$16,\"\")","v":""},{"$f":"IFERROR(F16/$J$16,\"\")","v":""},{"$f":"IFERROR(G16/$J$16,\"\")","v":""},{"$f":"IFERROR(H16/$J$16,\"\")","v":""},{"$f":"IFERROR(I16/$J$16,\"\")","v":""}]
[]
[null,null,"Registro mensual 2017 ➨"]
[null,null,"★ En las tablas siguientes deberás colocar el número de casos según el detalle solicitado.\nEn las tablas correspondientes a cada mes deberás completar los datos según los casos que hayan aparecido en cada mes y según el estado en el que estén dichos casos. Podrás ir actualizando o modificando el estado de los casos a medida que vayan avanzando en el proceso. (Si un caso que surgió en marzo, entró en fase de Cierre en junio, tendrás que modificar ese dato en la tabla del mes de marzo, pues el conflicto en cuestión pertenece a ese mes.)\nPor lo anterior, será importante que ordenes tu cuaderno de incidencias de forma mensual, así podrás hacer el seguimiento a los conflictos según el mes en que surgieron.\nLas definiciones del estado actual de los conflictos está a continuación y puedes encontrar ejemplos en los Manuales del SíseVe, ingresa al vínculo del inicio."]
[null,null,"Registro: Etapa inicial donde se toma conocimiento del caso y se procede a registrarlo en el SíseVe y/o en el Cuaderno de incidencias de la I.E. El simple registro no implica que se haya tomado una acción necesariamente.\nAcción de la I.E.: Nos referimos a las medidas adoptadas por la escuela para atender cada caso de violencia escolar.\nDerivación: Ciertos casos requieren de servicios especializados impartidos por otras instituciones (Defensorías del Niño y del Adolescente, Centros de salud, Centro de Emergencia Mujer, Comisaría o Fiscalía, etc.).\nSeguimiento: Consiste en verificar que nuestros estudiantes estén recibiendo una adecuada atención.\nCierre: Se da por concluida la atención del caso, cuando se han ejecutado las medidas de protección y atención por la I.E. y por los servicios especializados de manera satisfactoria. Para ello, hay que verificar la restitución o protección de los derechos del niño, niña y/o adolescente involucrados en los hechos de violencia."]
[null,null,"Mes","Involucrados","Registro","Número de casos según su estado actual",null,null,null,"Total de casos por mes"]
[null,null,null,null,null,"Acción de la IE","Derivación","Seguimiento","Cierre"]
[null,null,"Casos del mes de MARZO","De adultos a escolares",null,null,null,null,null,{"$f":"SUM(E24:I24)","v":0}]
[null,null,null,"Entre escolares",null,null,null,null,null,{"$f":"SUM(E25:I25)","v":0}]
[null,null,null,"Total del mes",{"$f":"SUM(E24:E25)","v":0},0,0,0,0,0]
[null,null,null,"% según estado de casos del mes",{"$f":"IFERROR(E26/$J$26,\"\")","v":""},{"$f":"IFERROR(F26/$J$26,\"\")","v":""},{"$f":"IFERROR(G26/$J$26,\"\")","v":""},{"$f":"IFERROR(H26/$J$26,\"\")","v":""},{"$f":"IFERROR(I26/$J$26,\"\")","v":""}]
[]
[null,null,"Casos del mes de ABRIL","De adultos a escolares",null,null,null,null,null,{"$f":"SUM(E29:I29)","v":0}]
[null,null,null,"Entre escolares",null,null,null,null,null,{"$f":"SUM(E30:I30)","v":0}]
[null,null,null,"Total del mes",{"$f":"SUM(E29:E30)","v":0},0,0,0,0,0]
[null,null,null,"% según estado de casos del mes",{"$f":"IFERROR(E31/$J$31,\"\")","v":""},{"$f":"IFERROR(F31/$J$31,\"\")","v":""},{"$f":"IFERROR(G31/$J$31,\"\")","v":""},{"$f":"IFERROR(H31/$J$31,\"\")","v":""},{"$f":"IFERROR(I31/$J$31,\"\")","v":""}]
[]
[null,null,"Casos del mes de MAYO","De adultos a escolares",null,null,null,null,null,{"$f":"SUM(E34:I34)","v":0}]
[null,null,null,"Entre escolares",null,null,null,null,null,{"$f":"SUM(E35:I35)","v":0}]
[null,null,null,"Total del mes",{"$f":"SUM(E34:E35)","v":0},0,0,0,0,0]
[null,null,null,"% según estado de casos del mes",{"$f":"IFERROR(E36/$J$36,\"\")","v":""},{"$f":"IFERROR(F36/$J$36,\"\")","v":""},{"$f":"IFERROR(G36/$J$36,\"\")","v":""},{"$f":"IFERROR(H36/$J$36,\"\")","v":""},{"$f":"IFERROR(I36/$J$36,\"\")","v":""}]
[]
[null,null,"Casos del mes de JUNIO","De adultos a escolares",null,null,null,null,null,{"$f":"SUM(E39:I39)","v":0}]
[null,null,null,"Entre escolares",null,null,null,null,null,{"$f":"SUM(E40:I40)","v":0}]
[null,null,null,"Total del mes",{"$f":"SUM(E39:E40)","v":0},0,0,0,0,0]
[null,null,null,"% según estado de casos del mes",{"$f":"IFERROR(E41/$J$41,\"\")","v":""},{"$f":"IFERROR(F41/$J$41,\"\")","v":""},{"$f":"IFERROR(G41/$J$41,\"\")","v":""},{"$f":"IFERROR(H41/$J$41,\"\")","v":""},{"$f":"IFERROR(I41/$J$41,\"\")","v":""}]
[]
[null,null,"Casos del mes de JULIO","De adultos a escolares",null,null,null,null,null,{"$f":"SUM(E44:I44)","v":0}]
[null,null,null,"Entre escolares",null,null,null,null,null,{"$f":"SUM(E45:I45)","v":0}]
[null,null,null,"Total del mes",{"$f":"SUM(E44:E45)","v":0},0,0,0,0,0]
[null,null,null,"% según estado de casos del mes",{"$f":"IFERROR(E46/$J$46,\"\")","v":""},{"$f":"IFERROR(F46/$J$46,\"\")","v":""},{"$f":"IFERROR(G46/$J$46,\"\")","v":""},{"$f":"IFERROR(H46/$J$46,\"\")","v":""},{"$f":"IFERROR(I46/$J$46,\"\")","v":""}]
[]
[null,null,"Casos del mes de AGOSTO","De adultos a escolares",null,null,null,null,null,{"$f":"SUM(E49:I49)","v":0}]
[null,null,null,"Entre escolares",null,null,null,null,null,{"$f":"SUM(E50:I50)","v":0}]
[null,null,null,"Total del mes",{"$f":"SUM(E49:E50)","v":0},0,0,0,0,0]
[null,null,null,"% según estado de casos del mes",{"$f":"IFERROR(E51/$J$51,\"\")","v":""},{"$f":"IFERROR(F51/$J$51,\"\")","v":""},{"$f":"IFERROR(G51/$J$51,\"\")","v":""},{"$f":"IFERROR(H51/$J$51,\"\")","v":""},{"$f":"IFERROR(I51/$J$51,\"\")","v":""}]
[]
[null,null,"Casos del mes de SETIEMBRE","De adultos a escolares",null,null,null,null,null,{"$f":"SUM(E54:I54)","v":0}]
[null,null,null,"Entre escolares",null,null,null,null,null,{"$f":"SUM(E55:I55)","v":0}]
[null,null,null,"Total del mes",{"$f":"SUM(E54:E55)","v":0},0,0,0,0,0]
[null,null,null,"% según estado de casos del mes",{"$f":"IFERROR(E56/$J$56,\"\")","v":""},{"$f":"IFERROR(F56/$J$56,\"\")","v":""},{"$f":"IFERROR(G56/$J$56,\"\")","v":""},{"$f":"IFERROR(H56/$J$56,\"\")","v":""},{"$f":"IFERROR(I56/$J$56,\"\")","v":""}]
[]
[null,null,"Casos del mes de OCTUBRE","De adultos a escolares",null,null,null,null,null,{"$f":"SUM(E59:I59)","v":0}]
[null,null,null,"Entre escolares",null,null,null,null,null,{"$f":"SUM(E60:I60)","v":0}]
[null,null,null,"Total del mes",{"$f":"SUM(E59:E60)","v":0},0,0,0,0,0]
[null,null,null,"% según estado de casos del mes",{"$f":"IFERROR(E61/$J$61,\"\")","v":""},{"$f":"IFERROR(F61/$J$61,\"\")","v":""},{"$f":"IFERROR(G61/$J$61,\"\")","v":""},{"$f":"IFERROR(H61/$J$61,\"\")","v":""},{"$f":"IFERROR(I61/$J$61,\"\")","v":""}]
[]
[null,null,"Casos del mes de NOVIEMBRE","De adultos a escolares",null,null,null,null,null,{"$f":"SUM(E64:I64)","v":0}]
[null,null,null,"Entre escolares",null,null,null,null,null,{"$f":"SUM(E65:I65)","v":0}]
[null,null,null,"Total del mes",{"$f":"SUM(E64:E65)","v":0},0,0,0,0,0]
[null,null,null,"% según estado de casos del mes",{"$f":"IFERROR(E66/$J$66,\"\")","v":""},{"$f":"IFERROR(F66/$J$66,\"\")","v":""},{"$f":"IFERROR(G66/$J$66,\"\")","v":""},{"$f":"IFERROR(H66/$J$66,\"\")","v":""},{"$f":"IFERROR(I66/$J$66,\"\")","v":""}]
[]
[null,null,"Casos del mes de DICIEMBRE","De adultos a escolares",null,null,null,null,null,{"$f":"SUM(E69:I69)","v":0}]
[null,null,null,"Entre escolares",null,null,null,null,null,{"$f":"SUM(E70:I70)","v":0}]
[null,null,null,"Total del mes",{"$f":"SUM(E69:E70)","v":0},0,0,0,0,0]
[null,null,null,"% según estado de casos del mes",{"$f":"IFERROR(E71/$J$71,\"\")","v":""},{"$f":"IFERROR(F71/$J$71,\"\")","v":""},{"$f":"IFERROR(G71/$J$71,\"\")","v":""},{"$f":"IFERROR(H71/$J$71,\"\")","v":""},{"$f":"IFERROR(I71/$J$71,\"\")","v":""}]

{"sheet":"C3_Monit Efectivas Sec","index":9,"n_rows":173,"n_cols":291,"rows_kept":173,"cut":false,"hidden":true,"merged":[[21,33,21,55],[20,56,22,56],[20,33,20,55],[20,32,22,32],[17,39,17,40],[17,37,17,38],[17,35,17,36],[20,266,22,266],[20,267,20,289],[17,59,17,60],[17,61,17,62],[17,63,17,64],[20,110,22,110],[20,111,20,133],[20,134,22,134],[20,136,22,136],[20,137,20,159],[20,160,22,160],[21,111,21,133],[21,137,21,159],[21,59,21,81],[21,85,21,107],[20,214,22,214],[20,215,20,237],[20,290,22,290],[21,267,21,289],[15,266,15,270],[16,267,16,268],[16,269,16,270],[16,271,16,272],[16,273,16,274],[17,267,17,268],[17,269,17,270],[17,271,17,272],[17,273,17,274],[10,266,10,268],[10,269,10,270],[10,271,10,272],[10,273,10,274],[11,266,11,268],[11,269,11,270],[11,271,11,272],[11,273,11,274],[14,266,14,270],[3,2,3,3],[9,5,9,6],[10,7,10,9],[10,10,10,11],[10,12,10,13],[10,14,10,15],[10,61,10,62],[10,63,10,64],[10,65,10,66],[10,84,10,86],[10,87,10,88],[10,89,10,90],[10,16,10,17],[10,32,10,34],[10,35,10,36],[10,37,10,38],[10,39,10,40],[10,58,10,60],[10,143,10,144],[10,162,10,164],[10,165,10,166],[10,167,10,168],[10,91,10,92],[10,110,10,112],[10,113,10,114],[10,115,10,116],[10,117,10,118],[10,136,10,138],[10,247,10,248],[11,7,11,9],[11,10,11,11],[11,12,11,13],[11,14,11,15],[11,32,11,34],[11,35,11,36],[11,37,11,38],[11,39,11,40],[11,58,11,60],[10,217,10,218],[10,219,10,220],[10,221,10,222],[10,240,10,242],[10,243,10,244],[10,245,10,246],[10,169,10,170],[10,188,10,190],[10,191,10,192],[10,193,10,194],[10,195,10,196],[10,214,10,216],[10,139,10,140],[10,141,10,142],[11,91,11,92],[11,110,11,112],[11,113,11,114],[11,115,11,116],[11,117,11,118],[11,136,11,138],[11,61,11,62],[11,63,11,64],[11,65,11,66],[11,84,11,86],[11,87,11,88],[11,89,11,90],[11,169,11,170],[11,188,11,190],[11,191,11,192],[11,193,11,194],[11,195,11,196],[11,214,11,216],[11,139,11,140],[11,141,11,142],[11,143,11,144],[11,162,11,164],[11,165,11,166],[11,167,11,168],[15,2,16,3],[15,4,15,6],[15,7,15,11],[15,32,15,36],[15,58,15,62],[15,84,15,88],[15,110,15,114],[15,136,15,140],[11,247,11,248],[14,2,14,6],[14,7,14,11],[14,32,14,36],[14,58,14,62],[14,84,14,88],[14,110,14,114],[14,136,14,140],[14,162,14,166],[14,188,14,192],[11,217,11,218],[11,219,11,220],[11,221,11,222],[11,240,11,242],[11,243,11,244],[11,245,11,246],[15,240,15,244],[16,8,16,9],[16,10,16,11],[16,12,16,13],[16,14,16,15],[16,33,16,34],[16,35,16,36],[14,214,14,218],[14,240,14,244],[16,37,16,38],[16,39,16,40],[16,59,16,60],[16,61,16,62],[16,63,16,64],[16,65,16,66],[15,162,15,166],[15,188,15,192],[15,214,15,218],[16,137,16,138],[16,139,16,140],[16,141,16,142],[16,143,16,144],[16,85,16,86],[16,87,16,88],[16,89,16,90],[16,91,16,92],[16,111,16,112],[16,113,16,114],[16,241,16,242],[16,243,16,244],[16,245,16,246],[16,247,16,248],[17,2,17,3],[17,8,17,9],[17,10,17,11],[17,12,17,13],[17,14,17,15],[17,33,17,34],[16,193,16,194],[16,195,16,196],[16,215,16,216],[16,217,16,218],[16,219,16,220],[16,221,16,222],[16,163,16,164],[16,165,16,166],[16,167,16,168],[16,169,16,170],[16,189,16,190],[16,191,16,192],[16,115,16,116],[16,117,16,118],[17,241,17,242],[17,243,17,244],[17,245,17,246],[17,247,17,248],[20,2,22,2],[20,3,22,3],[20,4,22,4],[20,5,22,5],[20,6,22,6],[17,191,17,192],[17,193,17,194],[17,195,17,196],[17,215,17,216],[17,217,17,218],[17,219,17,220],[17,143,17,144],[17,163,17,164],[17,165,17,166],[17,167,17,168],[17,169,17,170],[20,7,22,7],[20,8,20,29],[20,30,22,30],[21,8,21,29],[17,221,17,222],[17,137,17,138],[17,139,17,140],[17,141,17,142],[17,65,17,66],[17,85,17,86],[17,87,17,88],[17,89,17,90],[17,91,17,92],[17,111,17,112],[17,189,17,190],[17,113,17,114],[17,115,17,116],[17,117,17,118],[20,58,22,58],[20,59,20,81],[20,82,22,82],[20,84,22,84],[20,85,20,107],[20,108,22,108],[20,238,22,238],[20,240,22,240],[20,241,20,263],[20,264,22,264],[21,215,21,237],[21,241,21,263],[20,162,22,162],[20,163,20,185],[20,186,22,186],[20,188,22,188],[20,189,20,211],[20,212,22,212],[21,163,21,185],[21,189,21,211]]}
[null,null,"Indicador 2: Porcentaje de jornadas laborales efectivas de los docentes."]
[null,null,"Calendarización y seguimiento del cumplimiento de horas del año escolar 2017 (nivel Secundaria)"]
[]
[]
[]
[null,null,null,"HORAS CALENDARIZADAS EN EL AÑO"]
[null,null,null,"NIVEL/MODALIDAD","H. SEM","H. / DIA","N° SECC."]
[null,null,null,"SECUNDARIA",{"$f":"F8*G8*5","v":5},{"$f":"'C3_FormSec'!L14","v":1},{"$f":"'C3_FormSec'!L13","v":1},"Estos datos se enlazan con las hojas de calendarización."]
[]
[null,null,null,"HRS. SEM CONTROL",{"$f":"SUM(E24:E173)","v":0},"HORAS",null,"HRS. CALENDARIZADAS EN EL MES",null,null,null,null,null,null,null,null,null,null,null,null,null,null,null,null,null,null,null,null,null,null,null,null,"HORAS CALENDARIZADAS EN EL MES",null,null,null,null,null,null,null,null,null,null,null,null,null,null,null,null,null,null,null,null,null,null,null,null,null,"HORAS CALENDARIZADAS EN EL MES",null,null,null,null,null,null,null,null,null,null,null,null,null,null,null,null,null,null,null,null,null,null,null,null,null,"HORAS CALENDARIZADAS EN EL MES",null,null,null,null,null,null,null,null,null,null,null,null,null,null,null,null,null,null,null,null,null,null,null,null,null,"HORAS CALENDARIZADAS EN EL MES",null,null,null,null,null,null,null,null,null,null,null,null,null,null,null,null,null,null,null,null,null,null,null,null,null,"HORAS CALENDARIZADAS EN EL MES",null,null,null,null,null,null,null,null,null,null,null,null,null,null,null,null,null,null,null,null,null,null,null,null,null,"HORAS CALENDARIZADAS EN EL MES",null,null,null,null,null,null,null,null,null,null,null,null,null,null,null,null,null,null,null,null,null,null,null,null,null,"HORAS CALENDARIZADAS EN EL MES",null,null,null,null,null,null,null,null,null,null,null,null,null,null,null,null,null,null,null,null,null,null,null,null,null,"HORAS CALENDARIZADAS EN EL MES",null,null,null,null,null,null,null,null,null,null,null,null,null,null,null,null,null,null,null,null,null,null,null,null,null,"HORAS CALENDARIZADAS EN EL MES",null,null,null,null,null,null,null,null,null,null,null,null,null,null,null,null,null,null,null,null,null,null,null,null,null,"HORAS CALENDARIZADAS EN EL MES"]
[null,null,null,"AÑO","DIAS","LECT.","EFEC.","MES",null,null,"DIAS",null,"LECT.",null,"EFEC.",null,null,null,null,null,null,null,null,null,null,null,null,null,null,null,null,null,"MES",null,null,"DIAS",null,"LECT.",null,"EFEC.",null,null,null,null,null,null,null,null,null,null,null,null,null,null,null,null,null,null,"MES",null,null,"DIAS",null,"LECT.",null,"EFEC.",null,null,null,null,null,null,null,null,null,null,null,null,null,null,null,null,null,null,"MES",null,null,"DIAS",null,"LECT.",null,"EFEC.",null,null,null,null,null,null,null,null,null,null,null,null,null,null,null,null,null,null,"MES",null,null,"DIAS",null,"LECT.",null,"EFEC.",null,null,null,null,null,null,null,null,null,null,null,null,null,null,null,null,null,null,"MES",null,null,"DIAS",null,"LECT.",null,"EFEC.",null,null,null,null,null,null,null,null,null,null,null,null,null,null,null,null,null,null,"MES",null,null,"DIAS",null,"LECT.",null,"EFEC.",null,null,null,null,null,null,null,null,null,null,null,null,null,null,null,null,null,null,"MES",null,null,"DIAS",null,"LECT.",null,"EFEC.",null,null,null,null,null,null,null,null,null,null,null,null,null,null,null,null,null,null,"MES",null,null,"DIAS",null,"LECT.",null,"EFEC.",null,null,null,null,null,null,null,null,null,null,null,null,null,null,null,null,null,null,"MES",null,null,"DIAS",null,"LECT.",null,"EFEC.",null,null,null,null,null,null,null,null,null,null,null,null,null,null,null,null,null,null,"MES",null,null,"DIAS",null,"LECT.",null,"EFEC."]
[null,null,null,2016,{"$f":"K12+AJ12+BJ12+CJ12+EJ12+HJ12+IJ12+DJ12+FJ12+GJ12","v":185},{"$f":"'C3_FormSec'!AQ44","v":185},{"$f":"'C3_FormSec'!AR44","v":185},"MARZO",null,null,{"$f":"'C3_FormSec'!AP22","v":15},null,{"$f":"IF(K12=\"\",\"\",K12*F$8)","v":15},null,{"$f":"IF(K12=\"\",\"\",M12*G$8)","v":15},null,"Estos datos se enlazan con las hojas de calendarización.",null,null,null,null,null,null,null,null,null,null,null,null,null,null,null,{"$f":"'C3_FormSec'!B24","v":"2017-04-01"},null,null,{"$f":"'C3_FormSec'!AP24","v":20},null,{"$f":"'C3_FormSec'!AQ24","v":20},null,{"$f":"'C3_FormSec'!AR24","v":20},null,null,null,null,null,null,null,null,null,null,null,null,null,null,null,null,null,null,{"$f":"'C3_FormSec'!B26","v":"2017-05-01"},null,null,{"$f":"'C3_FormSec'!AP26","v":22},null,{"$f":"'C3_FormSec'!AQ26","v":22},null,{"$f":"'C3_FormSec'!AR26","v":22},null,null,null,null,null,null,null,null,null,null,null,null,null,null,null,null,null,null,{"$f":"'C3_FormSec'!B28","v":"2017-06-01"},null,null,{"$f":"'C3_FormSec'!AP28","v":21},null,{"$f":"'C3_FormSec'!AQ28","v":21},null,{"$f":"'C3_FormSec'!AR28","v":21},null,null,null,null,null,null,null,null,null,null,null,null,null,null,null,null,null,null,{"$f":"'C3_FormSec'!B30","v":"2017-07-01"},null,null,{"$f":"'C3_FormSec'!AP30","v":15},null,{"$f":"'C3_FormSec'!AQ30","v":15},null,{"$f":"'C3_FormSec'!AR30","v":15},null,null,null,null,null,null,null,null,null,null,null,null,null,null,null,null,null,null,{"$f":"'C3_FormSec'!B32","v":"2017-08-01"},null,null,{"$f":"'C3_FormSec'!AP32","v":18},null,{"$f":"'C3_FormSec'!AQ32","v":18},null,{"$f":"'C3_FormSec'!AR32","v":18},null,null,null,null,null,null,null,null,null,null,null,null,null,null,null,null,null,null,{"$f":"'C3_FormSec'!B34","v":"2017-09-01"},null,null,{"$f":"'C3_FormSec'!AP34","v":21},null,{"$f":"'C3_FormSec'!AQ34","v":21},null,{"$f":"'C3_FormSec'!AR34","v":21},null,null,null,null,null,null,null,null,null,null,null,null,null,null,null,null,null,null,{"$f":"'C3_FormSec'!B36","v":"2017-10-01"},null,null,{"$f":"'C3_FormSec'!AP36","v":22},null,{"$f":"'C3_FormSec'!AQ36","v":22},null,{"$f":"'C3_FormSec'!AR36","v":22},null,null,null,null,null,null,null,null,null,null,null,null,null,null,null,null,null,null,{"$f":"'C3_FormSec'!B38","v":"2017-11-01"},null,null,{"$f":"'C3_FormSec'!AP38","v":21},null,{"$f":"'C3_FormSec'!AQ38","v":21},null,{"$f":"'C3_FormSec'!AR38","v":21},null,null,null,null,null,null,null,null,null,null,null,null,null,null,null,null,null,null,{"$f":"'C3_FormSec'!B40","v":"2017-12-01"},null,null,{"$f":"'C3_FormSec'!AP40","v":10},null,{"$f":"'C3_FormSec'!AQ40","v":10},null,{"$f":"'C3_FormSec'!AR40","v":10},null,null,null,null,null,null,null,null,null,null,null,null,null,null,null,null,null,null,{"$f":"'C3_FormSec'!B42","v":"2018-01-01"},null,null,{"$f":"'C3_FormSec'!AP42","v":0},null,{"$f":"'C3_FormSec'!AQ42","v":0},null,{"$f":"'C3_FormSec'!AR42","v":0}]
[]
[null,null,"INFORME DE LAS HORAS EFECTIVAS DE TRABAJO PEDAGOGICO EN LAS INSTITUCIONES EDUCATIVAS PUBLICAS *"]
[null,null,"AVANCE ANUAL DE JORN. LAB. EFECTIVA",null,null,null,null,"MARZO",null,null,null,null,null,null,null,null,null,null,null,null,null,null,null,null,null,null,null,null,null,null,null,null,{"$f":"AG12","v":"2017-04-01"},null,null,null,null,null,null,null,null,null,null,null,null,null,null,null,null,null,null,null,null,null,null,null,null,null,{"$f":"BG12","v":"2017-05-01"},null,null,null,null,null,null,null,null,null,null,null,null,null,null,null,null,null,null,null,null,null,null,null,null,null,{"$f":"CG12","v":"2017-06-01"},null,null,null,null,null,null,null,null,null,null,null,null,null,null,null,null,null,null,null,null,null,null,null,null,null,{"$f":"DG12","v":"2017-07-01"},null,null,null,null,null,null,null,null,null,null,null,null,null,null,null,null,null,null,null,null,null,null,null,null,null,{"$f":"EG12","v":"2017-08-01"},null,null,null,null,null,null,null,null,null,null,null,null,null,null,null,null,null,null,null,null,null,null,null,null,null,{"$f":"FG12","v":"2017-09-01"},null,null,null,null,null,null,null,null,null,null,null,null,null,null,null,null,null,null,null,null,null,null,null,null,null,{"$f":"GG12","v":"2017-10-01"},null,null,null,null,null,null,null,null,null,null,null,null,null,null,null,null,null,null,null,null,null,null,null,null,null,{"$f":"HG12","v":"2017-11-01"},null,null,null,null,null,null,null,null,null,null,null,null,null,null,null,null,null,null,null,null,null,null,null,null,null,{"$f":"IG12","v":"2017-12-01"},null,null,null,null,null,null,null,null,null,null,null,null,null,null,null,null,null,null,null,null,null,null,null,null,null,{"$f":"JG12","v":"2018-01-01"}]
[null,null,"NIVEL",null,"JORNADA EFECTIVA",null,null,"JORNADA EFECTIVA",null,null,null,null,null,null,null,null,null,null,null,null,null,null,null,null,null,null,null,null,null,null,null,null,"JORNADA EFECTIVA",null,null,null,null,null,null,null,null,null,null,null,null,null,null,null,null,null,null,null,null,null,null,null,null,null,"JORNADA EFECTIVA",null,null,null,null,null,null,null,null,null,null,null,null,null,null,null,null,null,null,null,null,null,null,null,null,null,"JORNADA EFECTIVA",null,null,null,null,null,null,null,null,null,null,null,null,null,null,null,null,null,null,null,null,null,null,null,null,null,"JORNADA EFECTIVA",null,null,null,null,null,null,null,null,null,null,null,null,null,null,null,null,null,null,null,null,null,null,null,null,null,"JORNADA EFECTIVA",null,null,null,null,null,null,null,null,null,null,null,null,null,null,null,null,null,null,null,null,null,null,null,null,null,"JORNADA EFECTIVA",null,null,null,null,null,null,null,null,null,null,null,null,null,null,null,null,null,null,null,null,null,null,null,null,null,"JORNADA EFECTIVA",null,null,null,null,null,null,null,null,null,null,null,null,null,null,null,null,null,null,null,null,null,null,null,null,null,"JORNADA EFECTIVA",null,null,null,null,null,null,null,null,null,null,null,null,null,null,null,null,null,null,null,null,null,null,null,null,null,"JORNADA EFECTIVA",null,null,null,null,null,null,null,null,null,null,null,null,null,null,null,null,null,null,null,null,null,null,null,null,null,"JORNADA EFECTIVA"]
[null,null,null,null,"PROG.","CUMPL.","%","PROG.","CUMPL.",null,"% MES",null,"% AÑO",null,"HR. DIA",null,null,null,null,null,null,null,null,null,null,null,null,null,null,null,null,null,"PROG.","CUMPL.",null,"% MES",null,"% AÑO",null,"HR. DIA",null,null,null,null,null,null,null,null,null,null,null,null,null,null,null,null,null,null,"PROG.","CUMPL.",null,"% MES",null,"% AÑO",null,"HR. DIA",null,null,null,null,null,null,null,null,null,null,null,null,null,null,null,null,null,null,"PROG.","CUMPL.",null,"% MES",null,"% AÑO",null,"HR. DIA",null,null,null,null,null,null,null,null,null,null,null,null,null,null,null,null,null,null,"PROG.","CUMPL.",null,"% MES",null,"% AÑO",null,"HR. DIA",null,null,null,null,null,null,null,null,null,null,null,null,null,null,null,null,null,null,"PROG.","CUMPL.",null,"% MES",null,"% AÑO",null,"HR. DIA",null,null,null,null,null,null,null,null,null,null,null,null,null,null,null,null,null,null,"PROG.","CUMPL.",null,"% MES",null,"% AÑO",null,"HR. DIA",null,null,null,null,null,null,null,null,null,null,null,null,null,null,null,null,null,null,"PROG.","CUMPL.",null,"% MES",null,"% AÑO",null,"HR. DIA",null,null,null,null,null,null,null,null,null,null,null,null,null,null,null,null,null,null,"PROG.","CUMPL.",null,"% MES",null,"% AÑO",null,"HR. DIA",null,null,null,null,null,null,null,null,null,null,null,null,null,null,null,null,null,null,"PROG.","CUMPL.",null,"% MES",null,"% AÑO",null,"HR. DIA",null,null,null,null,null,null,null,null,null,null,null,null,null,null,null,null,null,null,"PROG.","CUMPL.",null,"% MES",null,"% AÑO",null,"HR. DIA"]
[null,null,"SECUNDARIA",null,{"$f":"SUM(G12:G12)","v":185},{"$f":"I18+AH18+BH18+CH18+DH18+EH18+FH18+GH18+HH18+IH18+JH18","v":0},{"$f":"IF(E18=0,\"100%\",F18/E18)","v":0},{"$f":"IF(O12=\"\",\"\",O12)","v":15},{"$f":"SUM(AE24:AE173)","v":0},null,{"$f":"IF(H18=0,\"100%\",I18/H18)","v":0},null,{"$f":"IF(E18=0,\"100%\",I18/E18)","v":0},null,{"$f":"$F8*$G8","v":1},null,null,null,null,null,null,null,null,null,null,null,null,null,null,null,null,null,{"$f":"IF(AN12=\"\",\"\",AN12)","v":20},{"$f":"SUM(BE24:BE173)","v":0},null,{"$f":"IF(AG18=0,\"100%\",AH18/AG18)","v":0},null,{"$f":"IF(E18=0,\"100%\",(AH18+I18)/E18)","v":0},null,{"$f":"$F8*$G8","v":1},null,null,null,null,null,null,null,null,null,null,null,null,null,null,null,null,null,null,{"$f":"IF(BN12=\"\",\"\",BN12)","v":22},{"$f":"SUM(CE24:CE173)","v":0},null,{"$f":"IF(BG18=0,\"100%\",BH18/BG18)","v":0},null,{"$f":"IF(E18=0,\"100%\",(BH18+AH18+I18)/E18)","v":0},null,{"$f":"$F8*$G8","v":1},null,null,null,null,null,null,null,null,null,null,null,null,null,null,null,null,null,null,{"$f":"IF(CN12=\"\",\"\",CN12)","v":21},{"$f":"SUM(DE24:DE173)","v":0},null,{"$f":"IF(CG18=0,\"100%\",CH18/CG18)","v":0},null,{"$f":"IF(E18=0,\"100%\",(CH18+BH18+AH18+I18)/E18)","v":0},null,{"$f":"$F8*$G8","v":1},null,null,null,null,null,null,null,null,null,null,null,null,null,null,null,null,null,null,{"$f":"IF(DN12=\"\",\"\",DN12)","v":15},{"$f":"SUM(EE24:EE173)","v":0},null,{"$f":"IF(DG18=0,\"100%\",DH18/DG18)","v":0},null,{"$f":"IF(E18=0,\"100%\",(DH18+CH18+BH18+AH18+I18)/E18)","v":0},null,{"$f":"$F8*$G8","v":1},null,null,null,null,null,null,null,null,null,null,null,null,null,null,null,null,null,null,{"$f":"IF(EN12=\"\",\"\",EN12)","v":18},{"$f":"SUM(FE24:FE173)","v":0},null,{"$f":"IF(EG18=0,\"100%\",EH18/EG18)","v":0},null,{"$f":"IF(E18=0,\"100%\",(EH18+DH18+CH18+BH18+AH18+I18)/E18)","v":0},null,{"$f":"$F8*$G8","v":1},null,null,null,null,null,null,null,null,null,null,null,null,null,null,null,null,null,null,{"$f":"IF(FN12=\"\",\"\",FN12)","v":21},{"$f":"SUM(GE24:GE173)","v":0},null,{"$f":"IF(FG18=0,\"100%\",FH18/FG18)","v":0},null,{"$f":"IF(E18=0,\"100%\",(FH18+EH18+DH18+CH18+BH18+AH18+I18)/E18)","v":0},null,{"$f":"$F8*$G8","v":1},null,null,null,null,null,null,null,null,null,null,null,null,null,null,null,null,null,null,{"$f":"IF(GN12=\"\",\"\",GN12)","v":22},{"$f":"SUM(HE24:HE173)","v":0},null,{"$f":"IF(GG18=0,\"100%\",GH18/GG18)","v":0},null,{"$f":"IF(E18=0,\"100%\",(GH18+FH18+EH18+DH18+CH18+BH18+AH18+I18)/E18)","v":0},null,{"$f":"$F8*$G8","v":1},null,null,null,null,null,null,null,null,null,null,null,null,null,null,null,null,null,null,{"$f":"IF(HN12=\"\",\"\",HN12)","v":21},{"$f":"SUM(IE24:IE173)","v":0},null,{"$f":"IF(HG18=0,\"100%\",HH18/HG18)","v":0},null,{"$f":"IF(E18=0,\"100%\",(HH18+GH18+FH18+EH18+DH18+CH18+BH18+AH18+I18)/E18)","v":0},null,{"$f":"$F8*$G8","v":1},null,null,null,null,null,null,null,null,null,null,null,null,null,null,null,null,null,null,{"$f":"IF(IN12=\"\",\"\",IN12)","v":10},{"$f":"SUM(JE24:JE173)","v":0},null,{"$f":"IF(IG18=0,\"100%\",IH18/IG18)","v":0},null,{"$f":"IF(E18=0,\"100%\",(IH18+HH18+GH18+FH18+EH18+DH18+CH18+BH18+AH18+I18)/E18)","v":0},null,{"$f":"$F8*$G8","v":1},null,null,null,null,null,null,null,null,null,null,null,null,null,null,null,null,null,null,{"$f":"IF(JN12=\"\",\"\",JN12)","v":0},{"$f":"SUM(KE24:KE173)","v":0},null,{"$f":"IF(JG18=0,\"100%\",JH18/JG18)","v":"100%"},null,{"$f":"IF(E18=0,\"100%\",(JH18+IH18+HH18+GH18+FH18+EH18+DH18+CH18+BH18+AH18+I18)/E18)","v":0},null,{"$f":"$F8*$G8","v":1}]
[null,null,null,null,null,null,null,"CONTROL",{"$f":"IF(I24=\"\",\"\",SUM(I24:I173))","v":""},"","","","","","","","","","","","","","","","","","","","","",null,null,"CONTROL",{"$f":"IF(AH24=\"\",\"\",SUM(AH24:AH173))","v":""},"","","","","","","","","","","","","","","","","","","",null,"","",null,null,"CONTROL",{"$f":"IF(BH24=\"\",\"\",SUM(BH24:BH173))","v":""},"","","","","","","","","","","","","","","","","","","",null,"","",null,null,"CONTROL",{"$f":"IF(CH24=\"\",\"\",SUM(CH24:CH173))","v":""},"","","","","","","","","","","","","","","","","","","",null,"","",null,null,"CONTROL",{"$f":"IF(DH24=\"\",\"\",SUM(DH24:DH173))","v":""},"","","","","","","","","","","","","","","","","","",null,"","","",null,null,"CONTROL",{"$f":"IF(EH24=\"\",\"\",SUM(EH24:EH173))","v":""},"","","","","","","","","","","","","","","","","","","",null,"","",null,null,"CONTROL",{"$f":"IF(FH24=\"\",\"\",SUM(FH24:FH173))","v":""},"","","","","","","","","","","","","","","","","","",null,"","","",null,null,"CONTROL",{"$f":"IF(GH24=\"\",\"\",SUM(GH24:GH173))","v":""},"","","","","","","","","","","","","","","","","","","",null,"","",null,null,"CONTROL",{"$f":"IF(HH24=\"\",\"\",SUM(HH24:HH173))","v":""},"","","","","","","","","","","","","","","","","","","",null,"","",null,null,"CONTROL",{"$f":"IF(IH24=\"\",\"\",SUM(IH24:IH173))","v":""},"","","","","","","","","","","","","","","","","","","",null,"","",null,null,"CONTROL",{"$f":"IF(JH24=\"\",\"\",SUM(JH24:JH173))","v":""},"","","","","","","","","","","","","","","","","","","",null,"",""]
[null,null,"* FORMATO 02, PROPUESTO EN \"LINEAMIENTOS PARA EL SEGUIMIENTO Y CONTROL DE LA LABOR EFECTIVA DE TRABAJO DOCENTE EN LAS INSTITUCIONES EDUCATIVAS PÚBLICAS\"  DS Nº 008-2006-ED"]
[null,null,"N°","APELLIDOS Y NOMBRES","JORN. EFECT. DE TRABAJO PEDAG.","GRADO","SECCIÓN","Horas programadas",{"$f":"CONCATENATE(\"MES: \",H15)","v":"MES: MARZO"},null,null,null,null,null,null,null,null,null,null,null,null,null,null,null,null,null,null,null,null,null,"TOTAL DE HORAS EFECTIVAS MENSUAL",null,"Horas programadas",{"$f":"CONCATENATE(\"MES: \",TEXT(AG15,\"mmmm\"))","v":"MES: Abril"},null,null,null,null,null,null,null,null,null,null,null,null,null,null,null,null,null,null,null,null,null,null,"TOTAL DE HORAS EFECTIVAS MENSUAL",null,"Horas programadas",{"$f":"CONCATENATE(\"MES: \",TEXT(BG15,\"mmmm\"))","v":"MES: Mayo"},null,null,null,null,null,null,null,null,null,null,null,null,null,null,null,null,null,null,null,null,null,null,"TOTAL DE HORAS EFECTIVAS MENSUAL",null,"Horas programadas",{"$f":"CONCATENATE(\"MES: \",TEXT(CG15,\"mmmm\"))","v":"MES: Junio"},null,null,null,null,null,null,null,null,null,null,null,null,null,null,null,null,null,null,null,null,null,null,"TOTAL DE HORAS EFECTIVAS MENSUAL",null,"Horas programadas",{"$f":"CONCATENATE(\"MES: \",TEXT(DG15,\"mmmm\"))","v":"MES: Julio"},null,null,null,null,null,null,null,null,null,null,null,null,null,null,null,null,null,null,null,null,null,null,"TOTAL DE HORAS EFECTIVAS MENSUAL",null,"Horas programadas",{"$f":"CONCATENATE(\"MES: \",TEXT(EG15,\"mmmm\"))","v":"MES: Agosto"},null,null,null,null,null,null,null,null,null,null,null,null,null,null,null,null,null,null,null,null,null,null,"TOTAL DE HORAS EFECTIVAS MENSUAL",null,"Horas programadas",{"$f":"CONCATENATE(\"MES: \",TEXT(FG15,\"mmmm\"))","v":"MES: Setiembre"},null,null,null,null,null,null,null,null,null,null,null,null,null,null,null,null,null,null,null,null,null,null,"TOTAL DE HORAS EFECTIVAS MENSUAL",null,"Horas programadas",{"$f":"CONCATENATE(\"MES: \",TEXT(GG15,\"mmmm\"))","v":"MES: Octubre"},null,null,null,null,null,null,null,null,null,null,null,null,null,null,null,null,null,null,null,null,null,null,"TOTAL DE HORAS EFECTIVAS MENSUAL",null,"Horas programadas",{"$f":"CONCATENATE(\"MES: \",TEXT(HG15,\"mmmm\"))","v":"MES: Noviembre"},null,null,null,null,null,null,null,null,null,null,null,null,null,null,null,null,null,null,null,null,null,null,"TOTAL DE HORAS EFECTIVAS MENSUAL",null,"Horas programadas",{"$f":"CONCATENATE(\"MES: \",TEXT(IG15,\"mmmm\"))","v":"MES: Diciembre"},null,null,null,null,null,null,null,null,null,null,null,null,null,null,null,null,null,null,null,null,null,null,"TOTAL DE HORAS EFECTIVAS MENSUAL",null,"Horas programadas",{"$f":"CONCATENATE(\"MES: \",TEXT(JG15,\"mmmm\"))","v":"MES: Enero"},null,null,null,null,null,null,null,null,null,null,null,null,null,null,null,null,null,null,null,null,null,null,"TOTAL DE HORAS EFECTIVAS MENSUAL"]
[null,null,null,null,null,null,null,null,"DÍAS EFECTIVOS DE TRABAJO ESCOLAR",null,null,null,null,null,null,null,null,null,null,null,null,null,null,null,null,null,null,null,null,null,null,null,null,"DÍAS EFECTIVOS DE TRABAJO ESCOLAR",null,null,null,null,null,null,null,null,null,null,null,null,null,null,null,null,null,null,null,null,null,null,null,null,null,"DÍAS EFECTIVOS DE TRABAJO ESCOLAR",null,null,null,null,null,null,null,null,null,null,null,null,null,null,null,null,null,null,null,null,null,null,null,null,null,"DÍAS EFECTIVOS DE TRABAJO ESCOLAR",null,null,null,null,null,null,null,null,null,null,null,null,null,null,null,null,null,null,null,null,null,null,null,null,null,"DÍAS EFECTIVOS DE TRABAJO ESCOLAR",null,null,null,null,null,null,null,null,null,null,null,null,null,null,null,null,null,null,null,null,null,null,null,null,null,"DÍAS EFECTIVOS DE TRABAJO ESCOLAR",null,null,null,null,null,null,null,null,null,null,null,null,null,null,null,null,null,null,null,null,null,null,null,null,null,"DÍAS EFECTIVOS DE TRABAJO ESCOLAR",null,null,null,null,null,null,null,null,null,null,null,null,null,null,null,null,null,null,null,null,null,null,null,null,null,"DÍAS EFECTIVOS DE TRABAJO ESCOLAR",null,null,null,null,null,null,null,null,null,null,null,null,null,null,null,null,null,null,null,null,null,null,null,null,null,"DÍAS EFECTIVOS DE TRABAJO ESCOLAR",null,null,null,null,null,null,null,null,null,null,null,null,null,null,null,null,null,null,null,null,null,null,null,null,null,"DÍAS EFECTIVOS DE TRABAJO ESCOLAR",null,null,null,null,null,null,null,null,null,null,null,null,null,null,null,null,null,null,null,null,null,null,null,null,null,"DÍAS EFECTIVOS DE TRABAJO ESCOLAR"]
[null,null,null,null,null,null,null,null,{"$f":"IF($K12>0,1,\"\")","v":1},{"$f":"IF($K12>1,2,\"\")","v":2},{"$f":"IF($K12>2,3,\"\")","v":3},{"$f":"IF($K12>3,4,\"\")","v":4},{"$f":"IF($K12>4,5,\"\")","v":5},{"$f":"IF($K12>5,6,\"\")","v":6},{"$f":"IF($K12>6,7,\"\")","v":7},{"$f":"IF($K12>7,8,\"\")","v":8},{"$f":"IF($K12>8,9,\"\")","v":9},{"$f":"IF($K12>9,10,\"\")","v":10},{"$f":"IF($K12>10,11,\"\")","v":11},{"$f":"IF($K12>11,12,\"\")","v":12},{"$f":"IF($K12>12,13,\"\")","v":13},{"$f":"IF($K12>13,14,\"\")","v":14},{"$f":"IF($K12>14,15,\"\")","v":15},{"$f":"IF($K12>15,16,\"\")","v":""},{"$f":"IF($K12>16,17,\"\")","v":""},{"$f":"IF($K12>17,18,\"\")","v":""},{"$f":"IF($K12>18,19,\"\")","v":""},{"$f":"IF($K12>19,20,\"\")","v":""},{"$f":"IF($K12>20,21,\"\")","v":""},{"$f":"IF($K12>21,22,\"\")","v":""},null,null,null,{"$f":"IF($AJ12>0,1,\"\")","v":1},{"$f":"IF(AH23<$AJ$12,AH23+1,\"\")","v":2},{"$f":"IF(AI23<$AJ$12,AI23+1,\"\")","v":3},4,5,6,7,8,9,10,11,12,13,14,15,16,17,18,19,20,"","","",null,null,null,{"$f":"IF($AJ12>0,1,\"\")","v":1},{"$f":"IF(BH23<$BJ$12,BH23+1,\"\")","v":2},{"$f":"IF(BI23<$BJ$12,BI23+1,\"\")","v":3},4,5,6,7,8,9,10,11,12,13,14,15,16,17,18,19,20,21,22,"",null,null,null,{"$f":"IF($AJ12>0,1,\"\")","v":1},{"$f":"IF(CH23<$CJ$12,CH23+1,\"\")","v":2},{"$f":"IF(CI23<$CJ$12,CI23+1,\"\")","v":3},4,5,6,7,8,9,10,11,12,13,14,15,16,17,18,19,20,21,"","",null,null,null,{"$f":"IF($AJ12>0,1,\"\")","v":1},{"$f":"IF(DH23<$DJ$12,DH23+1,\"\")","v":2},{"$f":"IF(DI23<$DJ$12,DI23+1,\"\")","v":3},4,5,6,7,8,9,10,11,12,13,14,15,"","","","","","","","",null,null,null,{"$f":"IF($AJ12>0,1,\"\")","v":1},{"$f":"IF(EH23<$EJ$12,EH23+1,\"\")","v":2},{"$f":"IF(EI23<$EJ$12,EI23+1,\"\")","v":3},4,5,6,7,8,9,10,11,12,13,14,15,16,17,18,"","","","","",null,null,null,{"$f":"IF($AJ12>0,1,\"\")","v":1},{"$f":"IF(FH23<$FJ$12,FH23+1,\"\")","v":2},{"$f":"IF(FI23<$FJ$12,FI23+1,\"\")","v":3},4,5,6,7,8,9,10,11,12,13,14,15,16,17,18,19,20,21,"","",null,null,null,{"$f":"IF($AJ12>0,1,\"\")","v":1},{"$f":"IF(GH23<$CJ$12,GH23+1,\"\")","v":2},{"$f":"IF(GI23<$CJ$12,GI23+1,\"\")","v":3},4,5,6,7,8,9,10,11,12,13,14,15,16,17,18,19,20,21,"","",null,null,null,{"$f":"IF($AJ12>0,1,\"\")","v":1},{"$f":"IF(HH23<$HJ$12,HH23+1,\"\")","v":2},{"$f":"IF(HI23<$HJ$12,HI23+1,\"\")","v":3},4,5,6,7,8,9,10,11,12,13,14,15,16,17,18,19,20,21,"","",null,null,null,{"$f":"IF($AJ12>0,1,\"\")","v":1},{"$f":"IF(IH23<$IJ$12,IH23+1,\"\")","v":2},{"$f":"IF(II23<$IJ$12,II23+1,\"\")","v":3},4,5,6,7,8,9,10,"","","","","","","","","","","","","",null,null,null,{"$f":"IF($AJ12>0,1,\"\")","v":1},{"$f":"IF(JH23<$JJ$12,JH23+1,\"\")","v":""},{"$f":"IF(JI23<$JJ$12,JI23+1,\"\")","v":""},"","","","","","","","","","","","","","","","","","","",""]
[null,null,1,null,null,null,null,null,null,null,null,null,null,null,null,null,null,null,null,null,null,null,null,null,null,null,null,null,null,null,{"$f":"IF($D24=\"\",\"\",SUM(I24:AD24))","v":""},null,null,null,null,null,null,null,null,null,null,null,null,null,null,null,null,null,null,null,null,null,null,null,null,null,{"$f":"IF($D24=\"\",\"\",SUM(AH24:BD24))","v":""},null,null,null,null,null,null,null,null,null,null,null,null,null,null,null,null,null,null,null,null,null,null,null,null,null,{"$f":"IF($D24=\"\",\"\",SUM(BH24:CD24))","v":""},null,null,null,null,null,null,null,null,null,null,null,null,null,null,null,null,null,null,null,null,null,null,null,null,null,{"$f":"IF($D24=\"\",\"\",SUM(CH24:DD24))","v":""},null,null,null,null,null,null,null,null,null,null,null,null,null,null,null,null,null,null,null,null,null,null,null,null,null,{"$f":"IF($D24=\"\",\"\",SUM(DH24:ED24))","v":""},null,null,null,null,null,null,null,null,null,null,null,null,null,null,null,null,null,null,null,null,null,null,null,null,null,{"$f":"IF($D24=\"\",\"\",SUM(EH24:FD24))","v":""},null,null,null,null,null,null,null,null,null,null,null,null,null,null,null,null,null,null,null,null,null,null,null,null,null,{"$f":"IF($D24=\"\",\"\",SUM(FH24:GD24))","v":""},null,null,null,null,null,null,null,null,null,null,null,null,null,null,null,null,null,null,null,null,null,null,null,null,null,{"$f":"IF($D24=\"\",\"\",SUM(GH24:HD24))","v":""},null,null,null,null,null,null,null,null,null,null,null,null,null,null,null,null,null,null,null,null,null,null,null,null,null,{"$f":"IF($D24=\"\",\"\",SUM(HH24:ID24))","v":""},null,null,null,null,null,null,null,null,null,null,null,null,null,null,null,null,null,null,null,null,null,null,null,null,null,{"$f":"IF($D24=\"\",\"\",SUM(IH24:JD24))","v":""},null,null,null,null,null,null,null,null,null,null,null,null,null,null,null,null,null,null,null,null,null,null,null,null,null,{"$f":"IF($D24=\"\",\"\",SUM(JH24:KD24))","v":""}]
[null,null,2,null,null,null,null,null,null,null,null,null,null,null,null,null,null,null,null,null,null,null,null,null,null,null,null,null,null,null,{"$f":"IF($D25=\"\",\"\",SUM(I25:AD25))","v":""},null,null,null,null,null,null,null,null,null,null,null,null,null,null,null,null,null,null,null,null,null,null,null,null,null,{"$f":"IF($D25=\"\",\"\",SUM(AH25:BD25))","v":""},null,null,null,null,null,null,null,null,null,null,null,null,null,null,null,null,null,null,null,null,null,null,null,null,null,{"$f":"IF($D25=\"\",\"\",SUM(BH25:CD25))","v":""},null,null,null,null,null,null,null,null,null,null,null,null,null,null,null,null,null,null,null,null,null,null,null,null,null,{"$f":"IF($D25=\"\",\"\",SUM(CH25:DD25))","v":""},null,null,null,null,null,null,null,null,null,null,null,null,null,null,null,null,null,null,null,null,null,null,null,null,null,{"$f":"IF($D25=\"\",\"\",SUM(DH25:ED25))","v":""},null,null,null,null,null,null,null,null,null,null,null,null,null,null,null,null,null,null,null,null,null,null,null,null,null,{"$f":"IF($D25=\"\",\"\",SUM(EH25:FD25))","v":""},null,null,null,null,null,null,null,null,null,null,null,null,null,null,null,null,null,null,null,null,null,null,null,null,null,{"$f":"IF($D25=\"\",\"\",SUM(FH25:GD25))","v":""},null,null,null,null,null,null,null,null,null,null,null,null,null,null,null,null,null,null,null,null,null,null,null,null,null,{"$f":"IF($D25=\"\",\"\",SUM(GH25:HD25))","v":""},null,null,null,null,null,null,null,null,null,null,null,null,null,null,null,null,null,null,null,null,null,null,null,null,null,{"$f":"IF($D25=\"\",\"\",SUM(HH25:ID25))","v":""},null,null,null,null,null,null,null,null,null,null,null,null,null,null,null,null,null,null,null,null,null,null,null,null,null,{"$f":"IF($D25=\"\",\"\",SUM(IH25:JD25))","v":""},null,null,null,null,null,null,null,null,null,null,null,null,null,null,null,null,null,null,null,null,null,null,null,null,null,{"$f":"IF($D25=\"\",\"\",SUM(JH25:KD25))","v":""}]
[null,null,3,null,null,null,null,null,null,null,null,null,null,null,null,null,null,null,null,null,null,null,null,null,null,null,null,null,null,null,"",null,null,null,null,null,null,null,null,null,null,null,null,null,null,null,null,null,null,null,null,null,null,null,null,null,"",null,null,null,null,null,null,null,null,null,null,null,null,null,null,null,null,null,null,null,null,null,null,null,null,null,"",null,null,null,null,null,null,null,null,null,null,null,null,null,null,null,null,null,null,null,null,null,null,null,null,null,"",null,null,null,null,null,null,null,null,null,null,null,null,null,null,null,null,null,null,null,null,null,null,null,null,null,"",null,null,null,null,null,null,null,null,null,null,null,null,null,null,null,null,null,null,null,null,null,null,null,null,null,"",null,null,null,null,null,null,null,null,null,null,null,null,null,null,null,null,null,null,null,null,null,null,null,null,null,"",null,null,null,null,null,null,null,null,null,null,null,null,null,null,null,null,null,null,null,null,null,null,null,null,null,"",null,null,null,null,null,null,null,null,null,null,null,null,null,null,null,null,null,null,null,null,null,null,null,null,null,"",null,null,null,null,null,null,null,null,null,null,null,null,null,null,null,null,null,null,null,null,null,null,null,null,null,"",null,null,null,null,null,null,null,null,null,null,null,null,null,null,null,null,null,null,null,null,null,null,null,null,null,""]
[null,null,4,null,null,null,null,null,null,null,null,null,null,null,null,null,null,null,null,null,null,null,null,null,null,null,null,null,null,null,"",null,null,null,null,null,null,null,null,null,null,null,null,null,null,null,null,null,null,null,null,null,null,null,null,null,"",null,null,null,null,null,null,null,null,null,null,null,null,null,null,null,null,null,null,null,null,null,null,null,null,null,"",null,null,null,null,null,null,null,null,null,null,null,null,null,null,null,null,null,null,null,null,null,null,null,null,null,"",null,null,null,null,null,null,null,null,null,null,null,null,null,null,null,null,null,null,null,null,null,null,null,null,null,"",null,null,null,null,null,null,null,null,null,null,null,null,null,null,null,null,null,null,null,null,null,null,null,null,null,"",null,null,null,null,null,null,null,null,null,null,null,null,null,null,null,null,null,null,null,null,null,null,null,null,null,"",null,null,null,null,null,null,null,null,null,null,null,null,null,null,null,null,null,null,null,null,null,null,null,null,null,"",null,null,null,null,null,null,null,null,null,null,null,null,null,null,null,null,null,null,null,null,null,null,null,null,null,"",null,null,null,null,null,null,null,null,null,null,null,null,null,null,null,null,null,null,null,null,null,null,null,null,null,"",null,null,null,null,null,null,null,null,null,null,null,null,null,null,null,null,null,null,null,null,null,null,null,null,null,""]
[null,null,5,null,null,null,null,null,null,null,null,null,null,null,null,null,null,null,null,null,null,null,null,null,null,null,null,null,null,null,"",null,null,null,null,null,null,null,null,null,null,null,null,null,null,null,null,null,null,null,null,null,null,null,null,null,"",null,null,null,null,null,null,null,null,null,null,null,null,null,null,null,null,null,null,null,null,null,null,null,null,null,"",null,null,null,null,null,null,null,null,null,null,null,null,null,null,null,null,null,null,null,null,null,null,null,null,null,"",null,null,null,null,null,null,null,null,null,null,null,null,null,null,null,null,null,null,null,null,null,null,null,null,null,"",null,null,null,null,null,null,null,null,null,null,null,null,null,null,null,null,null,null,null,null,null,null,null,null,null,"",null,null,null,null,null,null,null,null,null,null,null,null,null,null,null,null,null,null,null,null,null,null,null,null,null,"",null,null,null,null,null,null,null,null,null,null,null,null,null,null,null,null,null,null,null,null,null,null,null,null,null,"",null,null,null,null,null,null,null,null,null,null,null,null,null,null,null,null,null,null,null,null,null,null,null,null,null,"",null,null,null,null,null,null,null,null,null,null,null,null,null,null,null,null,null,null,null,null,null,null,null,null,null,"",null,null,null,null,null,null,null,null,null,null,null,null,null,null,null,null,null,null,null,null,null,null,null,null,null,""]
[null,null,6,null,null,null,null,null,null,null,null,null,null,null,null,null,null,null,null,null,null,null,null,null,null,null,null,null,null,null,"",null,null,null,null,null,null,null,null,null,null,null,null,null,null,null,null,null,null,null,null,null,null,null,null,null,"",null,null,null,null,null,null,null,null,null,null,null,null,null,null,null,null,null,null,null,null,null,null,null,null,null,"",null,null,null,null,null,null,null,null,null,null,null,null,null,null,null,null,null,null,null,null,null,null,null,null,null,"",null,null,null,null,null,null,null,null,null,null,null,null,null,null,null,null,null,null,null,null,null,null,null,null,null,"",null,null,null,null,null,null,null,null,null,null,null,null,null,null,null,null,null,null,null,null,null,null,null,null,null,"",null,null,null,null,null,null,null,null,null,null,null,null,null,null,null,null,null,null,null,null,null,null,null,null,null,"",null,null,null,null,null,null,null,null,null,null,null,null,null,null,null,null,null,null,null,null,null,null,null,null,null,"",null,null,null,null,null,null,null,null,null,null,null,null,null,null,null,null,null,null,null,null,null,null,null,null,null,"",null,null,null,null,null,null,null,null,null,null,null,null,null,null,null,null,null,null,null,null,null,null,null,null,null,"",null,null,null,null,null,null,null,null,null,null,null,null,null,null,null,null,null,null,null,null,null,null,null,null,null,""]
[null,null,7,null,null,null,null,null,null,null,null,null,null,null,null,null,null,null,null,null,null,null,null,null,null,null,null,null,null,null,"",null,null,null,null,null,null,null,null,null,null,null,null,null,null,null,null,null,null,null,null,null,null,null,null,null,"",null,null,null,null,null,null,null,null,null,null,null,null,null,null,null,null,null,null,null,null,null,null,null,null,null,"",null,null,null,null,null,null,null,null,null,null,null,null,null,null,null,null,null,null,null,null,null,null,null,null,null,"",null,null,null,null,null,null,null,null,null,null,null,null,null,null,null,null,null,null,null,null,null,null,null,null,null,"",null,null,null,null,null,null,null,null,null,null,null,null,null,null,null,null,null,null,null,null,null,null,null,null,null,"",null,null,null,null,null,null,null,null,null,null,null,null,null,null,null,null,null,null,null,null,null,null,null,null,null,"",null,null,null,null,null,null,null,null,null,null,null,null,null,null,null,null,null,null,null,null,null,null,null,null,null,"",null,null,null,null,null,null,null,null,null,null,null,null,null,null,null,null,null,null,null,null,null,null,null,null,null,"",null,null,null,null,null,null,null,null,null,null,null,null,null,null,null,null,null,null,null,null,null,null,null,null,null,"",null,null,null,null,null,null,null,null,null,null,null,null,null,null,null,null,null,null,null,null,null,null,null,null,null,""]
[null,null,8,null,null,null,null,null,null,null,null,null,null,null,null,null,null,null,null,null,null,null,null,null,null,null,null,null,null,null,"",null,null,null,null,null,null,null,null,null,null,null,null,null,null,null,null,null,null,null,null,null,null,null,null,null,"",null,null,null,null,null,null,null,null,null,null,null,null,null,null,null,null,null,null,null,null,null,null,null,null,null,"",null,null,null,null,null,null,null,null,null,null,null,null,null,null,null,null,null,null,null,null,null,null,null,null,null,"",null,null,null,null,null,null,null,null,null,null,null,null,null,null,null,null,null,null,null,null,null,null,null,null,null,"",null,null,null,null,null,null,null,null,null,null,null,null,null,null,null,null,null,null,null,null,null,null,null,null,null,"",null,null,null,null,null,null,null,null,null,null,null,null,null,null,null,null,null,null,null,null,null,null,null,null,null,"",null,null,null,null,null,null,null,null,null,null,null,null,null,null,null,null,null,null,null,null,null,null,null,null,null,"",null,null,null,null,null,null,null,null,null,null,null,null,null,null,null,null,null,null,null,null,null,null,null,null,null,"",null,null,null,null,null,null,null,null,null,null,null,null,null,null,null,null,null,null,null,null,null,null,null,null,null,"",null,null,null,null,null,null,null,null,null,null,null,null,null,null,null,null,null,null,null,null,null,null,null,null,null,""]
[null,null,9,null,null,null,null,null,null,null,null,null,null,null,null,null,null,null,null,null,null,null,null,null,null,null,null,null,null,null,"",null,null,null,null,null,null,null,null,null,null,null,null,null,null,null,null,null,null,null,null,null,null,null,null,null,"",null,null,null,null,null,null,null,null,null,null,null,null,null,null,null,null,null,null,null,null,null,null,null,null,null,"",null,null,null,null,null,null,null,null,null,null,null,null,null,null,null,null,null,null,null,null,null,null,null,null,null,"",null,null,null,null,null,null,null,null,null,null,null,null,null,null,null,null,null,null,null,null,null,null,null,null,null,"",null,null,null,null,null,null,null,null,null,null,null,null,null,null,null,null,null,null,null,null,null,null,null,null,null,"",null,null,null,null,null,null,null,null,null,null,null,null,null,null,null,null,null,null,null,null,null,null,null,null,null,"",null,null,null,null,null,null,null,null,null,null,null,null,null,null,null,null,null,null,null,null,null,null,null,null,null,"",null,null,null,null,null,null,null,null,null,null,null,null,null,null,null,null,null,null,null,null,null,null,null,null,null,"",null,null,null,null,null,null,null,null,null,null,null,null,null,null,null,null,null,null,null,null,null,null,null,null,null,"",null,null,null,null,null,null,null,null,null,null,null,null,null,null,null,null,null,null,null,null,null,null,null,null,null,""]
[null,null,10,null,null,null,null,null,null,null,null,null,null,null,null,null,null,null,null,null,null,null,null,null,null,null,null,null,null,null,"",null,null,null,null,null,null,null,null,null,null,null,null,null,null,null,null,null,null,null,null,null,null,null,null,null,"",null,null,null,null,null,null,null,null,null,null,null,null,null,null,null,null,null,null,null,null,null,null,null,null,null,"",null,null,null,null,null,null,null,null,null,null,null,null,null,null,null,null,null,null,null,null,null,null,null,null,null,"",null,null,null,null,null,null,null,null,null,null,null,null,null,null,null,null,null,null,null,null,null,null,null,null,null,"",null,null,null,null,null,null,null,null,null,null,null,null,null,null,null,null,null,null,null,null,null,null,null,null,null,"",null,null,null,null,null,null,null,null,null,null,null,null,null,null,null,null,null,null,null,null,null,null,null,null,null,"",null,null,null,null,null,null,null,null,null,null,null,null,null,null,null,null,null,null,null,null,null,null,null,null,null,"",null,null,null,null,null,null,null,null,null,null,null,null,null,null,null,null,null,null,null,null,null,null,null,null,null,"",null,null,null,null,null,null,null,null,null,null,null,null,null,null,null,null,null,null,null,null,null,null,null,null,null,"",null,null,null,null,null,null,null,null,null,null,null,null,null,null,null,null,null,null,null,null,null,null,null,null,null,""]
[null,null,11,null,null,null,null,null,null,null,null,null,null,null,null,null,null,null,null,null,null,null,null,null,null,null,null,null,null,null,"",null,null,null,null,null,null,null,null,null,null,null,null,null,null,null,null,null,null,null,null,null,null,null,null,null,"",null,null,null,null,null,null,null,null,null,null,null,null,null,null,null,null,null,null,null,null,null,null,null,null,null,"",null,null,null,null,null,null,null,null,null,null,null,null,null,null,null,null,null,null,null,null,null,null,null,null,null,"",null,null,null,null,null,null,null,null,null,null,null,null,null,null,null,null,null,null,null,null,null,null,null,null,null,"",null,null,null,null,null,null,null,null,null,null,null,null,null,null,null,null,null,null,null,null,null,null,null,null,null,"",null,null,null,null,null,null,null,null,null,null,null,null,null,null,null,null,null,null,null,null,null,null,null,null,null,"",null,null,null,null,null,null,null,null,null,null,null,null,null,null,null,null,null,null,null,null,null,null,null,null,null,"",null,null,null,null,null,null,null,null,null,null,null,null,null,null,null,null,null,null,null,null,null,null,null,null,null,"",null,null,null,null,null,null,null,null,null,null,null,null,null,null,null,null,null,null,null,null,null,null,null,null,null,"",null,null,null,null,null,null,null,null,null,null,null,null,null,null,null,null,null,null,null,null,null,null,null,null,null,""]
[null,null,12,null,null,null,null,null,null,null,null,null,null,null,null,null,null,null,null,null,null,null,null,null,null,null,null,null,null,null,"",null,null,null,null,null,null,null,null,null,null,null,null,null,null,null,null,null,null,null,null,null,null,null,null,null,"",null,null,null,null,null,null,null,null,null,null,null,null,null,null,null,null,null,null,null,null,null,null,null,null,null,"",null,null,null,null,null,null,null,null,null,null,null,null,null,null,null,null,null,null,null,null,null,null,null,null,null,"",null,null,null,null,null,null,null,null,null,null,null,null,null,null,null,null,null,null,null,null,null,null,null,null,null,"",null,null,null,null,null,null,null,null,null,null,null,null,null,null,null,null,null,null,null,null,null,null,null,null,null,"",null,null,null,null,null,null,null,null,null,null,null,null,null,null,null,null,null,null,null,null,null,null,null,null,null,"",null,null,null,null,null,null,null,null,null,null,null,null,null,null,null,null,null,null,null,null,null,null,null,null,null,"",null,null,null,null,null,null,null,null,null,null,null,null,null,null,null,null,null,null,null,null,null,null,null,null,null,"",null,null,null,null,null,null,null,null,null,null,null,null,null,null,null,null,null,null,null,null,null,null,null,null,null,"",null,null,null,null,null,null,null,null,null,null,null,null,null,null,null,null,null,null,null,null,null,null,null,null,null,""]
[null,null,13,null,null,null,null,null,null,null,null,null,null,null,null,null,null,null,null,null,null,null,null,null,null,null,null,null,null,null,"",null,null,null,null,null,null,null,null,null,null,null,null,null,null,null,null,null,null,null,null,null,null,null,null,null,"",null,null,null,null,null,null,null,null,null,null,null,null,null,null,null,null,null,null,null,null,null,null,null,null,null,"",null,null,null,null,null,null,null,null,null,null,null,null,null,null,null,null,null,null,null,null,null,null,null,null,null,"",null,null,null,null,null,null,null,null,null,null,null,null,null,null,null,null,null,null,null,null,null,null,null,null,null,"",null,null,null,null,null,null,null,null,null,null,null,null,null,null,null,null,null,null,null,null,null,null,null,null,null,"",null,null,null,null,null,null,null,null,null,null,null,null,null,null,null,null,null,null,null,null,null,null,null,null,null,"",null,null,null,null,null,null,null,null,null,null,null,null,null,null,null,null,null,null,null,null,null,null,null,null,null,"",null,null,null,null,null,null,null,null,null,null,null,null,null,null,null,null,null,null,null,null,null,null,null,null,null,"",null,null,null,null,null,null,null,null,null,null,null,null,null,null,null,null,null,null,null,null,null,null,null,null,null,"",null,null,null,null,null,null,null,null,null,null,null,null,null,null,null,null,null,null,null,null,null,null,null,null,null,""]
[null,null,14,null,null,null,null,null,null,null,null,null,null,null,null,null,null,null,null,null,null,null,null,null,null,null,null,null,null,null,"",null,null,null,null,null,null,null,null,null,null,null,null,null,null,null,null,null,null,null,null,null,null,null,null,null,"",null,null,null,null,null,null,null,null,null,null,null,null,null,null,null,null,null,null,null,null,null,null,null,null,null,"",null,null,null,null,null,null,null,null,null,null,null,null,null,null,null,null,null,null,null,null,null,null,null,null,null,"",null,null,null,null,null,null,null,null,null,null,null,null,null,null,null,null,null,null,null,null,null,null,null,null,null,"",null,null,null,null,null,null,null,null,null,null,null,null,null,null,null,null,null,null,null,null,null,null,null,null,null,"",null,null,null,null,null,null,null,null,null,null,null,null,null,null,null,null,null,null,null,null,null,null,null,null,null,"",null,null,null,null,null,null,null,null,null,null,null,null,null,null,null,null,null,null,null,null,null,null,null,null,null,"",null,null,null,null,null,null,null,null,null,null,null,null,null,null,null,null,null,null,null,null,null,null,null,null,null,"",null,null,null,null,null,null,null,null,null,null,null,null,null,null,null,null,null,null,null,null,null,null,null,null,null,"",null,null,null,null,null,null,null,null,null,null,null,null,null,null,null,null,null,null,null,null,null,null,null,null,null,""]
[null,null,15,null,null,null,null,null,null,null,null,null,null,null,null,null,null,null,null,null,null,null,null,null,null,null,null,null,null,null,"",null,null,null,null,null,null,null,null,null,null,null,null,null,null,null,null,null,null,null,null,null,null,null,null,null,"",null,null,null,null,null,null,null,null,null,null,null,null,null,null,null,null,null,null,null,null,null,null,null,null,null,"",null,null,null,null,null,null,null,null,null,null,null,null,null,null,null,null,null,null,null,null,null,null,null,null,null,"",null,null,null,null,null,null,null,null,null,null,null,null,null,null,null,null,null,null,null,null,null,null,null,null,null,"",null,null,null,null,null,null,null,null,null,null,null,null,null,null,null,null,null,null,null,null,null,null,null,null,null,"",null,null,null,null,null,null,null,null,null,null,null,null,null,null,null,null,null,null,null,null,null,null,null,null,null,"",null,null,null,null,null,null,null,null,null,null,null,null,null,null,null,null,null,null,null,null,null,null,null,null,null,"",null,null,null,null,null,null,null,null,null,null,null,null,null,null,null,null,null,null,null,null,null,null,null,null,null,"",null,null,null,null,null,null,null,null,null,null,null,null,null,null,null,null,null,null,null,null,null,null,null,null,null,"",null,null,null,null,null,null,null,null,null,null,null,null,null,null,null,null,null,null,null,null,null,null,null,null,null,""]
[null,null,16,null,null,null,null,null,null,null,null,null,null,null,null,null,null,null,null,null,null,null,null,null,null,null,null,null,null,null,"",null,null,null,null,null,null,null,null,null,null,null,null,null,null,null,null,null,null,null,null,null,null,null,null,null,"",null,null,null,null,null,null,null,null,null,null,null,null,null,null,null,null,null,null,null,null,null,null,null,null,null,"",null,null,null,null,null,null,null,null,null,null,null,null,null,null,null,null,null,null,null,null,null,null,null,null,null,"",null,null,null,null,null,null,null,null,null,null,null,null,null,null,null,null,null,null,null,null,null,null,null,null,null,"",null,null,null,null,null,null,null,null,null,null,null,null,null,null,null,null,null,null,null,null,null,null,null,null,null,"",null,null,null,null,null,null,null,null,null,null,null,null,null,null,null,null,null,null,null,null,null,null,null,null,null,"",null,null,null,null,null,null,null,null,null,null,null,null,null,null,null,null,null,null,null,null,null,null,null,null,null,"",null,null,null,null,null,null,null,null,null,null,null,null,null,null,null,null,null,null,null,null,null,null,null,null,null,"",null,null,null,null,null,null,null,null,null,null,null,null,null,null,null,null,null,null,null,null,null,null,null,null,null,"",null,null,null,null,null,null,null,null,null,null,null,null,null,null,null,null,null,null,null,null,null,null,null,null,null,""]
[null,null,17,null,null,null,null,null,null,null,null,null,null,null,null,null,null,null,null,null,null,null,null,null,null,null,null,null,null,null,"",null,null,null,null,null,null,null,null,null,null,null,null,null,null,null,null,null,null,null,null,null,null,null,null,null,"",null,null,null,null,null,null,null,null,null,null,null,null,null,null,null,null,null,null,null,null,null,null,null,null,null,"",null,null,null,null,null,null,null,null,null,null,null,null,null,null,null,null,null,null,null,null,null,null,null,null,null,"",null,null,null,null,null,null,null,null,null,null,null,null,null,null,null,null,null,null,null,null,null,null,null,null,null,"",null,null,null,null,null,null,null,null,null,null,null,null,null,null,null,null,null,null,null,null,null,null,null,null,null,"",null,null,null,null,null,null,null,null,null,null,null,null,null,null,null,null,null,null,null,null,null,null,null,null,null,"",null,null,null,null,null,null,null,null,null,null,null,null,null,null,null,null,null,null,null,null,null,null,null,null,null,"",null,null,null,null,null,null,null,null,null,null,null,null,null,null,null,null,null,null,null,null,null,null,null,null,null,"",null,null,null,null,null,null,null,null,null,null,null,null,null,null,null,null,null,null,null,null,null,null,null,null,null,"",null,null,null,null,null,null,null,null,null,null,null,null,null,null,null,null,null,null,null,null,null,null,null,null,null,""]
[null,null,18,null,null,null,null,null,null,null,null,null,null,null,null,null,null,null,null,null,null,null,null,null,null,null,null,null,null,null,"",null,null,null,null,null,null,null,null,null,null,null,null,null,null,null,null,null,null,null,null,null,null,null,null,null,"",null,null,null,null,null,null,null,null,null,null,null,null,null,null,null,null,null,null,null,null,null,null,null,null,null,"",null,null,null,null,null,null,null,null,null,null,null,null,null,null,null,null,null,null,null,null,null,null,null,null,null,"",null,null,null,null,null,null,null,null,null,null,null,null,null,null,null,null,null,null,null,null,null,null,null,null,null,"",null,null,null,null,null,null,null,null,null,null,null,null,null,null,null,null,null,null,null,null,null,null,null,null,null,"",null,null,null,null,null,null,null,null,null,null,null,null,null,null,null,null,null,null,null,null,null,null,null,null,null,"",null,null,null,null,null,null,null,null,null,null,null,null,null,null,null,null,null,null,null,null,null,null,null,null,null,"",null,null,null,null,null,null,null,null,null,null,null,null,null,null,null,null,null,null,null,null,null,null,null,null,null,"",null,null,null,null,null,null,null,null,null,null,null,null,null,null,null,null,null,null,null,null,null,null,null,null,null,"",null,null,null,null,null,null,null,null,null,null,null,null,null,null,null,null,null,null,null,null,null,null,null,null,null,""]
[null,null,19,null,null,null,null,null,null,null,null,null,null,null,null,null,null,null,null,null,null,null,null,null,null,null,null,null,null,null,"",null,null,null,null,null,null,null,null,null,null,null,null,null,null,null,null,null,null,null,null,null,null,null,null,null,"",null,null,null,null,null,null,null,null,null,null,null,null,null,null,null,null,null,null,null,null,null,null,null,null,null,"",null,null,null,null,null,null,null,null,null,null,null,null,null,null,null,null,null,null,null,null,null,null,null,null,null,"",null,null,null,null,null,null,null,null,null,null,null,null,null,null,null,null,null,null,null,null,null,null,null,null,null,"",null,null,null,null,null,null,null,null,null,null,null,null,null,null,null,null,null,null,null,null,null,null,null,null,null,"",null,null,null,null,null,null,null,null,null,null,null,null,null,null,null,null,null,null,null,null,null,null,null,null,null,"",null,null,null,null,null,null,null,null,null,null,null,null,null,null,null,null,null,null,null,null,null,null,null,null,null,"",null,null,null,null,null,null,null,null,null,null,null,null,null,null,null,null,null,null,null,null,null,null,null,null,null,"",null,null,null,null,null,null,null,null,null,null,null,null,null,null,null,null,null,null,null,null,null,null,null,null,null,"",null,null,null,null,null,null,null,null,null,null,null,null,null,null,null,null,null,null,null,null,null,null,null,null,null,""]
[null,null,20,null,null,null,null,null,null,null,null,null,null,null,null,null,null,null,null,null,null,null,null,null,null,null,null,null,null,null,"",null,null,null,null,null,null,null,null,null,null,null,null,null,null,null,null,null,null,null,null,null,null,null,null,null,"",null,null,null,null,null,null,null,null,null,null,null,null,null,null,null,null,null,null,null,null,null,null,null,null,null,"",null,null,null,null,null,null,null,null,null,null,null,null,null,null,null,null,null,null,null,null,null,null,null,null,null,"",null,null,null,null,null,null,null,null,null,null,null,null,null,null,null,null,null,null,null,null,null,null,null,null,null,"",null,null,null,null,null,null,null,null,null,null,null,null,null,null,null,null,null,null,null,null,null,null,null,null,null,"",null,null,null,null,null,null,null,null,null,null,null,null,null,null,null,null,null,null,null,null,null,null,null,null,null,"",null,null,null,null,null,null,null,null,null,null,null,null,null,null,null,null,null,null,null,null,null,null,null,null,null,"",null,null,null,null,null,null,null,null,null,null,null,null,null,null,null,null,null,null,null,null,null,null,null,null,null,"",null,null,null,null,null,null,null,null,null,null,null,null,null,null,null,null,null,null,null,null,null,null,null,null,null,"",null,null,null,null,null,null,null,null,null,null,null,null,null,null,null,null,null,null,null,null,null,null,null,null,null,""]
[null,null,21,null,null,null,null,null,null,null,null,null,null,null,null,null,null,null,null,null,null,null,null,null,null,null,null,null,null,null,"",null,null,null,null,null,null,null,null,null,null,null,null,null,null,null,null,null,null,null,null,null,null,null,null,null,"",null,null,null,null,null,null,null,null,null,null,null,null,null,null,null,null,null,null,null,null,null,null,null,null,null,"",null,null,null,null,null,null,null,null,null,null,null,null,null,null,null,null,null,null,null,null,null,null,null,null,null,"",null,null,null,null,null,null,null,null,null,null,null,null,null,null,null,null,null,null,null,null,null,null,null,null,null,"",null,null,null,null,null,null,null,null,null,null,null,null,null,null,null,null,null,null,null,null,null,null,null,null,null,"",null,null,null,null,null,null,null,null,null,null,null,null,null,null,null,null,null,null,null,null,null,null,null,null,null,"",null,null,null,null,null,null,null,null,null,null,null,null,null,null,null,null,null,null,null,null,null,null,null,null,null,"",null,null,null,null,null,null,null,null,null,null,null,null,null,null,null,null,null,null,null,null,null,null,null,null,null,"",null,null,null,null,null,null,null,null,null,null,null,null,null,null,null,null,null,null,null,null,null,null,null,null,null,"",null,null,null,null,null,null,null,null,null,null,null,null,null,null,null,null,null,null,null,null,null,null,null,null,null,""]
[null,null,22,null,null,null,null,null,null,null,null,null,null,null,null,null,null,null,null,null,null,null,null,null,null,null,null,null,null,null,"",null,null,null,null,null,null,null,null,null,null,null,null,null,null,null,null,null,null,null,null,null,null,null,null,null,"",null,null,null,null,null,null,null,null,null,null,null,null,null,null,null,null,null,null,null,null,null,null,null,null,null,"",null,null,null,null,null,null,null,null,null,null,null,null,null,null,null,null,null,null,null,null,null,null,null,null,null,"",null,null,null,null,null,null,null,null,null,null,null,null,null,null,null,null,null,null,null,null,null,null,null,null,null,"",null,null,null,null,null,null,null,null,null,null,null,null,null,null,null,null,null,null,null,null,null,null,null,null,null,"",null,null,null,null,null,null,null,null,null,null,null,null,null,null,null,null,null,null,null,null,null,null,null,null,null,"",null,null,null,null,null,null,null,null,null,null,null,null,null,null,null,null,null,null,null,null,null,null,null,null,null,"",null,null,null,null,null,null,null,null,null,null,null,null,null,null,null,null,null,null,null,null,null,null,null,null,null,"",null,null,null,null,null,null,null,null,null,null,null,null,null,null,null,null,null,null,null,null,null,null,null,null,null,"",null,null,null,null,null,null,null,null,null,null,null,null,null,null,null,null,null,null,null,null,null,null,null,null,null,""]
[null,null,23,null,null,null,null,null,null,null,null,null,null,null,null,null,null,null,null,null,null,null,null,null,null,null,null,null,null,null,"",null,null,null,null,null,null,null,null,null,null,null,null,null,null,null,null,null,null,null,null,null,null,null,null,null,"",null,null,null,null,null,null,null,null,null,null,null,null,null,null,null,null,null,null,null,null,null,null,null,null,null,"",null,null,null,null,null,null,null,null,null,null,null,null,null,null,null,null,null,null,null,null,null,null,null,null,null,"",null,null,null,null,null,null,null,null,null,null,null,null,null,null,null,null,null,null,null,null,null,null,null,null,null,"",null,null,null,null,null,null,null,null,null,null,null,null,null,null,null,null,null,null,null,null,null,null,null,null,null,"",null,null,null,null,null,null,null,null,null,null,null,null,null,null,null,null,null,null,null,null,null,null,null,null,null,"",null,null,null,null,null,null,null,null,null,null,null,null,null,null,null,null,null,null,null,null,null,null,null,null,null,"",null,null,null,null,null,null,null,null,null,null,null,null,null,null,null,null,null,null,null,null,null,null,null,null,null,"",null,null,null,null,null,null,null,null,null,null,null,null,null,null,null,null,null,null,null,null,null,null,null,null,null,"",null,null,null,null,null,null,null,null,null,null,null,null,null,null,null,null,null,null,null,null,null,null,null,null,null,""]
[null,null,24,null,null,null,null,null,null,null,null,null,null,null,null,null,null,null,null,null,null,null,null,null,null,null,null,null,null,null,"",null,null,null,null,null,null,null,null,null,null,null,null,null,null,null,null,null,null,null,null,null,null,null,null,null,"",null,null,null,null,null,null,null,null,null,null,null,null,null,null,null,null,null,null,null,null,null,null,null,null,null,"",null,null,null,null,null,null,null,null,null,null,null,null,null,null,null,null,null,null,null,null,null,null,null,null,null,"",null,null,null,null,null,null,null,null,null,null,null,null,null,null,null,null,null,null,null,null,null,null,null,null,null,"",null,null,null,null,null,null,null,null,null,null,null,null,null,null,null,null,null,null,null,null,null,null,null,null,null,"",null,null,null,null,null,null,null,null,null,null,null,null,null,null,null,null,null,null,null,null,null,null,null,null,null,"",null,null,null,null,null,null,null,null,null,null,null,null,null,null,null,null,null,null,null,null,null,null,null,null,null,"",null,null,null,null,null,null,null,null,null,null,null,null,null,null,null,null,null,null,null,null,null,null,null,null,null,"",null,null,null,null,null,null,null,null,null,null,null,null,null,null,null,null,null,null,null,null,null,null,null,null,null,"",null,null,null,null,null,null,null,null,null,null,null,null,null,null,null,null,null,null,null,null,null,null,null,null,null,""]
[null,null,25,null,null,null,null,null,null,null,null,null,null,null,null,null,null,null,null,null,null,null,null,null,null,null,null,null,null,null,"",null,null,null,null,null,null,null,null,null,null,null,null,null,null,null,null,null,null,null,null,null,null,null,null,null,"",null,null,null,null,null,null,null,null,null,null,null,null,null,null,null,null,null,null,null,null,null,null,null,null,null,"",null,null,null,null,null,null,null,null,null,null,null,null,null,null,null,null,null,null,null,null,null,null,null,null,null,"",null,null,null,null,null,null,null,null,null,null,null,null,null,null,null,null,null,null,null,null,null,null,null,null,null,"",null,null,null,null,null,null,null,null,null,null,null,null,null,null,null,null,null,null,null,null,null,null,null,null,null,"",null,null,null,null,null,null,null,null,null,null,null,null,null,null,null,null,null,null,null,null,null,null,null,null,null,"",null,null,null,null,null,null,null,null,null,null,null,null,null,null,null,null,null,null,null,null,null,null,null,null,null,"",null,null,null,null,null,null,null,null,null,null,null,null,null,null,null,null,null,null,null,null,null,null,null,null,null,"",null,null,null,null,null,null,null,null,null,null,null,null,null,null,null,null,null,null,null,null,null,null,null,null,null,"",null,null,null,null,null,null,null,null,null,null,null,null,null,null,null,null,null,null,null,null,null,null,null,null,null,""]
[null,null,26,null,null,null,null,null,null,null,null,null,null,null,null,null,null,null,null,null,null,null,null,null,null,null,null,null,null,null,"",null,null,null,null,null,null,null,null,null,null,null,null,null,null,null,null,null,null,null,null,null,null,null,null,null,"",null,null,null,null,null,null,null,null,null,null,null,null,null,null,null,null,null,null,null,null,null,null,null,null,null,"",null,null,null,null,null,null,null,null,null,null,null,null,null,null,null,null,null,null,null,null,null,null,null,null,null,"",null,null,null,null,null,null,null,null,null,null,null,null,null,null,null,null,null,null,null,null,null,null,null,null,null,"",null,null,null,null,null,null,null,null,null,null,null,null,null,null,null,null,null,null,null,null,null,null,null,null,null,"",null,null,null,null,null,null,null,null,null,null,null,null,null,null,null,null,null,null,null,null,null,null,null,null,null,"",null,null,null,null,null,null,null,null,null,null,null,null,null,null,null,null,null,null,null,null,null,null,null,null,null,"",null,null,null,null,null,null,null,null,null,null,null,null,null,null,null,null,null,null,null,null,null,null,null,null,null,"",null,null,null,null,null,null,null,null,null,null,null,null,null,null,null,null,null,null,null,null,null,null,null,null,null,"",null,null,null,null,null,null,null,null,null,null,null,null,null,null,null,null,null,null,null,null,null,null,null,null,null,""]
[null,null,27,null,null,null,null,null,null,null,null,null,null,null,null,null,null,null,null,null,null,null,null,null,null,null,null,null,null,null,"",null,null,null,null,null,null,null,null,null,null,null,null,null,null,null,null,null,null,null,null,null,null,null,null,null,"",null,null,null,null,null,null,null,null,null,null,null,null,null,null,null,null,null,null,null,null,null,null,null,null,null,"",null,null,null,null,null,null,null,null,null,null,null,null,null,null,null,null,null,null,null,null,null,null,null,null,null,"",null,null,null,null,null,null,null,null,null,null,null,null,null,null,null,null,null,null,null,null,null,null,null,null,null,"",null,null,null,null,null,null,null,null,null,null,null,null,null,null,null,null,null,null,null,null,null,null,null,null,null,"",null,null,null,null,null,null,null,null,null,null,null,null,null,null,null,null,null,null,null,null,null,null,null,null,null,"",null,null,null,null,null,null,null,null,null,null,null,null,null,null,null,null,null,null,null,null,null,null,null,null,null,"",null,null,null,null,null,null,null,null,null,null,null,null,null,null,null,null,null,null,null,null,null,null,null,null,null,"",null,null,null,null,null,null,null,null,null,null,null,null,null,null,null,null,null,null,null,null,null,null,null,null,null,"",null,null,null,null,null,null,null,null,null,null,null,null,null,null,null,null,null,null,null,null,null,null,null,null,null,""]
[null,null,28,null,null,null,null,null,null,null,null,null,null,null,null,null,null,null,null,null,null,null,null,null,null,null,null,null,null,null,"",null,null,null,null,null,null,null,null,null,null,null,null,null,null,null,null,null,null,null,null,null,null,null,null,null,"",null,null,null,null,null,null,null,null,null,null,null,null,null,null,null,null,null,null,null,null,null,null,null,null,null,"",null,null,null,null,null,null,null,null,null,null,null,null,null,null,null,null,null,null,null,null,null,null,null,null,null,"",null,null,null,null,null,null,null,null,null,null,null,null,null,null,null,null,null,null,null,null,null,null,null,null,null,"",null,null,null,null,null,null,null,null,null,null,null,null,null,null,null,null,null,null,null,null,null,null,null,null,null,"",null,null,null,null,null,null,null,null,null,null,null,null,null,null,null,null,null,null,null,null,null,null,null,null,null,"",null,null,null,null,null,null,null,null,null,null,null,null,null,null,null,null,null,null,null,null,null,null,null,null,null,"",null,null,null,null,null,null,null,null,null,null,null,null,null,null,null,null,null,null,null,null,null,null,null,null,null,"",null,null,null,null,null,null,null,null,null,null,null,null,null,null,null,null,null,null,null,null,null,null,null,null,null,"",null,null,null,null,null,null,null,null,null,null,null,null,null,null,null,null,null,null,null,null,null,null,null,null,null,""]
[null,null,29,null,null,null,null,null,null,null,null,null,null,null,null,null,null,null,null,null,null,null,null,null,null,null,null,null,null,null,"",null,null,null,null,null,null,null,null,null,null,null,null,null,null,null,null,null,null,null,null,null,null,null,null,null,"",null,null,null,null,null,null,null,null,null,null,null,null,null,null,null,null,null,null,null,null,null,null,null,null,null,"",null,null,null,null,null,null,null,null,null,null,null,null,null,null,null,null,null,null,null,null,null,null,null,null,null,"",null,null,null,null,null,null,null,null,null,null,null,null,null,null,null,null,null,null,null,null,null,null,null,null,null,"",null,null,null,null,null,null,null,null,null,null,null,null,null,null,null,null,null,null,null,null,null,null,null,null,null,"",null,null,null,null,null,null,null,null,null,null,null,null,null,null,null,null,null,null,null,null,null,null,null,null,null,"",null,null,null,null,null,null,null,null,null,null,null,null,null,null,null,null,null,null,null,null,null,null,null,null,null,"",null,null,null,null,null,null,null,null,null,null,null,null,null,null,null,null,null,null,null,null,null,null,null,null,null,"",null,null,null,null,null,null,null,null,null,null,null,null,null,null,null,null,null,null,null,null,null,null,null,null,null,"",null,null,null,null,null,null,null,null,null,null,null,null,null,null,null,null,null,null,null,null,null,null,null,null,null,""]
[null,null,30,null,null,null,null,null,null,null,null,null,null,null,null,null,null,null,null,null,null,null,null,null,null,null,null,null,null,null,"",null,null,null,null,null,null,null,null,null,null,null,null,null,null,null,null,null,null,null,null,null,null,null,null,null,"",null,null,null,null,null,null,null,null,null,null,null,null,null,null,null,null,null,null,null,null,null,null,null,null,null,"",null,null,null,null,null,null,null,null,null,null,null,null,null,null,null,null,null,null,null,null,null,null,null,null,null,"",null,null,null,null,null,null,null,null,null,null,null,null,null,null,null,null,null,null,null,null,null,null,null,null,null,"",null,null,null,null,null,null,null,null,null,null,null,null,null,null,null,null,null,null,null,null,null,null,null,null,null,"",null,null,null,null,null,null,null,null,null,null,null,null,null,null,null,null,null,null,null,null,null,null,null,null,null,"",null,null,null,null,null,null,null,null,null,null,null,null,null,null,null,null,null,null,null,null,null,null,null,null,null,"",null,null,null,null,null,null,null,null,null,null,null,null,null,null,null,null,null,null,null,null,null,null,null,null,null,"",null,null,null,null,null,null,null,null,null,null,null,null,null,null,null,null,null,null,null,null,null,null,null,null,null,"",null,null,null,null,null,null,null,null,null,null,null,null,null,null,null,null,null,null,null,null,null,null,null,null,null,""]
[null,null,31,null,null,null,null,null,null,null,null,null,null,null,null,null,null,null,null,null,null,null,null,null,null,null,null,null,null,null,"",null,null,null,null,null,null,null,null,null,null,null,null,null,null,null,null,null,null,null,null,null,null,null,null,null,"",null,null,null,null,null,null,null,null,null,null,null,null,null,null,null,null,null,null,null,null,null,null,null,null,null,"",null,null,null,null,null,null,null,null,null,null,null,null,null,null,null,null,null,null,null,null,null,null,null,null,null,"",null,null,null,null,null,null,null,null,null,null,null,null,null,null,null,null,null,null,null,null,null,null,null,null,null,"",null,null,null,null,null,null,null,null,null,null,null,null,null,null,null,null,null,null,null,null,null,null,null,null,null,"",null,null,null,null,null,null,null,null,null,null,null,null,null,null,null,null,null,null,null,null,null,null,null,null,null,"",null,null,null,null,null,null,null,null,null,null,null,null,null,null,null,null,null,null,null,null,null,null,null,null,null,"",null,null,null,null,null,null,null,null,null,null,null,null,null,null,null,null,null,null,null,null,null,null,null,null,null,"",null,null,null,null,null,null,null,null,null,null,null,null,null,null,null,null,null,null,null,null,null,null,null,null,null,"",null,null,null,null,null,null,null,null,null,null,null,null,null,null,null,null,null,null,null,null,null,null,null,null,null,""]
[null,null,32,null,null,null,null,null,null,null,null,null,null,null,null,null,null,null,null,null,null,null,null,null,null,null,null,null,null,null,"",null,null,null,null,null,null,null,null,null,null,null,null,null,null,null,null,null,null,null,null,null,null,null,null,null,"",null,null,null,null,null,null,null,null,null,null,null,null,null,null,null,null,null,null,null,null,null,null,null,null,null,"",null,null,null,null,null,null,null,null,null,null,null,null,null,null,null,null,null,null,null,null,null,null,null,null,null,"",null,null,null,null,null,null,null,null,null,null,null,null,null,null,null,null,null,null,null,null,null,null,null,null,null,"",null,null,null,null,null,null,null,null,null,null,null,null,null,null,null,null,null,null,null,null,null,null,null,null,null,"",null,null,null,null,null,null,null,null,null,null,null,null,null,null,null,null,null,null,null,null,null,null,null,null,null,"",null,null,null,null,null,null,null,null,null,null,null,null,null,null,null,null,null,null,null,null,null,null,null,null,null,"",null,null,null,null,null,null,null,null,null,null,null,null,null,null,null,null,null,null,null,null,null,null,null,null,null,"",null,null,null,null,null,null,null,null,null,null,null,null,null,null,null,null,null,null,null,null,null,null,null,null,null,"",null,null,null,null,null,null,null,null,null,null,null,null,null,null,null,null,null,null,null,null,null,null,null,null,null,""]
[null,null,33,null,null,null,null,null,null,null,null,null,null,null,null,null,null,null,null,null,null,null,null,null,null,null,null,null,null,null,"",null,null,null,null,null,null,null,null,null,null,null,null,null,null,null,null,null,null,null,null,null,null,null,null,null,"",null,null,null,null,null,null,null,null,null,null,null,null,null,null,null,null,null,null,null,null,null,null,null,null,null,"",null,null,null,null,null,null,null,null,null,null,null,null,null,null,null,null,null,null,null,null,null,null,null,null,null,"",null,null,null,null,null,null,null,null,null,null,null,null,null,null,null,null,null,null,null,null,null,null,null,null,null,"",null,null,null,null,null,null,null,null,null,null,null,null,null,null,null,null,null,null,null,null,null,null,null,null,null,"",null,null,null,null,null,null,null,null,null,null,null,null,null,null,null,null,null,null,null,null,null,null,null,null,null,"",null,null,null,null,null,null,null,null,null,null,null,null,null,null,null,null,null,null,null,null,null,null,null,null,null,"",null,null,null,null,null,null,null,null,null,null,null,null,null,null,null,null,null,null,null,null,null,null,null,null,null,"",null,null,null,null,null,null,null,null,null,null,null,null,null,null,null,null,null,null,null,null,null,null,null,null,null,"",null,null,null,null,null,null,null,null,null,null,null,null,null,null,null,null,null,null,null,null,null,null,null,null,null,""]
[null,null,34,null,null,null,null,null,null,null,null,null,null,null,null,null,null,null,null,null,null,null,null,null,null,null,null,null,null,null,"",null,null,null,null,null,null,null,null,null,null,null,null,null,null,null,null,null,null,null,null,null,null,null,null,null,"",null,null,null,null,null,null,null,null,null,null,null,null,null,null,null,null,null,null,null,null,null,null,null,null,null,"",null,null,null,null,null,null,null,null,null,null,null,null,null,null,null,null,null,null,null,null,null,null,null,null,null,"",null,null,null,null,null,null,null,null,null,null,null,null,null,null,null,null,null,null,null,null,null,null,null,null,null,"",null,null,null,null,null,null,null,null,null,null,null,null,null,null,null,null,null,null,null,null,null,null,null,null,null,"",null,null,null,null,null,null,null,null,null,null,null,null,null,null,null,null,null,null,null,null,null,null,null,null,null,"",null,null,null,null,null,null,null,null,null,null,null,null,null,null,null,null,null,null,null,null,null,null,null,null,null,"",null,null,null,null,null,null,null,null,null,null,null,null,null,null,null,null,null,null,null,null,null,null,null,null,null,"",null,null,null,null,null,null,null,null,null,null,null,null,null,null,null,null,null,null,null,null,null,null,null,null,null,"",null,null,null,null,null,null,null,null,null,null,null,null,null,null,null,null,null,null,null,null,null,null,null,null,null,""]
[null,null,35,null,null,null,null,null,null,null,null,null,null,null,null,null,null,null,null,null,null,null,null,null,null,null,null,null,null,null,"",null,null,null,null,null,null,null,null,null,null,null,null,null,null,null,null,null,null,null,null,null,null,null,null,null,"",null,null,null,null,null,null,null,null,null,null,null,null,null,null,null,null,null,null,null,null,null,null,null,null,null,"",null,null,null,null,null,null,null,null,null,null,null,null,null,null,null,null,null,null,null,null,null,null,null,null,null,"",null,null,null,null,null,null,null,null,null,null,null,null,null,null,null,null,null,null,null,null,null,null,null,null,null,"",null,null,null,null,null,null,null,null,null,null,null,null,null,null,null,null,null,null,null,null,null,null,null,null,null,"",null,null,null,null,null,null,null,null,null,null,null,null,null,null,null,null,null,null,null,null,null,null,null,null,null,"",null,null,null,null,null,null,null,null,null,null,null,null,null,null,null,null,null,null,null,null,null,null,null,null,null,"",null,null,null,null,null,null,null,null,null,null,null,null,null,null,null,null,null,null,null,null,null,null,null,null,null,"",null,null,null,null,null,null,null,null,null,null,null,null,null,null,null,null,null,null,null,null,null,null,null,null,null,"",null,null,null,null,null,null,null,null,null,null,null,null,null,null,null,null,null,null,null,null,null,null,null,null,null,""]
[null,null,36,null,null,null,null,null,null,null,null,null,null,null,null,null,null,null,null,null,null,null,null,null,null,null,null,null,null,null,"",null,null,null,null,null,null,null,null,null,null,null,null,null,null,null,null,null,null,null,null,null,null,null,null,null,"",null,null,null,null,null,null,null,null,null,null,null,null,null,null,null,null,null,null,null,null,null,null,null,null,null,"",null,null,null,null,null,null,null,null,null,null,null,null,null,null,null,null,null,null,null,null,null,null,null,null,null,"",null,null,null,null,null,null,null,null,null,null,null,null,null,null,null,null,null,null,null,null,null,null,null,null,null,"",null,null,null,null,null,null,null,null,null,null,null,null,null,null,null,null,null,null,null,null,null,null,null,null,null,"",null,null,null,null,null,null,null,null,null,null,null,null,null,null,null,null,null,null,null,null,null,null,null,null,null,"",null,null,null,null,null,null,null,null,null,null,null,null,null,null,null,null,null,null,null,null,null,null,null,null,null,"",null,null,null,null,null,null,null,null,null,null,null,null,null,null,null,null,null,null,null,null,null,null,null,null,null,"",null,null,null,null,null,null,null,null,null,null,null,null,null,null,null,null,null,null,null,null,null,null,null,null,null,"",null,null,null,null,null,null,null,null,null,null,null,null,null,null,null,null,null,null,null,null,null,null,null,null,null,""]
[null,null,37,null,null,null,null,null,null,null,null,null,null,null,null,null,null,null,null,null,null,null,null,null,null,null,null,null,null,null,"",null,null,null,null,null,null,null,null,null,null,null,null,null,null,null,null,null,null,null,null,null,null,null,null,null,"",null,null,null,null,null,null,null,null,null,null,null,null,null,null,null,null,null,null,null,null,null,null,null,null,null,"",null,null,null,null,null,null,null,null,null,null,null,null,null,null,null,null,null,null,null,null,null,null,null,null,null,"",null,null,null,null,null,null,null,null,null,null,null,null,null,null,null,null,null,null,null,null,null,null,null,null,null,"",null,null,null,null,null,null,null,null,null,null,null,null,null,null,null,null,null,null,null,null,null,null,null,null,null,"",null,null,null,null,null,null,null,null,null,null,null,null,null,null,null,null,null,null,null,null,null,null,null,null,null,"",null,null,null,null,null,null,null,null,null,null,null,null,null,null,null,null,null,null,null,null,null,null,null,null,null,"",null,null,null,null,null,null,null,null,null,null,null,null,null,null,null,null,null,null,null,null,null,null,null,null,null,"",null,null,null,null,null,null,null,null,null,null,null,null,null,null,null,null,null,null,null,null,null,null,null,null,null,"",null,null,null,null,null,null,null,null,null,null,null,null,null,null,null,null,null,null,null,null,null,null,null,null,null,""]
[null,null,38,null,null,null,null,null,null,null,null,null,null,null,null,null,null,null,null,null,null,null,null,null,null,null,null,null,null,null,"",null,null,null,null,null,null,null,null,null,null,null,null,null,null,null,null,null,null,null,null,null,null,null,null,null,"",null,null,null,null,null,null,null,null,null,null,null,null,null,null,null,null,null,null,null,null,null,null,null,null,null,"",null,null,null,null,null,null,null,null,null,null,null,null,null,null,null,null,null,null,null,null,null,null,null,null,null,"",null,null,null,null,null,null,null,null,null,null,null,null,null,null,null,null,null,null,null,null,null,null,null,null,null,"",null,null,null,null,null,null,null,null,null,null,null,null,null,null,null,null,null,null,null,null,null,null,null,null,null,"",null,null,null,null,null,null,null,null,null,null,null,null,null,null,null,null,null,null,null,null,null,null,null,null,null,"",null,null,null,null,null,null,null,null,null,null,null,null,null,null,null,null,null,null,null,null,null,null,null,null,null,"",null,null,null,null,null,null,null,null,null,null,null,null,null,null,null,null,null,null,null,null,null,null,null,null,null,"",null,null,null,null,null,null,null,null,null,null,null,null,null,null,null,null,null,null,null,null,null,null,null,null,null,"",null,null,null,null,null,null,null,null,null,null,null,null,null,null,null,null,null,null,null,null,null,null,null,null,null,""]
[null,null,39,null,null,null,null,null,null,null,null,null,null,null,null,null,null,null,null,null,null,null,null,null,null,null,null,null,null,null,"",null,null,null,null,null,null,null,null,null,null,null,null,null,null,null,null,null,null,null,null,null,null,null,null,null,"",null,null,null,null,null,null,null,null,null,null,null,null,null,null,null,null,null,null,null,null,null,null,null,null,null,"",null,null,null,null,null,null,null,null,null,null,null,null,null,null,null,null,null,null,null,null,null,null,null,null,null,"",null,null,null,null,null,null,null,null,null,null,null,null,null,null,null,null,null,null,null,null,null,null,null,null,null,"",null,null,null,null,null,null,null,null,null,null,null,null,null,null,null,null,null,null,null,null,null,null,null,null,null,"",null,null,null,null,null,null,null,null,null,null,null,null,null,null,null,null,null,null,null,null,null,null,null,null,null,"",null,null,null,null,null,null,null,null,null,null,null,null,null,null,null,null,null,null,null,null,null,null,null,null,null,"",null,null,null,null,null,null,null,null,null,null,null,null,null,null,null,null,null,null,null,null,null,null,null,null,null,"",null,null,null,null,null,null,null,null,null,null,null,null,null,null,null,null,null,null,null,null,null,null,null,null,null,"",null,null,null,null,null,null,null,null,null,null,null,null,null,null,null,null,null,null,null,null,null,null,null,null,null,""]
[null,null,40,null,null,null,null,null,null,null,null,null,null,null,null,null,null,null,null,null,null,null,null,null,null,null,null,null,null,null,"",null,null,null,null,null,null,null,null,null,null,null,null,null,null,null,null,null,null,null,null,null,null,null,null,null,"",null,null,null,null,null,null,null,null,null,null,null,null,null,null,null,null,null,null,null,null,null,null,null,null,null,"",null,null,null,null,null,null,null,null,null,null,null,null,null,null,null,null,null,null,null,null,null,null,null,null,null,"",null,null,null,null,null,null,null,null,null,null,null,null,null,null,null,null,null,null,null,null,null,null,null,null,null,"",null,null,null,null,null,null,null,null,null,null,null,null,null,null,null,null,null,null,null,null,null,null,null,null,null,"",null,null,null,null,null,null,null,null,null,null,null,null,null,null,null,null,null,null,null,null,null,null,null,null,null,"",null,null,null,null,null,null,null,null,null,null,null,null,null,null,null,null,null,null,null,null,null,null,null,null,null,"",null,null,null,null,null,null,null,null,null,null,null,null,null,null,null,null,null,null,null,null,null,null,null,null,null,"",null,null,null,null,null,null,null,null,null,null,null,null,null,null,null,null,null,null,null,null,null,null,null,null,null,"",null,null,null,null,null,null,null,null,null,null,null,null,null,null,null,null,null,null,null,null,null,null,null,null,null,""]
[null,null,41,null,null,null,null,null,null,null,null,null,null,null,null,null,null,null,null,null,null,null,null,null,null,null,null,null,null,null,"",null,null,null,null,null,null,null,null,null,null,null,null,null,null,null,null,null,null,null,null,null,null,null,null,null,"",null,null,null,null,null,null,null,null,null,null,null,null,null,null,null,null,null,null,null,null,null,null,null,null,null,"",null,null,null,null,null,null,null,null,null,null,null,null,null,null,null,null,null,null,null,null,null,null,null,null,null,"",null,null,null,null,null,null,null,null,null,null,null,null,null,null,null,null,null,null,null,null,null,null,null,null,null,"",null,null,null,null,null,null,null,null,null,null,null,null,null,null,null,null,null,null,null,null,null,null,null,null,null,"",null,null,null,null,null,null,null,null,null,null,null,null,null,null,null,null,null,null,null,null,null,null,null,null,null,"",null,null,null,null,null,null,null,null,null,null,null,null,null,null,null,null,null,null,null,null,null,null,null,null,null,"",null,null,null,null,null,null,null,null,null,null,null,null,null,null,null,null,null,null,null,null,null,null,null,null,null,"",null,null,null,null,null,null,null,null,null,null,null,null,null,null,null,null,null,null,null,null,null,null,null,null,null,"",null,null,null,null,null,null,null,null,null,null,null,null,null,null,null,null,null,null,null,null,null,null,null,null,null,""]
[null,null,42,null,null,null,null,null,null,null,null,null,null,null,null,null,null,null,null,null,null,null,null,null,null,null,null,null,null,null,"",null,null,null,null,null,null,null,null,null,null,null,null,null,null,null,null,null,null,null,null,null,null,null,null,null,"",null,null,null,null,null,null,null,null,null,null,null,null,null,null,null,null,null,null,null,null,null,null,null,null,null,"",null,null,null,null,null,null,null,null,null,null,null,null,null,null,null,null,null,null,null,null,null,null,null,null,null,"",null,null,null,null,null,null,null,null,null,null,null,null,null,null,null,null,null,null,null,null,null,null,null,null,null,"",null,null,null,null,null,null,null,null,null,null,null,null,null,null,null,null,null,null,null,null,null,null,null,null,null,"",null,null,null,null,null,null,null,null,null,null,null,null,null,null,null,null,null,null,null,null,null,null,null,null,null,"",null,null,null,null,null,null,null,null,null,null,null,null,null,null,null,null,null,null,null,null,null,null,null,null,null,"",null,null,null,null,null,null,null,null,null,null,null,null,null,null,null,null,null,null,null,null,null,null,null,null,null,"",null,null,null,null,null,null,null,null,null,null,null,null,null,null,null,null,null,null,null,null,null,null,null,null,null,"",null,null,null,null,null,null,null,null,null,null,null,null,null,null,null,null,null,null,null,null,null,null,null,null,null,""]
[null,null,43,null,null,null,null,null,null,null,null,null,null,null,null,null,null,null,null,null,null,null,null,null,null,null,null,null,null,null,"",null,null,null,null,null,null,null,null,null,null,null,null,null,null,null,null,null,null,null,null,null,null,null,null,null,"",null,null,null,null,null,null,null,null,null,null,null,null,null,null,null,null,null,null,null,null,null,null,null,null,null,"",null,null,null,null,null,null,null,null,null,null,null,null,null,null,null,null,null,null,null,null,null,null,null,null,null,"",null,null,null,null,null,null,null,null,null,null,null,null,null,null,null,null,null,null,null,null,null,null,null,null,null,"",null,null,null,null,null,null,null,null,null,null,null,null,null,null,null,null,null,null,null,null,null,null,null,null,null,"",null,null,null,null,null,null,null,null,null,null,null,null,null,null,null,null,null,null,null,null,null,null,null,null,null,"",null,null,null,null,null,null,null,null,null,null,null,null,null,null,null,null,null,null,null,null,null,null,null,null,null,"",null,null,null,null,null,null,null,null,null,null,null,null,null,null,null,null,null,null,null,null,null,null,null,null,null,"",null,null,null,null,null,null,null,null,null,null,null,null,null,null,null,null,null,null,null,null,null,null,null,null,null,"",null,null,null,null,null,null,null,null,null,null,null,null,null,null,null,null,null,null,null,null,null,null,null,null,null,""]
[null,null,44,null,null,null,null,null,null,null,null,null,null,null,null,null,null,null,null,null,null,null,null,null,null,null,null,null,null,null,"",null,null,null,null,null,null,null,null,null,null,null,null,null,null,null,null,null,null,null,null,null,null,null,null,null,"",null,null,null,null,null,null,null,null,null,null,null,null,null,null,null,null,null,null,null,null,null,null,null,null,null,"",null,null,null,null,null,null,null,null,null,null,null,null,null,null,null,null,null,null,null,null,null,null,null,null,null,"",null,null,null,null,null,null,null,null,null,null,null,null,null,null,null,null,null,null,null,null,null,null,null,null,null,"",null,null,null,null,null,null,null,null,null,null,null,null,null,null,null,null,null,null,null,null,null,null,null,null,null,"",null,null,null,null,null,null,null,null,null,null,null,null,null,null,null,null,null,null,null,null,null,null,null,null,null,"",null,null,null,null,null,null,null,null,null,null,null,null,null,null,null,null,null,null,null,null,null,null,null,null,null,"",null,null,null,null,null,null,null,null,null,null,null,null,null,null,null,null,null,null,null,null,null,null,null,null,null,"",null,null,null,null,null,null,null,null,null,null,null,null,null,null,null,null,null,null,null,null,null,null,null,null,null,"",null,null,null,null,null,null,null,null,null,null,null,null,null,null,null,null,null,null,null,null,null,null,null,null,null,""]
[null,null,45,null,null,null,null,null,null,null,null,null,null,null,null,null,null,null,null,null,null,null,null,null,null,null,null,null,null,null,"",null,null,null,null,null,null,null,null,null,null,null,null,null,null,null,null,null,null,null,null,null,null,null,null,null,"",null,null,null,null,null,null,null,null,null,null,null,null,null,null,null,null,null,null,null,null,null,null,null,null,null,"",null,null,null,null,null,null,null,null,null,null,null,null,null,null,null,null,null,null,null,null,null,null,null,null,null,"",null,null,null,null,null,null,null,null,null,null,null,null,null,null,null,null,null,null,null,null,null,null,null,null,null,"",null,null,null,null,null,null,null,null,null,null,null,null,null,null,null,null,null,null,null,null,null,null,null,null,null,"",null,null,null,null,null,null,null,null,null,null,null,null,null,null,null,null,null,null,null,null,null,null,null,null,null,"",null,null,null,null,null,null,null,null,null,null,null,null,null,null,null,null,null,null,null,null,null,null,null,null,null,"",null,null,null,null,null,null,null,null,null,null,null,null,null,null,null,null,null,null,null,null,null,null,null,null,null,"",null,null,null,null,null,null,null,null,null,null,null,null,null,null,null,null,null,null,null,null,null,null,null,null,null,"",null,null,null,null,null,null,null,null,null,null,null,null,null,null,null,null,null,null,null,null,null,null,null,null,null,""]
[null,null,46,null,null,null,null,null,null,null,null,null,null,null,null,null,null,null,null,null,null,null,null,null,null,null,null,null,null,null,"",null,null,null,null,null,null,null,null,null,null,null,null,null,null,null,null,null,null,null,null,null,null,null,null,null,"",null,null,null,null,null,null,null,null,null,null,null,null,null,null,null,null,null,null,null,null,null,null,null,null,null,"",null,null,null,null,null,null,null,null,null,null,null,null,null,null,null,null,null,null,null,null,null,null,null,null,null,"",null,null,null,null,null,null,null,null,null,null,null,null,null,null,null,null,null,null,null,null,null,null,null,null,null,"",null,null,null,null,null,null,null,null,null,null,null,null,null,null,null,null,null,null,null,null,null,null,null,null,null,"",null,null,null,null,null,null,null,null,null,null,null,null,null,null,null,null,null,null,null,null,null,null,null,null,null,"",null,null,null,null,null,null,null,null,null,null,null,null,null,null,null,null,null,null,null,null,null,null,null,null,null,"",null,null,null,null,null,null,null,null,null,null,null,null,null,null,null,null,null,null,null,null,null,null,null,null,null,"",null,null,null,null,null,null,null,null,null,null,null,null,null,null,null,null,null,null,null,null,null,null,null,null,null,"",null,null,null,null,null,null,null,null,null,null,null,null,null,null,null,null,null,null,null,null,null,null,null,null,null,""]
[null,null,47,null,null,null,null,null,null,null,null,null,null,null,null,null,null,null,null,null,null,null,null,null,null,null,null,null,null,null,"",null,null,null,null,null,null,null,null,null,null,null,null,null,null,null,null,null,null,null,null,null,null,null,null,null,"",null,null,null,null,null,null,null,null,null,null,null,null,null,null,null,null,null,null,null,null,null,null,null,null,null,"",null,null,null,null,null,null,null,null,null,null,null,null,null,null,null,null,null,null,null,null,null,null,null,null,null,"",null,null,null,null,null,null,null,null,null,null,null,null,null,null,null,null,null,null,null,null,null,null,null,null,null,"",null,null,null,null,null,null,null,null,null,null,null,null,null,null,null,null,null,null,null,null,null,null,null,null,null,"",null,null,null,null,null,null,null,null,null,null,null,null,null,null,null,null,null,null,null,null,null,null,null,null,null,"",null,null,null,null,null,null,null,null,null,null,null,null,null,null,null,null,null,null,null,null,null,null,null,null,null,"",null,null,null,null,null,null,null,null,null,null,null,null,null,null,null,null,null,null,null,null,null,null,null,null,null,"",null,null,null,null,null,null,null,null,null,null,null,null,null,null,null,null,null,null,null,null,null,null,null,null,null,"",null,null,null,null,null,null,null,null,null,null,null,null,null,null,null,null,null,null,null,null,null,null,null,null,null,""]
[null,null,48,null,null,null,null,null,null,null,null,null,null,null,null,null,null,null,null,null,null,null,null,null,null,null,null,null,null,null,"",null,null,null,null,null,null,null,null,null,null,null,null,null,null,null,null,null,null,null,null,null,null,null,null,null,"",null,null,null,null,null,null,null,null,null,null,null,null,null,null,null,null,null,null,null,null,null,null,null,null,null,"",null,null,null,null,null,null,null,null,null,null,null,null,null,null,null,null,null,null,null,null,null,null,null,null,null,"",null,null,null,null,null,null,null,null,null,null,null,null,null,null,null,null,null,null,null,null,null,null,null,null,null,"",null,null,null,null,null,null,null,null,null,null,null,null,null,null,null,null,null,null,null,null,null,null,null,null,null,"",null,null,null,null,null,null,null,null,null,null,null,null,null,null,null,null,null,null,null,null,null,null,null,null,null,"",null,null,null,null,null,null,null,null,null,null,null,null,null,null,null,null,null,null,null,null,null,null,null,null,null,"",null,null,null,null,null,null,null,null,null,null,null,null,null,null,null,null,null,null,null,null,null,null,null,null,null,"",null,null,null,null,null,null,null,null,null,null,null,null,null,null,null,null,null,null,null,null,null,null,null,null,null,"",null,null,null,null,null,null,null,null,null,null,null,null,null,null,null,null,null,null,null,null,null,null,null,null,null,""]
[null,null,49,null,null,null,null,null,null,null,null,null,null,null,null,null,null,null,null,null,null,null,null,null,null,null,null,null,null,null,"",null,null,null,null,null,null,null,null,null,null,null,null,null,null,null,null,null,null,null,null,null,null,null,null,null,"",null,null,null,null,null,null,null,null,null,null,null,null,null,null,null,null,null,null,null,null,null,null,null,null,null,"",null,null,null,null,null,null,null,null,null,null,null,null,null,null,null,null,null,null,null,null,null,null,null,null,null,"",null,null,null,null,null,null,null,null,null,null,null,null,null,null,null,null,null,null,null,null,null,null,null,null,null,"",null,null,null,null,null,null,null,null,null,null,null,null,null,null,null,null,null,null,null,null,null,null,null,null,null,"",null,null,null,null,null,null,null,null,null,null,null,null,null,null,null,null,null,null,null,null,null,null,null,null,null,"",null,null,null,null,null,null,null,null,null,null,null,null,null,null,null,null,null,null,null,null,null,null,null,null,null,"",null,null,null,null,null,null,null,null,null,null,null,null,null,null,null,null,null,null,null,null,null,null,null,null,null,"",null,null,null,null,null,null,null,null,null,null,null,null,null,null,null,null,null,null,null,null,null,null,null,null,null,"",null,null,null,null,null,null,null,null,null,null,null,null,null,null,null,null,null,null,null,null,null,null,null,null,null,""]
[null,null,50,null,null,null,null,null,null,null,null,null,null,null,null,null,null,null,null,null,null,null,null,null,null,null,null,null,null,null,"",null,null,null,null,null,null,null,null,null,null,null,null,null,null,null,null,null,null,null,null,null,null,null,null,null,"",null,null,null,null,null,null,null,null,null,null,null,null,null,null,null,null,null,null,null,null,null,null,null,null,null,"",null,null,null,null,null,null,null,null,null,null,null,null,null,null,null,null,null,null,null,null,null,null,null,null,null,"",null,null,null,null,null,null,null,null,null,null,null,null,null,null,null,null,null,null,null,null,null,null,null,null,null,"",null,null,null,null,null,null,null,null,null,null,null,null,null,null,null,null,null,null,null,null,null,null,null,null,null,"",null,null,null,null,null,null,null,null,null,null,null,null,null,null,null,null,null,null,null,null,null,null,null,null,null,"",null,null,null,null,null,null,null,null,null,null,null,null,null,null,null,null,null,null,null,null,null,null,null,null,null,"",null,null,null,null,null,null,null,null,null,null,null,null,null,null,null,null,null,null,null,null,null,null,null,null,null,"",null,null,null,null,null,null,null,null,null,null,null,null,null,null,null,null,null,null,null,null,null,null,null,null,null,"",null,null,null,null,null,null,null,null,null,null,null,null,null,null,null,null,null,null,null,null,null,null,null,null,null,""]
[null,null,51,null,null,null,null,null,null,null,null,null,null,null,null,null,null,null,null,null,null,null,null,null,null,null,null,null,null,null,"",null,null,null,null,null,null,null,null,null,null,null,null,null,null,null,null,null,null,null,null,null,null,null,null,null,"",null,null,null,null,null,null,null,null,null,null,null,null,null,null,null,null,null,null,null,null,null,null,null,null,null,"",null,null,null,null,null,null,null,null,null,null,null,null,null,null,null,null,null,null,null,null,null,null,null,null,null,"",null,null,null,null,null,null,null,null,null,null,null,null,null,null,null,null,null,null,null,null,null,null,null,null,null,"",null,null,null,null,null,null,null,null,null,null,null,null,null,null,null,null,null,null,null,null,null,null,null,null,null,"",null,null,null,null,null,null,null,null,null,null,null,null,null,null,null,null,null,null,null,null,null,null,null,null,null,"",null,null,null,null,null,null,null,null,null,null,null,null,null,null,null,null,null,null,null,null,null,null,null,null,null,"",null,null,null,null,null,null,null,null,null,null,null,null,null,null,null,null,null,null,null,null,null,null,null,null,null,"",null,null,null,null,null,null,null,null,null,null,null,null,null,null,null,null,null,null,null,null,null,null,null,null,null,"",null,null,null,null,null,null,null,null,null,null,null,null,null,null,null,null,null,null,null,null,null,null,null,null,null,""]
[null,null,52,null,null,null,null,null,null,null,null,null,null,null,null,null,null,null,null,null,null,null,null,null,null,null,null,null,null,null,"",null,null,null,null,null,null,null,null,null,null,null,null,null,null,null,null,null,null,null,null,null,null,null,null,null,"",null,null,null,null,null,null,null,null,null,null,null,null,null,null,null,null,null,null,null,null,null,null,null,null,null,"",null,null,null,null,null,null,null,null,null,null,null,null,null,null,null,null,null,null,null,null,null,null,null,null,null,"",null,null,null,null,null,null,null,null,null,null,null,null,null,null,null,null,null,null,null,null,null,null,null,null,null,"",null,null,null,null,null,null,null,null,null,null,null,null,null,null,null,null,null,null,null,null,null,null,null,null,null,"",null,null,null,null,null,null,null,null,null,null,null,null,null,null,null,null,null,null,null,null,null,null,null,null,null,"",null,null,null,null,null,null,null,null,null,null,null,null,null,null,null,null,null,null,null,null,null,null,null,null,null,"",null,null,null,null,null,null,null,null,null,null,null,null,null,null,null,null,null,null,null,null,null,null,null,null,null,"",null,null,null,null,null,null,null,null,null,null,null,null,null,null,null,null,null,null,null,null,null,null,null,null,null,"",null,null,null,null,null,null,null,null,null,null,null,null,null,null,null,null,null,null,null,null,null,null,null,null,null,""]
[null,null,53,null,null,null,null,null,null,null,null,null,null,null,null,null,null,null,null,null,null,null,null,null,null,null,null,null,null,null,"",null,null,null,null,null,null,null,null,null,null,null,null,null,null,null,null,null,null,null,null,null,null,null,null,null,"",null,null,null,null,null,null,null,null,null,null,null,null,null,null,null,null,null,null,null,null,null,null,null,null,null,"",null,null,null,null,null,null,null,null,null,null,null,null,null,null,null,null,null,null,null,null,null,null,null,null,null,"",null,null,null,null,null,null,null,null,null,null,null,null,null,null,null,null,null,null,null,null,null,null,null,null,null,"",null,null,null,null,null,null,null,null,null,null,null,null,null,null,null,null,null,null,null,null,null,null,null,null,null,"",null,null,null,null,null,null,null,null,null,null,null,null,null,null,null,null,null,null,null,null,null,null,null,null,null,"",null,null,null,null,null,null,null,null,null,null,null,null,null,null,null,null,null,null,null,null,null,null,null,null,null,"",null,null,null,null,null,null,null,null,null,null,null,null,null,null,null,null,null,null,null,null,null,null,null,null,null,"",null,null,null,null,null,null,null,null,null,null,null,null,null,null,null,null,null,null,null,null,null,null,null,null,null,"",null,null,null,null,null,null,null,null,null,null,null,null,null,null,null,null,null,null,null,null,null,null,null,null,null,""]
[null,null,54,null,null,null,null,null,null,null,null,null,null,null,null,null,null,null,null,null,null,null,null,null,null,null,null,null,null,null,"",null,null,null,null,null,null,null,null,null,null,null,null,null,null,null,null,null,null,null,null,null,null,null,null,null,"",null,null,null,null,null,null,null,null,null,null,null,null,null,null,null,null,null,null,null,null,null,null,null,null,null,"",null,null,null,null,null,null,null,null,null,null,null,null,null,null,null,null,null,null,null,null,null,null,null,null,null,"",null,null,null,null,null,null,null,null,null,null,null,null,null,null,null,null,null,null,null,null,null,null,null,null,null,"",null,null,null,null,null,null,null,null,null,null,null,null,null,null,null,null,null,null,null,null,null,null,null,null,null,"",null,null,null,null,null,null,null,null,null,null,null,null,null,null,null,null,null,null,null,null,null,null,null,null,null,"",null,null,null,null,null,null,null,null,null,null,null,null,null,null,null,null,null,null,null,null,null,null,null,null,null,"",null,null,null,null,null,null,null,null,null,null,null,null,null,null,null,null,null,null,null,null,null,null,null,null,null,"",null,null,null,null,null,null,null,null,null,null,null,null,null,null,null,null,null,null,null,null,null,null,null,null,null,"",null,null,null,null,null,null,null,null,null,null,null,null,null,null,null,null,null,null,null,null,null,null,null,null,null,""]
[null,null,55,null,null,null,null,null,null,null,null,null,null,null,null,null,null,null,null,null,null,null,null,null,null,null,null,null,null,null,"",null,null,null,null,null,null,null,null,null,null,null,null,null,null,null,null,null,null,null,null,null,null,null,null,null,"",null,null,null,null,null,null,null,null,null,null,null,null,null,null,null,null,null,null,null,null,null,null,null,null,null,"",null,null,null,null,null,null,null,null,null,null,null,null,null,null,null,null,null,null,null,null,null,null,null,null,null,"",null,null,null,null,null,null,null,null,null,null,null,null,null,null,null,null,null,null,null,null,null,null,null,null,null,"",null,null,null,null,null,null,null,null,null,null,null,null,null,null,null,null,null,null,null,null,null,null,null,null,null,"",null,null,null,null,null,null,null,null,null,null,null,null,null,null,null,null,null,null,null,null,null,null,null,null,null,"",null,null,null,null,null,null,null,null,null,null,null,null,null,null,null,null,null,null,null,null,null,null,null,null,null,"",null,null,null,null,null,null,null,null,null,null,null,null,null,null,null,null,null,null,null,null,null,null,null,null,null,"",null,null,null,null,null,null,null,null,null,null,null,null,null,null,null,null,null,null,null,null,null,null,null,null,null,"",null,null,null,null,null,null,null,null,null,null,null,null,null,null,null,null,null,null,null,null,null,null,null,null,null,""]
[null,null,56,null,null,null,null,null,null,null,null,null,null,null,null,null,null,null,null,null,null,null,null,null,null,null,null,null,null,null,"",null,null,null,null,null,null,null,null,null,null,null,null,null,null,null,null,null,null,null,null,null,null,null,null,null,"",null,null,null,null,null,null,null,null,null,null,null,null,null,null,null,null,null,null,null,null,null,null,null,null,null,"",null,null,null,null,null,null,null,null,null,null,null,null,null,null,null,null,null,null,null,null,null,null,null,null,null,"",null,null,null,null,null,null,null,null,null,null,null,null,null,null,null,null,null,null,null,null,null,null,null,null,null,"",null,null,null,null,null,null,null,null,null,null,null,null,null,null,null,null,null,null,null,null,null,null,null,null,null,"",null,null,null,null,null,null,null,null,null,null,null,null,null,null,null,null,null,null,null,null,null,null,null,null,null,"",null,null,null,null,null,null,null,null,null,null,null,null,null,null,null,null,null,null,null,null,null,null,null,null,null,"",null,null,null,null,null,null,null,null,null,null,null,null,null,null,null,null,null,null,null,null,null,null,null,null,null,"",null,null,null,null,null,null,null,null,null,null,null,null,null,null,null,null,null,null,null,null,null,null,null,null,null,"",null,null,null,null,null,null,null,null,null,null,null,null,null,null,null,null,null,null,null,null,null,null,null,null,null,""]
[null,null,57,null,null,null,null,null,null,null,null,null,null,null,null,null,null,null,null,null,null,null,null,null,null,null,null,null,null,null,"",null,null,null,null,null,null,null,null,null,null,null,null,null,null,null,null,null,null,null,null,null,null,null,null,null,"",null,null,null,null,null,null,null,null,null,null,null,null,null,null,null,null,null,null,null,null,null,null,null,null,null,"",null,null,null,null,null,null,null,null,null,null,null,null,null,null,null,null,null,null,null,null,null,null,null,null,null,"",null,null,null,null,null,null,null,null,null,null,null,null,null,null,null,null,null,null,null,null,null,null,null,null,null,"",null,null,null,null,null,null,null,null,null,null,null,null,null,null,null,null,null,null,null,null,null,null,null,null,null,"",null,null,null,null,null,null,null,null,null,null,null,null,null,null,null,null,null,null,null,null,null,null,null,null,null,"",null,null,null,null,null,null,null,null,null,null,null,null,null,null,null,null,null,null,null,null,null,null,null,null,null,"",null,null,null,null,null,null,null,null,null,null,null,null,null,null,null,null,null,null,null,null,null,null,null,null,null,"",null,null,null,null,null,null,null,null,null,null,null,null,null,null,null,null,null,null,null,null,null,null,null,null,null,"",null,null,null,null,null,null,null,null,null,null,null,null,null,null,null,null,null,null,null,null,null,null,null,null,null,""]
[null,null,58,null,null,null,null,null,null,null,null,null,null,null,null,null,null,null,null,null,null,null,null,null,null,null,null,null,null,null,"",null,null,null,null,null,null,null,null,null,null,null,null,null,null,null,null,null,null,null,null,null,null,null,null,null,"",null,null,null,null,null,null,null,null,null,null,null,null,null,null,null,null,null,null,null,null,null,null,null,null,null,"",null,null,null,null,null,null,null,null,null,null,null,null,null,null,null,null,null,null,null,null,null,null,null,null,null,"",null,null,null,null,null,null,null,null,null,null,null,null,null,null,null,null,null,null,null,null,null,null,null,null,null,"",null,null,null,null,null,null,null,null,null,null,null,null,null,null,null,null,null,null,null,null,null,null,null,null,null,"",null,null,null,null,null,null,null,null,null,null,null,null,null,null,null,null,null,null,null,null,null,null,null,null,null,"",null,null,null,null,null,null,null,null,null,null,null,null,null,null,null,null,null,null,null,null,null,null,null,null,null,"",null,null,null,null,null,null,null,null,null,null,null,null,null,null,null,null,null,null,null,null,null,null,null,null,null,"",null,null,null,null,null,null,null,null,null,null,null,null,null,null,null,null,null,null,null,null,null,null,null,null,null,"",null,null,null,null,null,null,null,null,null,null,null,null,null,null,null,null,null,null,null,null,null,null,null,null,null,""]
[null,null,59,null,null,null,null,null,null,null,null,null,null,null,null,null,null,null,null,null,null,null,null,null,null,null,null,null,null,null,"",null,null,null,null,null,null,null,null,null,null,null,null,null,null,null,null,null,null,null,null,null,null,null,null,null,"",null,null,null,null,null,null,null,null,null,null,null,null,null,null,null,null,null,null,null,null,null,null,null,null,null,"",null,null,null,null,null,null,null,null,null,null,null,null,null,null,null,null,null,null,null,null,null,null,null,null,null,"",null,null,null,null,null,null,null,null,null,null,null,null,null,null,null,null,null,null,null,null,null,null,null,null,null,"",null,null,null,null,null,null,null,null,null,null,null,null,null,null,null,null,null,null,null,null,null,null,null,null,null,"",null,null,null,null,null,null,null,null,null,null,null,null,null,null,null,null,null,null,null,null,null,null,null,null,null,"",null,null,null,null,null,null,null,null,null,null,null,null,null,null,null,null,null,null,null,null,null,null,null,null,null,"",null,null,null,null,null,null,null,null,null,null,null,null,null,null,null,null,null,null,null,null,null,null,null,null,null,"",null,null,null,null,null,null,null,null,null,null,null,null,null,null,null,null,null,null,null,null,null,null,null,null,null,"",null,null,null,null,null,null,null,null,null,null,null,null,null,null,null,null,null,null,null,null,null,null,null,null,null,""]
[null,null,60,null,null,null,null,null,null,null,null,null,null,null,null,null,null,null,null,null,null,null,null,null,null,null,null,null,null,null,"",null,null,null,null,null,null,null,null,null,null,null,null,null,null,null,null,null,null,null,null,null,null,null,null,null,"",null,null,null,null,null,null,null,null,null,null,null,null,null,null,null,null,null,null,null,null,null,null,null,null,null,"",null,null,null,null,null,null,null,null,null,null,null,null,null,null,null,null,null,null,null,null,null,null,null,null,null,"",null,null,null,null,null,null,null,null,null,null,null,null,null,null,null,null,null,null,null,null,null,null,null,null,null,"",null,null,null,null,null,null,null,null,null,null,null,null,null,null,null,null,null,null,null,null,null,null,null,null,null,"",null,null,null,null,null,null,null,null,null,null,null,null,null,null,null,null,null,null,null,null,null,null,null,null,null,"",null,null,null,null,null,null,null,null,null,null,null,null,null,null,null,null,null,null,null,null,null,null,null,null,null,"",null,null,null,null,null,null,null,null,null,null,null,null,null,null,null,null,null,null,null,null,null,null,null,null,null,"",null,null,null,null,null,null,null,null,null,null,null,null,null,null,null,null,null,null,null,null,null,null,null,null,null,"",null,null,null,null,null,null,null,null,null,null,null,null,null,null,null,null,null,null,null,null,null,null,null,null,null,""]
[null,null,61,null,null,null,null,null,null,null,null,null,null,null,null,null,null,null,null,null,null,null,null,null,null,null,null,null,null,null,"",null,null,null,null,null,null,null,null,null,null,null,null,null,null,null,null,null,null,null,null,null,null,null,null,null,"",null,null,null,null,null,null,null,null,null,null,null,null,null,null,null,null,null,null,null,null,null,null,null,null,null,"",null,null,null,null,null,null,null,null,null,null,null,null,null,null,null,null,null,null,null,null,null,null,null,null,null,"",null,null,null,null,null,null,null,null,null,null,null,null,null,null,null,null,null,null,null,null,null,null,null,null,null,"",null,null,null,null,null,null,null,null,null,null,null,null,null,null,null,null,null,null,null,null,null,null,null,null,null,"",null,null,null,null,null,null,null,null,null,null,null,null,null,null,null,null,null,null,null,null,null,null,null,null,null,"",null,null,null,null,null,null,null,null,null,null,null,null,null,null,null,null,null,null,null,null,null,null,null,null,null,"",null,null,null,null,null,null,null,null,null,null,null,null,null,null,null,null,null,null,null,null,null,null,null,null,null,"",null,null,null,null,null,null,null,null,null,null,null,null,null,null,null,null,null,null,null,null,null,null,null,null,null,"",null,null,null,null,null,null,null,null,null,null,null,null,null,null,null,null,null,null,null,null,null,null,null,null,null,""]
[null,null,62,null,null,null,null,null,null,null,null,null,null,null,null,null,null,null,null,null,null,null,null,null,null,null,null,null,null,null,"",null,null,null,null,null,null,null,null,null,null,null,null,null,null,null,null,null,null,null,null,null,null,null,null,null,"",null,null,null,null,null,null,null,null,null,null,null,null,null,null,null,null,null,null,null,null,null,null,null,null,null,"",null,null,null,null,null,null,null,null,null,null,null,null,null,null,null,null,null,null,null,null,null,null,null,null,null,"",null,null,null,null,null,null,null,null,null,null,null,null,null,null,null,null,null,null,null,null,null,null,null,null,null,"",null,null,null,null,null,null,null,null,null,null,null,null,null,null,null,null,null,null,null,null,null,null,null,null,null,"",null,null,null,null,null,null,null,null,null,null,null,null,null,null,null,null,null,null,null,null,null,null,null,null,null,"",null,null,null,null,null,null,null,null,null,null,null,null,null,null,null,null,null,null,null,null,null,null,null,null,null,"",null,null,null,null,null,null,null,null,null,null,null,null,null,null,null,null,null,null,null,null,null,null,null,null,null,"",null,null,null,null,null,null,null,null,null,null,null,null,null,null,null,null,null,null,null,null,null,null,null,null,null,"",null,null,null,null,null,null,null,null,null,null,null,null,null,null,null,null,null,null,null,null,null,null,null,null,null,""]
[null,null,63,null,null,null,null,null,null,null,null,null,null,null,null,null,null,null,null,null,null,null,null,null,null,null,null,null,null,null,"",null,null,null,null,null,null,null,null,null,null,null,null,null,null,null,null,null,null,null,null,null,null,null,null,null,"",null,null,null,null,null,null,null,null,null,null,null,null,null,null,null,null,null,null,null,null,null,null,null,null,null,"",null,null,null,null,null,null,null,null,null,null,null,null,null,null,null,null,null,null,null,null,null,null,null,null,null,"",null,null,null,null,null,null,null,null,null,null,null,null,null,null,null,null,null,null,null,null,null,null,null,null,null,"",null,null,null,null,null,null,null,null,null,null,null,null,null,null,null,null,null,null,null,null,null,null,null,null,null,"",null,null,null,null,null,null,null,null,null,null,null,null,null,null,null,null,null,null,null,null,null,null,null,null,null,"",null,null,null,null,null,null,null,null,null,null,null,null,null,null,null,null,null,null,null,null,null,null,null,null,null,"",null,null,null,null,null,null,null,null,null,null,null,null,null,null,null,null,null,null,null,null,null,null,null,null,null,"",null,null,null,null,null,null,null,null,null,null,null,null,null,null,null,null,null,null,null,null,null,null,null,null,null,"",null,null,null,null,null,null,null,null,null,null,null,null,null,null,null,null,null,null,null,null,null,null,null,null,null,""]
[null,null,64,null,null,null,null,null,null,null,null,null,null,null,null,null,null,null,null,null,null,null,null,null,null,null,null,null,null,null,"",null,null,null,null,null,null,null,null,null,null,null,null,null,null,null,null,null,null,null,null,null,null,null,null,null,"",null,null,null,null,null,null,null,null,null,null,null,null,null,null,null,null,null,null,null,null,null,null,null,null,null,"",null,null,null,null,null,null,null,null,null,null,null,null,null,null,null,null,null,null,null,null,null,null,null,null,null,"",null,null,null,null,null,null,null,null,null,null,null,null,null,null,null,null,null,null,null,null,null,null,null,null,null,"",null,null,null,null,null,null,null,null,null,null,null,null,null,null,null,null,null,null,null,null,null,null,null,null,null,"",null,null,null,null,null,null,null,null,null,null,null,null,null,null,null,null,null,null,null,null,null,null,null,null,null,"",null,null,null,null,null,null,null,null,null,null,null,null,null,null,null,null,null,null,null,null,null,null,null,null,null,"",null,null,null,null,null,null,null,null,null,null,null,null,null,null,null,null,null,null,null,null,null,null,null,null,null,"",null,null,null,null,null,null,null,null,null,null,null,null,null,null,null,null,null,null,null,null,null,null,null,null,null,"",null,null,null,null,null,null,null,null,null,null,null,null,null,null,null,null,null,null,null,null,null,null,null,null,null,""]
[null,null,65,null,null,null,null,null,null,null,null,null,null,null,null,null,null,null,null,null,null,null,null,null,null,null,null,null,null,null,"",null,null,null,null,null,null,null,null,null,null,null,null,null,null,null,null,null,null,null,null,null,null,null,null,null,"",null,null,null,null,null,null,null,null,null,null,null,null,null,null,null,null,null,null,null,null,null,null,null,null,null,"",null,null,null,null,null,null,null,null,null,null,null,null,null,null,null,null,null,null,null,null,null,null,null,null,null,"",null,null,null,null,null,null,null,null,null,null,null,null,null,null,null,null,null,null,null,null,null,null,null,null,null,"",null,null,null,null,null,null,null,null,null,null,null,null,null,null,null,null,null,null,null,null,null,null,null,null,null,"",null,null,null,null,null,null,null,null,null,null,null,null,null,null,null,null,null,null,null,null,null,null,null,null,null,"",null,null,null,null,null,null,null,null,null,null,null,null,null,null,null,null,null,null,null,null,null,null,null,null,null,"",null,null,null,null,null,null,null,null,null,null,null,null,null,null,null,null,null,null,null,null,null,null,null,null,null,"",null,null,null,null,null,null,null,null,null,null,null,null,null,null,null,null,null,null,null,null,null,null,null,null,null,"",null,null,null,null,null,null,null,null,null,null,null,null,null,null,null,null,null,null,null,null,null,null,null,null,null,""]
[null,null,66,null,null,null,null,null,null,null,null,null,null,null,null,null,null,null,null,null,null,null,null,null,null,null,null,null,null,null,{"$f":"IF($D89=\"\",\"\",SUM(I89:AD89))","v":""},null,null,null,null,null,null,null,null,null,null,null,null,null,null,null,null,null,null,null,null,null,null,null,null,null,{"$f":"IF($D89=\"\",\"\",SUM(AH89:BD89))","v":""},null,null,null,null,null,null,null,null,null,null,null,null,null,null,null,null,null,null,null,null,null,null,null,null,null,{"$f":"IF($D89=\"\",\"\",SUM(BH89:CD89))","v":""},null,null,null,null,null,null,null,null,null,null,null,null,null,null,null,null,null,null,null,null,null,null,null,null,null,{"$f":"IF($D89=\"\",\"\",SUM(CH89:DD89))","v":""},null,null,null,null,null,null,null,null,null,null,null,null,null,null,null,null,null,null,null,null,null,null,null,null,null,{"$f":"IF($D89=\"\",\"\",SUM(DH89:ED89))","v":""},null,null,null,null,null,null,null,null,null,null,null,null,null,null,null,null,null,null,null,null,null,null,null,null,null,{"$f":"IF($D89=\"\",\"\",SUM(EH89:FD89))","v":""},null,null,null,null,null,null,null,null,null,null,null,null,null,null,null,null,null,null,null,null,null,null,null,null,null,{"$f":"IF($D89=\"\",\"\",SUM(FH89:GD89))","v":""},null,null,null,null,null,null,null,null,null,null,null,null,null,null,null,null,null,null,null,null,null,null,null,null,null,{"$f":"IF($D89=\"\",\"\",SUM(GH89:HD89))","v":""},null,null,null,null,null,null,null,null,null,null,null,null,null,null,null,null,null,null,null,null,null,null,null,null,null,{"$f":"IF($D89=\"\",\"\",SUM(HH89:ID89))","v":""},null,null,null,null,null,null,null,null,null,null,null,null,null,null,null,null,null,null,null,null,null,null,null,null,null,{"$f":"IF($D89=\"\",\"\",SUM(IH89:JD89))","v":""},null,null,null,null,null,null,null,null,null,null,null,null,null,null,null,null,null,null,null,null,null,null,null,null,null,{"$f":"IF($D89=\"\",\"\",SUM(JH89:KD89))","v":""}]
[null,null,67,null,null,null,null,null,null,null,null,null,null,null,null,null,null,null,null,null,null,null,null,null,null,null,null,null,null,null,"",null,null,null,null,null,null,null,null,null,null,null,null,null,null,null,null,null,null,null,null,null,null,null,null,null,"",null,null,null,null,null,null,null,null,null,null,null,null,null,null,null,null,null,null,null,null,null,null,null,null,null,"",null,null,null,null,null,null,null,null,null,null,null,null,null,null,null,null,null,null,null,null,null,null,null,null,null,"",null,null,null,null,null,null,null,null,null,null,null,null,null,null,null,null,null,null,null,null,null,null,null,null,null,"",null,null,null,null,null,null,null,null,null,null,null,null,null,null,null,null,null,null,null,null,null,null,null,null,null,"",null,null,null,null,null,null,null,null,null,null,null,null,null,null,null,null,null,null,null,null,null,null,null,null,null,"",null,null,null,null,null,null,null,null,null,null,null,null,null,null,null,null,null,null,null,null,null,null,null,null,null,"",null,null,null,null,null,null,null,null,null,null,null,null,null,null,null,null,null,null,null,null,null,null,null,null,null,"",null,null,null,null,null,null,null,null,null,null,null,null,null,null,null,null,null,null,null,null,null,null,null,null,null,"",null,null,null,null,null,null,null,null,null,null,null,null,null,null,null,null,null,null,null,null,null,null,null,null,null,""]
[null,null,68,null,null,null,null,null,null,null,null,null,null,null,null,null,null,null,null,null,null,null,null,null,null,null,null,null,null,null,"",null,null,null,null,null,null,null,null,null,null,null,null,null,null,null,null,null,null,null,null,null,null,null,null,null,"",null,null,null,null,null,null,null,null,null,null,null,null,null,null,null,null,null,null,null,null,null,null,null,null,null,"",null,null,null,null,null,null,null,null,null,null,null,null,null,null,null,null,null,null,null,null,null,null,null,null,null,"",null,null,null,null,null,null,null,null,null,null,null,null,null,null,null,null,null,null,null,null,null,null,null,null,null,"",null,null,null,null,null,null,null,null,null,null,null,null,null,null,null,null,null,null,null,null,null,null,null,null,null,"",null,null,null,null,null,null,null,null,null,null,null,null,null,null,null,null,null,null,null,null,null,null,null,null,null,"",null,null,null,null,null,null,null,null,null,null,null,null,null,null,null,null,null,null,null,null,null,null,null,null,null,"",null,null,null,null,null,null,null,null,null,null,null,null,null,null,null,null,null,null,null,null,null,null,null,null,null,"",null,null,null,null,null,null,null,null,null,null,null,null,null,null,null,null,null,null,null,null,null,null,null,null,null,"",null,null,null,null,null,null,null,null,null,null,null,null,null,null,null,null,null,null,null,null,null,null,null,null,null,""]
[null,null,69,null,null,null,null,null,null,null,null,null,null,null,null,null,null,null,null,null,null,null,null,null,null,null,null,null,null,null,"",null,null,null,null,null,null,null,null,null,null,null,null,null,null,null,null,null,null,null,null,null,null,null,null,null,"",null,null,null,null,null,null,null,null,null,null,null,null,null,null,null,null,null,null,null,null,null,null,null,null,null,"",null,null,null,null,null,null,null,null,null,null,null,null,null,null,null,null,null,null,null,null,null,null,null,null,null,"",null,null,null,null,null,null,null,null,null,null,null,null,null,null,null,null,null,null,null,null,null,null,null,null,null,"",null,null,null,null,null,null,null,null,null,null,null,null,null,null,null,null,null,null,null,null,null,null,null,null,null,"",null,null,null,null,null,null,null,null,null,null,null,null,null,null,null,null,null,null,null,null,null,null,null,null,null,"",null,null,null,null,null,null,null,null,null,null,null,null,null,null,null,null,null,null,null,null,null,null,null,null,null,"",null,null,null,null,null,null,null,null,null,null,null,null,null,null,null,null,null,null,null,null,null,null,null,null,null,"",null,null,null,null,null,null,null,null,null,null,null,null,null,null,null,null,null,null,null,null,null,null,null,null,null,"",null,null,null,null,null,null,null,null,null,null,null,null,null,null,null,null,null,null,null,null,null,null,null,null,null,""]
[null,null,70,null,null,null,null,null,null,null,null,null,null,null,null,null,null,null,null,null,null,null,null,null,null,null,null,null,null,null,"",null,null,null,null,null,null,null,null,null,null,null,null,null,null,null,null,null,null,null,null,null,null,null,null,null,"",null,null,null,null,null,null,null,null,null,null,null,null,null,null,null,null,null,null,null,null,null,null,null,null,null,"",null,null,null,null,null,null,null,null,null,null,null,null,null,null,null,null,null,null,null,null,null,null,null,null,null,"",null,null,null,null,null,null,null,null,null,null,null,null,null,null,null,null,null,null,null,null,null,null,null,null,null,"",null,null,null,null,null,null,null,null,null,null,null,null,null,null,null,null,null,null,null,null,null,null,null,null,null,"",null,null,null,null,null,null,null,null,null,null,null,null,null,null,null,null,null,null,null,null,null,null,null,null,null,"",null,null,null,null,null,null,null,null,null,null,null,null,null,null,null,null,null,null,null,null,null,null,null,null,null,"",null,null,null,null,null,null,null,null,null,null,null,null,null,null,null,null,null,null,null,null,null,null,null,null,null,"",null,null,null,null,null,null,null,null,null,null,null,null,null,null,null,null,null,null,null,null,null,null,null,null,null,"",null,null,null,null,null,null,null,null,null,null,null,null,null,null,null,null,null,null,null,null,null,null,null,null,null,""]
[null,null,71,null,null,null,null,null,null,null,null,null,null,null,null,null,null,null,null,null,null,null,null,null,null,null,null,null,null,null,"",null,null,null,null,null,null,null,null,null,null,null,null,null,null,null,null,null,null,null,null,null,null,null,null,null,"",null,null,null,null,null,null,null,null,null,null,null,null,null,null,null,null,null,null,null,null,null,null,null,null,null,"",null,null,null,null,null,null,null,null,null,null,null,null,null,null,null,null,null,null,null,null,null,null,null,null,null,"",null,null,null,null,null,null,null,null,null,null,null,null,null,null,null,null,null,null,null,null,null,null,null,null,null,"",null,null,null,null,null,null,null,null,null,null,null,null,null,null,null,null,null,null,null,null,null,null,null,null,null,"",null,null,null,null,null,null,null,null,null,null,null,null,null,null,null,null,null,null,null,null,null,null,null,null,null,"",null,null,null,null,null,null,null,null,null,null,null,null,null,null,null,null,null,null,null,null,null,null,null,null,null,"",null,null,null,null,null,null,null,null,null,null,null,null,null,null,null,null,null,null,null,null,null,null,null,null,null,"",null,null,null,null,null,null,null,null,null,null,null,null,null,null,null,null,null,null,null,null,null,null,null,null,null,"",null,null,null,null,null,null,null,null,null,null,null,null,null,null,null,null,null,null,null,null,null,null,null,null,null,""]
[null,null,72,null,null,null,null,null,null,null,null,null,null,null,null,null,null,null,null,null,null,null,null,null,null,null,null,null,null,null,"",null,null,null,null,null,null,null,null,null,null,null,null,null,null,null,null,null,null,null,null,null,null,null,null,null,"",null,null,null,null,null,null,null,null,null,null,null,null,null,null,null,null,null,null,null,null,null,null,null,null,null,"",null,null,null,null,null,null,null,null,null,null,null,null,null,null,null,null,null,null,null,null,null,null,null,null,null,"",null,null,null,null,null,null,null,null,null,null,null,null,null,null,null,null,null,null,null,null,null,null,null,null,null,"",null,null,null,null,null,null,null,null,null,null,null,null,null,null,null,null,null,null,null,null,null,null,null,null,null,"",null,null,null,null,null,null,null,null,null,null,null,null,null,null,null,null,null,null,null,null,null,null,null,null,null,"",null,null,null,null,null,null,null,null,null,null,null,null,null,null,null,null,null,null,null,null,null,null,null,null,null,"",null,null,null,null,null,null,null,null,null,null,null,null,null,null,null,null,null,null,null,null,null,null,null,null,null,"",null,null,null,null,null,null,null,null,null,null,null,null,null,null,null,null,null,null,null,null,null,null,null,null,null,"",null,null,null,null,null,null,null,null,null,null,null,null,null,null,null,null,null,null,null,null,null,null,null,null,null,""]
[null,null,73,null,null,null,null,null,null,null,null,null,null,null,null,null,null,null,null,null,null,null,null,null,null,null,null,null,null,null,"",null,null,null,null,null,null,null,null,null,null,null,null,null,null,null,null,null,null,null,null,null,null,null,null,null,"",null,null,null,null,null,null,null,null,null,null,null,null,null,null,null,null,null,null,null,null,null,null,null,null,null,"",null,null,null,null,null,null,null,null,null,null,null,null,null,null,null,null,null,null,null,null,null,null,null,null,null,"",null,null,null,null,null,null,null,null,null,null,null,null,null,null,null,null,null,null,null,null,null,null,null,null,null,"",null,null,null,null,null,null,null,null,null,null,null,null,null,null,null,null,null,null,null,null,null,null,null,null,null,"",null,null,null,null,null,null,null,null,null,null,null,null,null,null,null,null,null,null,null,null,null,null,null,null,null,"",null,null,null,null,null,null,null,null,null,null,null,null,null,null,null,null,null,null,null,null,null,null,null,null,null,"",null,null,null,null,null,null,null,null,null,null,null,null,null,null,null,null,null,null,null,null,null,null,null,null,null,"",null,null,null,null,null,null,null,null,null,null,null,null,null,null,null,null,null,null,null,null,null,null,null,null,null,"",null,null,null,null,null,null,null,null,null,null,null,null,null,null,null,null,null,null,null,null,null,null,null,null,null,""]
[null,null,74,null,null,null,null,null,null,null,null,null,null,null,null,null,null,null,null,null,null,null,null,null,null,null,null,null,null,null,"",null,null,null,null,null,null,null,null,null,null,null,null,null,null,null,null,null,null,null,null,null,null,null,null,null,"",null,null,null,null,null,null,null,null,null,null,null,null,null,null,null,null,null,null,null,null,null,null,null,null,null,"",null,null,null,null,null,null,null,null,null,null,null,null,null,null,null,null,null,null,null,null,null,null,null,null,null,"",null,null,null,null,null,null,null,null,null,null,null,null,null,null,null,null,null,null,null,null,null,null,null,null,null,"",null,null,null,null,null,null,null,null,null,null,null,null,null,null,null,null,null,null,null,null,null,null,null,null,null,"",null,null,null,null,null,null,null,null,null,null,null,null,null,null,null,null,null,null,null,null,null,null,null,null,null,"",null,null,null,null,null,null,null,null,null,null,null,null,null,null,null,null,null,null,null,null,null,null,null,null,null,"",null,null,null,null,null,null,null,null,null,null,null,null,null,null,null,null,null,null,null,null,null,null,null,null,null,"",null,null,null,null,null,null,null,null,null,null,null,null,null,null,null,null,null,null,null,null,null,null,null,null,null,"",null,null,null,null,null,null,null,null,null,null,null,null,null,null,null,null,null,null,null,null,null,null,null,null,null,""]
[null,null,75,null,null,null,null,null,null,null,null,null,null,null,null,null,null,null,null,null,null,null,null,null,null,null,null,null,null,null,"",null,null,null,null,null,null,null,null,null,null,null,null,null,null,null,null,null,null,null,null,null,null,null,null,null,"",null,null,null,null,null,null,null,null,null,null,null,null,null,null,null,null,null,null,null,null,null,null,null,null,null,"",null,null,null,null,null,null,null,null,null,null,null,null,null,null,null,null,null,null,null,null,null,null,null,null,null,"",null,null,null,null,null,null,null,null,null,null,null,null,null,null,null,null,null,null,null,null,null,null,null,null,null,"",null,null,null,null,null,null,null,null,null,null,null,null,null,null,null,null,null,null,null,null,null,null,null,null,null,"",null,null,null,null,null,null,null,null,null,null,null,null,null,null,null,null,null,null,null,null,null,null,null,null,null,"",null,null,null,null,null,null,null,null,null,null,null,null,null,null,null,null,null,null,null,null,null,null,null,null,null,"",null,null,null,null,null,null,null,null,null,null,null,null,null,null,null,null,null,null,null,null,null,null,null,null,null,"",null,null,null,null,null,null,null,null,null,null,null,null,null,null,null,null,null,null,null,null,null,null,null,null,null,"",null,null,null,null,null,null,null,null,null,null,null,null,null,null,null,null,null,null,null,null,null,null,null,null,null,""]
[null,null,76,null,null,null,null,null,null,null,null,null,null,null,null,null,null,null,null,null,null,null,null,null,null,null,null,null,null,null,"",null,null,null,null,null,null,null,null,null,null,null,null,null,null,null,null,null,null,null,null,null,null,null,null,null,"",null,null,null,null,null,null,null,null,null,null,null,null,null,null,null,null,null,null,null,null,null,null,null,null,null,"",null,null,null,null,null,null,null,null,null,null,null,null,null,null,null,null,null,null,null,null,null,null,null,null,null,"",null,null,null,null,null,null,null,null,null,null,null,null,null,null,null,null,null,null,null,null,null,null,null,null,null,"",null,null,null,null,null,null,null,null,null,null,null,null,null,null,null,null,null,null,null,null,null,null,null,null,null,"",null,null,null,null,null,null,null,null,null,null,null,null,null,null,null,null,null,null,null,null,null,null,null,null,null,"",null,null,null,null,null,null,null,null,null,null,null,null,null,null,null,null,null,null,null,null,null,null,null,null,null,"",null,null,null,null,null,null,null,null,null,null,null,null,null,null,null,null,null,null,null,null,null,null,null,null,null,"",null,null,null,null,null,null,null,null,null,null,null,null,null,null,null,null,null,null,null,null,null,null,null,null,null,"",null,null,null,null,null,null,null,null,null,null,null,null,null,null,null,null,null,null,null,null,null,null,null,null,null,""]
[null,null,77,null,null,null,null,null,null,null,null,null,null,null,null,null,null,null,null,null,null,null,null,null,null,null,null,null,null,null,"",null,null,null,null,null,null,null,null,null,null,null,null,null,null,null,null,null,null,null,null,null,null,null,null,null,"",null,null,null,null,null,null,null,null,null,null,null,null,null,null,null,null,null,null,null,null,null,null,null,null,null,"",null,null,null,null,null,null,null,null,null,null,null,null,null,null,null,null,null,null,null,null,null,null,null,null,null,"",null,null,null,null,null,null,null,null,null,null,null,null,null,null,null,null,null,null,null,null,null,null,null,null,null,"",null,null,null,null,null,null,null,null,null,null,null,null,null,null,null,null,null,null,null,null,null,null,null,null,null,"",null,null,null,null,null,null,null,null,null,null,null,null,null,null,null,null,null,null,null,null,null,null,null,null,null,"",null,null,null,null,null,null,null,null,null,null,null,null,null,null,null,null,null,null,null,null,null,null,null,null,null,"",null,null,null,null,null,null,null,null,null,null,null,null,null,null,null,null,null,null,null,null,null,null,null,null,null,"",null,null,null,null,null,null,null,null,null,null,null,null,null,null,null,null,null,null,null,null,null,null,null,null,null,"",null,null,null,null,null,null,null,null,null,null,null,null,null,null,null,null,null,null,null,null,null,null,null,null,null,""]
[null,null,78,null,null,null,null,null,null,null,null,null,null,null,null,null,null,null,null,null,null,null,null,null,null,null,null,null,null,null,"",null,null,null,null,null,null,null,null,null,null,null,null,null,null,null,null,null,null,null,null,null,null,null,null,null,"",null,null,null,null,null,null,null,null,null,null,null,null,null,null,null,null,null,null,null,null,null,null,null,null,null,"",null,null,null,null,null,null,null,null,null,null,null,null,null,null,null,null,null,null,null,null,null,null,null,null,null,"",null,null,null,null,null,null,null,null,null,null,null,null,null,null,null,null,null,null,null,null,null,null,null,null,null,"",null,null,null,null,null,null,null,null,null,null,null,null,null,null,null,null,null,null,null,null,null,null,null,null,null,"",null,null,null,null,null,null,null,null,null,null,null,null,null,null,null,null,null,null,null,null,null,null,null,null,null,"",null,null,null,null,null,null,null,null,null,null,null,null,null,null,null,null,null,null,null,null,null,null,null,null,null,"",null,null,null,null,null,null,null,null,null,null,null,null,null,null,null,null,null,null,null,null,null,null,null,null,null,"",null,null,null,null,null,null,null,null,null,null,null,null,null,null,null,null,null,null,null,null,null,null,null,null,null,"",null,null,null,null,null,null,null,null,null,null,null,null,null,null,null,null,null,null,null,null,null,null,null,null,null,""]
[null,null,79,null,null,null,null,null,null,null,null,null,null,null,null,null,null,null,null,null,null,null,null,null,null,null,null,null,null,null,"",null,null,null,null,null,null,null,null,null,null,null,null,null,null,null,null,null,null,null,null,null,null,null,null,null,"",null,null,null,null,null,null,null,null,null,null,null,null,null,null,null,null,null,null,null,null,null,null,null,null,null,"",null,null,null,null,null,null,null,null,null,null,null,null,null,null,null,null,null,null,null,null,null,null,null,null,null,"",null,null,null,null,null,null,null,null,null,null,null,null,null,null,null,null,null,null,null,null,null,null,null,null,null,"",null,null,null,null,null,null,null,null,null,null,null,null,null,null,null,null,null,null,null,null,null,null,null,null,null,"",null,null,null,null,null,null,null,null,null,null,null,null,null,null,null,null,null,null,null,null,null,null,null,null,null,"",null,null,null,null,null,null,null,null,null,null,null,null,null,null,null,null,null,null,null,null,null,null,null,null,null,"",null,null,null,null,null,null,null,null,null,null,null,null,null,null,null,null,null,null,null,null,null,null,null,null,null,"",null,null,null,null,null,null,null,null,null,null,null,null,null,null,null,null,null,null,null,null,null,null,null,null,null,"",null,null,null,null,null,null,null,null,null,null,null,null,null,null,null,null,null,null,null,null,null,null,null,null,null,""]
[null,null,80,null,null,null,null,null,null,null,null,null,null,null,null,null,null,null,null,null,null,null,null,null,null,null,null,null,null,null,"",null,null,null,null,null,null,null,null,null,null,null,null,null,null,null,null,null,null,null,null,null,null,null,null,null,"",null,null,null,null,null,null,null,null,null,null,null,null,null,null,null,null,null,null,null,null,null,null,null,null,null,"",null,null,null,null,null,null,null,null,null,null,null,null,null,null,null,null,null,null,null,null,null,null,null,null,null,"",null,null,null,null,null,null,null,null,null,null,null,null,null,null,null,null,null,null,null,null,null,null,null,null,null,"",null,null,null,null,null,null,null,null,null,null,null,null,null,null,null,null,null,null,null,null,null,null,null,null,null,"",null,null,null,null,null,null,null,null,null,null,null,null,null,null,null,null,null,null,null,null,null,null,null,null,null,"",null,null,null,null,null,null,null,null,null,null,null,null,null,null,null,null,null,null,null,null,null,null,null,null,null,"",null,null,null,null,null,null,null,null,null,null,null,null,null,null,null,null,null,null,null,null,null,null,null,null,null,"",null,null,null,null,null,null,null,null,null,null,null,null,null,null,null,null,null,null,null,null,null,null,null,null,null,"",null,null,null,null,null,null,null,null,null,null,null,null,null,null,null,null,null,null,null,null,null,null,null,null,null,""]
[null,null,81,null,null,null,null,null,null,null,null,null,null,null,null,null,null,null,null,null,null,null,null,null,null,null,null,null,null,null,"",null,null,null,null,null,null,null,null,null,null,null,null,null,null,null,null,null,null,null,null,null,null,null,null,null,"",null,null,null,null,null,null,null,null,null,null,null,null,null,null,null,null,null,null,null,null,null,null,null,null,null,"",null,null,null,null,null,null,null,null,null,null,null,null,null,null,null,null,null,null,null,null,null,null,null,null,null,"",null,null,null,null,null,null,null,null,null,null,null,null,null,null,null,null,null,null,null,null,null,null,null,null,null,"",null,null,null,null,null,null,null,null,null,null,null,null,null,null,null,null,null,null,null,null,null,null,null,null,null,"",null,null,null,null,null,null,null,null,null,null,null,null,null,null,null,null,null,null,null,null,null,null,null,null,null,"",null,null,null,null,null,null,null,null,null,null,null,null,null,null,null,null,null,null,null,null,null,null,null,null,null,"",null,null,null,null,null,null,null,null,null,null,null,null,null,null,null,null,null,null,null,null,null,null,null,null,null,"",null,null,null,null,null,null,null,null,null,null,null,null,null,null,null,null,null,null,null,null,null,null,null,null,null,"",null,null,null,null,null,null,null,null,null,null,null,null,null,null,null,null,null,null,null,null,null,null,null,null,null,""]
[null,null,82,null,null,null,null,null,null,null,null,null,null,null,null,null,null,null,null,null,null,null,null,null,null,null,null,null,null,null,"",null,null,null,null,null,null,null,null,null,null,null,null,null,null,null,null,null,null,null,null,null,null,null,null,null,"",null,null,null,null,null,null,null,null,null,null,null,null,null,null,null,null,null,null,null,null,null,null,null,null,null,"",null,null,null,null,null,null,null,null,null,null,null,null,null,null,null,null,null,null,null,null,null,null,null,null,null,"",null,null,null,null,null,null,null,null,null,null,null,null,null,null,null,null,null,null,null,null,null,null,null,null,null,"",null,null,null,null,null,null,null,null,null,null,null,null,null,null,null,null,null,null,null,null,null,null,null,null,null,"",null,null,null,null,null,null,null,null,null,null,null,null,null,null,null,null,null,null,null,null,null,null,null,null,null,"",null,null,null,null,null,null,null,null,null,null,null,null,null,null,null,null,null,null,null,null,null,null,null,null,null,"",null,null,null,null,null,null,null,null,null,null,null,null,null,null,null,null,null,null,null,null,null,null,null,null,null,"",null,null,null,null,null,null,null,null,null,null,null,null,null,null,null,null,null,null,null,null,null,null,null,null,null,"",null,null,null,null,null,null,null,null,null,null,null,null,null,null,null,null,null,null,null,null,null,null,null,null,null,""]
[null,null,83,null,null,null,null,null,null,null,null,null,null,null,null,null,null,null,null,null,null,null,null,null,null,null,null,null,null,null,"",null,null,null,null,null,null,null,null,null,null,null,null,null,null,null,null,null,null,null,null,null,null,null,null,null,"",null,null,null,null,null,null,null,null,null,null,null,null,null,null,null,null,null,null,null,null,null,null,null,null,null,"",null,null,null,null,null,null,null,null,null,null,null,null,null,null,null,null,null,null,null,null,null,null,null,null,null,"",null,null,null,null,null,null,null,null,null,null,null,null,null,null,null,null,null,null,null,null,null,null,null,null,null,"",null,null,null,null,null,null,null,null,null,null,null,null,null,null,null,null,null,null,null,null,null,null,null,null,null,"",null,null,null,null,null,null,null,null,null,null,null,null,null,null,null,null,null,null,null,null,null,null,null,null,null,"",null,null,null,null,null,null,null,null,null,null,null,null,null,null,null,null,null,null,null,null,null,null,null,null,null,"",null,null,null,null,null,null,null,null,null,null,null,null,null,null,null,null,null,null,null,null,null,null,null,null,null,"",null,null,null,null,null,null,null,null,null,null,null,null,null,null,null,null,null,null,null,null,null,null,null,null,null,"",null,null,null,null,null,null,null,null,null,null,null,null,null,null,null,null,null,null,null,null,null,null,null,null,null,""]
[null,null,84,null,null,null,null,null,null,null,null,null,null,null,null,null,null,null,null,null,null,null,null,null,null,null,null,null,null,null,"",null,null,null,null,null,null,null,null,null,null,null,null,null,null,null,null,null,null,null,null,null,null,null,null,null,"",null,null,null,null,null,null,null,null,null,null,null,null,null,null,null,null,null,null,null,null,null,null,null,null,null,"",null,null,null,null,null,null,null,null,null,null,null,null,null,null,null,null,null,null,null,null,null,null,null,null,null,"",null,null,null,null,null,null,null,null,null,null,null,null,null,null,null,null,null,null,null,null,null,null,null,null,null,"",null,null,null,null,null,null,null,null,null,null,null,null,null,null,null,null,null,null,null,null,null,null,null,null,null,"",null,null,null,null,null,null,null,null,null,null,null,null,null,null,null,null,null,null,null,null,null,null,null,null,null,"",null,null,null,null,null,null,null,null,null,null,null,null,null,null,null,null,null,null,null,null,null,null,null,null,null,"",null,null,null,null,null,null,null,null,null,null,null,null,null,null,null,null,null,null,null,null,null,null,null,null,null,"",null,null,null,null,null,null,null,null,null,null,null,null,null,null,null,null,null,null,null,null,null,null,null,null,null,"",null,null,null,null,null,null,null,null,null,null,null,null,null,null,null,null,null,null,null,null,null,null,null,null,null,""]
[null,null,85,null,null,null,null,null,null,null,null,null,null,null,null,null,null,null,null,null,null,null,null,null,null,null,null,null,null,null,"",null,null,null,null,null,null,null,null,null,null,null,null,null,null,null,null,null,null,null,null,null,null,null,null,null,"",null,null,null,null,null,null,null,null,null,null,null,null,null,null,null,null,null,null,null,null,null,null,null,null,null,"",null,null,null,null,null,null,null,null,null,null,null,null,null,null,null,null,null,null,null,null,null,null,null,null,null,"",null,null,null,null,null,null,null,null,null,null,null,null,null,null,null,null,null,null,null,null,null,null,null,null,null,"",null,null,null,null,null,null,null,null,null,null,null,null,null,null,null,null,null,null,null,null,null,null,null,null,null,"",null,null,null,null,null,null,null,null,null,null,null,null,null,null,null,null,null,null,null,null,null,null,null,null,null,"",null,null,null,null,null,null,null,null,null,null,null,null,null,null,null,null,null,null,null,null,null,null,null,null,null,"",null,null,null,null,null,null,null,null,null,null,null,null,null,null,null,null,null,null,null,null,null,null,null,null,null,"",null,null,null,null,null,null,null,null,null,null,null,null,null,null,null,null,null,null,null,null,null,null,null,null,null,"",null,null,null,null,null,null,null,null,null,null,null,null,null,null,null,null,null,null,null,null,null,null,null,null,null,""]
[null,null,86,null,null,null,null,null,null,null,null,null,null,null,null,null,null,null,null,null,null,null,null,null,null,null,null,null,null,null,"",null,null,null,null,null,null,null,null,null,null,null,null,null,null,null,null,null,null,null,null,null,null,null,null,null,"",null,null,null,null,null,null,null,null,null,null,null,null,null,null,null,null,null,null,null,null,null,null,null,null,null,"",null,null,null,null,null,null,null,null,null,null,null,null,null,null,null,null,null,null,null,null,null,null,null,null,null,"",null,null,null,null,null,null,null,null,null,null,null,null,null,null,null,null,null,null,null,null,null,null,null,null,null,"",null,null,null,null,null,null,null,null,null,null,null,null,null,null,null,null,null,null,null,null,null,null,null,null,null,"",null,null,null,null,null,null,null,null,null,null,null,null,null,null,null,null,null,null,null,null,null,null,null,null,null,"",null,null,null,null,null,null,null,null,null,null,null,null,null,null,null,null,null,null,null,null,null,null,null,null,null,"",null,null,null,null,null,null,null,null,null,null,null,null,null,null,null,null,null,null,null,null,null,null,null,null,null,"",null,null,null,null,null,null,null,null,null,null,null,null,null,null,null,null,null,null,null,null,null,null,null,null,null,"",null,null,null,null,null,null,null,null,null,null,null,null,null,null,null,null,null,null,null,null,null,null,null,null,null,""]
[null,null,87,null,null,null,null,null,null,null,null,null,null,null,null,null,null,null,null,null,null,null,null,null,null,null,null,null,null,null,"",null,null,null,null,null,null,null,null,null,null,null,null,null,null,null,null,null,null,null,null,null,null,null,null,null,"",null,null,null,null,null,null,null,null,null,null,null,null,null,null,null,null,null,null,null,null,null,null,null,null,null,"",null,null,null,null,null,null,null,null,null,null,null,null,null,null,null,null,null,null,null,null,null,null,null,null,null,"",null,null,null,null,null,null,null,null,null,null,null,null,null,null,null,null,null,null,null,null,null,null,null,null,null,"",null,null,null,null,null,null,null,null,null,null,null,null,null,null,null,null,null,null,null,null,null,null,null,null,null,"",null,null,null,null,null,null,null,null,null,null,null,null,null,null,null,null,null,null,null,null,null,null,null,null,null,"",null,null,null,null,null,null,null,null,null,null,null,null,null,null,null,null,null,null,null,null,null,null,null,null,null,"",null,null,null,null,null,null,null,null,null,null,null,null,null,null,null,null,null,null,null,null,null,null,null,null,null,"",null,null,null,null,null,null,null,null,null,null,null,null,null,null,null,null,null,null,null,null,null,null,null,null,null,"",null,null,null,null,null,null,null,null,null,null,null,null,null,null,null,null,null,null,null,null,null,null,null,null,null,""]
[null,null,88,null,null,null,null,null,null,null,null,null,null,null,null,null,null,null,null,null,null,null,null,null,null,null,null,null,null,null,"",null,null,null,null,null,null,null,null,null,null,null,null,null,null,null,null,null,null,null,null,null,null,null,null,null,"",null,null,null,null,null,null,null,null,null,null,null,null,null,null,null,null,null,null,null,null,null,null,null,null,null,"",null,null,null,null,null,null,null,null,null,null,null,null,null,null,null,null,null,null,null,null,null,null,null,null,null,"",null,null,null,null,null,null,null,null,null,null,null,null,null,null,null,null,null,null,null,null,null,null,null,null,null,"",null,null,null,null,null,null,null,null,null,null,null,null,null,null,null,null,null,null,null,null,null,null,null,null,null,"",null,null,null,null,null,null,null,null,null,null,null,null,null,null,null,null,null,null,null,null,null,null,null,null,null,"",null,null,null,null,null,null,null,null,null,null,null,null,null,null,null,null,null,null,null,null,null,null,null,null,null,"",null,null,null,null,null,null,null,null,null,null,null,null,null,null,null,null,null,null,null,null,null,null,null,null,null,"",null,null,null,null,null,null,null,null,null,null,null,null,null,null,null,null,null,null,null,null,null,null,null,null,null,"",null,null,null,null,null,null,null,null,null,null,null,null,null,null,null,null,null,null,null,null,null,null,null,null,null,""]
[null,null,89,null,null,null,null,null,null,null,null,null,null,null,null,null,null,null,null,null,null,null,null,null,null,null,null,null,null,null,"",null,null,null,null,null,null,null,null,null,null,null,null,null,null,null,null,null,null,null,null,null,null,null,null,null,"",null,null,null,null,null,null,null,null,null,null,null,null,null,null,null,null,null,null,null,null,null,null,null,null,null,"",null,null,null,null,null,null,null,null,null,null,null,null,null,null,null,null,null,null,null,null,null,null,null,null,null,"",null,null,null,null,null,null,null,null,null,null,null,null,null,null,null,null,null,null,null,null,null,null,null,null,null,"",null,null,null,null,null,null,null,null,null,null,null,null,null,null,null,null,null,null,null,null,null,null,null,null,null,"",null,null,null,null,null,null,null,null,null,null,null,null,null,null,null,null,null,null,null,null,null,null,null,null,null,"",null,null,null,null,null,null,null,null,null,null,null,null,null,null,null,null,null,null,null,null,null,null,null,null,null,"",null,null,null,null,null,null,null,null,null,null,null,null,null,null,null,null,null,null,null,null,null,null,null,null,null,"",null,null,null,null,null,null,null,null,null,null,null,null,null,null,null,null,null,null,null,null,null,null,null,null,null,"",null,null,null,null,null,null,null,null,null,null,null,null,null,null,null,null,null,null,null,null,null,null,null,null,null,""]
[null,null,90,null,null,null,null,null,null,null,null,null,null,null,null,null,null,null,null,null,null,null,null,null,null,null,null,null,null,null,"",null,null,null,null,null,null,null,null,null,null,null,null,null,null,null,null,null,null,null,null,null,null,null,null,null,"",null,null,null,null,null,null,null,null,null,null,null,null,null,null,null,null,null,null,null,null,null,null,null,null,null,"",null,null,null,null,null,null,null,null,null,null,null,null,null,null,null,null,null,null,null,null,null,null,null,null,null,"",null,null,null,null,null,null,null,null,null,null,null,null,null,null,null,null,null,null,null,null,null,null,null,null,null,"",null,null,null,null,null,null,null,null,null,null,null,null,null,null,null,null,null,null,null,null,null,null,null,null,null,"",null,null,null,null,null,null,null,null,null,null,null,null,null,null,null,null,null,null,null,null,null,null,null,null,null,"",null,null,null,null,null,null,null,null,null,null,null,null,null,null,null,null,null,null,null,null,null,null,null,null,null,"",null,null,null,null,null,null,null,null,null,null,null,null,null,null,null,null,null,null,null,null,null,null,null,null,null,"",null,null,null,null,null,null,null,null,null,null,null,null,null,null,null,null,null,null,null,null,null,null,null,null,null,"",null,null,null,null,null,null,null,null,null,null,null,null,null,null,null,null,null,null,null,null,null,null,null,null,null,""]
[null,null,91,null,null,null,null,null,null,null,null,null,null,null,null,null,null,null,null,null,null,null,null,null,null,null,null,null,null,null,"",null,null,null,null,null,null,null,null,null,null,null,null,null,null,null,null,null,null,null,null,null,null,null,null,null,"",null,null,null,null,null,null,null,null,null,null,null,null,null,null,null,null,null,null,null,null,null,null,null,null,null,"",null,null,null,null,null,null,null,null,null,null,null,null,null,null,null,null,null,null,null,null,null,null,null,null,null,"",null,null,null,null,null,null,null,null,null,null,null,null,null,null,null,null,null,null,null,null,null,null,null,null,null,"",null,null,null,null,null,null,null,null,null,null,null,null,null,null,null,null,null,null,null,null,null,null,null,null,null,"",null,null,null,null,null,null,null,null,null,null,null,null,null,null,null,null,null,null,null,null,null,null,null,null,null,"",null,null,null,null,null,null,null,null,null,null,null,null,null,null,null,null,null,null,null,null,null,null,null,null,null,"",null,null,null,null,null,null,null,null,null,null,null,null,null,null,null,null,null,null,null,null,null,null,null,null,null,"",null,null,null,null,null,null,null,null,null,null,null,null,null,null,null,null,null,null,null,null,null,null,null,null,null,"",null,null,null,null,null,null,null,null,null,null,null,null,null,null,null,null,null,null,null,null,null,null,null,null,null,""]
[null,null,92,null,null,null,null,null,null,null,null,null,null,null,null,null,null,null,null,null,null,null,null,null,null,null,null,null,null,null,"",null,null,null,null,null,null,null,null,null,null,null,null,null,null,null,null,null,null,null,null,null,null,null,null,null,"",null,null,null,null,null,null,null,null,null,null,null,null,null,null,null,null,null,null,null,null,null,null,null,null,null,"",null,null,null,null,null,null,null,null,null,null,null,null,null,null,null,null,null,null,null,null,null,null,null,null,null,"",null,null,null,null,null,null,null,null,null,null,null,null,null,null,null,null,null,null,null,null,null,null,null,null,null,"",null,null,null,null,null,null,null,null,null,null,null,null,null,null,null,null,null,null,null,null,null,null,null,null,null,"",null,null,null,null,null,null,null,null,null,null,null,null,null,null,null,null,null,null,null,null,null,null,null,null,null,"",null,null,null,null,null,null,null,null,null,null,null,null,null,null,null,null,null,null,null,null,null,null,null,null,null,"",null,null,null,null,null,null,null,null,null,null,null,null,null,null,null,null,null,null,null,null,null,null,null,null,null,"",null,null,null,null,null,null,null,null,null,null,null,null,null,null,null,null,null,null,null,null,null,null,null,null,null,"",null,null,null,null,null,null,null,null,null,null,null,null,null,null,null,null,null,null,null,null,null,null,null,null,null,""]
[null,null,93,null,null,null,null,null,null,null,null,null,null,null,null,null,null,null,null,null,null,null,null,null,null,null,null,null,null,null,"",null,null,null,null,null,null,null,null,null,null,null,null,null,null,null,null,null,null,null,null,null,null,null,null,null,"",null,null,null,null,null,null,null,null,null,null,null,null,null,null,null,null,null,null,null,null,null,null,null,null,null,"",null,null,null,null,null,null,null,null,null,null,null,null,null,null,null,null,null,null,null,null,null,null,null,null,null,"",null,null,null,null,null,null,null,null,null,null,null,null,null,null,null,null,null,null,null,null,null,null,null,null,null,"",null,null,null,null,null,null,null,null,null,null,null,null,null,null,null,null,null,null,null,null,null,null,null,null,null,"",null,null,null,null,null,null,null,null,null,null,null,null,null,null,null,null,null,null,null,null,null,null,null,null,null,"",null,null,null,null,null,null,null,null,null,null,null,null,null,null,null,null,null,null,null,null,null,null,null,null,null,"",null,null,null,null,null,null,null,null,null,null,null,null,null,null,null,null,null,null,null,null,null,null,null,null,null,"",null,null,null,null,null,null,null,null,null,null,null,null,null,null,null,null,null,null,null,null,null,null,null,null,null,"",null,null,null,null,null,null,null,null,null,null,null,null,null,null,null,null,null,null,null,null,null,null,null,null,null,""]
[null,null,94,null,null,null,null,null,null,null,null,null,null,null,null,null,null,null,null,null,null,null,null,null,null,null,null,null,null,null,"",null,null,null,null,null,null,null,null,null,null,null,null,null,null,null,null,null,null,null,null,null,null,null,null,null,"",null,null,null,null,null,null,null,null,null,null,null,null,null,null,null,null,null,null,null,null,null,null,null,null,null,"",null,null,null,null,null,null,null,null,null,null,null,null,null,null,null,null,null,null,null,null,null,null,null,null,null,"",null,null,null,null,null,null,null,null,null,null,null,null,null,null,null,null,null,null,null,null,null,null,null,null,null,"",null,null,null,null,null,null,null,null,null,null,null,null,null,null,null,null,null,null,null,null,null,null,null,null,null,"",null,null,null,null,null,null,null,null,null,null,null,null,null,null,null,null,null,null,null,null,null,null,null,null,null,"",null,null,null,null,null,null,null,null,null,null,null,null,null,null,null,null,null,null,null,null,null,null,null,null,null,"",null,null,null,null,null,null,null,null,null,null,null,null,null,null,null,null,null,null,null,null,null,null,null,null,null,"",null,null,null,null,null,null,null,null,null,null,null,null,null,null,null,null,null,null,null,null,null,null,null,null,null,"",null,null,null,null,null,null,null,null,null,null,null,null,null,null,null,null,null,null,null,null,null,null,null,null,null,""]
[null,null,95,null,null,null,null,null,null,null,null,null,null,null,null,null,null,null,null,null,null,null,null,null,null,null,null,null,null,null,"",null,null,null,null,null,null,null,null,null,null,null,null,null,null,null,null,null,null,null,null,null,null,null,null,null,"",null,null,null,null,null,null,null,null,null,null,null,null,null,null,null,null,null,null,null,null,null,null,null,null,null,"",null,null,null,null,null,null,null,null,null,null,null,null,null,null,null,null,null,null,null,null,null,null,null,null,null,"",null,null,null,null,null,null,null,null,null,null,null,null,null,null,null,null,null,null,null,null,null,null,null,null,null,"",null,null,null,null,null,null,null,null,null,null,null,null,null,null,null,null,null,null,null,null,null,null,null,null,null,"",null,null,null,null,null,null,null,null,null,null,null,null,null,null,null,null,null,null,null,null,null,null,null,null,null,"",null,null,null,null,null,null,null,null,null,null,null,null,null,null,null,null,null,null,null,null,null,null,null,null,null,"",null,null,null,null,null,null,null,null,null,null,null,null,null,null,null,null,null,null,null,null,null,null,null,null,null,"",null,null,null,null,null,null,null,null,null,null,null,null,null,null,null,null,null,null,null,null,null,null,null,null,null,"",null,null,null,null,null,null,null,null,null,null,null,null,null,null,null,null,null,null,null,null,null,null,null,null,null,""]
[null,null,96,null,null,null,null,null,null,null,null,null,null,null,null,null,null,null,null,null,null,null,null,null,null,null,null,null,null,null,"",null,null,null,null,null,null,null,null,null,null,null,null,null,null,null,null,null,null,null,null,null,null,null,null,null,"",null,null,null,null,null,null,null,null,null,null,null,null,null,null,null,null,null,null,null,null,null,null,null,null,null,"",null,null,null,null,null,null,null,null,null,null,null,null,null,null,null,null,null,null,null,null,null,null,null,null,null,"",null,null,null,null,null,null,null,null,null,null,null,null,null,null,null,null,null,null,null,null,null,null,null,null,null,"",null,null,null,null,null,null,null,null,null,null,null,null,null,null,null,null,null,null,null,null,null,null,null,null,null,"",null,null,null,null,null,null,null,null,null,null,null,null,null,null,null,null,null,null,null,null,null,null,null,null,null,"",null,null,null,null,null,null,null,null,null,null,null,null,null,null,null,null,null,null,null,null,null,null,null,null,null,"",null,null,null,null,null,null,null,null,null,null,null,null,null,null,null,null,null,null,null,null,null,null,null,null,null,"",null,null,null,null,null,null,null,null,null,null,null,null,null,null,null,null,null,null,null,null,null,null,null,null,null,"",null,null,null,null,null,null,null,null,null,null,null,null,null,null,null,null,null,null,null,null,null,null,null,null,null,""]
[null,null,97,null,null,null,null,null,null,null,null,null,null,null,null,null,null,null,null,null,null,null,null,null,null,null,null,null,null,null,"",null,null,null,null,null,null,null,null,null,null,null,null,null,null,null,null,null,null,null,null,null,null,null,null,null,"",null,null,null,null,null,null,null,null,null,null,null,null,null,null,null,null,null,null,null,null,null,null,null,null,null,"",null,null,null,null,null,null,null,null,null,null,null,null,null,null,null,null,null,null,null,null,null,null,null,null,null,"",null,null,null,null,null,null,null,null,null,null,null,null,null,null,null,null,null,null,null,null,null,null,null,null,null,"",null,null,null,null,null,null,null,null,null,null,null,null,null,null,null,null,null,null,null,null,null,null,null,null,null,"",null,null,null,null,null,null,null,null,null,null,null,null,null,null,null,null,null,null,null,null,null,null,null,null,null,"",null,null,null,null,null,null,null,null,null,null,null,null,null,null,null,null,null,null,null,null,null,null,null,null,null,"",null,null,null,null,null,null,null,null,null,null,null,null,null,null,null,null,null,null,null,null,null,null,null,null,null,"",null,null,null,null,null,null,null,null,null,null,null,null,null,null,null,null,null,null,null,null,null,null,null,null,null,"",null,null,null,null,null,null,null,null,null,null,null,null,null,null,null,null,null,null,null,null,null,null,null,null,null,""]
[null,null,98,null,null,null,null,null,null,null,null,null,null,null,null,null,null,null,null,null,null,null,null,null,null,null,null,null,null,null,"",null,null,null,null,null,null,null,null,null,null,null,null,null,null,null,null,null,null,null,null,null,null,null,null,null,"",null,null,null,null,null,null,null,null,null,null,null,null,null,null,null,null,null,null,null,null,null,null,null,null,null,"",null,null,null,null,null,null,null,null,null,null,null,null,null,null,null,null,null,null,null,null,null,null,null,null,null,"",null,null,null,null,null,null,null,null,null,null,null,null,null,null,null,null,null,null,null,null,null,null,null,null,null,"",null,null,null,null,null,null,null,null,null,null,null,null,null,null,null,null,null,null,null,null,null,null,null,null,null,"",null,null,null,null,null,null,null,null,null,null,null,null,null,null,null,null,null,null,null,null,null,null,null,null,null,"",null,null,null,null,null,null,null,null,null,null,null,null,null,null,null,null,null,null,null,null,null,null,null,null,null,"",null,null,null,null,null,null,null,null,null,null,null,null,null,null,null,null,null,null,null,null,null,null,null,null,null,"",null,null,null,null,null,null,null,null,null,null,null,null,null,null,null,null,null,null,null,null,null,null,null,null,null,"",null,null,null,null,null,null,null,null,null,null,null,null,null,null,null,null,null,null,null,null,null,null,null,null,null,""]
[null,null,99,null,null,null,null,null,null,null,null,null,null,null,null,null,null,null,null,null,null,null,null,null,null,null,null,null,null,null,"",null,null,null,null,null,null,null,null,null,null,null,null,null,null,null,null,null,null,null,null,null,null,null,null,null,"",null,null,null,null,null,null,null,null,null,null,null,null,null,null,null,null,null,null,null,null,null,null,null,null,null,"",null,null,null,null,null,null,null,null,null,null,null,null,null,null,null,null,null,null,null,null,null,null,null,null,null,"",null,null,null,null,null,null,null,null,null,null,null,null,null,null,null,null,null,null,null,null,null,null,null,null,null,"",null,null,null,null,null,null,null,null,null,null,null,null,null,null,null,null,null,null,null,null,null,null,null,null,null,"",null,null,null,null,null,null,null,null,null,null,null,null,null,null,null,null,null,null,null,null,null,null,null,null,null,"",null,null,null,null,null,null,null,null,null,null,null,null,null,null,null,null,null,null,null,null,null,null,null,null,null,"",null,null,null,null,null,null,null,null,null,null,null,null,null,null,null,null,null,null,null,null,null,null,null,null,null,"",null,null,null,null,null,null,null,null,null,null,null,null,null,null,null,null,null,null,null,null,null,null,null,null,null,"",null,null,null,null,null,null,null,null,null,null,null,null,null,null,null,null,null,null,null,null,null,null,null,null,null,""]
[null,null,100,null,null,null,null,null,null,null,null,null,null,null,null,null,null,null,null,null,null,null,null,null,null,null,null,null,null,null,"",null,null,null,null,null,null,null,null,null,null,null,null,null,null,null,null,null,null,null,null,null,null,null,null,null,"",null,null,null,null,null,null,null,null,null,null,null,null,null,null,null,null,null,null,null,null,null,null,null,null,null,"",null,null,null,null,null,null,null,null,null,null,null,null,null,null,null,null,null,null,null,null,null,null,null,null,null,"",null,null,null,null,null,null,null,null,null,null,null,null,null,null,null,null,null,null,null,null,null,null,null,null,null,"",null,null,null,null,null,null,null,null,null,null,null,null,null,null,null,null,null,null,null,null,null,null,null,null,null,"",null,null,null,null,null,null,null,null,null,null,null,null,null,null,null,null,null,null,null,null,null,null,null,null,null,"",null,null,null,null,null,null,null,null,null,null,null,null,null,null,null,null,null,null,null,null,null,null,null,null,null,"",null,null,null,null,null,null,null,null,null,null,null,null,null,null,null,null,null,null,null,null,null,null,null,null,null,"",null,null,null,null,null,null,null,null,null,null,null,null,null,null,null,null,null,null,null,null,null,null,null,null,null,"",null,null,null,null,null,null,null,null,null,null,null,null,null,null,null,null,null,null,null,null,null,null,null,null,null,""]
[null,null,101,null,null,null,null,null,null,null,null,null,null,null,null,null,null,null,null,null,null,null,null,null,null,null,null,null,null,null,"",null,null,null,null,null,null,null,null,null,null,null,null,null,null,null,null,null,null,null,null,null,null,null,null,null,"",null,null,null,null,null,null,null,null,null,null,null,null,null,null,null,null,null,null,null,null,null,null,null,null,null,"",null,null,null,null,null,null,null,null,null,null,null,null,null,null,null,null,null,null,null,null,null,null,null,null,null,"",null,null,null,null,null,null,null,null,null,null,null,null,null,null,null,null,null,null,null,null,null,null,null,null,null,"",null,null,null,null,null,null,null,null,null,null,null,null,null,null,null,null,null,null,null,null,null,null,null,null,null,"",null,null,null,null,null,null,null,null,null,null,null,null,null,null,null,null,null,null,null,null,null,null,null,null,null,"",null,null,null,null,null,null,null,null,null,null,null,null,null,null,null,null,null,null,null,null,null,null,null,null,null,"",null,null,null,null,null,null,null,null,null,null,null,null,null,null,null,null,null,null,null,null,null,null,null,null,null,"",null,null,null,null,null,null,null,null,null,null,null,null,null,null,null,null,null,null,null,null,null,null,null,null,null,"",null,null,null,null,null,null,null,null,null,null,null,null,null,null,null,null,null,null,null,null,null,null,null,null,null,""]
[null,null,102,null,null,null,null,null,null,null,null,null,null,null,null,null,null,null,null,null,null,null,null,null,null,null,null,null,null,null,"",null,null,null,null,null,null,null,null,null,null,null,null,null,null,null,null,null,null,null,null,null,null,null,null,null,"",null,null,null,null,null,null,null,null,null,null,null,null,null,null,null,null,null,null,null,null,null,null,null,null,null,"",null,null,null,null,null,null,null,null,null,null,null,null,null,null,null,null,null,null,null,null,null,null,null,null,null,"",null,null,null,null,null,null,null,null,null,null,null,null,null,null,null,null,null,null,null,null,null,null,null,null,null,"",null,null,null,null,null,null,null,null,null,null,null,null,null,null,null,null,null,null,null,null,null,null,null,null,null,"",null,null,null,null,null,null,null,null,null,null,null,null,null,null,null,null,null,null,null,null,null,null,null,null,null,"",null,null,null,null,null,null,null,null,null,null,null,null,null,null,null,null,null,null,null,null,null,null,null,null,null,"",null,null,null,null,null,null,null,null,null,null,null,null,null,null,null,null,null,null,null,null,null,null,null,null,null,"",null,null,null,null,null,null,null,null,null,null,null,null,null,null,null,null,null,null,null,null,null,null,null,null,null,"",null,null,null,null,null,null,null,null,null,null,null,null,null,null,null,null,null,null,null,null,null,null,null,null,null,""]
[null,null,103,null,null,null,null,null,null,null,null,null,null,null,null,null,null,null,null,null,null,null,null,null,null,null,null,null,null,null,"",null,null,null,null,null,null,null,null,null,null,null,null,null,null,null,null,null,null,null,null,null,null,null,null,null,"",null,null,null,null,null,null,null,null,null,null,null,null,null,null,null,null,null,null,null,null,null,null,null,null,null,"",null,null,null,null,null,null,null,null,null,null,null,null,null,null,null,null,null,null,null,null,null,null,null,null,null,"",null,null,null,null,null,null,null,null,null,null,null,null,null,null,null,null,null,null,null,null,null,null,null,null,null,"",null,null,null,null,null,null,null,null,null,null,null,null,null,null,null,null,null,null,null,null,null,null,null,null,null,"",null,null,null,null,null,null,null,null,null,null,null,null,null,null,null,null,null,null,null,null,null,null,null,null,null,"",null,null,null,null,null,null,null,null,null,null,null,null,null,null,null,null,null,null,null,null,null,null,null,null,null,"",null,null,null,null,null,null,null,null,null,null,null,null,null,null,null,null,null,null,null,null,null,null,null,null,null,"",null,null,null,null,null,null,null,null,null,null,null,null,null,null,null,null,null,null,null,null,null,null,null,null,null,"",null,null,null,null,null,null,null,null,null,null,null,null,null,null,null,null,null,null,null,null,null,null,null,null,null,""]
[null,null,104,null,null,null,null,null,null,null,null,null,null,null,null,null,null,null,null,null,null,null,null,null,null,null,null,null,null,null,"",null,null,null,null,null,null,null,null,null,null,null,null,null,null,null,null,null,null,null,null,null,null,null,null,null,"",null,null,null,null,null,null,null,null,null,null,null,null,null,null,null,null,null,null,null,null,null,null,null,null,null,"",null,null,null,null,null,null,null,null,null,null,null,null,null,null,null,null,null,null,null,null,null,null,null,null,null,"",null,null,null,null,null,null,null,null,null,null,null,null,null,null,null,null,null,null,null,null,null,null,null,null,null,"",null,null,null,null,null,null,null,null,null,null,null,null,null,null,null,null,null,null,null,null,null,null,null,null,null,"",null,null,null,null,null,null,null,null,null,null,null,null,null,null,null,null,null,null,null,null,null,null,null,null,null,"",null,null,null,null,null,null,null,null,null,null,null,null,null,null,null,null,null,null,null,null,null,null,null,null,null,"",null,null,null,null,null,null,null,null,null,null,null,null,null,null,null,null,null,null,null,null,null,null,null,null,null,"",null,null,null,null,null,null,null,null,null,null,null,null,null,null,null,null,null,null,null,null,null,null,null,null,null,"",null,null,null,null,null,null,null,null,null,null,null,null,null,null,null,null,null,null,null,null,null,null,null,null,null,""]
[null,null,105,null,null,null,null,null,null,null,null,null,null,null,null,null,null,null,null,null,null,null,null,null,null,null,null,null,null,null,"",null,null,null,null,null,null,null,null,null,null,null,null,null,null,null,null,null,null,null,null,null,null,null,null,null,"",null,null,null,null,null,null,null,null,null,null,null,null,null,null,null,null,null,null,null,null,null,null,null,null,null,"",null,null,null,null,null,null,null,null,null,null,null,null,null,null,null,null,null,null,null,null,null,null,null,null,null,"",null,null,null,null,null,null,null,null,null,null,null,null,null,null,null,null,null,null,null,null,null,null,null,null,null,"",null,null,null,null,null,null,null,null,null,null,null,null,null,null,null,null,null,null,null,null,null,null,null,null,null,"",null,null,null,null,null,null,null,null,null,null,null,null,null,null,null,null,null,null,null,null,null,null,null,null,null,"",null,null,null,null,null,null,null,null,null,null,null,null,null,null,null,null,null,null,null,null,null,null,null,null,null,"",null,null,null,null,null,null,null,null,null,null,null,null,null,null,null,null,null,null,null,null,null,null,null,null,null,"",null,null,null,null,null,null,null,null,null,null,null,null,null,null,null,null,null,null,null,null,null,null,null,null,null,"",null,null,null,null,null,null,null,null,null,null,null,null,null,null,null,null,null,null,null,null,null,null,null,null,null,""]
[null,null,106,null,null,null,null,null,null,null,null,null,null,null,null,null,null,null,null,null,null,null,null,null,null,null,null,null,null,null,"",null,null,null,null,null,null,null,null,null,null,null,null,null,null,null,null,null,null,null,null,null,null,null,null,null,"",null,null,null,null,null,null,null,null,null,null,null,null,null,null,null,null,null,null,null,null,null,null,null,null,null,"",null,null,null,null,null,null,null,null,null,null,null,null,null,null,null,null,null,null,null,null,null,null,null,null,null,"",null,null,null,null,null,null,null,null,null,null,null,null,null,null,null,null,null,null,null,null,null,null,null,null,null,"",null,null,null,null,null,null,null,null,null,null,null,null,null,null,null,null,null,null,null,null,null,null,null,null,null,"",null,null,null,null,null,null,null,null,null,null,null,null,null,null,null,null,null,null,null,null,null,null,null,null,null,"",null,null,null,null,null,null,null,null,null,null,null,null,null,null,null,null,null,null,null,null,null,null,null,null,null,"",null,null,null,null,null,null,null,null,null,null,null,null,null,null,null,null,null,null,null,null,null,null,null,null,null,"",null,null,null,null,null,null,null,null,null,null,null,null,null,null,null,null,null,null,null,null,null,null,null,null,null,"",null,null,null,null,null,null,null,null,null,null,null,null,null,null,null,null,null,null,null,null,null,null,null,null,null,""]
[null,null,107,null,null,null,null,null,null,null,null,null,null,null,null,null,null,null,null,null,null,null,null,null,null,null,null,null,null,null,"",null,null,null,null,null,null,null,null,null,null,null,null,null,null,null,null,null,null,null,null,null,null,null,null,null,"",null,null,null,null,null,null,null,null,null,null,null,null,null,null,null,null,null,null,null,null,null,null,null,null,null,"",null,null,null,null,null,null,null,null,null,null,null,null,null,null,null,null,null,null,null,null,null,null,null,null,null,"",null,null,null,null,null,null,null,null,null,null,null,null,null,null,null,null,null,null,null,null,null,null,null,null,null,"",null,null,null,null,null,null,null,null,null,null,null,null,null,null,null,null,null,null,null,null,null,null,null,null,null,"",null,null,null,null,null,null,null,null,null,null,null,null,null,null,null,null,null,null,null,null,null,null,null,null,null,"",null,null,null,null,null,null,null,null,null,null,null,null,null,null,null,null,null,null,null,null,null,null,null,null,null,"",null,null,null,null,null,null,null,null,null,null,null,null,null,null,null,null,null,null,null,null,null,null,null,null,null,"",null,null,null,null,null,null,null,null,null,null,null,null,null,null,null,null,null,null,null,null,null,null,null,null,null,"",null,null,null,null,null,null,null,null,null,null,null,null,null,null,null,null,null,null,null,null,null,null,null,null,null,""]
[null,null,108,null,null,null,null,null,null,null,null,null,null,null,null,null,null,null,null,null,null,null,null,null,null,null,null,null,null,null,"",null,null,null,null,null,null,null,null,null,null,null,null,null,null,null,null,null,null,null,null,null,null,null,null,null,"",null,null,null,null,null,null,null,null,null,null,null,null,null,null,null,null,null,null,null,null,null,null,null,null,null,"",null,null,null,null,null,null,null,null,null,null,null,null,null,null,null,null,null,null,null,null,null,null,null,null,null,"",null,null,null,null,null,null,null,null,null,null,null,null,null,null,null,null,null,null,null,null,null,null,null,null,null,"",null,null,null,null,null,null,null,null,null,null,null,null,null,null,null,null,null,null,null,null,null,null,null,null,null,"",null,null,null,null,null,null,null,null,null,null,null,null,null,null,null,null,null,null,null,null,null,null,null,null,null,"",null,null,null,null,null,null,null,null,null,null,null,null,null,null,null,null,null,null,null,null,null,null,null,null,null,"",null,null,null,null,null,null,null,null,null,null,null,null,null,null,null,null,null,null,null,null,null,null,null,null,null,"",null,null,null,null,null,null,null,null,null,null,null,null,null,null,null,null,null,null,null,null,null,null,null,null,null,"",null,null,null,null,null,null,null,null,null,null,null,null,null,null,null,null,null,null,null,null,null,null,null,null,null,""]
[null,null,109,null,null,null,null,null,null,null,null,null,null,null,null,null,null,null,null,null,null,null,null,null,null,null,null,null,null,null,"",null,null,null,null,null,null,null,null,null,null,null,null,null,null,null,null,null,null,null,null,null,null,null,null,null,"",null,null,null,null,null,null,null,null,null,null,null,null,null,null,null,null,null,null,null,null,null,null,null,null,null,"",null,null,null,null,null,null,null,null,null,null,null,null,null,null,null,null,null,null,null,null,null,null,null,null,null,"",null,null,null,null,null,null,null,null,null,null,null,null,null,null,null,null,null,null,null,null,null,null,null,null,null,"",null,null,null,null,null,null,null,null,null,null,null,null,null,null,null,null,null,null,null,null,null,null,null,null,null,"",null,null,null,null,null,null,null,null,null,null,null,null,null,null,null,null,null,null,null,null,null,null,null,null,null,"",null,null,null,null,null,null,null,null,null,null,null,null,null,null,null,null,null,null,null,null,null,null,null,null,null,"",null,null,null,null,null,null,null,null,null,null,null,null,null,null,null,null,null,null,null,null,null,null,null,null,null,"",null,null,null,null,null,null,null,null,null,null,null,null,null,null,null,null,null,null,null,null,null,null,null,null,null,"",null,null,null,null,null,null,null,null,null,null,null,null,null,null,null,null,null,null,null,null,null,null,null,null,null,""]
[null,null,110,null,null,null,null,null,null,null,null,null,null,null,null,null,null,null,null,null,null,null,null,null,null,null,null,null,null,null,"",null,null,null,null,null,null,null,null,null,null,null,null,null,null,null,null,null,null,null,null,null,null,null,null,null,"",null,null,null,null,null,null,null,null,null,null,null,null,null,null,null,null,null,null,null,null,null,null,null,null,null,"",null,null,null,null,null,null,null,null,null,null,null,null,null,null,null,null,null,null,null,null,null,null,null,null,null,"",null,null,null,null,null,null,null,null,null,null,null,null,null,null,null,null,null,null,null,null,null,null,null,null,null,"",null,null,null,null,null,null,null,null,null,null,null,null,null,null,null,null,null,null,null,null,null,null,null,null,null,"",null,null,null,null,null,null,null,null,null,null,null,null,null,null,null,null,null,null,null,null,null,null,null,null,null,"",null,null,null,null,null,null,null,null,null,null,null,null,null,null,null,null,null,null,null,null,null,null,null,null,null,"",null,null,null,null,null,null,null,null,null,null,null,null,null,null,null,null,null,null,null,null,null,null,null,null,null,"",null,null,null,null,null,null,null,null,null,null,null,null,null,null,null,null,null,null,null,null,null,null,null,null,null,"",null,null,null,null,null,null,null,null,null,null,null,null,null,null,null,null,null,null,null,null,null,null,null,null,null,""]
[null,null,111,null,null,null,null,null,null,null,null,null,null,null,null,null,null,null,null,null,null,null,null,null,null,null,null,null,null,null,"",null,null,null,null,null,null,null,null,null,null,null,null,null,null,null,null,null,null,null,null,null,null,null,null,null,"",null,null,null,null,null,null,null,null,null,null,null,null,null,null,null,null,null,null,null,null,null,null,null,null,null,"",null,null,null,null,null,null,null,null,null,null,null,null,null,null,null,null,null,null,null,null,null,null,null,null,null,"",null,null,null,null,null,null,null,null,null,null,null,null,null,null,null,null,null,null,null,null,null,null,null,null,null,"",null,null,null,null,null,null,null,null,null,null,null,null,null,null,null,null,null,null,null,null,null,null,null,null,null,"",null,null,null,null,null,null,null,null,null,null,null,null,null,null,null,null,null,null,null,null,null,null,null,null,null,"",null,null,null,null,null,null,null,null,null,null,null,null,null,null,null,null,null,null,null,null,null,null,null,null,null,"",null,null,null,null,null,null,null,null,null,null,null,null,null,null,null,null,null,null,null,null,null,null,null,null,null,"",null,null,null,null,null,null,null,null,null,null,null,null,null,null,null,null,null,null,null,null,null,null,null,null,null,"",null,null,null,null,null,null,null,null,null,null,null,null,null,null,null,null,null,null,null,null,null,null,null,null,null,""]
[null,null,112,null,null,null,null,null,null,null,null,null,null,null,null,null,null,null,null,null,null,null,null,null,null,null,null,null,null,null,"",null,null,null,null,null,null,null,null,null,null,null,null,null,null,null,null,null,null,null,null,null,null,null,null,null,"",null,null,null,null,null,null,null,null,null,null,null,null,null,null,null,null,null,null,null,null,null,null,null,null,null,"",null,null,null,null,null,null,null,null,null,null,null,null,null,null,null,null,null,null,null,null,null,null,null,null,null,"",null,null,null,null,null,null,null,null,null,null,null,null,null,null,null,null,null,null,null,null,null,null,null,null,null,"",null,null,null,null,null,null,null,null,null,null,null,null,null,null,null,null,null,null,null,null,null,null,null,null,null,"",null,null,null,null,null,null,null,null,null,null,null,null,null,null,null,null,null,null,null,null,null,null,null,null,null,"",null,null,null,null,null,null,null,null,null,null,null,null,null,null,null,null,null,null,null,null,null,null,null,null,null,"",null,null,null,null,null,null,null,null,null,null,null,null,null,null,null,null,null,null,null,null,null,null,null,null,null,"",null,null,null,null,null,null,null,null,null,null,null,null,null,null,null,null,null,null,null,null,null,null,null,null,null,"",null,null,null,null,null,null,null,null,null,null,null,null,null,null,null,null,null,null,null,null,null,null,null,null,null,""]
[null,null,113,null,null,null,null,null,null,null,null,null,null,null,null,null,null,null,null,null,null,null,null,null,null,null,null,null,null,null,"",null,null,null,null,null,null,null,null,null,null,null,null,null,null,null,null,null,null,null,null,null,null,null,null,null,"",null,null,null,null,null,null,null,null,null,null,null,null,null,null,null,null,null,null,null,null,null,null,null,null,null,"",null,null,null,null,null,null,null,null,null,null,null,null,null,null,null,null,null,null,null,null,null,null,null,null,null,"",null,null,null,null,null,null,null,null,null,null,null,null,null,null,null,null,null,null,null,null,null,null,null,null,null,"",null,null,null,null,null,null,null,null,null,null,null,null,null,null,null,null,null,null,null,null,null,null,null,null,null,"",null,null,null,null,null,null,null,null,null,null,null,null,null,null,null,null,null,null,null,null,null,null,null,null,null,"",null,null,null,null,null,null,null,null,null,null,null,null,null,null,null,null,null,null,null,null,null,null,null,null,null,"",null,null,null,null,null,null,null,null,null,null,null,null,null,null,null,null,null,null,null,null,null,null,null,null,null,"",null,null,null,null,null,null,null,null,null,null,null,null,null,null,null,null,null,null,null,null,null,null,null,null,null,"",null,null,null,null,null,null,null,null,null,null,null,null,null,null,null,null,null,null,null,null,null,null,null,null,null,""]
[null,null,114,null,null,null,null,null,null,null,null,null,null,null,null,null,null,null,null,null,null,null,null,null,null,null,null,null,null,null,"",null,null,null,null,null,null,null,null,null,null,null,null,null,null,null,null,null,null,null,null,null,null,null,null,null,"",null,null,null,null,null,null,null,null,null,null,null,null,null,null,null,null,null,null,null,null,null,null,null,null,null,"",null,null,null,null,null,null,null,null,null,null,null,null,null,null,null,null,null,null,null,null,null,null,null,null,null,"",null,null,null,null,null,null,null,null,null,null,null,null,null,null,null,null,null,null,null,null,null,null,null,null,null,"",null,null,null,null,null,null,null,null,null,null,null,null,null,null,null,null,null,null,null,null,null,null,null,null,null,"",null,null,null,null,null,null,null,null,null,null,null,null,null,null,null,null,null,null,null,null,null,null,null,null,null,"",null,null,null,null,null,null,null,null,null,null,null,null,null,null,null,null,null,null,null,null,null,null,null,null,null,"",null,null,null,null,null,null,null,null,null,null,null,null,null,null,null,null,null,null,null,null,null,null,null,null,null,"",null,null,null,null,null,null,null,null,null,null,null,null,null,null,null,null,null,null,null,null,null,null,null,null,null,"",null,null,null,null,null,null,null,null,null,null,null,null,null,null,null,null,null,null,null,null,null,null,null,null,null,""]
[null,null,115,null,null,null,null,null,null,null,null,null,null,null,null,null,null,null,null,null,null,null,null,null,null,null,null,null,null,null,"",null,null,null,null,null,null,null,null,null,null,null,null,null,null,null,null,null,null,null,null,null,null,null,null,null,"",null,null,null,null,null,null,null,null,null,null,null,null,null,null,null,null,null,null,null,null,null,null,null,null,null,"",null,null,null,null,null,null,null,null,null,null,null,null,null,null,null,null,null,null,null,null,null,null,null,null,null,"",null,null,null,null,null,null,null,null,null,null,null,null,null,null,null,null,null,null,null,null,null,null,null,null,null,"",null,null,null,null,null,null,null,null,null,null,null,null,null,null,null,null,null,null,null,null,null,null,null,null,null,"",null,null,null,null,null,null,null,null,null,null,null,null,null,null,null,null,null,null,null,null,null,null,null,null,null,"",null,null,null,null,null,null,null,null,null,null,null,null,null,null,null,null,null,null,null,null,null,null,null,null,null,"",null,null,null,null,null,null,null,null,null,null,null,null,null,null,null,null,null,null,null,null,null,null,null,null,null,"",null,null,null,null,null,null,null,null,null,null,null,null,null,null,null,null,null,null,null,null,null,null,null,null,null,"",null,null,null,null,null,null,null,null,null,null,null,null,null,null,null,null,null,null,null,null,null,null,null,null,null,""]
[null,null,116,null,null,null,null,null,null,null,null,null,null,null,null,null,null,null,null,null,null,null,null,null,null,null,null,null,null,null,"",null,null,null,null,null,null,null,null,null,null,null,null,null,null,null,null,null,null,null,null,null,null,null,null,null,"",null,null,null,null,null,null,null,null,null,null,null,null,null,null,null,null,null,null,null,null,null,null,null,null,null,"",null,null,null,null,null,null,null,null,null,null,null,null,null,null,null,null,null,null,null,null,null,null,null,null,null,"",null,null,null,null,null,null,null,null,null,null,null,null,null,null,null,null,null,null,null,null,null,null,null,null,null,"",null,null,null,null,null,null,null,null,null,null,null,null,null,null,null,null,null,null,null,null,null,null,null,null,null,"",null,null,null,null,null,null,null,null,null,null,null,null,null,null,null,null,null,null,null,null,null,null,null,null,null,"",null,null,null,null,null,null,null,null,null,null,null,null,null,null,null,null,null,null,null,null,null,null,null,null,null,"",null,null,null,null,null,null,null,null,null,null,null,null,null,null,null,null,null,null,null,null,null,null,null,null,null,"",null,null,null,null,null,null,null,null,null,null,null,null,null,null,null,null,null,null,null,null,null,null,null,null,null,"",null,null,null,null,null,null,null,null,null,null,null,null,null,null,null,null,null,null,null,null,null,null,null,null,null,""]
[null,null,117,null,null,null,null,null,null,null,null,null,null,null,null,null,null,null,null,null,null,null,null,null,null,null,null,null,null,null,"",null,null,null,null,null,null,null,null,null,null,null,null,null,null,null,null,null,null,null,null,null,null,null,null,null,"",null,null,null,null,null,null,null,null,null,null,null,null,null,null,null,null,null,null,null,null,null,null,null,null,null,"",null,null,null,null,null,null,null,null,null,null,null,null,null,null,null,null,null,null,null,null,null,null,null,null,null,"",null,null,null,null,null,null,null,null,null,null,null,null,null,null,null,null,null,null,null,null,null,null,null,null,null,"",null,null,null,null,null,null,null,null,null,null,null,null,null,null,null,null,null,null,null,null,null,null,null,null,null,"",null,null,null,null,null,null,null,null,null,null,null,null,null,null,null,null,null,null,null,null,null,null,null,null,null,"",null,null,null,null,null,null,null,null,null,null,null,null,null,null,null,null,null,null,null,null,null,null,null,null,null,"",null,null,null,null,null,null,null,null,null,null,null,null,null,null,null,null,null,null,null,null,null,null,null,null,null,"",null,null,null,null,null,null,null,null,null,null,null,null,null,null,null,null,null,null,null,null,null,null,null,null,null,"",null,null,null,null,null,null,null,null,null,null,null,null,null,null,null,null,null,null,null,null,null,null,null,null,null,""]
[null,null,118,null,null,null,null,null,null,null,null,null,null,null,null,null,null,null,null,null,null,null,null,null,null,null,null,null,null,null,"",null,null,null,null,null,null,null,null,null,null,null,null,null,null,null,null,null,null,null,null,null,null,null,null,null,"",null,null,null,null,null,null,null,null,null,null,null,null,null,null,null,null,null,null,null,null,null,null,null,null,null,"",null,null,null,null,null,null,null,null,null,null,null,null,null,null,null,null,null,null,null,null,null,null,null,null,null,"",null,null,null,null,null,null,null,null,null,null,null,null,null,null,null,null,null,null,null,null,null,null,null,null,null,"",null,null,null,null,null,null,null,null,null,null,null,null,null,null,null,null,null,null,null,null,null,null,null,null,null,"",null,null,null,null,null,null,null,null,null,null,null,null,null,null,null,null,null,null,null,null,null,null,null,null,null,"",null,null,null,null,null,null,null,null,null,null,null,null,null,null,null,null,null,null,null,null,null,null,null,null,null,"",null,null,null,null,null,null,null,null,null,null,null,null,null,null,null,null,null,null,null,null,null,null,null,null,null,"",null,null,null,null,null,null,null,null,null,null,null,null,null,null,null,null,null,null,null,null,null,null,null,null,null,"",null,null,null,null,null,null,null,null,null,null,null,null,null,null,null,null,null,null,null,null,null,null,null,null,null,""]
[null,null,119,null,null,null,null,null,null,null,null,null,null,null,null,null,null,null,null,null,null,null,null,null,null,null,null,null,null,null,"",null,null,null,null,null,null,null,null,null,null,null,null,null,null,null,null,null,null,null,null,null,null,null,null,null,"",null,null,null,null,null,null,null,null,null,null,null,null,null,null,null,null,null,null,null,null,null,null,null,null,null,"",null,null,null,null,null,null,null,null,null,null,null,null,null,null,null,null,null,null,null,null,null,null,null,null,null,"",null,null,null,null,null,null,null,null,null,null,null,null,null,null,null,null,null,null,null,null,null,null,null,null,null,"",null,null,null,null,null,null,null,null,null,null,null,null,null,null,null,null,null,null,null,null,null,null,null,null,null,"",null,null,null,null,null,null,null,null,null,null,null,null,null,null,null,null,null,null,null,null,null,null,null,null,null,"",null,null,null,null,null,null,null,null,null,null,null,null,null,null,null,null,null,null,null,null,null,null,null,null,null,"",null,null,null,null,null,null,null,null,null,null,null,null,null,null,null,null,null,null,null,null,null,null,null,null,null,"",null,null,null,null,null,null,null,null,null,null,null,null,null,null,null,null,null,null,null,null,null,null,null,null,null,"",null,null,null,null,null,null,null,null,null,null,null,null,null,null,null,null,null,null,null,null,null,null,null,null,null,""]
[null,null,120,null,null,null,null,null,null,null,null,null,null,null,null,null,null,null,null,null,null,null,null,null,null,null,null,null,null,null,"",null,null,null,null,null,null,null,null,null,null,null,null,null,null,null,null,null,null,null,null,null,null,null,null,null,"",null,null,null,null,null,null,null,null,null,null,null,null,null,null,null,null,null,null,null,null,null,null,null,null,null,"",null,null,null,null,null,null,null,null,null,null,null,null,null,null,null,null,null,null,null,null,null,null,null,null,null,"",null,null,null,null,null,null,null,null,null,null,null,null,null,null,null,null,null,null,null,null,null,null,null,null,null,"",null,null,null,null,null,null,null,null,null,null,null,null,null,null,null,null,null,null,null,null,null,null,null,null,null,"",null,null,null,null,null,null,null,null,null,null,null,null,null,null,null,null,null,null,null,null,null,null,null,null,null,"",null,null,null,null,null,null,null,null,null,null,null,null,null,null,null,null,null,null,null,null,null,null,null,null,null,"",null,null,null,null,null,null,null,null,null,null,null,null,null,null,null,null,null,null,null,null,null,null,null,null,null,"",null,null,null,null,null,null,null,null,null,null,null,null,null,null,null,null,null,null,null,null,null,null,null,null,null,"",null,null,null,null,null,null,null,null,null,null,null,null,null,null,null,null,null,null,null,null,null,null,null,null,null,""]
[null,null,121,null,null,null,null,null,null,null,null,null,null,null,null,null,null,null,null,null,null,null,null,null,null,null,null,null,null,null,"",null,null,null,null,null,null,null,null,null,null,null,null,null,null,null,null,null,null,null,null,null,null,null,null,null,"",null,null,null,null,null,null,null,null,null,null,null,null,null,null,null,null,null,null,null,null,null,null,null,null,null,"",null,null,null,null,null,null,null,null,null,null,null,null,null,null,null,null,null,null,null,null,null,null,null,null,null,"",null,null,null,null,null,null,null,null,null,null,null,null,null,null,null,null,null,null,null,null,null,null,null,null,null,"",null,null,null,null,null,null,null,null,null,null,null,null,null,null,null,null,null,null,null,null,null,null,null,null,null,"",null,null,null,null,null,null,null,null,null,null,null,null,null,null,null,null,null,null,null,null,null,null,null,null,null,"",null,null,null,null,null,null,null,null,null,null,null,null,null,null,null,null,null,null,null,null,null,null,null,null,null,"",null,null,null,null,null,null,null,null,null,null,null,null,null,null,null,null,null,null,null,null,null,null,null,null,null,"",null,null,null,null,null,null,null,null,null,null,null,null,null,null,null,null,null,null,null,null,null,null,null,null,null,"",null,null,null,null,null,null,null,null,null,null,null,null,null,null,null,null,null,null,null,null,null,null,null,null,null,""]
[null,null,122,null,null,null,null,null,null,null,null,null,null,null,null,null,null,null,null,null,null,null,null,null,null,null,null,null,null,null,"",null,null,null,null,null,null,null,null,null,null,null,null,null,null,null,null,null,null,null,null,null,null,null,null,null,"",null,null,null,null,null,null,null,null,null,null,null,null,null,null,null,null,null,null,null,null,null,null,null,null,null,"",null,null,null,null,null,null,null,null,null,null,null,null,null,null,null,null,null,null,null,null,null,null,null,null,null,"",null,null,null,null,null,null,null,null,null,null,null,null,null,null,null,null,null,null,null,null,null,null,null,null,null,"",null,null,null,null,null,null,null,null,null,null,null,null,null,null,null,null,null,null,null,null,null,null,null,null,null,"",null,null,null,null,null,null,null,null,null,null,null,null,null,null,null,null,null,null,null,null,null,null,null,null,null,"",null,null,null,null,null,null,null,null,null,null,null,null,null,null,null,null,null,null,null,null,null,null,null,null,null,"",null,null,null,null,null,null,null,null,null,null,null,null,null,null,null,null,null,null,null,null,null,null,null,null,null,"",null,null,null,null,null,null,null,null,null,null,null,null,null,null,null,null,null,null,null,null,null,null,null,null,null,"",null,null,null,null,null,null,null,null,null,null,null,null,null,null,null,null,null,null,null,null,null,null,null,null,null,""]
[null,null,123,null,null,null,null,null,null,null,null,null,null,null,null,null,null,null,null,null,null,null,null,null,null,null,null,null,null,null,"",null,null,null,null,null,null,null,null,null,null,null,null,null,null,null,null,null,null,null,null,null,null,null,null,null,"",null,null,null,null,null,null,null,null,null,null,null,null,null,null,null,null,null,null,null,null,null,null,null,null,null,"",null,null,null,null,null,null,null,null,null,null,null,null,null,null,null,null,null,null,null,null,null,null,null,null,null,"",null,null,null,null,null,null,null,null,null,null,null,null,null,null,null,null,null,null,null,null,null,null,null,null,null,"",null,null,null,null,null,null,null,null,null,null,null,null,null,null,null,null,null,null,null,null,null,null,null,null,null,"",null,null,null,null,null,null,null,null,null,null,null,null,null,null,null,null,null,null,null,null,null,null,null,null,null,"",null,null,null,null,null,null,null,null,null,null,null,null,null,null,null,null,null,null,null,null,null,null,null,null,null,"",null,null,null,null,null,null,null,null,null,null,null,null,null,null,null,null,null,null,null,null,null,null,null,null,null,"",null,null,null,null,null,null,null,null,null,null,null,null,null,null,null,null,null,null,null,null,null,null,null,null,null,"",null,null,null,null,null,null,null,null,null,null,null,null,null,null,null,null,null,null,null,null,null,null,null,null,null,""]
[null,null,124,null,null,null,null,null,null,null,null,null,null,null,null,null,null,null,null,null,null,null,null,null,null,null,null,null,null,null,"",null,null,null,null,null,null,null,null,null,null,null,null,null,null,null,null,null,null,null,null,null,null,null,null,null,"",null,null,null,null,null,null,null,null,null,null,null,null,null,null,null,null,null,null,null,null,null,null,null,null,null,"",null,null,null,null,null,null,null,null,null,null,null,null,null,null,null,null,null,null,null,null,null,null,null,null,null,"",null,null,null,null,null,null,null,null,null,null,null,null,null,null,null,null,null,null,null,null,null,null,null,null,null,"",null,null,null,null,null,null,null,null,null,null,null,null,null,null,null,null,null,null,null,null,null,null,null,null,null,"",null,null,null,null,null,null,null,null,null,null,null,null,null,null,null,null,null,null,null,null,null,null,null,null,null,"",null,null,null,null,null,null,null,null,null,null,null,null,null,null,null,null,null,null,null,null,null,null,null,null,null,"",null,null,null,null,null,null,null,null,null,null,null,null,null,null,null,null,null,null,null,null,null,null,null,null,null,"",null,null,null,null,null,null,null,null,null,null,null,null,null,null,null,null,null,null,null,null,null,null,null,null,null,"",null,null,null,null,null,null,null,null,null,null,null,null,null,null,null,null,null,null,null,null,null,null,null,null,null,""]
[null,null,125,null,null,null,null,null,null,null,null,null,null,null,null,null,null,null,null,null,null,null,null,null,null,null,null,null,null,null,"",null,null,null,null,null,null,null,null,null,null,null,null,null,null,null,null,null,null,null,null,null,null,null,null,null,"",null,null,null,null,null,null,null,null,null,null,null,null,null,null,null,null,null,null,null,null,null,null,null,null,null,"",null,null,null,null,null,null,null,null,null,null,null,null,null,null,null,null,null,null,null,null,null,null,null,null,null,"",null,null,null,null,null,null,null,null,null,null,null,null,null,null,null,null,null,null,null,null,null,null,null,null,null,"",null,null,null,null,null,null,null,null,null,null,null,null,null,null,null,null,null,null,null,null,null,null,null,null,null,"",null,null,null,null,null,null,null,null,null,null,null,null,null,null,null,null,null,null,null,null,null,null,null,null,null,"",null,null,null,null,null,null,null,null,null,null,null,null,null,null,null,null,null,null,null,null,null,null,null,null,null,"",null,null,null,null,null,null,null,null,null,null,null,null,null,null,null,null,null,null,null,null,null,null,null,null,null,"",null,null,null,null,null,null,null,null,null,null,null,null,null,null,null,null,null,null,null,null,null,null,null,null,null,"",null,null,null,null,null,null,null,null,null,null,null,null,null,null,null,null,null,null,null,null,null,null,null,null,null,""]
[null,null,126,null,null,null,null,null,null,null,null,null,null,null,null,null,null,null,null,null,null,null,null,null,null,null,null,null,null,null,"",null,null,null,null,null,null,null,null,null,null,null,null,null,null,null,null,null,null,null,null,null,null,null,null,null,"",null,null,null,null,null,null,null,null,null,null,null,null,null,null,null,null,null,null,null,null,null,null,null,null,null,"",null,null,null,null,null,null,null,null,null,null,null,null,null,null,null,null,null,null,null,null,null,null,null,null,null,"",null,null,null,null,null,null,null,null,null,null,null,null,null,null,null,null,null,null,null,null,null,null,null,null,null,"",null,null,null,null,null,null,null,null,null,null,null,null,null,null,null,null,null,null,null,null,null,null,null,null,null,"",null,null,null,null,null,null,null,null,null,null,null,null,null,null,null,null,null,null,null,null,null,null,null,null,null,"",null,null,null,null,null,null,null,null,null,null,null,null,null,null,null,null,null,null,null,null,null,null,null,null,null,"",null,null,null,null,null,null,null,null,null,null,null,null,null,null,null,null,null,null,null,null,null,null,null,null,null,"",null,null,null,null,null,null,null,null,null,null,null,null,null,null,null,null,null,null,null,null,null,null,null,null,null,"",null,null,null,null,null,null,null,null,null,null,null,null,null,null,null,null,null,null,null,null,null,null,null,null,null,""]
[null,null,127,null,null,null,null,null,null,null,null,null,null,null,null,null,null,null,null,null,null,null,null,null,null,null,null,null,null,null,"",null,null,null,null,null,null,null,null,null,null,null,null,null,null,null,null,null,null,null,null,null,null,null,null,null,"",null,null,null,null,null,null,null,null,null,null,null,null,null,null,null,null,null,null,null,null,null,null,null,null,null,"",null,null,null,null,null,null,null,null,null,null,null,null,null,null,null,null,null,null,null,null,null,null,null,null,null,"",null,null,null,null,null,null,null,null,null,null,null,null,null,null,null,null,null,null,null,null,null,null,null,null,null,"",null,null,null,null,null,null,null,null,null,null,null,null,null,null,null,null,null,null,null,null,null,null,null,null,null,"",null,null,null,null,null,null,null,null,null,null,null,null,null,null,null,null,null,null,null,null,null,null,null,null,null,"",null,null,null,null,null,null,null,null,null,null,null,null,null,null,null,null,null,null,null,null,null,null,null,null,null,"",null,null,null,null,null,null,null,null,null,null,null,null,null,null,null,null,null,null,null,null,null,null,null,null,null,"",null,null,null,null,null,null,null,null,null,null,null,null,null,null,null,null,null,null,null,null,null,null,null,null,null,"",null,null,null,null,null,null,null,null,null,null,null,null,null,null,null,null,null,null,null,null,null,null,null,null,null,""]
[null,null,128,null,null,null,null,null,null,null,null,null,null,null,null,null,null,null,null,null,null,null,null,null,null,null,null,null,null,null,"",null,null,null,null,null,null,null,null,null,null,null,null,null,null,null,null,null,null,null,null,null,null,null,null,null,"",null,null,null,null,null,null,null,null,null,null,null,null,null,null,null,null,null,null,null,null,null,null,null,null,null,"",null,null,null,null,null,null,null,null,null,null,null,null,null,null,null,null,null,null,null,null,null,null,null,null,null,"",null,null,null,null,null,null,null,null,null,null,null,null,null,null,null,null,null,null,null,null,null,null,null,null,null,"",null,null,null,null,null,null,null,null,null,null,null,null,null,null,null,null,null,null,null,null,null,null,null,null,null,"",null,null,null,null,null,null,null,null,null,null,null,null,null,null,null,null,null,null,null,null,null,null,null,null,null,"",null,null,null,null,null,null,null,null,null,null,null,null,null,null,null,null,null,null,null,null,null,null,null,null,null,"",null,null,null,null,null,null,null,null,null,null,null,null,null,null,null,null,null,null,null,null,null,null,null,null,null,"",null,null,null,null,null,null,null,null,null,null,null,null,null,null,null,null,null,null,null,null,null,null,null,null,null,"",null,null,null,null,null,null,null,null,null,null,null,null,null,null,null,null,null,null,null,null,null,null,null,null,null,""]
[null,null,129,null,null,null,null,null,null,null,null,null,null,null,null,null,null,null,null,null,null,null,null,null,null,null,null,null,null,null,"",null,null,null,null,null,null,null,null,null,null,null,null,null,null,null,null,null,null,null,null,null,null,null,null,null,"",null,null,null,null,null,null,null,null,null,null,null,null,null,null,null,null,null,null,null,null,null,null,null,null,null,"",null,null,null,null,null,null,null,null,null,null,null,null,null,null,null,null,null,null,null,null,null,null,null,null,null,"",null,null,null,null,null,null,null,null,null,null,null,null,null,null,null,null,null,null,null,null,null,null,null,null,null,"",null,null,null,null,null,null,null,null,null,null,null,null,null,null,null,null,null,null,null,null,null,null,null,null,null,"",null,null,null,null,null,null,null,null,null,null,null,null,null,null,null,null,null,null,null,null,null,null,null,null,null,"",null,null,null,null,null,null,null,null,null,null,null,null,null,null,null,null,null,null,null,null,null,null,null,null,null,"",null,null,null,null,null,null,null,null,null,null,null,null,null,null,null,null,null,null,null,null,null,null,null,null,null,"",null,null,null,null,null,null,null,null,null,null,null,null,null,null,null,null,null,null,null,null,null,null,null,null,null,"",null,null,null,null,null,null,null,null,null,null,null,null,null,null,null,null,null,null,null,null,null,null,null,null,null,""]
[null,null,130,null,null,null,null,null,null,null,null,null,null,null,null,null,null,null,null,null,null,null,null,null,null,null,null,null,null,null,{"$f":"IF($D153=\"\",\"\",SUM(I153:AD153))","v":""},null,null,null,null,null,null,null,null,null,null,null,null,null,null,null,null,null,null,null,null,null,null,null,null,null,{"$f":"IF($D153=\"\",\"\",SUM(AH153:BD153))","v":""},null,null,null,null,null,null,null,null,null,null,null,null,null,null,null,null,null,null,null,null,null,null,null,null,null,{"$f":"IF($D153=\"\",\"\",SUM(BH153:CD153))","v":""},null,null,null,null,null,null,null,null,null,null,null,null,null,null,null,null,null,null,null,null,null,null,null,null,null,{"$f":"IF($D153=\"\",\"\",SUM(CH153:DD153))","v":""},null,null,null,null,null,null,null,null,null,null,null,null,null,null,null,null,null,null,null,null,null,null,null,null,null,{"$f":"IF($D153=\"\",\"\",SUM(DH153:ED153))","v":""},null,null,null,null,null,null,null,null,null,null,null,null,null,null,null,null,null,null,null,null,null,null,null,null,null,{"$f":"IF($D153=\"\",\"\",SUM(EH153:FD153))","v":""},null,null,null,null,null,null,null,null,null,null,null,null,null,null,null,null,null,null,null,null,null,null,null,null,null,{"$f":"IF($D153=\"\",\"\",SUM(FH153:GD153))","v":""},null,null,null,null,null,null,null,null,null,null,null,null,null,null,null,null,null,null,null,null,null,null,null,null,null,{"$f":"IF($D153=\"\",\"\",SUM(GH153:HD153))","v":""},null,null,null,null,null,null,null,null,null,null,null,null,null,null,null,null,null,null,null,null,null,null,null,null,null,{"$f":"IF($D153=\"\",\"\",SUM(HH153:ID153))","v":""},null,null,null,null,null,null,null,null,null,null,null,null,null,null,null,null,null,null,null,null,null,null,null,null,null,{"$f":"IF($D153=\"\",\"\",SUM(IH153:JD153))","v":""},null,null,null,null,null,null,null,null,null,null,null,null,null,null,null,null,null,null,null,null,null,null,null,null,null,{"$f":"IF($D153=\"\",\"\",SUM(JH153:KD153))","v":""}]
[null,null,131,null,null,null,null,null,null,null,null,null,null,null,null,null,null,null,null,null,null,null,null,null,null,null,null,null,null,null,"",null,null,null,null,null,null,null,null,null,null,null,null,null,null,null,null,null,null,null,null,null,null,null,null,null,"",null,null,null,null,null,null,null,null,null,null,null,null,null,null,null,null,null,null,null,null,null,null,null,null,null,"",null,null,null,null,null,null,null,null,null,null,null,null,null,null,null,null,null,null,null,null,null,null,null,null,null,"",null,null,null,null,null,null,null,null,null,null,null,null,null,null,null,null,null,null,null,null,null,null,null,null,null,"",null,null,null,null,null,null,null,null,null,null,null,null,null,null,null,null,null,null,null,null,null,null,null,null,null,"",null,null,null,null,null,null,null,null,null,null,null,null,null,null,null,null,null,null,null,null,null,null,null,null,null,"",null,null,null,null,null,null,null,null,null,null,null,null,null,null,null,null,null,null,null,null,null,null,null,null,null,"",null,null,null,null,null,null,null,null,null,null,null,null,null,null,null,null,null,null,null,null,null,null,null,null,null,"",null,null,null,null,null,null,null,null,null,null,null,null,null,null,null,null,null,null,null,null,null,null,null,null,null,"",null,null,null,null,null,null,null,null,null,null,null,null,null,null,null,null,null,null,null,null,null,null,null,null,null,""]
[null,null,132,null,null,null,null,null,null,null,null,null,null,null,null,null,null,null,null,null,null,null,null,null,null,null,null,null,null,null,"",null,null,null,null,null,null,null,null,null,null,null,null,null,null,null,null,null,null,null,null,null,null,null,null,null,"",null,null,null,null,null,null,null,null,null,null,null,null,null,null,null,null,null,null,null,null,null,null,null,null,null,"",null,null,null,null,null,null,null,null,null,null,null,null,null,null,null,null,null,null,null,null,null,null,null,null,null,"",null,null,null,null,null,null,null,null,null,null,null,null,null,null,null,null,null,null,null,null,null,null,null,null,null,"",null,null,null,null,null,null,null,null,null,null,null,null,null,null,null,null,null,null,null,null,null,null,null,null,null,"",null,null,null,null,null,null,null,null,null,null,null,null,null,null,null,null,null,null,null,null,null,null,null,null,null,"",null,null,null,null,null,null,null,null,null,null,null,null,null,null,null,null,null,null,null,null,null,null,null,null,null,"",null,null,null,null,null,null,null,null,null,null,null,null,null,null,null,null,null,null,null,null,null,null,null,null,null,"",null,null,null,null,null,null,null,null,null,null,null,null,null,null,null,null,null,null,null,null,null,null,null,null,null,"",null,null,null,null,null,null,null,null,null,null,null,null,null,null,null,null,null,null,null,null,null,null,null,null,null,""]
[null,null,133,null,null,null,null,null,null,null,null,null,null,null,null,null,null,null,null,null,null,null,null,null,null,null,null,null,null,null,"",null,null,null,null,null,null,null,null,null,null,null,null,null,null,null,null,null,null,null,null,null,null,null,null,null,"",null,null,null,null,null,null,null,null,null,null,null,null,null,null,null,null,null,null,null,null,null,null,null,null,null,"",null,null,null,null,null,null,null,null,null,null,null,null,null,null,null,null,null,null,null,null,null,null,null,null,null,"",null,null,null,null,null,null,null,null,null,null,null,null,null,null,null,null,null,null,null,null,null,null,null,null,null,"",null,null,null,null,null,null,null,null,null,null,null,null,null,null,null,null,null,null,null,null,null,null,null,null,null,"",null,null,null,null,null,null,null,null,null,null,null,null,null,null,null,null,null,null,null,null,null,null,null,null,null,"",null,null,null,null,null,null,null,null,null,null,null,null,null,null,null,null,null,null,null,null,null,null,null,null,null,"",null,null,null,null,null,null,null,null,null,null,null,null,null,null,null,null,null,null,null,null,null,null,null,null,null,"",null,null,null,null,null,null,null,null,null,null,null,null,null,null,null,null,null,null,null,null,null,null,null,null,null,"",null,null,null,null,null,null,null,null,null,null,null,null,null,null,null,null,null,null,null,null,null,null,null,null,null,""]
[null,null,134,null,null,null,null,null,null,null,null,null,null,null,null,null,null,null,null,null,null,null,null,null,null,null,null,null,null,null,"",null,null,null,null,null,null,null,null,null,null,null,null,null,null,null,null,null,null,null,null,null,null,null,null,null,"",null,null,null,null,null,null,null,null,null,null,null,null,null,null,null,null,null,null,null,null,null,null,null,null,null,"",null,null,null,null,null,null,null,null,null,null,null,null,null,null,null,null,null,null,null,null,null,null,null,null,null,"",null,null,null,null,null,null,null,null,null,null,null,null,null,null,null,null,null,null,null,null,null,null,null,null,null,"",null,null,null,null,null,null,null,null,null,null,null,null,null,null,null,null,null,null,null,null,null,null,null,null,null,"",null,null,null,null,null,null,null,null,null,null,null,null,null,null,null,null,null,null,null,null,null,null,null,null,null,"",null,null,null,null,null,null,null,null,null,null,null,null,null,null,null,null,null,null,null,null,null,null,null,null,null,"",null,null,null,null,null,null,null,null,null,null,null,null,null,null,null,null,null,null,null,null,null,null,null,null,null,"",null,null,null,null,null,null,null,null,null,null,null,null,null,null,null,null,null,null,null,null,null,null,null,null,null,"",null,null,null,null,null,null,null,null,null,null,null,null,null,null,null,null,null,null,null,null,null,null,null,null,null,""]
[null,null,135,null,null,null,null,null,null,null,null,null,null,null,null,null,null,null,null,null,null,null,null,null,null,null,null,null,null,null,"",null,null,null,null,null,null,null,null,null,null,null,null,null,null,null,null,null,null,null,null,null,null,null,null,null,"",null,null,null,null,null,null,null,null,null,null,null,null,null,null,null,null,null,null,null,null,null,null,null,null,null,"",null,null,null,null,null,null,null,null,null,null,null,null,null,null,null,null,null,null,null,null,null,null,null,null,null,"",null,null,null,null,null,null,null,null,null,null,null,null,null,null,null,null,null,null,null,null,null,null,null,null,null,"",null,null,null,null,null,null,null,null,null,null,null,null,null,null,null,null,null,null,null,null,null,null,null,null,null,"",null,null,null,null,null,null,null,null,null,null,null,null,null,null,null,null,null,null,null,null,null,null,null,null,null,"",null,null,null,null,null,null,null,null,null,null,null,null,null,null,null,null,null,null,null,null,null,null,null,null,null,"",null,null,null,null,null,null,null,null,null,null,null,null,null,null,null,null,null,null,null,null,null,null,null,null,null,"",null,null,null,null,null,null,null,null,null,null,null,null,null,null,null,null,null,null,null,null,null,null,null,null,null,"",null,null,null,null,null,null,null,null,null,null,null,null,null,null,null,null,null,null,null,null,null,null,null,null,null,""]
[null,null,136,null,null,null,null,null,null,null,null,null,null,null,null,null,null,null,null,null,null,null,null,null,null,null,null,null,null,null,"",null,null,null,null,null,null,null,null,null,null,null,null,null,null,null,null,null,null,null,null,null,null,null,null,null,"",null,null,null,null,null,null,null,null,null,null,null,null,null,null,null,null,null,null,null,null,null,null,null,null,null,"",null,null,null,null,null,null,null,null,null,null,null,null,null,null,null,null,null,null,null,null,null,null,null,null,null,"",null,null,null,null,null,null,null,null,null,null,null,null,null,null,null,null,null,null,null,null,null,null,null,null,null,"",null,null,null,null,null,null,null,null,null,null,null,null,null,null,null,null,null,null,null,null,null,null,null,null,null,"",null,null,null,null,null,null,null,null,null,null,null,null,null,null,null,null,null,null,null,null,null,null,null,null,null,"",null,null,null,null,null,null,null,null,null,null,null,null,null,null,null,null,null,null,null,null,null,null,null,null,null,"",null,null,null,null,null,null,null,null,null,null,null,null,null,null,null,null,null,null,null,null,null,null,null,null,null,"",null,null,null,null,null,null,null,null,null,null,null,null,null,null,null,null,null,null,null,null,null,null,null,null,null,"",null,null,null,null,null,null,null,null,null,null,null,null,null,null,null,null,null,null,null,null,null,null,null,null,null,""]
[null,null,137,null,null,null,null,null,null,null,null,null,null,null,null,null,null,null,null,null,null,null,null,null,null,null,null,null,null,null,"",null,null,null,null,null,null,null,null,null,null,null,null,null,null,null,null,null,null,null,null,null,null,null,null,null,"",null,null,null,null,null,null,null,null,null,null,null,null,null,null,null,null,null,null,null,null,null,null,null,null,null,"",null,null,null,null,null,null,null,null,null,null,null,null,null,null,null,null,null,null,null,null,null,null,null,null,null,"",null,null,null,null,null,null,null,null,null,null,null,null,null,null,null,null,null,null,null,null,null,null,null,null,null,"",null,null,null,null,null,null,null,null,null,null,null,null,null,null,null,null,null,null,null,null,null,null,null,null,null,"",null,null,null,null,null,null,null,null,null,null,null,null,null,null,null,null,null,null,null,null,null,null,null,null,null,"",null,null,null,null,null,null,null,null,null,null,null,null,null,null,null,null,null,null,null,null,null,null,null,null,null,"",null,null,null,null,null,null,null,null,null,null,null,null,null,null,null,null,null,null,null,null,null,null,null,null,null,"",null,null,null,null,null,null,null,null,null,null,null,null,null,null,null,null,null,null,null,null,null,null,null,null,null,"",null,null,null,null,null,null,null,null,null,null,null,null,null,null,null,null,null,null,null,null,null,null,null,null,null,""]
[null,null,138,null,null,null,null,null,null,null,null,null,null,null,null,null,null,null,null,null,null,null,null,null,null,null,null,null,null,null,"",null,null,null,null,null,null,null,null,null,null,null,null,null,null,null,null,null,null,null,null,null,null,null,null,null,"",null,null,null,null,null,null,null,null,null,null,null,null,null,null,null,null,null,null,null,null,null,null,null,null,null,"",null,null,null,null,null,null,null,null,null,null,null,null,null,null,null,null,null,null,null,null,null,null,null,null,null,"",null,null,null,null,null,null,null,null,null,null,null,null,null,null,null,null,null,null,null,null,null,null,null,null,null,"",null,null,null,null,null,null,null,null,null,null,null,null,null,null,null,null,null,null,null,null,null,null,null,null,null,"",null,null,null,null,null,null,null,null,null,null,null,null,null,null,null,null,null,null,null,null,null,null,null,null,null,"",null,null,null,null,null,null,null,null,null,null,null,null,null,null,null,null,null,null,null,null,null,null,null,null,null,"",null,null,null,null,null,null,null,null,null,null,null,null,null,null,null,null,null,null,null,null,null,null,null,null,null,"",null,null,null,null,null,null,null,null,null,null,null,null,null,null,null,null,null,null,null,null,null,null,null,null,null,"",null,null,null,null,null,null,null,null,null,null,null,null,null,null,null,null,null,null,null,null,null,null,null,null,null,""]
[null,null,139,null,null,null,null,null,null,null,null,null,null,null,null,null,null,null,null,null,null,null,null,null,null,null,null,null,null,null,"",null,null,null,null,null,null,null,null,null,null,null,null,null,null,null,null,null,null,null,null,null,null,null,null,null,"",null,null,null,null,null,null,null,null,null,null,null,null,null,null,null,null,null,null,null,null,null,null,null,null,null,"",null,null,null,null,null,null,null,null,null,null,null,null,null,null,null,null,null,null,null,null,null,null,null,null,null,"",null,null,null,null,null,null,null,null,null,null,null,null,null,null,null,null,null,null,null,null,null,null,null,null,null,"",null,null,null,null,null,null,null,null,null,null,null,null,null,null,null,null,null,null,null,null,null,null,null,null,null,"",null,null,null,null,null,null,null,null,null,null,null,null,null,null,null,null,null,null,null,null,null,null,null,null,null,"",null,null,null,null,null,null,null,null,null,null,null,null,null,null,null,null,null,null,null,null,null,null,null,null,null,"",null,null,null,null,null,null,null,null,null,null,null,null,null,null,null,null,null,null,null,null,null,null,null,null,null,"",null,null,null,null,null,null,null,null,null,null,null,null,null,null,null,null,null,null,null,null,null,null,null,null,null,"",null,null,null,null,null,null,null,null,null,null,null,null,null,null,null,null,null,null,null,null,null,null,null,null,null,""]
[null,null,140,null,null,null,null,null,null,null,null,null,null,null,null,null,null,null,null,null,null,null,null,null,null,null,null,null,null,null,"",null,null,null,null,null,null,null,null,null,null,null,null,null,null,null,null,null,null,null,null,null,null,null,null,null,"",null,null,null,null,null,null,null,null,null,null,null,null,null,null,null,null,null,null,null,null,null,null,null,null,null,"",null,null,null,null,null,null,null,null,null,null,null,null,null,null,null,null,null,null,null,null,null,null,null,null,null,"",null,null,null,null,null,null,null,null,null,null,null,null,null,null,null,null,null,null,null,null,null,null,null,null,null,"",null,null,null,null,null,null,null,null,null,null,null,null,null,null,null,null,null,null,null,null,null,null,null,null,null,"",null,null,null,null,null,null,null,null,null,null,null,null,null,null,null,null,null,null,null,null,null,null,null,null,null,"",null,null,null,null,null,null,null,null,null,null,null,null,null,null,null,null,null,null,null,null,null,null,null,null,null,"",null,null,null,null,null,null,null,null,null,null,null,null,null,null,null,null,null,null,null,null,null,null,null,null,null,"",null,null,null,null,null,null,null,null,null,null,null,null,null,null,null,null,null,null,null,null,null,null,null,null,null,"",null,null,null,null,null,null,null,null,null,null,null,null,null,null,null,null,null,null,null,null,null,null,null,null,null,""]
[null,null,141,null,null,null,null,null,null,null,null,null,null,null,null,null,null,null,null,null,null,null,null,null,null,null,null,null,null,null,"",null,null,null,null,null,null,null,null,null,null,null,null,null,null,null,null,null,null,null,null,null,null,null,null,null,"",null,null,null,null,null,null,null,null,null,null,null,null,null,null,null,null,null,null,null,null,null,null,null,null,null,"",null,null,null,null,null,null,null,null,null,null,null,null,null,null,null,null,null,null,null,null,null,null,null,null,null,"",null,null,null,null,null,null,null,null,null,null,null,null,null,null,null,null,null,null,null,null,null,null,null,null,null,"",null,null,null,null,null,null,null,null,null,null,null,null,null,null,null,null,null,null,null,null,null,null,null,null,null,"",null,null,null,null,null,null,null,null,null,null,null,null,null,null,null,null,null,null,null,null,null,null,null,null,null,"",null,null,null,null,null,null,null,null,null,null,null,null,null,null,null,null,null,null,null,null,null,null,null,null,null,"",null,null,null,null,null,null,null,null,null,null,null,null,null,null,null,null,null,null,null,null,null,null,null,null,null,"",null,null,null,null,null,null,null,null,null,null,null,null,null,null,null,null,null,null,null,null,null,null,null,null,null,"",null,null,null,null,null,null,null,null,null,null,null,null,null,null,null,null,null,null,null,null,null,null,null,null,null,""]
[null,null,142,null,null,null,null,null,null,null,null,null,null,null,null,null,null,null,null,null,null,null,null,null,null,null,null,null,null,null,"",null,null,null,null,null,null,null,null,null,null,null,null,null,null,null,null,null,null,null,null,null,null,null,null,null,"",null,null,null,null,null,null,null,null,null,null,null,null,null,null,null,null,null,null,null,null,null,null,null,null,null,"",null,null,null,null,null,null,null,null,null,null,null,null,null,null,null,null,null,null,null,null,null,null,null,null,null,"",null,null,null,null,null,null,null,null,null,null,null,null,null,null,null,null,null,null,null,null,null,null,null,null,null,"",null,null,null,null,null,null,null,null,null,null,null,null,null,null,null,null,null,null,null,null,null,null,null,null,null,"",null,null,null,null,null,null,null,null,null,null,null,null,null,null,null,null,null,null,null,null,null,null,null,null,null,"",null,null,null,null,null,null,null,null,null,null,null,null,null,null,null,null,null,null,null,null,null,null,null,null,null,"",null,null,null,null,null,null,null,null,null,null,null,null,null,null,null,null,null,null,null,null,null,null,null,null,null,"",null,null,null,null,null,null,null,null,null,null,null,null,null,null,null,null,null,null,null,null,null,null,null,null,null,"",null,null,null,null,null,null,null,null,null,null,null,null,null,null,null,null,null,null,null,null,null,null,null,null,null,""]
[null,null,143,null,null,null,null,null,null,null,null,null,null,null,null,null,null,null,null,null,null,null,null,null,null,null,null,null,null,null,"",null,null,null,null,null,null,null,null,null,null,null,null,null,null,null,null,null,null,null,null,null,null,null,null,null,"",null,null,null,null,null,null,null,null,null,null,null,null,null,null,null,null,null,null,null,null,null,null,null,null,null,"",null,null,null,null,null,null,null,null,null,null,null,null,null,null,null,null,null,null,null,null,null,null,null,null,null,"",null,null,null,null,null,null,null,null,null,null,null,null,null,null,null,null,null,null,null,null,null,null,null,null,null,"",null,null,null,null,null,null,null,null,null,null,null,null,null,null,null,null,null,null,null,null,null,null,null,null,null,"",null,null,null,null,null,null,null,null,null,null,null,null,null,null,null,null,null,null,null,null,null,null,null,null,null,"",null,null,null,null,null,null,null,null,null,null,null,null,null,null,null,null,null,null,null,null,null,null,null,null,null,"",null,null,null,null,null,null,null,null,null,null,null,null,null,null,null,null,null,null,null,null,null,null,null,null,null,"",null,null,null,null,null,null,null,null,null,null,null,null,null,null,null,null,null,null,null,null,null,null,null,null,null,"",null,null,null,null,null,null,null,null,null,null,null,null,null,null,null,null,null,null,null,null,null,null,null,null,null,""]
[null,null,144,null,null,null,null,null,null,null,null,null,null,null,null,null,null,null,null,null,null,null,null,null,null,null,null,null,null,null,"",null,null,null,null,null,null,null,null,null,null,null,null,null,null,null,null,null,null,null,null,null,null,null,null,null,"",null,null,null,null,null,null,null,null,null,null,null,null,null,null,null,null,null,null,null,null,null,null,null,null,null,"",null,null,null,null,null,null,null,null,null,null,null,null,null,null,null,null,null,null,null,null,null,null,null,null,null,"",null,null,null,null,null,null,null,null,null,null,null,null,null,null,null,null,null,null,null,null,null,null,null,null,null,"",null,null,null,null,null,null,null,null,null,null,null,null,null,null,null,null,null,null,null,null,null,null,null,null,null,"",null,null,null,null,null,null,null,null,null,null,null,null,null,null,null,null,null,null,null,null,null,null,null,null,null,"",null,null,null,null,null,null,null,null,null,null,null,null,null,null,null,null,null,null,null,null,null,null,null,null,null,"",null,null,null,null,null,null,null,null,null,null,null,null,null,null,null,null,null,null,null,null,null,null,null,null,null,"",null,null,null,null,null,null,null,null,null,null,null,null,null,null,null,null,null,null,null,null,null,null,null,null,null,"",null,null,null,null,null,null,null,null,null,null,null,null,null,null,null,null,null,null,null,null,null,null,null,null,null,""]
[null,null,145,null,null,null,null,null,null,null,null,null,null,null,null,null,null,null,null,null,null,null,null,null,null,null,null,null,null,null,"",null,null,null,null,null,null,null,null,null,null,null,null,null,null,null,null,null,null,null,null,null,null,null,null,null,"",null,null,null,null,null,null,null,null,null,null,null,null,null,null,null,null,null,null,null,null,null,null,null,null,null,"",null,null,null,null,null,null,null,null,null,null,null,null,null,null,null,null,null,null,null,null,null,null,null,null,null,"",null,null,null,null,null,null,null,null,null,null,null,null,null,null,null,null,null,null,null,null,null,null,null,null,null,"",null,null,null,null,null,null,null,null,null,null,null,null,null,null,null,null,null,null,null,null,null,null,null,null,null,"",null,null,null,null,null,null,null,null,null,null,null,null,null,null,null,null,null,null,null,null,null,null,null,null,null,"",null,null,null,null,null,null,null,null,null,null,null,null,null,null,null,null,null,null,null,null,null,null,null,null,null,"",null,null,null,null,null,null,null,null,null,null,null,null,null,null,null,null,null,null,null,null,null,null,null,null,null,"",null,null,null,null,null,null,null,null,null,null,null,null,null,null,null,null,null,null,null,null,null,null,null,null,null,"",null,null,null,null,null,null,null,null,null,null,null,null,null,null,null,null,null,null,null,null,null,null,null,null,null,""]
[null,null,146,null,null,null,null,null,null,null,null,null,null,null,null,null,null,null,null,null,null,null,null,null,null,null,null,null,null,null,"",null,null,null,null,null,null,null,null,null,null,null,null,null,null,null,null,null,null,null,null,null,null,null,null,null,"",null,null,null,null,null,null,null,null,null,null,null,null,null,null,null,null,null,null,null,null,null,null,null,null,null,"",null,null,null,null,null,null,null,null,null,null,null,null,null,null,null,null,null,null,null,null,null,null,null,null,null,"",null,null,null,null,null,null,null,null,null,null,null,null,null,null,null,null,null,null,null,null,null,null,null,null,null,"",null,null,null,null,null,null,null,null,null,null,null,null,null,null,null,null,null,null,null,null,null,null,null,null,null,"",null,null,null,null,null,null,null,null,null,null,null,null,null,null,null,null,null,null,null,null,null,null,null,null,null,"",null,null,null,null,null,null,null,null,null,null,null,null,null,null,null,null,null,null,null,null,null,null,null,null,null,"",null,null,null,null,null,null,null,null,null,null,null,null,null,null,null,null,null,null,null,null,null,null,null,null,null,"",null,null,null,null,null,null,null,null,null,null,null,null,null,null,null,null,null,null,null,null,null,null,null,null,null,"",null,null,null,null,null,null,null,null,null,null,null,null,null,null,null,null,null,null,null,null,null,null,null,null,null,""]
[null,null,147,null,null,null,null,null,null,null,null,null,null,null,null,null,null,null,null,null,null,null,null,null,null,null,null,null,null,null,"",null,null,null,null,null,null,null,null,null,null,null,null,null,null,null,null,null,null,null,null,null,null,null,null,null,"",null,null,null,null,null,null,null,null,null,null,null,null,null,null,null,null,null,null,null,null,null,null,null,null,null,"",null,null,null,null,null,null,null,null,null,null,null,null,null,null,null,null,null,null,null,null,null,null,null,null,null,"",null,null,null,null,null,null,null,null,null,null,null,null,null,null,null,null,null,null,null,null,null,null,null,null,null,"",null,null,null,null,null,null,null,null,null,null,null,null,null,null,null,null,null,null,null,null,null,null,null,null,null,"",null,null,null,null,null,null,null,null,null,null,null,null,null,null,null,null,null,null,null,null,null,null,null,null,null,"",null,null,null,null,null,null,null,null,null,null,null,null,null,null,null,null,null,null,null,null,null,null,null,null,null,"",null,null,null,null,null,null,null,null,null,null,null,null,null,null,null,null,null,null,null,null,null,null,null,null,null,"",null,null,null,null,null,null,null,null,null,null,null,null,null,null,null,null,null,null,null,null,null,null,null,null,null,"",null,null,null,null,null,null,null,null,null,null,null,null,null,null,null,null,null,null,null,null,null,null,null,null,null,""]
[null,null,148,null,null,null,null,null,null,null,null,null,null,null,null,null,null,null,null,null,null,null,null,null,null,null,null,null,null,null,"",null,null,null,null,null,null,null,null,null,null,null,null,null,null,null,null,null,null,null,null,null,null,null,null,null,"",null,null,null,null,null,null,null,null,null,null,null,null,null,null,null,null,null,null,null,null,null,null,null,null,null,"",null,null,null,null,null,null,null,null,null,null,null,null,null,null,null,null,null,null,null,null,null,null,null,null,null,"",null,null,null,null,null,null,null,null,null,null,null,null,null,null,null,null,null,null,null,null,null,null,null,null,null,"",null,null,null,null,null,null,null,null,null,null,null,null,null,null,null,null,null,null,null,null,null,null,null,null,null,"",null,null,null,null,null,null,null,null,null,null,null,null,null,null,null,null,null,null,null,null,null,null,null,null,null,"",null,null,null,null,null,null,null,null,null,null,null,null,null,null,null,null,null,null,null,null,null,null,null,null,null,"",null,null,null,null,null,null,null,null,null,null,null,null,null,null,null,null,null,null,null,null,null,null,null,null,null,"",null,null,null,null,null,null,null,null,null,null,null,null,null,null,null,null,null,null,null,null,null,null,null,null,null,"",null,null,null,null,null,null,null,null,null,null,null,null,null,null,null,null,null,null,null,null,null,null,null,null,null,""]
[null,null,149,null,null,null,null,null,null,null,null,null,null,null,null,null,null,null,null,null,null,null,null,null,null,null,null,null,null,null,"",null,null,null,null,null,null,null,null,null,null,null,null,null,null,null,null,null,null,null,null,null,null,null,null,null,"",null,null,null,null,null,null,null,null,null,null,null,null,null,null,null,null,null,null,null,null,null,null,null,null,null,"",null,null,null,null,null,null,null,null,null,null,null,null,null,null,null,null,null,null,null,null,null,null,null,null,null,"",null,null,null,null,null,null,null,null,null,null,null,null,null,null,null,null,null,null,null,null,null,null,null,null,null,"",null,null,null,null,null,null,null,null,null,null,null,null,null,null,null,null,null,null,null,null,null,null,null,null,null,"",null,null,null,null,null,null,null,null,null,null,null,null,null,null,null,null,null,null,null,null,null,null,null,null,null,"",null,null,null,null,null,null,null,null,null,null,null,null,null,null,null,null,null,null,null,null,null,null,null,null,null,"",null,null,null,null,null,null,null,null,null,null,null,null,null,null,null,null,null,null,null,null,null,null,null,null,null,"",null,null,null,null,null,null,null,null,null,null,null,null,null,null,null,null,null,null,null,null,null,null,null,null,null,"",null,null,null,null,null,null,null,null,null,null,null,null,null,null,null,null,null,null,null,null,null,null,null,null,null,""]
[null,null,150,null,null,null,null,null,null,null,null,null,null,null,null,null,null,null,null,null,null,null,null,null,null,null,null,null,null,null,"",null,null,null,null,null,null,null,null,null,null,null,null,null,null,null,null,null,null,null,null,null,null,null,null,null,"",null,null,null,null,null,null,null,null,null,null,null,null,null,null,null,null,null,null,null,null,null,null,null,null,null,"",null,null,null,null,null,null,null,null,null,null,null,null,null,null,null,null,null,null,null,null,null,null,null,null,null,"",null,null,null,null,null,null,null,null,null,null,null,null,null,null,null,null,null,null,null,null,null,null,null,null,null,"",null,null,null,null,null,null,null,null,null,null,null,null,null,null,null,null,null,null,null,null,null,null,null,null,null,"",null,null,null,null,null,null,null,null,null,null,null,null,null,null,null,null,null,null,null,null,null,null,null,null,null,"",null,null,null,null,null,null,null,null,null,null,null,null,null,null,null,null,null,null,null,null,null,null,null,null,null,"",null,null,null,null,null,null,null,null,null,null,null,null,null,null,null,null,null,null,null,null,null,null,null,null,null,"",null,null,null,null,null,null,null,null,null,null,null,null,null,null,null,null,null,null,null,null,null,null,null,null,null,"",null,null,null,null,null,null,null,null,null,null,null,null,null,null,null,null,null,null,null,null,null,null,null,null,null,""]

{"sheet":"C3_Monit Efectivas Prim","index":10,"n_rows":172,"n_cols":291,"rows_kept":172,"cut":false,"hidden":true,"merged":[[19,290,21,290],[20,267,20,289],[14,266,14,270],[15,267,15,268],[15,269,15,270],[15,271,15,272],[16,267,16,268],[16,269,16,270],[16,271,16,272],[19,266,21,266],[19,267,19,289],[9,266,9,268],[9,269,9,270],[9,271,9,272],[15,274,15,275],[10,266,10,268],[10,269,10,270],[10,271,10,272],[16,274,16,275],[13,266,13,270],[9,11,9,12],[9,13,9,14],[9,32,9,34],[9,35,9,36],[9,37,9,38],[9,39,9,40],[2,1,2,2],[5,2,5,3],[6,2,6,3],[8,4,8,5],[9,6,9,8],[9,9,9,10],[9,89,9,90],[9,91,9,92],[9,110,9,112],[9,113,9,114],[9,115,9,116],[9,117,9,118],[9,58,9,60],[9,61,9,62],[9,63,9,64],[9,65,9,66],[9,84,9,86],[9,87,9,88],[9,188,9,190],[9,191,9,192],[9,193,9,194],[9,195,9,196],[9,136,9,138],[9,139,9,140],[9,141,9,142],[9,143,9,144],[9,162,9,164],[9,165,9,166],[10,58,10,60],[10,61,10,62],[10,63,10,64],[10,65,10,66],[10,84,10,86],[10,87,10,88],[9,245,9,246],[9,247,9,248],[10,6,10,8],[10,9,10,10],[10,11,10,12],[10,13,10,14],[10,32,10,34],[10,35,10,36],[10,37,10,38],[10,39,10,40],[9,214,9,216],[9,217,9,218],[9,219,9,220],[9,221,9,222],[9,240,9,242],[9,243,9,244],[9,167,9,168],[9,169,9,170],[10,141,10,142],[10,143,10,144],[10,162,10,164],[10,165,10,166],[10,89,10,90],[10,91,10,92],[10,110,10,112],[10,113,10,114],[10,115,10,116],[10,117,10,118],[10,245,10,246],[10,247,10,248],[13,1,13,5],[13,6,13,10],[13,32,13,36],[13,58,13,62],[13,84,13,88],[13,110,13,114],[13,136,13,140],[13,162,13,166],[10,214,10,216],[10,217,10,218],[10,219,10,220],[10,221,10,222],[10,240,10,242],[10,243,10,244],[10,167,10,168],[10,169,10,170],[10,188,10,190],[10,191,10,192],[10,193,10,194],[10,195,10,196],[10,136,10,138],[10,139,10,140],[13,188,13,192],[13,214,13,218],[13,240,13,244],[14,1,15,2],[14,3,14,5],[14,6,14,10],[14,32,14,36],[14,58,14,62],[14,84,14,88],[14,110,14,114],[14,136,14,140],[14,162,14,166],[14,188,14,192],[14,214,14,218],[14,240,14,244],[15,7,15,8],[15,9,15,10],[15,11,15,12],[15,33,15,34],[15,35,15,36],[15,113,15,114],[15,115,15,116],[15,137,15,138],[15,139,15,140],[15,245,15,246],[16,1,16,2],[16,7,16,8],[16,9,16,10],[16,11,16,12],[16,33,16,34],[16,35,16,36],[16,37,16,38],[16,59,16,60],[16,61,16,62],[15,193,15,194],[15,215,15,216],[15,217,15,218],[15,219,15,220],[15,241,15,242],[15,243,15,244],[15,141,15,142],[15,163,15,164],[15,189,15,190],[15,191,15,192],[15,89,15,90],[15,111,15,112],[16,245,16,246],[16,193,16,194],[19,1,21,1],[19,2,21,2],[19,3,21,3],[19,4,21,4],[19,5,21,5],[19,6,21,6],[16,167,16,168],[16,189,16,190],[16,191,16,192],[19,7,19,29],[19,30,21,30],[19,32,21,32],[19,33,19,55],[19,56,21,56],[19,58,21,58],[16,215,16,216],[16,217,16,218],[16,115,16,116],[16,137,16,138],[16,139,16,140],[16,141,16,142],[16,163,16,164],[15,37,15,38],[15,59,15,60],[16,111,16,112],[15,165,15,166],[15,167,15,168],[15,61,15,62],[15,63,15,64],[15,85,15,86],[15,87,15,88],[16,219,16,220],[16,241,16,242],[16,243,16,244],[16,113,16,114],[19,160,21,160],[19,162,21,162],[20,137,20,159],[19,59,19,81],[19,82,21,82],[19,84,21,84],[19,85,19,107],[19,108,21,108],[19,110,21,110],[20,215,20,237],[20,241,20,263],[19,215,19,237],[19,238,21,238],[19,240,21,240],[19,241,19,263],[16,165,16,166],[16,63,16,64],[16,85,16,86],[16,87,16,88],[16,89,16,90],[19,264,21,264],[20,7,20,29],[20,33,20,55],[20,59,20,81],[20,85,20,107],[20,111,20,133],[19,163,19,185],[19,186,21,186],[19,188,21,188],[19,189,19,211],[19,212,21,212],[19,214,21,214],[20,163,20,185],[20,189,20,211],[19,111,19,133],[19,134,21,134],[19,136,21,136],[19,137,19,159]]}
[null,"Indicador 2: Porcentaje de jornadas laborales efectivas de los docentes."]
[null,"Calendarización y seguimiento del cumplimiento de horas en el año escolar 2017 (nivel Primaria)"]
[]
[]
[null,null,"HORAS CALENDARIZADAS EN EL AÑO"]
[null,null,"NIVEL/MODALIDAD",null,"H. / DIA","N° SECC."]
[null,null,"PRIMARIA",null,{"$f":"'C3_FormPrim'!L14","v":0},{"$f":"'C3_FormPrim'!L13","v":0},"Estos datos se enlazan con las hojas de calendarización."]
[]
[null,null,null,null,"HORAS",null,"HRS. CALENDARIZADAS EN EL MES",null,null,null,null,null,null,null,null,null,null,null,null,null,null,null,null,null,null,null,null,null,null,null,null,null,"HORAS CALENDARIZADAS EN EL MES",null,null,null,null,null,null,null,null,null,null,null,null,null,null,null,null,null,null,null,null,null,null,null,null,null,"HORAS CALENDARIZADAS EN EL MES",null,null,null,null,null,null,null,null,null,null,null,null,null,null,null,null,null,null,null,null,null,null,null,null,null,"HORAS CALENDARIZADAS EN EL MES",null,null,null,null,null,null,null,null,null,null,null,null,null,null,null,null,null,null,null,null,null,null,null,null,null,"HORAS CALENDARIZADAS EN EL MES",null,null,null,null,null,null,null,null,null,null,null,null,null,null,null,null,null,null,null,null,null,null,null,null,null,"HORAS CALENDARIZADAS EN EL MES",null,null,null,null,null,null,null,null,null,null,null,null,null,null,null,null,null,null,null,null,null,null,null,null,null,"HORAS CALENDARIZADAS EN EL MES",null,null,null,null,null,null,null,null,null,null,null,null,null,null,null,null,null,null,null,null,null,null,null,null,null,"HORAS CALENDARIZADAS EN EL MES",null,null,null,null,null,null,null,null,null,null,null,null,null,null,null,null,null,null,null,null,null,null,null,null,null,"HORAS CALENDARIZADAS EN EL MES",null,null,null,null,null,null,null,null,null,null,null,null,null,null,null,null,null,null,null,null,null,null,null,null,null,"HRS. CALENDARIZADAS EN EL MES",null,null,null,null,null,null,null,null,null,null,null,null,null,null,null,null,null,null,null,null,null,null,null,null,null,"HRS. CALENDARIZADAS EN EL MES"]
[null,null,"AÑO","DIAS","LECT.","EFEC.","MES",null,null,"DIAS",null,"LECT.",null,"EFEC.",null,null,null,null,null,null,null,null,null,null,null,null,null,null,null,null,null,null,"MES",null,null,"DIAS",null,"LECT.",null,"EFEC.",null,null,null,null,null,null,null,null,null,null,null,null,null,null,null,null,null,null,"MES",null,null,"DIAS",null,"LECT.",null,"EFEC.",null,null,null,null,null,null,null,null,null,null,null,null,null,null,null,null,null,null,"MES",null,null,"DIAS",null,"LECT.",null,"EFEC.",null,null,null,null,null,null,null,null,null,null,null,null,null,null,null,null,null,null,"MES",null,null,"DIAS",null,"LECT.",null,"EFEC.",null,null,null,null,null,null,null,null,null,null,null,null,null,null,null,null,null,null,"MES",null,null,"DIAS",null,"LECT.",null,"EFEC.",null,null,null,null,null,null,null,null,null,null,null,null,null,null,null,null,null,null,"MES",null,null,"DIAS",null,"LECT.",null,"EFEC.",null,null,null,null,null,null,null,null,null,null,null,null,null,null,null,null,null,null,"MES",null,null,"DIAS",null,"LECT.",null,"EFEC.",null,null,null,null,null,null,null,null,null,null,null,null,null,null,null,null,null,null,"MES",null,null,"DIAS",null,"LECT.",null,"EFEC.",null,null,null,null,null,null,null,null,null,null,null,null,null,null,null,null,null,null,"MES",null,null,"DIAS",null,"LECT.",null,"EFEC.",null,null,null,null,null,null,null,null,null,null,null,null,null,null,null,null,null,null,"MES",null,null,"DIAS",null,"LECT."]
[null,null,2017,{"$f":"J11+AJ11+BJ11+CJ11+EJ11+HJ11+IJ11+DJ11+FJ11+GJ11","v":184},{"$f":"'C3_FormPrim'!AQ43","v":0},{"$f":"'C3_FormPrim'!AR43","v":0},{"$f":"'C3_FormPrim'!B21","v":"2017-03-01"},null,null,{"$f":"'C3_FormPrim'!AP21","v":14},null,{"$f":"'C3_FormPrim'!AQ21","v":0},null,{"$f":"'C3_FormPrim'!AR21","v":0},null,"Estos datos se enlazan con las hojas de calendarización.",null,null,null,null,null,null,null,null,null,null,null,null,null,null,null,null,{"$f":"'C3_FormPrim'!B23","v":"2017-04-01"},null,null,{"$f":"'C3_FormPrim'!AP23","v":20},null,{"$f":"'C3_FormPrim'!AQ23","v":0},null,{"$f":"'C3_FormPrim'!AR23","v":0},null,null,null,null,null,null,null,null,null,null,null,null,null,null,null,null,null,null,{"$f":"'C3_FormPrim'!B25","v":"2017-05-01"},null,null,{"$f":"'C3_FormPrim'!AP25","v":22},null,{"$f":"'C3_FormPrim'!AQ25","v":0},null,{"$f":"'C3_FormPrim'!AR25","v":0},null,null,null,null,null,null,null,null,null,null,null,null,null,null,null,null,null,null,{"$f":"'C3_FormPrim'!B27","v":"2017-06-01"},null,null,{"$f":"'C3_FormPrim'!AP27","v":21},null,{"$f":"'C3_FormPrim'!AQ27","v":0},null,{"$f":"'C3_FormPrim'!AR27","v":0},null,null,null,null,null,null,null,null,null,null,null,null,null,null,null,null,null,null,{"$f":"'C3_FormPrim'!B29","v":"2017-07-01"},null,null,{"$f":"'C3_FormPrim'!AP29","v":15},null,{"$f":"'C3_FormPrim'!AQ29","v":0},null,{"$f":"'C3_FormPrim'!AR29","v":0},null,null,null,null,null,null,null,null,null,null,null,null,null,null,null,null,null,null,{"$f":"'C3_FormPrim'!B31","v":"2017-08-01"},null,null,{"$f":"'C3_FormPrim'!AP31","v":18},null,{"$f":"'C3_FormPrim'!AQ31","v":0},null,{"$f":"'C3_FormPrim'!AR31","v":0},null,null,null,null,null,null,null,null,null,null,null,null,null,null,null,null,null,null,{"$f":"'C3_FormPrim'!B33","v":"2017-09-01"},null,null,{"$f":"'C3_FormPrim'!AP33","v":21},null,{"$f":"'C3_FormPrim'!AQ33","v":0},null,{"$f":"'C3_FormPrim'!AR33","v":0},null,null,null,null,null,null,null,null,null,null,null,null,null,null,null,null,null,null,{"$f":"'C3_FormPrim'!B35","v":"2017-10-01"},null,null,{"$f":"'C3_FormPrim'!AP35","v":22},null,{"$f":"IF(GJ11=\"\",\"\",GJ11*E$7)","v":0},null,{"$f":"IF(GJ11=\"\",\"\",GL11*F$7)","v":0},null,null,null,null,null,null,null,null,null,null,null,null,null,null,null,null,null,null,{"$f":"'C3_FormPrim'!B37","v":"2017-11-01"},null,null,{"$f":"'C3_FormPrim'!AP37","v":21},null,{"$f":"IF(HJ11=\"\",\"\",HJ11*E$7)","v":0},null,{"$f":"IF(HJ11=\"\",\"\",HL11*F$7)","v":0},null,null,null,null,null,null,null,null,null,null,null,null,null,null,null,null,null,null,{"$f":"'C3_FormPrim'!B39","v":"2017-12-01"},null,null,{"$f":"'C3_FormPrim'!AP39","v":10},null,{"$f":"IF(IJ11=\"\",\"\",IJ11*E$7)","v":0},null,{"$f":"IF(IJ11=\"\",\"\",IL11*F$7)","v":0},null,null,null,null,null,null,null,null,null,null,null,null,null,null,null,null,null,null,{"$f":"'C3_FormPrim'!B41","v":"2018-01-01"},null,null,{"$f":"'C3_FormPrim'!AP41","v":0},null,{"$f":"IF(JJ11=\"\",\"\",JJ11*E$7)","v":0}]
[]
[null,"INFORME DE LAS HORAS EFECTIVAS DE TRABAJO PEDAGOGICO EN LAS INSTITUCIONES EDUCATIVAS PUBLICAS *"]
[null,"AVANCE ANUAL DE JORN. LAB. EFECTIVA",null,null,null,null,{"$f":"G11","v":"2017-03-01"},null,null,null,null,null,null,null,null,null,null,null,null,null,null,null,null,null,null,null,null,null,null,null,null,null,{"$f":"AG11","v":"2017-04-01"},null,null,null,null,null,null,null,null,null,null,null,null,null,null,null,null,null,null,null,null,null,null,null,null,null,{"$f":"BG11","v":"2017-05-01"},null,null,null,null,null,null,null,null,null,null,null,null,null,null,null,null,null,null,null,null,null,null,null,null,null,{"$f":"CG11","v":"2017-06-01"},null,null,null,null,null,null,null,null,null,null,null,null,null,null,null,null,null,null,null,null,null,null,null,null,null,{"$f":"DG11","v":"2017-07-01"},null,null,null,null,null,null,null,null,null,null,null,null,null,null,null,null,null,null,null,null,null,null,null,null,null,{"$f":"EG11","v":"2017-08-01"},null,null,null,null,null,null,null,null,null,null,null,null,null,null,null,null,null,null,null,null,null,null,null,null,null,{"$f":"FG11","v":"2017-09-01"},null,null,null,null,null,null,null,null,null,null,null,null,null,null,null,null,null,null,null,null,null,null,null,null,null,{"$f":"GG11","v":"2017-10-01"},null,null,null,null,null,null,null,null,null,null,null,null,null,null,null,null,null,null,null,null,null,null,null,null,null,{"$f":"HG11","v":"2017-11-01"},null,null,null,null,null,null,null,null,null,null,null,null,null,null,null,null,null,null,null,null,null,null,null,null,null,{"$f":"IG11","v":"2017-12-01"},null,null,null,null,null,null,null,null,null,null,null,null,null,null,null,null,null,null,null,null,null,null,null,null,null,{"$f":"JG11","v":"2018-01-01"}]
[null,"NIVEL",null,"JORNADA EFECTIVA",null,null,"JORNADA EFECTIVA",null,null,null,null,null,null,null,null,null,null,null,null,null,null,null,null,null,null,null,null,null,null,null,null,null,"JORNADA EFECTIVA",null,null,null,null,null,null,null,null,null,null,null,null,null,null,null,null,null,null,null,null,null,null,null,null,null,"JORNADA EFECTIVA",null,null,null,null,null,null,null,null,null,null,null,null,null,null,null,null,null,null,null,null,null,null,null,null,null,"JORNADA EFECTIVA",null,null,null,null,null,null,null,null,null,null,null,null,null,null,null,null,null,null,null,null,null,null,null,null,null,"JORNADA EFECTIVA",null,null,null,null,null,null,null,null,null,null,null,null,null,null,null,null,null,null,null,null,null,null,null,null,null,"JORNADA EFECTIVA",null,null,null,null,null,null,null,null,null,null,null,null,null,null,null,null,null,null,null,null,null,null,null,null,null,"JORNADA EFECTIVA",null,null,null,null,null,null,null,null,null,null,null,null,null,null,null,null,null,null,null,null,null,null,null,null,null,"JORNADA EFECTIVA",null,null,null,null,null,null,null,null,null,null,null,null,null,null,null,null,null,null,null,null,null,null,null,null,null,"JORNADA EFECTIVA",null,null,null,null,null,null,null,null,null,null,null,null,null,null,null,null,null,null,null,null,null,null,null,null,null,"JORNADA EFECTIVA",null,null,null,null,null,null,null,null,null,null,null,null,null,null,null,null,null,null,null,null,null,null,null,null,null,"JORNADA EFECTIVA"]
[null,null,null,"PROG.","CUMP.","%","PROG.","CUMPL.",null,"% MES",null,"% AÑO",null,null,null,null,null,null,null,null,null,null,null,null,null,null,null,null,null,null,null,null,"PROG.","CUMPL.",null,"% MES",null,"% AÑO",null,null,null,null,null,null,null,null,null,null,null,null,null,null,null,null,null,null,null,null,"PROG.","CUMPL.",null,"% MES",null,"% AÑO",null,null,null,null,null,null,null,null,null,null,null,null,null,null,null,null,null,null,null,null,"PROG.","CUMPL.",null,"% MES",null,"% AÑO",null,null,null,null,null,null,null,null,null,null,null,null,null,null,null,null,null,null,null,null,"PROG.","CUMPL.",null,"% MES",null,"% AÑO",null,null,null,null,null,null,null,null,null,null,null,null,null,null,null,null,null,null,null,null,"PROG.","CUMPL.",null,"% MES",null,"% AÑO",null,null,null,null,null,null,null,null,null,null,null,null,null,null,null,null,null,null,null,null,"PROG.","CUMPL.",null,"% MES",null,"% AÑO",null,null,null,null,null,null,null,null,null,null,null,null,null,null,null,null,null,null,null,null,"PROG.","CUMPL.",null,"% MES",null,"% AÑO",null,null,null,null,null,null,null,null,null,null,null,null,null,null,null,null,null,null,null,null,"PROG.","CUMPL.",null,"% MES",null,"% AÑO",null,null,null,null,null,null,null,null,null,null,null,null,null,null,null,null,null,null,null,null,"PROG.","CUMPL.",null,"% MES",null,"% AÑO",null,null,null,null,null,null,null,null,null,null,null,null,null,null,null,null,null,null,null,null,"PROG.","CUMPL.",null,"% MES",null,"% AÑO",null,null,"EFEC."]
[null,"PRIMARIA",null,{"$f":"SUM(F11:F11)","v":0},{"$f":"H17+AH17+BH17+CH17+DH17+EH17+FH17+GH17+HH17+IH17+JH17","v":0},{"$f":"IF(D17=0,\"100%\",E17/D17)","v":"100%"},{"$f":"IF(N11=\"\",\"\",N11)","v":0},{"$f":"SUM(AE23:AE172)","v":0},null,{"$f":"IF(G17=0,\"100%\",H17/G17)","v":"100%"},null,{"$f":"IF(D17=0,\"100%\",H17/D17)","v":"100%"},null,null,null,null,null,null,null,null,null,null,null,null,null,null,null,null,null,null,null,null,{"$f":"IF(AN11=\"\",\"\",AN11)","v":0},{"$f":"SUM(BE23:BE172)","v":0},null,{"$f":"IF(AG17=0,\"100%\",AH17/AG17)","v":"100%"},null,{"$f":"IF(D17=0,\"100%\",(AH17+H17)/D17)","v":"100%"},null,null,null,null,null,null,null,null,null,null,null,null,null,null,null,null,null,null,null,null,{"$f":"IF(BN11=\"\",\"\",BN11)","v":0},{"$f":"SUM(CE23:CE172)","v":0},null,{"$f":"IF(BG17=0,\"100%\",BH17/BG17)","v":"100%"},null,{"$f":"IF(D17=0,\"100%\",(BH17+AH17+H17)/D17)","v":"100%"},null,null,null,null,null,null,null,null,null,null,null,null,null,null,null,null,null,null,null,null,{"$f":"IF(CN11=\"\",\"\",CN11)","v":0},{"$f":"SUM(DE23:DE172)","v":0},null,{"$f":"IF(CG17=0,\"100%\",CH17/CG17)","v":"100%"},null,{"$f":"IF(D17=0,\"100%\",(CH17+BH17+AH17+H17)/D17)","v":"100%"},null,null,null,null,null,null,null,null,null,null,null,null,null,null,null,null,null,null,null,null,{"$f":"IF(DN11=\"\",\"\",DN11)","v":0},{"$f":"SUM(EE23:EE172)","v":0},null,{"$f":"IF(DG17=0,\"100%\",DH17/DG17)","v":"100%"},null,{"$f":"IF(D17=0,\"100%\",(DH17+CH17+BH17+AH17+H17)/D17)","v":"100%"},null,null,null,null,null,null,null,null,null,null,null,null,null,null,null,null,null,null,null,null,{"$f":"IF(EN11=\"\",\"\",EN11)","v":0},{"$f":"SUM(FE23:FE172)","v":0},null,{"$f":"IF(EG17=0,\"100%\",EH17/EG17)","v":"100%"},null,{"$f":"IF(D17=0,\"100%\",(EH17+DH17+CH17+BH17+AH17+H17)/D17)","v":"100%"},null,null,null,null,null,null,null,null,null,null,null,null,null,null,null,null,null,null,null,null,{"$f":"IF(FN11=\"\",\"\",FN11)","v":0},{"$f":"SUM(GE23:GE172)","v":0},null,{"$f":"IF(FG17=0,\"100%\",FH17/FG17)","v":"100%"},null,{"$f":"IF(D17=0,\"100%\",(FH17+EH17+DH17+CH17+BH17+AH17+H17)/D17)","v":"100%"},null,null,null,null,null,null,null,null,null,null,null,null,null,null,null,null,null,null,null,null,{"$f":"IF(GN11=\"\",\"\",GN11)","v":0},{"$f":"SUM(HE23:HE172)","v":0},null,{"$f":"IF(GG17=0,\"100%\",GH17/GG17)","v":"100%"},null,{"$f":"IF(D17=0,\"100%\",(GH17+FH17+EH17+DH17+CH17+BH17+AH17+H17)/D17)","v":"100%"},null,null,null,null,null,null,null,null,null,null,null,null,null,null,null,null,null,null,null,null,{"$f":"IF(HN11=\"\",\"\",HN11)","v":0},{"$f":"SUM(IE23:IE172)","v":0},null,{"$f":"IF(HG17=0,\"100%\",HH17/HG17)","v":"100%"},null,{"$f":"IF(D17=0,\"100%\",(HH17+GH17+FH17+EH17+DH17+CH17+BH17+AH17+H17)/D17)","v":"100%"},null,null,null,null,null,null,null,null,null,null,null,null,null,null,null,null,null,null,null,null,{"$f":"IF(IN11=\"\",\"\",IN11)","v":0},{"$f":"SUM(JE23:JE172)","v":0},null,{"$f":"IF(IG17=0,\"100%\",IH17/IG17)","v":"100%"},null,{"$f":"IF(D17=0,\"100%\",(IH17+HH17+GH17+FH17+EH17+DH17+CH17+BH17+AH17+H17)/D17)","v":"100%"},null,null,null,null,null,null,null,null,null,null,null,null,null,null,null,null,null,null,null,null,{"$f":"IF(JO17=\"\",\"\",JO17)","v":0},{"$f":"SUM(KE23:KE172)","v":0},null,{"$f":"IF(JG17=0,\"100%\",JH17/JG17)","v":"100%"},null,{"$f":"IF(D17=0,\"100%\",(JH17+IH17+HH17+GH17+FH17+EH17+DH17+CH17+BH17+AH17+H17)/D17)","v":"100%"},null,null,{"$f":"IF(JJ11=\"\",\"\",JL11*F$7)","v":0}]
[]
[null,"* FORMATO 02, PROPUESTO EN \"LINEAMIENTOS PARA EL SEGUIMIENTO Y CONTROL DE LA LABOR EFECTIVA DE TRABAJO DOCENTE EN LAS INSTITUCIONES EDUCATIVAS PÚBLICAS\"  DS Nº 008-2006-ED"]
[null,"N°","APELLIDOS Y NOMBRES","JORN. EFECT. DE TRABAJO PEDAG.","GRADO","SECCIÓN","Horas programadas",{"$f":"CONCATENATE(\"MES: \",TEXT(G14,\"mmmm\"))","v":"MES: Marzo"},null,null,null,null,null,null,null,null,null,null,null,null,null,null,null,null,null,null,null,null,null,null,"TOTAL DE HORAS EFECTIVAS MENSUAL",null,"Horas programadas",{"$f":"CONCATENATE(\"MES: \",TEXT(AG14,\"mmmm\"))","v":"MES: Abril"},null,null,null,null,null,null,null,null,null,null,null,null,null,null,null,null,null,null,null,null,null,null,"TOTAL DE HORAS EFECTIVAS MENSUAL",null,"Horas programadas",{"$f":"CONCATENATE(\"MES: \",TEXT(BG14,\"mmmm\"))","v":"MES: Mayo"},null,null,null,null,null,null,null,null,null,null,null,null,null,null,null,null,null,null,null,null,null,null,"TOTAL DE HORAS EFECTIVAS MENSUAL",null,"Horas programadas",{"$f":"CONCATENATE(\"MES: \",TEXT(CG14,\"mmmm\"))","v":"MES: Junio"},null,null,null,null,null,null,null,null,null,null,null,null,null,null,null,null,null,null,null,null,null,null,"TOTAL DE HORAS EFECTIVAS MENSUAL",null,"Horas programadas",{"$f":"CONCATENATE(\"MES: \",TEXT(DG14,\"mmmm\"))","v":"MES: Julio"},null,null,null,null,null,null,null,null,null,null,null,null,null,null,null,null,null,null,null,null,null,null,"TOTAL DE HORAS EFECTIVAS MENSUAL",null,"Horas programadas",{"$f":"CONCATENATE(\"MES: \",TEXT(EG14,\"mmmm\"))","v":"MES: Agosto"},null,null,null,null,null,null,null,null,null,null,null,null,null,null,null,null,null,null,null,null,null,null,"TOTAL DE HORAS EFECTIVAS MENSUAL",null,"Horas programadas",{"$f":"CONCATENATE(\"MES: \",TEXT(FG14,\"mmmm\"))","v":"MES: Setiembre"},null,null,null,null,null,null,null,null,null,null,null,null,null,null,null,null,null,null,null,null,null,null,"TOTAL DE HORAS EFECTIVAS MENSUAL",null,"Horas programadas",{"$f":"CONCATENATE(\"MES: \",TEXT(GG14,\"mmmm\"))","v":"MES: Octubre"},null,null,null,null,null,null,null,null,null,null,null,null,null,null,null,null,null,null,null,null,null,null,"TOTAL DE HORAS EFECTIVAS MENSUAL",null,"Horas programadas",{"$f":"CONCATENATE(\"MES: \",TEXT(HG14,\"mmmm\"))","v":"MES: Noviembre"},null,null,null,null,null,null,null,null,null,null,null,null,null,null,null,null,null,null,null,null,null,null,"TOTAL DE HORAS EFECTIVAS MENSUAL",null,"Horas programadas",{"$f":"CONCATENATE(\"MES: \",TEXT(IG14,\"mmmm\"))","v":"MES: Diciembre"},null,null,null,null,null,null,null,null,null,null,null,null,null,null,null,null,null,null,null,null,null,null,"TOTAL DE HORAS EFECTIVAS MENSUAL",null,"Horas programadas",{"$f":"CONCATENATE(\"MES: \",TEXT(JG14,\"mmmm\"))","v":"MES: Enero"},null,null,null,null,null,null,null,null,null,null,null,null,null,null,null,null,null,null,null,null,null,null,"TOTAL DE HORAS EFECTIVAS MENSUAL"]
[null,null,null,null,null,null,null,"DÍAS EFECTIVOS DE TRABAJO ESCOLAR",null,null,null,null,null,null,null,null,null,null,null,null,null,null,null,null,null,null,null,null,null,null,null,null,null,"DÍAS EFECTIVOS DE TRABAJO ESCOLAR",null,null,null,null,null,null,null,null,null,null,null,null,null,null,null,null,null,null,null,null,null,null,null,null,null,"DÍAS EFECTIVOS DE TRABAJO ESCOLAR",null,null,null,null,null,null,null,null,null,null,null,null,null,null,null,null,null,null,null,null,null,null,null,null,null,"DÍAS EFECTIVOS DE TRABAJO ESCOLAR",null,null,null,null,null,null,null,null,null,null,null,null,null,null,null,null,null,null,null,null,null,null,null,null,null,"DÍAS EFECTIVOS DE TRABAJO ESCOLAR",null,null,null,null,null,null,null,null,null,null,null,null,null,null,null,null,null,null,null,null,null,null,null,null,null,"DÍAS EFECTIVOS DE TRABAJO ESCOLAR",null,null,null,null,null,null,null,null,null,null,null,null,null,null,null,null,null,null,null,null,null,null,null,null,null,"DÍAS EFECTIVOS DE TRABAJO ESCOLAR",null,null,null,null,null,null,null,null,null,null,null,null,null,null,null,null,null,null,null,null,null,null,null,null,null,"DÍAS EFECTIVOS DE TRABAJO ESCOLAR",null,null,null,null,null,null,null,null,null,null,null,null,null,null,null,null,null,null,null,null,null,null,null,null,null,"DÍAS EFECTIVOS DE TRABAJO ESCOLAR",null,null,null,null,null,null,null,null,null,null,null,null,null,null,null,null,null,null,null,null,null,null,null,null,null,"DÍAS EFECTIVOS DE TRABAJO ESCOLAR",null,null,null,null,null,null,null,null,null,null,null,null,null,null,null,null,null,null,null,null,null,null,null,null,null,"DÍAS EFECTIVOS DE TRABAJO ESCOLAR"]
[null,null,null,null,null,null,null,{"$f":"IF($J11<>0,1,\"\")","v":1},{"$f":"IF(H22<$J$11,H22+1,\"\")","v":2},{"$f":"IF(I22<$J$11,I22+1,\"\")","v":3},4,5,6,7,8,9,10,11,12,13,14,"","","","","","","","","",null,null,null,{"$f":"IF($J11<>0,1,\"\")","v":1},{"$f":"IF(AH22<$AJ$11,AH22+1,\"\")","v":2},{"$f":"IF(AI22<$AJ$11,AI22+1,\"\")","v":3},4,5,6,7,8,9,10,11,12,13,14,15,16,17,18,19,20,"","","",null,null,null,{"$f":"IF($J11<>0,1,\"\")","v":1},{"$f":"IF(BH22<$BJ$11,BH22+1,\"\")","v":2},{"$f":"IF(BI22<$BJ$11,BI22+1,\"\")","v":3},4,5,6,7,8,9,10,11,12,13,14,15,16,17,18,19,20,21,22,"",null,null,null,{"$f":"IF($J11<>0,1,\"\")","v":1},{"$f":"IF(CH22<$CJ$11,CH22+1,\"\")","v":2},{"$f":"IF(CI22<$CJ$11,CI22+1,\"\")","v":3},4,5,6,7,8,9,10,11,12,13,14,15,16,17,18,19,20,21,"","",null,null,null,{"$f":"IF($J11<>0,1,\"\")","v":1},{"$f":"IF(DH22<$DJ$11,DH22+1,\"\")","v":2},{"$f":"IF(DI22<$DJ$11,DI22+1,\"\")","v":3},4,5,6,7,8,9,10,11,12,13,14,15,"","","","","","","","",null,null,null,{"$f":"IF($J11<>0,1,\"\")","v":1},{"$f":"IF(EH22<$EJ$11,EH22+1,\"\")","v":2},{"$f":"IF(EI22<$EJ$11,EI22+1,\"\")","v":3},4,5,6,7,8,9,10,11,12,13,14,15,16,17,18,"","","","","",null,null,null,{"$f":"IF($J11<>0,1,\"\")","v":1},{"$f":"IF(FH22<$FJ$11,FH22+1,\"\")","v":2},{"$f":"IF(FI22<$FJ$11,FI22+1,\"\")","v":3},4,5,6,7,8,9,10,11,12,13,14,15,16,17,18,19,20,21,"","",null,null,null,{"$f":"IF($J11<>0,1,\"\")","v":1},{"$f":"IF(GH22<$GJ$11,GH22+1,\"\")","v":2},{"$f":"IF(GI22<$GJ$11,GI22+1,\"\")","v":3},4,5,6,7,8,9,10,11,12,13,14,15,16,17,18,19,20,21,22,"",null,null,null,{"$f":"IF($J11<>0,1,\"\")","v":1},{"$f":"IF(HH22<$HJ$11,HH22+1,\"\")","v":2},{"$f":"IF(HI22<$HJ$11,HI22+1,\"\")","v":3},4,5,6,7,8,9,10,11,12,13,14,15,16,17,18,19,20,21,"","",null,null,null,{"$f":"IF($J11<>0,1,\"\")","v":1},{"$f":"IF(IH22<$IJ$11,IH22+1,\"\")","v":2},{"$f":"IF(II22<$IJ$11,II22+1,\"\")","v":3},4,5,6,7,8,9,10,"","","","","","","","","","","","","",null,null,null,{"$f":"IF($J11<>0,1,\"\")","v":1},{"$f":"IF(JH22<$JJ$11,JH22+1,\"\")","v":""},{"$f":"IF(JI22<$JJ$11,JI22+1,\"\")","v":""},"","","","","","","","","","","","","","","","","","","",{"$f":"IF(KC22<$JJ$11,KC22+1,\"\")","v":""}]
[null,1,null,null,null,null,{"$f":"IF($C23=\"\",\"\",L$11)","v":""},null,null,null,null,null,null,null,null,null,null,null,null,null,null,null,null,null,null,null,null,null,null,null,{"$f":"IF($C23=\"\",\"\",SUM(H23:AD23))","v":""},null,{"$f":"IF($C23=\"\",\"\",AL$11)","v":""},null,null,null,null,null,null,null,null,null,null,null,null,null,null,null,null,null,null,null,null,null,null,null,{"$f":"IF($C23=\"\",\"\",SUM(AH23:BD23))","v":""},null,{"$f":"IF($C23=\"\",\"\",BL$11)","v":""},null,null,null,null,null,null,null,null,null,null,null,null,null,null,null,null,null,null,null,null,null,null,null,{"$f":"IF($C23=\"\",\"\",SUM(BH23:CD23))","v":""},null,{"$f":"IF($C23=\"\",\"\",CL$11)","v":""},null,null,null,null,null,null,null,null,null,null,null,null,null,null,null,null,null,null,null,null,null,null,null,{"$f":"IF($C23=\"\",\"\",SUM(CH23:DD23))","v":""},null,{"$f":"IF($C23=\"\",\"\",DL$11)","v":""},null,null,null,null,null,null,null,null,null,null,null,null,null,null,null,null,null,null,null,null,null,null,null,{"$f":"IF($C23=\"\",\"\",SUM(DH23:ED23))","v":""},null,{"$f":"IF($C23=\"\",\"\",EL$11)","v":""},null,null,null,null,null,null,null,null,null,null,null,null,null,null,null,null,null,null,null,null,null,null,null,{"$f":"IF($C23=\"\",\"\",SUM(EH23:FD23))","v":""},null,{"$f":"IF($C23=\"\",\"\",FL$11)","v":""},null,null,null,null,null,null,null,null,null,null,null,null,null,null,null,null,null,null,null,null,null,null,null,{"$f":"IF($C23=\"\",\"\",SUM(FH23:GD23))","v":""},null,{"$f":"IF($C23=\"\",\"\",GL$11)","v":""},null,null,null,null,null,null,null,null,null,null,null,null,null,null,null,null,null,null,null,null,null,null,null,{"$f":"IF($C23=\"\",\"\",SUM(GH23:HD23))","v":""},null,{"$f":"IF($C23=\"\",\"\",HL$11)","v":""},null,null,null,null,null,null,null,null,null,null,null,null,null,null,null,null,null,null,null,null,null,null,null,{"$f":"IF($C23=\"\",\"\",SUM(HH23:ID23))","v":""},null,{"$f":"IF($C23=\"\",\"\",IL$11)","v":""},null,null,null,null,null,null,null,null,null,null,null,null,null,null,null,null,null,null,null,null,null,null,null,{"$f":"IF($C23=\"\",\"\",SUM(IH23:JD23))","v":""},null,{"$f":"IF($C23=\"\",\"\",JL$11)","v":""},null,null,null,null,null,null,null,null,null,null,null,null,null,null,null,null,null,null,null,null,null,null,null,{"$f":"IF($C23=\"\",\"\",SUM(JH23:KD23))","v":""}]
[null,2,null,null,null,null,{"$f":"IF($C24=\"\",\"\",L$11)","v":""},null,null,null,null,null,null,null,null,null,null,null,null,null,null,null,null,null,null,null,null,null,null,null,{"$f":"IF($C24=\"\",\"\",SUM(H24:AD24))","v":""},null,{"$f":"IF($C24=\"\",\"\",AL$11)","v":""},null,null,null,null,null,null,null,null,null,null,null,null,null,null,null,null,null,null,null,null,null,null,null,{"$f":"IF($C24=\"\",\"\",SUM(AH24:BD24))","v":""},null,{"$f":"IF($C24=\"\",\"\",BL$11)","v":""},null,null,null,null,null,null,null,null,null,null,null,null,null,null,null,null,null,null,null,null,null,null,null,{"$f":"IF($C24=\"\",\"\",SUM(BH24:CD24))","v":""},null,{"$f":"IF($C24=\"\",\"\",CL$11)","v":""},null,null,null,null,null,null,null,null,null,null,null,null,null,null,null,null,null,null,null,null,null,null,null,{"$f":"IF($C24=\"\",\"\",SUM(CH24:DD24))","v":""},null,{"$f":"IF($C24=\"\",\"\",DL$11)","v":""},null,null,null,null,null,null,null,null,null,null,null,null,null,null,null,null,null,null,null,null,null,null,null,{"$f":"IF($C24=\"\",\"\",SUM(DH24:ED24))","v":""},null,{"$f":"IF($C24=\"\",\"\",EL$11)","v":""},null,null,null,null,null,null,null,null,null,null,null,null,null,null,null,null,null,null,null,null,null,null,null,{"$f":"IF($C24=\"\",\"\",SUM(EH24:FD24))","v":""},null,{"$f":"IF($C24=\"\",\"\",FL$11)","v":""},null,null,null,null,null,null,null,null,null,null,null,null,null,null,null,null,null,null,null,null,null,null,null,{"$f":"IF($C24=\"\",\"\",SUM(FH24:GD24))","v":""},null,{"$f":"IF($C24=\"\",\"\",GL$11)","v":""},null,null,null,null,null,null,null,null,null,null,null,null,null,null,null,null,null,null,null,null,null,null,null,{"$f":"IF($C24=\"\",\"\",SUM(GH24:HD24))","v":""},null,{"$f":"IF($C24=\"\",\"\",HL$11)","v":""},null,null,null,null,null,null,null,null,null,null,null,null,null,null,null,null,null,null,null,null,null,null,null,{"$f":"IF($C24=\"\",\"\",SUM(HH24:ID24))","v":""},null,{"$f":"IF($C24=\"\",\"\",IL$11)","v":""},null,null,null,null,null,null,null,null,null,null,null,null,null,null,null,null,null,null,null,null,null,null,null,{"$f":"IF($C24=\"\",\"\",SUM(IH24:JD24))","v":""},null,{"$f":"IF($C24=\"\",\"\",JL$11)","v":""},null,null,null,null,null,null,null,null,null,null,null,null,null,null,null,null,null,null,null,null,null,null,null,{"$f":"IF($C24=\"\",\"\",SUM(JH24:KD24))","v":""}]
[null,3,null,null,null,null,"",null,null,null,null,null,null,null,null,null,null,null,null,null,null,null,null,null,null,null,null,null,null,null,"",null,"",null,null,null,null,null,null,null,null,null,null,null,null,null,null,null,null,null,null,null,null,null,null,null,"",null,"",null,null,null,null,null,null,null,null,null,null,null,null,null,null,null,null,null,null,null,null,null,null,null,"",null,"",null,null,null,null,null,null,null,null,null,null,null,null,null,null,null,null,null,null,null,null,null,null,null,"",null,"",null,null,null,null,null,null,null,null,null,null,null,null,null,null,null,null,null,null,null,null,null,null,null,"",null,"",null,null,null,null,null,null,null,null,null,null,null,null,null,null,null,null,null,null,null,null,null,null,null,"",null,"",null,null,null,null,null,null,null,null,null,null,null,null,null,null,null,null,null,null,null,null,null,null,null,"",null,"",null,null,null,null,null,null,null,null,null,null,null,null,null,null,null,null,null,null,null,null,null,null,null,"",null,"",null,null,null,null,null,null,null,null,null,null,null,null,null,null,null,null,null,null,null,null,null,null,null,"",null,"",null,null,null,null,null,null,null,null,null,null,null,null,null,null,null,null,null,null,null,null,null,null,null,"",null,"",null,null,null,null,null,null,null,null,null,null,null,null,null,null,null,null,null,null,null,null,null,null,null,""]
[null,4,null,null,null,null,"",null,null,null,null,null,null,null,null,null,null,null,null,null,null,null,null,null,null,null,null,null,null,null,"",null,"",null,null,null,null,null,null,null,null,null,null,null,null,null,null,null,null,null,null,null,null,null,null,null,"",null,"",null,null,null,null,null,null,null,null,null,null,null,null,null,null,null,null,null,null,null,null,null,null,null,"",null,"",null,null,null,null,null,null,null,null,null,null,null,null,null,null,null,null,null,null,null,null,null,null,null,"",null,"",null,null,null,null,null,null,null,null,null,null,null,null,null,null,null,null,null,null,null,null,null,null,null,"",null,"",null,null,null,null,null,null,null,null,null,null,null,null,null,null,null,null,null,null,null,null,null,null,null,"",null,"",null,null,null,null,null,null,null,null,null,null,null,null,null,null,null,null,null,null,null,null,null,null,null,"",null,"",null,null,null,null,null,null,null,null,null,null,null,null,null,null,null,null,null,null,null,null,null,null,null,"",null,"",null,null,null,null,null,null,null,null,null,null,null,null,null,null,null,null,null,null,null,null,null,null,null,"",null,"",null,null,null,null,null,null,null,null,null,null,null,null,null,null,null,null,null,null,null,null,null,null,null,"",null,"",null,null,null,null,null,null,null,null,null,null,null,null,null,null,null,null,null,null,null,null,null,null,null,""]
[null,5,null,null,null,null,"",null,null,null,null,null,null,null,null,null,null,null,null,null,null,null,null,null,null,null,null,null,null,null,"",null,"",null,null,null,null,null,null,null,null,null,null,null,null,null,null,null,null,null,null,null,null,null,null,null,"",null,"",null,null,null,null,null,null,null,null,null,null,null,null,null,null,null,null,null,null,null,null,null,null,null,"",null,"",null,null,null,null,null,null,null,null,null,null,null,null,null,null,null,null,null,null,null,null,null,null,null,"",null,"",null,null,null,null,null,null,null,null,null,null,null,null,null,null,null,null,null,null,null,null,null,null,null,"",null,"",null,null,null,null,null,null,null,null,null,null,null,null,null,null,null,null,null,null,null,null,null,null,null,"",null,"",null,null,null,null,null,null,null,null,null,null,null,null,null,null,null,null,null,null,null,null,null,null,null,"",null,"",null,null,null,null,null,null,null,null,null,null,null,null,null,null,null,null,null,null,null,null,null,null,null,"",null,"",null,null,null,null,null,null,null,null,null,null,null,null,null,null,null,null,null,null,null,null,null,null,null,"",null,"",null,null,null,null,null,null,null,null,null,null,null,null,null,null,null,null,null,null,null,null,null,null,null,"",null,"",null,null,null,null,null,null,null,null,null,null,null,null,null,null,null,null,null,null,null,null,null,null,null,""]
[null,6,null,null,null,null,"",null,null,null,null,null,null,null,null,null,null,null,null,null,null,null,null,null,null,null,null,null,null,null,"",null,"",null,null,null,null,null,null,null,null,null,null,null,null,null,null,null,null,null,null,null,null,null,null,null,"",null,"",null,null,null,null,null,null,null,null,null,null,null,null,null,null,null,null,null,null,null,null,null,null,null,"",null,"",null,null,null,null,null,null,null,null,null,null,null,null,null,null,null,null,null,null,null,null,null,null,null,"",null,"",null,null,null,null,null,null,null,null,null,null,null,null,null,null,null,null,null,null,null,null,null,null,null,"",null,"",null,null,null,null,null,null,null,null,null,null,null,null,null,null,null,null,null,null,null,null,null,null,null,"",null,"",null,null,null,null,null,null,null,null,null,null,null,null,null,null,null,null,null,null,null,null,null,null,null,"",null,"",null,null,null,null,null,null,null,null,null,null,null,null,null,null,null,null,null,null,null,null,null,null,null,"",null,"",null,null,null,null,null,null,null,null,null,null,null,null,null,null,null,null,null,null,null,null,null,null,null,"",null,"",null,null,null,null,null,null,null,null,null,null,null,null,null,null,null,null,null,null,null,null,null,null,null,"",null,"",null,null,null,null,null,null,null,null,null,null,null,null,null,null,null,null,null,null,null,null,null,null,null,""]
[null,7,null,null,null,null,"",null,null,null,null,null,null,null,null,null,null,null,null,null,null,null,null,null,null,null,null,null,null,null,"",null,"",null,null,null,null,null,null,null,null,null,null,null,null,null,null,null,null,null,null,null,null,null,null,null,"",null,"",null,null,null,null,null,null,null,null,null,null,null,null,null,null,null,null,null,null,null,null,null,null,null,"",null,"",null,null,null,null,null,null,null,null,null,null,null,null,null,null,null,null,null,null,null,null,null,null,null,"",null,"",null,null,null,null,null,null,null,null,null,null,null,null,null,null,null,null,null,null,null,null,null,null,null,"",null,"",null,null,null,null,null,null,null,null,null,null,null,null,null,null,null,null,null,null,null,null,null,null,null,"",null,"",null,null,null,null,null,null,null,null,null,null,null,null,null,null,null,null,null,null,null,null,null,null,null,"",null,"",null,null,null,null,null,null,null,null,null,null,null,null,null,null,null,null,null,null,null,null,null,null,null,"",null,"",null,null,null,null,null,null,null,null,null,null,null,null,null,null,null,null,null,null,null,null,null,null,null,"",null,"",null,null,null,null,null,null,null,null,null,null,null,null,null,null,null,null,null,null,null,null,null,null,null,"",null,"",null,null,null,null,null,null,null,null,null,null,null,null,null,null,null,null,null,null,null,null,null,null,null,""]
[null,8,null,null,null,null,"",null,null,null,null,null,null,null,null,null,null,null,null,null,null,null,null,null,null,null,null,null,null,null,"",null,"",null,null,null,null,null,null,null,null,null,null,null,null,null,null,null,null,null,null,null,null,null,null,null,"",null,"",null,null,null,null,null,null,null,null,null,null,null,null,null,null,null,null,null,null,null,null,null,null,null,"",null,"",null,null,null,null,null,null,null,null,null,null,null,null,null,null,null,null,null,null,null,null,null,null,null,"",null,"",null,null,null,null,null,null,null,null,null,null,null,null,null,null,null,null,null,null,null,null,null,null,null,"",null,"",null,null,null,null,null,null,null,null,null,null,null,null,null,null,null,null,null,null,null,null,null,null,null,"",null,"",null,null,null,null,null,null,null,null,null,null,null,null,null,null,null,null,null,null,null,null,null,null,null,"",null,"",null,null,null,null,null,null,null,null,null,null,null,null,null,null,null,null,null,null,null,null,null,null,null,"",null,"",null,null,null,null,null,null,null,null,null,null,null,null,null,null,null,null,null,null,null,null,null,null,null,"",null,"",null,null,null,null,null,null,null,null,null,null,null,null,null,null,null,null,null,null,null,null,null,null,null,"",null,"",null,null,null,null,null,null,null,null,null,null,null,null,null,null,null,null,null,null,null,null,null,null,null,""]
[null,9,null,null,null,null,"",null,null,null,null,null,null,null,null,null,null,null,null,null,null,null,null,null,null,null,null,null,null,null,"",null,"",null,null,null,null,null,null,null,null,null,null,null,null,null,null,null,null,null,null,null,null,null,null,null,"",null,"",null,null,null,null,null,null,null,null,null,null,null,null,null,null,null,null,null,null,null,null,null,null,null,"",null,"",null,null,null,null,null,null,null,null,null,null,null,null,null,null,null,null,null,null,null,null,null,null,null,"",null,"",null,null,null,null,null,null,null,null,null,null,null,null,null,null,null,null,null,null,null,null,null,null,null,"",null,"",null,null,null,null,null,null,null,null,null,null,null,null,null,null,null,null,null,null,null,null,null,null,null,"",null,"",null,null,null,null,null,null,null,null,null,null,null,null,null,null,null,null,null,null,null,null,null,null,null,"",null,"",null,null,null,null,null,null,null,null,null,null,null,null,null,null,null,null,null,null,null,null,null,null,null,"",null,"",null,null,null,null,null,null,null,null,null,null,null,null,null,null,null,null,null,null,null,null,null,null,null,"",null,"",null,null,null,null,null,null,null,null,null,null,null,null,null,null,null,null,null,null,null,null,null,null,null,"",null,"",null,null,null,null,null,null,null,null,null,null,null,null,null,null,null,null,null,null,null,null,null,null,null,""]
[null,10,null,null,null,null,"",null,null,null,null,null,null,null,null,null,null,null,null,null,null,null,null,null,null,null,null,null,null,null,"",null,"",null,null,null,null,null,null,null,null,null,null,null,null,null,null,null,null,null,null,null,null,null,null,null,"",null,"",null,null,null,null,null,null,null,null,null,null,null,null,null,null,null,null,null,null,null,null,null,null,null,"",null,"",null,null,null,null,null,null,null,null,null,null,null,null,null,null,null,null,null,null,null,null,null,null,null,"",null,"",null,null,null,null,null,null,null,null,null,null,null,null,null,null,null,null,null,null,null,null,null,null,null,"",null,"",null,null,null,null,null,null,null,null,null,null,null,null,null,null,null,null,null,null,null,null,null,null,null,"",null,"",null,null,null,null,null,null,null,null,null,null,null,null,null,null,null,null,null,null,null,null,null,null,null,"",null,"",null,null,null,null,null,null,null,null,null,null,null,null,null,null,null,null,null,null,null,null,null,null,null,"",null,"",null,null,null,null,null,null,null,null,null,null,null,null,null,null,null,null,null,null,null,null,null,null,null,"",null,"",null,null,null,null,null,null,null,null,null,null,null,null,null,null,null,null,null,null,null,null,null,null,null,"",null,"",null,null,null,null,null,null,null,null,null,null,null,null,null,null,null,null,null,null,null,null,null,null,null,""]
[null,11,null,null,null,null,"",null,null,null,null,null,null,null,null,null,null,null,null,null,null,null,null,null,null,null,null,null,null,null,"",null,"",null,null,null,null,null,null,null,null,null,null,null,null,null,null,null,null,null,null,null,null,null,null,null,"",null,"",null,null,null,null,null,null,null,null,null,null,null,null,null,null,null,null,null,null,null,null,null,null,null,"",null,"",null,null,null,null,null,null,null,null,null,null,null,null,null,null,null,null,null,null,null,null,null,null,null,"",null,"",null,null,null,null,null,null,null,null,null,null,null,null,null,null,null,null,null,null,null,null,null,null,null,"",null,"",null,null,null,null,null,null,null,null,null,null,null,null,null,null,null,null,null,null,null,null,null,null,null,"",null,"",null,null,null,null,null,null,null,null,null,null,null,null,null,null,null,null,null,null,null,null,null,null,null,"",null,"",null,null,null,null,null,null,null,null,null,null,null,null,null,null,null,null,null,null,null,null,null,null,null,"",null,"",null,null,null,null,null,null,null,null,null,null,null,null,null,null,null,null,null,null,null,null,null,null,null,"",null,"",null,null,null,null,null,null,null,null,null,null,null,null,null,null,null,null,null,null,null,null,null,null,null,"",null,"",null,null,null,null,null,null,null,null,null,null,null,null,null,null,null,null,null,null,null,null,null,null,null,""]
[null,12,null,null,null,null,"",null,null,null,null,null,null,null,null,null,null,null,null,null,null,null,null,null,null,null,null,null,null,null,"",null,"",null,null,null,null,null,null,null,null,null,null,null,null,null,null,null,null,null,null,null,null,null,null,null,"",null,"",null,null,null,null,null,null,null,null,null,null,null,null,null,null,null,null,null,null,null,null,null,null,null,"",null,"",null,null,null,null,null,null,null,null,null,null,null,null,null,null,null,null,null,null,null,null,null,null,null,"",null,"",null,null,null,null,null,null,null,null,null,null,null,null,null,null,null,null,null,null,null,null,null,null,null,"",null,"",null,null,null,null,null,null,null,null,null,null,null,null,null,null,null,null,null,null,null,null,null,null,null,"",null,"",null,null,null,null,null,null,null,null,null,null,null,null,null,null,null,null,null,null,null,null,null,null,null,"",null,"",null,null,null,null,null,null,null,null,null,null,null,null,null,null,null,null,null,null,null,null,null,null,null,"",null,"",null,null,null,null,null,null,null,null,null,null,null,null,null,null,null,null,null,null,null,null,null,null,null,"",null,"",null,null,null,null,null,null,null,null,null,null,null,null,null,null,null,null,null,null,null,null,null,null,null,"",null,"",null,null,null,null,null,null,null,null,null,null,null,null,null,null,null,null,null,null,null,null,null,null,null,""]
[null,13,null,null,null,null,"",null,null,null,null,null,null,null,null,null,null,null,null,null,null,null,null,null,null,null,null,null,null,null,"",null,"",null,null,null,null,null,null,null,null,null,null,null,null,null,null,null,null,null,null,null,null,null,null,null,"",null,"",null,null,null,null,null,null,null,null,null,null,null,null,null,null,null,null,null,null,null,null,null,null,null,"",null,"",null,null,null,null,null,null,null,null,null,null,null,null,null,null,null,null,null,null,null,null,null,null,null,"",null,"",null,null,null,null,null,null,null,null,null,null,null,null,null,null,null,null,null,null,null,null,null,null,null,"",null,"",null,null,null,null,null,null,null,null,null,null,null,null,null,null,null,null,null,null,null,null,null,null,null,"",null,"",null,null,null,null,null,null,null,null,null,null,null,null,null,null,null,null,null,null,null,null,null,null,null,"",null,"",null,null,null,null,null,null,null,null,null,null,null,null,null,null,null,null,null,null,null,null,null,null,null,"",null,"",null,null,null,null,null,null,null,null,null,null,null,null,null,null,null,null,null,null,null,null,null,null,null,"",null,"",null,null,null,null,null,null,null,null,null,null,null,null,null,null,null,null,null,null,null,null,null,null,null,"",null,"",null,null,null,null,null,null,null,null,null,null,null,null,null,null,null,null,null,null,null,null,null,null,null,""]
[null,14,null,null,null,null,"",null,null,null,null,null,null,null,null,null,null,null,null,null,null,null,null,null,null,null,null,null,null,null,"",null,"",null,null,null,null,null,null,null,null,null,null,null,null,null,null,null,null,null,null,null,null,null,null,null,"",null,"",null,null,null,null,null,null,null,null,null,null,null,null,null,null,null,null,null,null,null,null,null,null,null,"",null,"",null,null,null,null,null,null,null,null,null,null,null,null,null,null,null,null,null,null,null,null,null,null,null,"",null,"",null,null,null,null,null,null,null,null,null,null,null,null,null,null,null,null,null,null,null,null,null,null,null,"",null,"",null,null,null,null,null,null,null,null,null,null,null,null,null,null,null,null,null,null,null,null,null,null,null,"",null,"",null,null,null,null,null,null,null,null,null,null,null,null,null,null,null,null,null,null,null,null,null,null,null,"",null,"",null,null,null,null,null,null,null,null,null,null,null,null,null,null,null,null,null,null,null,null,null,null,null,"",null,"",null,null,null,null,null,null,null,null,null,null,null,null,null,null,null,null,null,null,null,null,null,null,null,"",null,"",null,null,null,null,null,null,null,null,null,null,null,null,null,null,null,null,null,null,null,null,null,null,null,"",null,"",null,null,null,null,null,null,null,null,null,null,null,null,null,null,null,null,null,null,null,null,null,null,null,""]
[null,15,null,null,null,null,"",null,null,null,null,null,null,null,null,null,null,null,null,null,null,null,null,null,null,null,null,null,null,null,"",null,"",null,null,null,null,null,null,null,null,null,null,null,null,null,null,null,null,null,null,null,null,null,null,null,"",null,"",null,null,null,null,null,null,null,null,null,null,null,null,null,null,null,null,null,null,null,null,null,null,null,"",null,"",null,null,null,null,null,null,null,null,null,null,null,null,null,null,null,null,null,null,null,null,null,null,null,"",null,"",null,null,null,null,null,null,null,null,null,null,null,null,null,null,null,null,null,null,null,null,null,null,null,"",null,"",null,null,null,null,null,null,null,null,null,null,null,null,null,null,null,null,null,null,null,null,null,null,null,"",null,"",null,null,null,null,null,null,null,null,null,null,null,null,null,null,null,null,null,null,null,null,null,null,null,"",null,"",null,null,null,null,null,null,null,null,null,null,null,null,null,null,null,null,null,null,null,null,null,null,null,"",null,"",null,null,null,null,null,null,null,null,null,null,null,null,null,null,null,null,null,null,null,null,null,null,null,"",null,"",null,null,null,null,null,null,null,null,null,null,null,null,null,null,null,null,null,null,null,null,null,null,null,"",null,"",null,null,null,null,null,null,null,null,null,null,null,null,null,null,null,null,null,null,null,null,null,null,null,""]
[null,16,null,null,null,null,"",null,null,null,null,null,null,null,null,null,null,null,null,null,null,null,null,null,null,null,null,null,null,null,"",null,"",null,null,null,null,null,null,null,null,null,null,null,null,null,null,null,null,null,null,null,null,null,null,null,"",null,"",null,null,null,null,null,null,null,null,null,null,null,null,null,null,null,null,null,null,null,null,null,null,null,"",null,"",null,null,null,null,null,null,null,null,null,null,null,null,null,null,null,null,null,null,null,null,null,null,null,"",null,"",null,null,null,null,null,null,null,null,null,null,null,null,null,null,null,null,null,null,null,null,null,null,null,"",null,"",null,null,null,null,null,null,null,null,null,null,null,null,null,null,null,null,null,null,null,null,null,null,null,"",null,"",null,null,null,null,null,null,null,null,null,null,null,null,null,null,null,null,null,null,null,null,null,null,null,"",null,"",null,null,null,null,null,null,null,null,null,null,null,null,null,null,null,null,null,null,null,null,null,null,null,"",null,"",null,null,null,null,null,null,null,null,null,null,null,null,null,null,null,null,null,null,null,null,null,null,null,"",null,"",null,null,null,null,null,null,null,null,null,null,null,null,null,null,null,null,null,null,null,null,null,null,null,"",null,"",null,null,null,null,null,null,null,null,null,null,null,null,null,null,null,null,null,null,null,null,null,null,null,""]
[null,17,null,null,null,null,"",null,null,null,null,null,null,null,null,null,null,null,null,null,null,null,null,null,null,null,null,null,null,null,"",null,"",null,null,null,null,null,null,null,null,null,null,null,null,null,null,null,null,null,null,null,null,null,null,null,"",null,"",null,null,null,null,null,null,null,null,null,null,null,null,null,null,null,null,null,null,null,null,null,null,null,"",null,"",null,null,null,null,null,null,null,null,null,null,null,null,null,null,null,null,null,null,null,null,null,null,null,"",null,"",null,null,null,null,null,null,null,null,null,null,null,null,null,null,null,null,null,null,null,null,null,null,null,"",null,"",null,null,null,null,null,null,null,null,null,null,null,null,null,null,null,null,null,null,null,null,null,null,null,"",null,"",null,null,null,null,null,null,null,null,null,null,null,null,null,null,null,null,null,null,null,null,null,null,null,"",null,"",null,null,null,null,null,null,null,null,null,null,null,null,null,null,null,null,null,null,null,null,null,null,null,"",null,"",null,null,null,null,null,null,null,null,null,null,null,null,null,null,null,null,null,null,null,null,null,null,null,"",null,"",null,null,null,null,null,null,null,null,null,null,null,null,null,null,null,null,null,null,null,null,null,null,null,"",null,"",null,null,null,null,null,null,null,null,null,null,null,null,null,null,null,null,null,null,null,null,null,null,null,""]
[null,18,null,null,null,null,"",null,null,null,null,null,null,null,null,null,null,null,null,null,null,null,null,null,null,null,null,null,null,null,"",null,"",null,null,null,null,null,null,null,null,null,null,null,null,null,null,null,null,null,null,null,null,null,null,null,"",null,"",null,null,null,null,null,null,null,null,null,null,null,null,null,null,null,null,null,null,null,null,null,null,null,"",null,"",null,null,null,null,null,null,null,null,null,null,null,null,null,null,null,null,null,null,null,null,null,null,null,"",null,"",null,null,null,null,null,null,null,null,null,null,null,null,null,null,null,null,null,null,null,null,null,null,null,"",null,"",null,null,null,null,null,null,null,null,null,null,null,null,null,null,null,null,null,null,null,null,null,null,null,"",null,"",null,null,null,null,null,null,null,null,null,null,null,null,null,null,null,null,null,null,null,null,null,null,null,"",null,"",null,null,null,null,null,null,null,null,null,null,null,null,null,null,null,null,null,null,null,null,null,null,null,"",null,"",null,null,null,null,null,null,null,null,null,null,null,null,null,null,null,null,null,null,null,null,null,null,null,"",null,"",null,null,null,null,null,null,null,null,null,null,null,null,null,null,null,null,null,null,null,null,null,null,null,"",null,"",null,null,null,null,null,null,null,null,null,null,null,null,null,null,null,null,null,null,null,null,null,null,null,""]
[null,19,null,null,null,null,"",null,null,null,null,null,null,null,null,null,null,null,null,null,null,null,null,null,null,null,null,null,null,null,"",null,"",null,null,null,null,null,null,null,null,null,null,null,null,null,null,null,null,null,null,null,null,null,null,null,"",null,"",null,null,null,null,null,null,null,null,null,null,null,null,null,null,null,null,null,null,null,null,null,null,null,"",null,"",null,null,null,null,null,null,null,null,null,null,null,null,null,null,null,null,null,null,null,null,null,null,null,"",null,"",null,null,null,null,null,null,null,null,null,null,null,null,null,null,null,null,null,null,null,null,null,null,null,"",null,"",null,null,null,null,null,null,null,null,null,null,null,null,null,null,null,null,null,null,null,null,null,null,null,"",null,"",null,null,null,null,null,null,null,null,null,null,null,null,null,null,null,null,null,null,null,null,null,null,null,"",null,"",null,null,null,null,null,null,null,null,null,null,null,null,null,null,null,null,null,null,null,null,null,null,null,"",null,"",null,null,null,null,null,null,null,null,null,null,null,null,null,null,null,null,null,null,null,null,null,null,null,"",null,"",null,null,null,null,null,null,null,null,null,null,null,null,null,null,null,null,null,null,null,null,null,null,null,"",null,"",null,null,null,null,null,null,null,null,null,null,null,null,null,null,null,null,null,null,null,null,null,null,null,""]
[null,20,null,null,null,null,"",null,null,null,null,null,null,null,null,null,null,null,null,null,null,null,null,null,null,null,null,null,null,null,"",null,"",null,null,null,null,null,null,null,null,null,null,null,null,null,null,null,null,null,null,null,null,null,null,null,"",null,"",null,null,null,null,null,null,null,null,null,null,null,null,null,null,null,null,null,null,null,null,null,null,null,"",null,"",null,null,null,null,null,null,null,null,null,null,null,null,null,null,null,null,null,null,null,null,null,null,null,"",null,"",null,null,null,null,null,null,null,null,null,null,null,null,null,null,null,null,null,null,null,null,null,null,null,"",null,"",null,null,null,null,null,null,null,null,null,null,null,null,null,null,null,null,null,null,null,null,null,null,null,"",null,"",null,null,null,null,null,null,null,null,null,null,null,null,null,null,null,null,null,null,null,null,null,null,null,"",null,"",null,null,null,null,null,null,null,null,null,null,null,null,null,null,null,null,null,null,null,null,null,null,null,"",null,"",null,null,null,null,null,null,null,null,null,null,null,null,null,null,null,null,null,null,null,null,null,null,null,"",null,"",null,null,null,null,null,null,null,null,null,null,null,null,null,null,null,null,null,null,null,null,null,null,null,"",null,"",null,null,null,null,null,null,null,null,null,null,null,null,null,null,null,null,null,null,null,null,null,null,null,""]
[null,21,null,null,null,null,"",null,null,null,null,null,null,null,null,null,null,null,null,null,null,null,null,null,null,null,null,null,null,null,"",null,"",null,null,null,null,null,null,null,null,null,null,null,null,null,null,null,null,null,null,null,null,null,null,null,"",null,"",null,null,null,null,null,null,null,null,null,null,null,null,null,null,null,null,null,null,null,null,null,null,null,"",null,"",null,null,null,null,null,null,null,null,null,null,null,null,null,null,null,null,null,null,null,null,null,null,null,"",null,"",null,null,null,null,null,null,null,null,null,null,null,null,null,null,null,null,null,null,null,null,null,null,null,"",null,"",null,null,null,null,null,null,null,null,null,null,null,null,null,null,null,null,null,null,null,null,null,null,null,"",null,"",null,null,null,null,null,null,null,null,null,null,null,null,null,null,null,null,null,null,null,null,null,null,null,"",null,"",null,null,null,null,null,null,null,null,null,null,null,null,null,null,null,null,null,null,null,null,null,null,null,"",null,"",null,null,null,null,null,null,null,null,null,null,null,null,null,null,null,null,null,null,null,null,null,null,null,"",null,"",null,null,null,null,null,null,null,null,null,null,null,null,null,null,null,null,null,null,null,null,null,null,null,"",null,"",null,null,null,null,null,null,null,null,null,null,null,null,null,null,null,null,null,null,null,null,null,null,null,""]
[null,22,null,null,null,null,"",null,null,null,null,null,null,null,null,null,null,null,null,null,null,null,null,null,null,null,null,null,null,null,"",null,"",null,null,null,null,null,null,null,null,null,null,null,null,null,null,null,null,null,null,null,null,null,null,null,"",null,"",null,null,null,null,null,null,null,null,null,null,null,null,null,null,null,null,null,null,null,null,null,null,null,"",null,"",null,null,null,null,null,null,null,null,null,null,null,null,null,null,null,null,null,null,null,null,null,null,null,"",null,"",null,null,null,null,null,null,null,null,null,null,null,null,null,null,null,null,null,null,null,null,null,null,null,"",null,"",null,null,null,null,null,null,null,null,null,null,null,null,null,null,null,null,null,null,null,null,null,null,null,"",null,"",null,null,null,null,null,null,null,null,null,null,null,null,null,null,null,null,null,null,null,null,null,null,null,"",null,"",null,null,null,null,null,null,null,null,null,null,null,null,null,null,null,null,null,null,null,null,null,null,null,"",null,"",null,null,null,null,null,null,null,null,null,null,null,null,null,null,null,null,null,null,null,null,null,null,null,"",null,"",null,null,null,null,null,null,null,null,null,null,null,null,null,null,null,null,null,null,null,null,null,null,null,"",null,"",null,null,null,null,null,null,null,null,null,null,null,null,null,null,null,null,null,null,null,null,null,null,null,""]
[null,23,null,null,null,null,"",null,null,null,null,null,null,null,null,null,null,null,null,null,null,null,null,null,null,null,null,null,null,null,"",null,"",null,null,null,null,null,null,null,null,null,null,null,null,null,null,null,null,null,null,null,null,null,null,null,"",null,"",null,null,null,null,null,null,null,null,null,null,null,null,null,null,null,null,null,null,null,null,null,null,null,"",null,"",null,null,null,null,null,null,null,null,null,null,null,null,null,null,null,null,null,null,null,null,null,null,null,"",null,"",null,null,null,null,null,null,null,null,null,null,null,null,null,null,null,null,null,null,null,null,null,null,null,"",null,"",null,null,null,null,null,null,null,null,null,null,null,null,null,null,null,null,null,null,null,null,null,null,null,"",null,"",null,null,null,null,null,null,null,null,null,null,null,null,null,null,null,null,null,null,null,null,null,null,null,"",null,"",null,null,null,null,null,null,null,null,null,null,null,null,null,null,null,null,null,null,null,null,null,null,null,"",null,"",null,null,null,null,null,null,null,null,null,null,null,null,null,null,null,null,null,null,null,null,null,null,null,"",null,"",null,null,null,null,null,null,null,null,null,null,null,null,null,null,null,null,null,null,null,null,null,null,null,"",null,"",null,null,null,null,null,null,null,null,null,null,null,null,null,null,null,null,null,null,null,null,null,null,null,""]
[null,24,null,null,null,null,"",null,null,null,null,null,null,null,null,null,null,null,null,null,null,null,null,null,null,null,null,null,null,null,"",null,"",null,null,null,null,null,null,null,null,null,null,null,null,null,null,null,null,null,null,null,null,null,null,null,"",null,"",null,null,null,null,null,null,null,null,null,null,null,null,null,null,null,null,null,null,null,null,null,null,null,"",null,"",null,null,null,null,null,null,null,null,null,null,null,null,null,null,null,null,null,null,null,null,null,null,null,"",null,"",null,null,null,null,null,null,null,null,null,null,null,null,null,null,null,null,null,null,null,null,null,null,null,"",null,"",null,null,null,null,null,null,null,null,null,null,null,null,null,null,null,null,null,null,null,null,null,null,null,"",null,"",null,null,null,null,null,null,null,null,null,null,null,null,null,null,null,null,null,null,null,null,null,null,null,"",null,"",null,null,null,null,null,null,null,null,null,null,null,null,null,null,null,null,null,null,null,null,null,null,null,"",null,"",null,null,null,null,null,null,null,null,null,null,null,null,null,null,null,null,null,null,null,null,null,null,null,"",null,"",null,null,null,null,null,null,null,null,null,null,null,null,null,null,null,null,null,null,null,null,null,null,null,"",null,"",null,null,null,null,null,null,null,null,null,null,null,null,null,null,null,null,null,null,null,null,null,null,null,""]
[null,25,null,null,null,null,"",null,null,null,null,null,null,null,null,null,null,null,null,null,null,null,null,null,null,null,null,null,null,null,"",null,"",null,null,null,null,null,null,null,null,null,null,null,null,null,null,null,null,null,null,null,null,null,null,null,"",null,"",null,null,null,null,null,null,null,null,null,null,null,null,null,null,null,null,null,null,null,null,null,null,null,"",null,"",null,null,null,null,null,null,null,null,null,null,null,null,null,null,null,null,null,null,null,null,null,null,null,"",null,"",null,null,null,null,null,null,null,null,null,null,null,null,null,null,null,null,null,null,null,null,null,null,null,"",null,"",null,null,null,null,null,null,null,null,null,null,null,null,null,null,null,null,null,null,null,null,null,null,null,"",null,"",null,null,null,null,null,null,null,null,null,null,null,null,null,null,null,null,null,null,null,null,null,null,null,"",null,"",null,null,null,null,null,null,null,null,null,null,null,null,null,null,null,null,null,null,null,null,null,null,null,"",null,"",null,null,null,null,null,null,null,null,null,null,null,null,null,null,null,null,null,null,null,null,null,null,null,"",null,"",null,null,null,null,null,null,null,null,null,null,null,null,null,null,null,null,null,null,null,null,null,null,null,"",null,"",null,null,null,null,null,null,null,null,null,null,null,null,null,null,null,null,null,null,null,null,null,null,null,""]
[null,26,null,null,null,null,"",null,null,null,null,null,null,null,null,null,null,null,null,null,null,null,null,null,null,null,null,null,null,null,"",null,"",null,null,null,null,null,null,null,null,null,null,null,null,null,null,null,null,null,null,null,null,null,null,null,"",null,"",null,null,null,null,null,null,null,null,null,null,null,null,null,null,null,null,null,null,null,null,null,null,null,"",null,"",null,null,null,null,null,null,null,null,null,null,null,null,null,null,null,null,null,null,null,null,null,null,null,"",null,"",null,null,null,null,null,null,null,null,null,null,null,null,null,null,null,null,null,null,null,null,null,null,null,"",null,"",null,null,null,null,null,null,null,null,null,null,null,null,null,null,null,null,null,null,null,null,null,null,null,"",null,"",null,null,null,null,null,null,null,null,null,null,null,null,null,null,null,null,null,null,null,null,null,null,null,"",null,"",null,null,null,null,null,null,null,null,null,null,null,null,null,null,null,null,null,null,null,null,null,null,null,"",null,"",null,null,null,null,null,null,null,null,null,null,null,null,null,null,null,null,null,null,null,null,null,null,null,"",null,"",null,null,null,null,null,null,null,null,null,null,null,null,null,null,null,null,null,null,null,null,null,null,null,"",null,"",null,null,null,null,null,null,null,null,null,null,null,null,null,null,null,null,null,null,null,null,null,null,null,""]
[null,27,null,null,null,null,"",null,null,null,null,null,null,null,null,null,null,null,null,null,null,null,null,null,null,null,null,null,null,null,"",null,"",null,null,null,null,null,null,null,null,null,null,null,null,null,null,null,null,null,null,null,null,null,null,null,"",null,"",null,null,null,null,null,null,null,null,null,null,null,null,null,null,null,null,null,null,null,null,null,null,null,"",null,"",null,null,null,null,null,null,null,null,null,null,null,null,null,null,null,null,null,null,null,null,null,null,null,"",null,"",null,null,null,null,null,null,null,null,null,null,null,null,null,null,null,null,null,null,null,null,null,null,null,"",null,"",null,null,null,null,null,null,null,null,null,null,null,null,null,null,null,null,null,null,null,null,null,null,null,"",null,"",null,null,null,null,null,null,null,null,null,null,null,null,null,null,null,null,null,null,null,null,null,null,null,"",null,"",null,null,null,null,null,null,null,null,null,null,null,null,null,null,null,null,null,null,null,null,null,null,null,"",null,"",null,null,null,null,null,null,null,null,null,null,null,null,null,null,null,null,null,null,null,null,null,null,null,"",null,"",null,null,null,null,null,null,null,null,null,null,null,null,null,null,null,null,null,null,null,null,null,null,null,"",null,"",null,null,null,null,null,null,null,null,null,null,null,null,null,null,null,null,null,null,null,null,null,null,null,""]
[null,28,null,null,null,null,"",null,null,null,null,null,null,null,null,null,null,null,null,null,null,null,null,null,null,null,null,null,null,null,"",null,"",null,null,null,null,null,null,null,null,null,null,null,null,null,null,null,null,null,null,null,null,null,null,null,"",null,"",null,null,null,null,null,null,null,null,null,null,null,null,null,null,null,null,null,null,null,null,null,null,null,"",null,"",null,null,null,null,null,null,null,null,null,null,null,null,null,null,null,null,null,null,null,null,null,null,null,"",null,"",null,null,null,null,null,null,null,null,null,null,null,null,null,null,null,null,null,null,null,null,null,null,null,"",null,"",null,null,null,null,null,null,null,null,null,null,null,null,null,null,null,null,null,null,null,null,null,null,null,"",null,"",null,null,null,null,null,null,null,null,null,null,null,null,null,null,null,null,null,null,null,null,null,null,null,"",null,"",null,null,null,null,null,null,null,null,null,null,null,null,null,null,null,null,null,null,null,null,null,null,null,"",null,"",null,null,null,null,null,null,null,null,null,null,null,null,null,null,null,null,null,null,null,null,null,null,null,"",null,"",null,null,null,null,null,null,null,null,null,null,null,null,null,null,null,null,null,null,null,null,null,null,null,"",null,"",null,null,null,null,null,null,null,null,null,null,null,null,null,null,null,null,null,null,null,null,null,null,null,""]
[null,29,null,null,null,null,"",null,null,null,null,null,null,null,null,null,null,null,null,null,null,null,null,null,null,null,null,null,null,null,"",null,"",null,null,null,null,null,null,null,null,null,null,null,null,null,null,null,null,null,null,null,null,null,null,null,"",null,"",null,null,null,null,null,null,null,null,null,null,null,null,null,null,null,null,null,null,null,null,null,null,null,"",null,"",null,null,null,null,null,null,null,null,null,null,null,null,null,null,null,null,null,null,null,null,null,null,null,"",null,"",null,null,null,null,null,null,null,null,null,null,null,null,null,null,null,null,null,null,null,null,null,null,null,"",null,"",null,null,null,null,null,null,null,null,null,null,null,null,null,null,null,null,null,null,null,null,null,null,null,"",null,"",null,null,null,null,null,null,null,null,null,null,null,null,null,null,null,null,null,null,null,null,null,null,null,"",null,"",null,null,null,null,null,null,null,null,null,null,null,null,null,null,null,null,null,null,null,null,null,null,null,"",null,"",null,null,null,null,null,null,null,null,null,null,null,null,null,null,null,null,null,null,null,null,null,null,null,"",null,"",null,null,null,null,null,null,null,null,null,null,null,null,null,null,null,null,null,null,null,null,null,null,null,"",null,"",null,null,null,null,null,null,null,null,null,null,null,null,null,null,null,null,null,null,null,null,null,null,null,""]
[null,30,null,null,null,null,"",null,null,null,null,null,null,null,null,null,null,null,null,null,null,null,null,null,null,null,null,null,null,null,"",null,"",null,null,null,null,null,null,null,null,null,null,null,null,null,null,null,null,null,null,null,null,null,null,null,"",null,"",null,null,null,null,null,null,null,null,null,null,null,null,null,null,null,null,null,null,null,null,null,null,null,"",null,"",null,null,null,null,null,null,null,null,null,null,null,null,null,null,null,null,null,null,null,null,null,null,null,"",null,"",null,null,null,null,null,null,null,null,null,null,null,null,null,null,null,null,null,null,null,null,null,null,null,"",null,"",null,null,null,null,null,null,null,null,null,null,null,null,null,null,null,null,null,null,null,null,null,null,null,"",null,"",null,null,null,null,null,null,null,null,null,null,null,null,null,null,null,null,null,null,null,null,null,null,null,"",null,"",null,null,null,null,null,null,null,null,null,null,null,null,null,null,null,null,null,null,null,null,null,null,null,"",null,"",null,null,null,null,null,null,null,null,null,null,null,null,null,null,null,null,null,null,null,null,null,null,null,"",null,"",null,null,null,null,null,null,null,null,null,null,null,null,null,null,null,null,null,null,null,null,null,null,null,"",null,"",null,null,null,null,null,null,null,null,null,null,null,null,null,null,null,null,null,null,null,null,null,null,null,""]
[null,31,null,null,null,null,"",null,null,null,null,null,null,null,null,null,null,null,null,null,null,null,null,null,null,null,null,null,null,null,"",null,"",null,null,null,null,null,null,null,null,null,null,null,null,null,null,null,null,null,null,null,null,null,null,null,"",null,"",null,null,null,null,null,null,null,null,null,null,null,null,null,null,null,null,null,null,null,null,null,null,null,"",null,"",null,null,null,null,null,null,null,null,null,null,null,null,null,null,null,null,null,null,null,null,null,null,null,"",null,"",null,null,null,null,null,null,null,null,null,null,null,null,null,null,null,null,null,null,null,null,null,null,null,"",null,"",null,null,null,null,null,null,null,null,null,null,null,null,null,null,null,null,null,null,null,null,null,null,null,"",null,"",null,null,null,null,null,null,null,null,null,null,null,null,null,null,null,null,null,null,null,null,null,null,null,"",null,"",null,null,null,null,null,null,null,null,null,null,null,null,null,null,null,null,null,null,null,null,null,null,null,"",null,"",null,null,null,null,null,null,null,null,null,null,null,null,null,null,null,null,null,null,null,null,null,null,null,"",null,"",null,null,null,null,null,null,null,null,null,null,null,null,null,null,null,null,null,null,null,null,null,null,null,"",null,"",null,null,null,null,null,null,null,null,null,null,null,null,null,null,null,null,null,null,null,null,null,null,null,""]
[null,32,null,null,null,null,"",null,null,null,null,null,null,null,null,null,null,null,null,null,null,null,null,null,null,null,null,null,null,null,"",null,"",null,null,null,null,null,null,null,null,null,null,null,null,null,null,null,null,null,null,null,null,null,null,null,"",null,"",null,null,null,null,null,null,null,null,null,null,null,null,null,null,null,null,null,null,null,null,null,null,null,"",null,"",null,null,null,null,null,null,null,null,null,null,null,null,null,null,null,null,null,null,null,null,null,null,null,"",null,"",null,null,null,null,null,null,null,null,null,null,null,null,null,null,null,null,null,null,null,null,null,null,null,"",null,"",null,null,null,null,null,null,null,null,null,null,null,null,null,null,null,null,null,null,null,null,null,null,null,"",null,"",null,null,null,null,null,null,null,null,null,null,null,null,null,null,null,null,null,null,null,null,null,null,null,"",null,"",null,null,null,null,null,null,null,null,null,null,null,null,null,null,null,null,null,null,null,null,null,null,null,"",null,"",null,null,null,null,null,null,null,null,null,null,null,null,null,null,null,null,null,null,null,null,null,null,null,"",null,"",null,null,null,null,null,null,null,null,null,null,null,null,null,null,null,null,null,null,null,null,null,null,null,"",null,"",null,null,null,null,null,null,null,null,null,null,null,null,null,null,null,null,null,null,null,null,null,null,null,""]
[null,33,null,null,null,null,"",null,null,null,null,null,null,null,null,null,null,null,null,null,null,null,null,null,null,null,null,null,null,null,"",null,"",null,null,null,null,null,null,null,null,null,null,null,null,null,null,null,null,null,null,null,null,null,null,null,"",null,"",null,null,null,null,null,null,null,null,null,null,null,null,null,null,null,null,null,null,null,null,null,null,null,"",null,"",null,null,null,null,null,null,null,null,null,null,null,null,null,null,null,null,null,null,null,null,null,null,null,"",null,"",null,null,null,null,null,null,null,null,null,null,null,null,null,null,null,null,null,null,null,null,null,null,null,"",null,"",null,null,null,null,null,null,null,null,null,null,null,null,null,null,null,null,null,null,null,null,null,null,null,"",null,"",null,null,null,null,null,null,null,null,null,null,null,null,null,null,null,null,null,null,null,null,null,null,null,"",null,"",null,null,null,null,null,null,null,null,null,null,null,null,null,null,null,null,null,null,null,null,null,null,null,"",null,"",null,null,null,null,null,null,null,null,null,null,null,null,null,null,null,null,null,null,null,null,null,null,null,"",null,"",null,null,null,null,null,null,null,null,null,null,null,null,null,null,null,null,null,null,null,null,null,null,null,"",null,"",null,null,null,null,null,null,null,null,null,null,null,null,null,null,null,null,null,null,null,null,null,null,null,""]
[null,34,null,null,null,null,"",null,null,null,null,null,null,null,null,null,null,null,null,null,null,null,null,null,null,null,null,null,null,null,"",null,"",null,null,null,null,null,null,null,null,null,null,null,null,null,null,null,null,null,null,null,null,null,null,null,"",null,"",null,null,null,null,null,null,null,null,null,null,null,null,null,null,null,null,null,null,null,null,null,null,null,"",null,"",null,null,null,null,null,null,null,null,null,null,null,null,null,null,null,null,null,null,null,null,null,null,null,"",null,"",null,null,null,null,null,null,null,null,null,null,null,null,null,null,null,null,null,null,null,null,null,null,null,"",null,"",null,null,null,null,null,null,null,null,null,null,null,null,null,null,null,null,null,null,null,null,null,null,null,"",null,"",null,null,null,null,null,null,null,null,null,null,null,null,null,null,null,null,null,null,null,null,null,null,null,"",null,"",null,null,null,null,null,null,null,null,null,null,null,null,null,null,null,null,null,null,null,null,null,null,null,"",null,"",null,null,null,null,null,null,null,null,null,null,null,null,null,null,null,null,null,null,null,null,null,null,null,"",null,"",null,null,null,null,null,null,null,null,null,null,null,null,null,null,null,null,null,null,null,null,null,null,null,"",null,"",null,null,null,null,null,null,null,null,null,null,null,null,null,null,null,null,null,null,null,null,null,null,null,""]
[null,35,null,null,null,null,"",null,null,null,null,null,null,null,null,null,null,null,null,null,null,null,null,null,null,null,null,null,null,null,"",null,"",null,null,null,null,null,null,null,null,null,null,null,null,null,null,null,null,null,null,null,null,null,null,null,"",null,"",null,null,null,null,null,null,null,null,null,null,null,null,null,null,null,null,null,null,null,null,null,null,null,"",null,"",null,null,null,null,null,null,null,null,null,null,null,null,null,null,null,null,null,null,null,null,null,null,null,"",null,"",null,null,null,null,null,null,null,null,null,null,null,null,null,null,null,null,null,null,null,null,null,null,null,"",null,"",null,null,null,null,null,null,null,null,null,null,null,null,null,null,null,null,null,null,null,null,null,null,null,"",null,"",null,null,null,null,null,null,null,null,null,null,null,null,null,null,null,null,null,null,null,null,null,null,null,"",null,"",null,null,null,null,null,null,null,null,null,null,null,null,null,null,null,null,null,null,null,null,null,null,null,"",null,"",null,null,null,null,null,null,null,null,null,null,null,null,null,null,null,null,null,null,null,null,null,null,null,"",null,"",null,null,null,null,null,null,null,null,null,null,null,null,null,null,null,null,null,null,null,null,null,null,null,"",null,"",null,null,null,null,null,null,null,null,null,null,null,null,null,null,null,null,null,null,null,null,null,null,null,""]
[null,36,null,null,null,null,"",null,null,null,null,null,null,null,null,null,null,null,null,null,null,null,null,null,null,null,null,null,null,null,"",null,"",null,null,null,null,null,null,null,null,null,null,null,null,null,null,null,null,null,null,null,null,null,null,null,"",null,"",null,null,null,null,null,null,null,null,null,null,null,null,null,null,null,null,null,null,null,null,null,null,null,"",null,"",null,null,null,null,null,null,null,null,null,null,null,null,null,null,null,null,null,null,null,null,null,null,null,"",null,"",null,null,null,null,null,null,null,null,null,null,null,null,null,null,null,null,null,null,null,null,null,null,null,"",null,"",null,null,null,null,null,null,null,null,null,null,null,null,null,null,null,null,null,null,null,null,null,null,null,"",null,"",null,null,null,null,null,null,null,null,null,null,null,null,null,null,null,null,null,null,null,null,null,null,null,"",null,"",null,null,null,null,null,null,null,null,null,null,null,null,null,null,null,null,null,null,null,null,null,null,null,"",null,"",null,null,null,null,null,null,null,null,null,null,null,null,null,null,null,null,null,null,null,null,null,null,null,"",null,"",null,null,null,null,null,null,null,null,null,null,null,null,null,null,null,null,null,null,null,null,null,null,null,"",null,"",null,null,null,null,null,null,null,null,null,null,null,null,null,null,null,null,null,null,null,null,null,null,null,""]
[null,37,null,null,null,null,"",null,null,null,null,null,null,null,null,null,null,null,null,null,null,null,null,null,null,null,null,null,null,null,"",null,"",null,null,null,null,null,null,null,null,null,null,null,null,null,null,null,null,null,null,null,null,null,null,null,"",null,"",null,null,null,null,null,null,null,null,null,null,null,null,null,null,null,null,null,null,null,null,null,null,null,"",null,"",null,null,null,null,null,null,null,null,null,null,null,null,null,null,null,null,null,null,null,null,null,null,null,"",null,"",null,null,null,null,null,null,null,null,null,null,null,null,null,null,null,null,null,null,null,null,null,null,null,"",null,"",null,null,null,null,null,null,null,null,null,null,null,null,null,null,null,null,null,null,null,null,null,null,null,"",null,"",null,null,null,null,null,null,null,null,null,null,null,null,null,null,null,null,null,null,null,null,null,null,null,"",null,"",null,null,null,null,null,null,null,null,null,null,null,null,null,null,null,null,null,null,null,null,null,null,null,"",null,"",null,null,null,null,null,null,null,null,null,null,null,null,null,null,null,null,null,null,null,null,null,null,null,"",null,"",null,null,null,null,null,null,null,null,null,null,null,null,null,null,null,null,null,null,null,null,null,null,null,"",null,"",null,null,null,null,null,null,null,null,null,null,null,null,null,null,null,null,null,null,null,null,null,null,null,""]
[null,38,null,null,null,null,"",null,null,null,null,null,null,null,null,null,null,null,null,null,null,null,null,null,null,null,null,null,null,null,"",null,"",null,null,null,null,null,null,null,null,null,null,null,null,null,null,null,null,null,null,null,null,null,null,null,"",null,"",null,null,null,null,null,null,null,null,null,null,null,null,null,null,null,null,null,null,null,null,null,null,null,"",null,"",null,null,null,null,null,null,null,null,null,null,null,null,null,null,null,null,null,null,null,null,null,null,null,"",null,"",null,null,null,null,null,null,null,null,null,null,null,null,null,null,null,null,null,null,null,null,null,null,null,"",null,"",null,null,null,null,null,null,null,null,null,null,null,null,null,null,null,null,null,null,null,null,null,null,null,"",null,"",null,null,null,null,null,null,null,null,null,null,null,null,null,null,null,null,null,null,null,null,null,null,null,"",null,"",null,null,null,null,null,null,null,null,null,null,null,null,null,null,null,null,null,null,null,null,null,null,null,"",null,"",null,null,null,null,null,null,null,null,null,null,null,null,null,null,null,null,null,null,null,null,null,null,null,"",null,"",null,null,null,null,null,null,null,null,null,null,null,null,null,null,null,null,null,null,null,null,null,null,null,"",null,"",null,null,null,null,null,null,null,null,null,null,null,null,null,null,null,null,null,null,null,null,null,null,null,""]
[null,39,null,null,null,null,"",null,null,null,null,null,null,null,null,null,null,null,null,null,null,null,null,null,null,null,null,null,null,null,"",null,"",null,null,null,null,null,null,null,null,null,null,null,null,null,null,null,null,null,null,null,null,null,null,null,"",null,"",null,null,null,null,null,null,null,null,null,null,null,null,null,null,null,null,null,null,null,null,null,null,null,"",null,"",null,null,null,null,null,null,null,null,null,null,null,null,null,null,null,null,null,null,null,null,null,null,null,"",null,"",null,null,null,null,null,null,null,null,null,null,null,null,null,null,null,null,null,null,null,null,null,null,null,"",null,"",null,null,null,null,null,null,null,null,null,null,null,null,null,null,null,null,null,null,null,null,null,null,null,"",null,"",null,null,null,null,null,null,null,null,null,null,null,null,null,null,null,null,null,null,null,null,null,null,null,"",null,"",null,null,null,null,null,null,null,null,null,null,null,null,null,null,null,null,null,null,null,null,null,null,null,"",null,"",null,null,null,null,null,null,null,null,null,null,null,null,null,null,null,null,null,null,null,null,null,null,null,"",null,"",null,null,null,null,null,null,null,null,null,null,null,null,null,null,null,null,null,null,null,null,null,null,null,"",null,"",null,null,null,null,null,null,null,null,null,null,null,null,null,null,null,null,null,null,null,null,null,null,null,""]
[null,40,null,null,null,null,"",null,null,null,null,null,null,null,null,null,null,null,null,null,null,null,null,null,null,null,null,null,null,null,"",null,"",null,null,null,null,null,null,null,null,null,null,null,null,null,null,null,null,null,null,null,null,null,null,null,"",null,"",null,null,null,null,null,null,null,null,null,null,null,null,null,null,null,null,null,null,null,null,null,null,null,"",null,"",null,null,null,null,null,null,null,null,null,null,null,null,null,null,null,null,null,null,null,null,null,null,null,"",null,"",null,null,null,null,null,null,null,null,null,null,null,null,null,null,null,null,null,null,null,null,null,null,null,"",null,"",null,null,null,null,null,null,null,null,null,null,null,null,null,null,null,null,null,null,null,null,null,null,null,"",null,"",null,null,null,null,null,null,null,null,null,null,null,null,null,null,null,null,null,null,null,null,null,null,null,"",null,"",null,null,null,null,null,null,null,null,null,null,null,null,null,null,null,null,null,null,null,null,null,null,null,"",null,"",null,null,null,null,null,null,null,null,null,null,null,null,null,null,null,null,null,null,null,null,null,null,null,"",null,"",null,null,null,null,null,null,null,null,null,null,null,null,null,null,null,null,null,null,null,null,null,null,null,"",null,"",null,null,null,null,null,null,null,null,null,null,null,null,null,null,null,null,null,null,null,null,null,null,null,""]
[null,41,null,null,null,null,"",null,null,null,null,null,null,null,null,null,null,null,null,null,null,null,null,null,null,null,null,null,null,null,"",null,"",null,null,null,null,null,null,null,null,null,null,null,null,null,null,null,null,null,null,null,null,null,null,null,"",null,"",null,null,null,null,null,null,null,null,null,null,null,null,null,null,null,null,null,null,null,null,null,null,null,"",null,"",null,null,null,null,null,null,null,null,null,null,null,null,null,null,null,null,null,null,null,null,null,null,null,"",null,"",null,null,null,null,null,null,null,null,null,null,null,null,null,null,null,null,null,null,null,null,null,null,null,"",null,"",null,null,null,null,null,null,null,null,null,null,null,null,null,null,null,null,null,null,null,null,null,null,null,"",null,"",null,null,null,null,null,null,null,null,null,null,null,null,null,null,null,null,null,null,null,null,null,null,null,"",null,"",null,null,null,null,null,null,null,null,null,null,null,null,null,null,null,null,null,null,null,null,null,null,null,"",null,"",null,null,null,null,null,null,null,null,null,null,null,null,null,null,null,null,null,null,null,null,null,null,null,"",null,"",null,null,null,null,null,null,null,null,null,null,null,null,null,null,null,null,null,null,null,null,null,null,null,"",null,"",null,null,null,null,null,null,null,null,null,null,null,null,null,null,null,null,null,null,null,null,null,null,null,""]
[null,42,null,null,null,null,"",null,null,null,null,null,null,null,null,null,null,null,null,null,null,null,null,null,null,null,null,null,null,null,"",null,"",null,null,null,null,null,null,null,null,null,null,null,null,null,null,null,null,null,null,null,null,null,null,null,"",null,"",null,null,null,null,null,null,null,null,null,null,null,null,null,null,null,null,null,null,null,null,null,null,null,"",null,"",null,null,null,null,null,null,null,null,null,null,null,null,null,null,null,null,null,null,null,null,null,null,null,"",null,"",null,null,null,null,null,null,null,null,null,null,null,null,null,null,null,null,null,null,null,null,null,null,null,"",null,"",null,null,null,null,null,null,null,null,null,null,null,null,null,null,null,null,null,null,null,null,null,null,null,"",null,"",null,null,null,null,null,null,null,null,null,null,null,null,null,null,null,null,null,null,null,null,null,null,null,"",null,"",null,null,null,null,null,null,null,null,null,null,null,null,null,null,null,null,null,null,null,null,null,null,null,"",null,"",null,null,null,null,null,null,null,null,null,null,null,null,null,null,null,null,null,null,null,null,null,null,null,"",null,"",null,null,null,null,null,null,null,null,null,null,null,null,null,null,null,null,null,null,null,null,null,null,null,"",null,"",null,null,null,null,null,null,null,null,null,null,null,null,null,null,null,null,null,null,null,null,null,null,null,""]
[null,43,null,null,null,null,"",null,null,null,null,null,null,null,null,null,null,null,null,null,null,null,null,null,null,null,null,null,null,null,"",null,"",null,null,null,null,null,null,null,null,null,null,null,null,null,null,null,null,null,null,null,null,null,null,null,"",null,"",null,null,null,null,null,null,null,null,null,null,null,null,null,null,null,null,null,null,null,null,null,null,null,"",null,"",null,null,null,null,null,null,null,null,null,null,null,null,null,null,null,null,null,null,null,null,null,null,null,"",null,"",null,null,null,null,null,null,null,null,null,null,null,null,null,null,null,null,null,null,null,null,null,null,null,"",null,"",null,null,null,null,null,null,null,null,null,null,null,null,null,null,null,null,null,null,null,null,null,null,null,"",null,"",null,null,null,null,null,null,null,null,null,null,null,null,null,null,null,null,null,null,null,null,null,null,null,"",null,"",null,null,null,null,null,null,null,null,null,null,null,null,null,null,null,null,null,null,null,null,null,null,null,"",null,"",null,null,null,null,null,null,null,null,null,null,null,null,null,null,null,null,null,null,null,null,null,null,null,"",null,"",null,null,null,null,null,null,null,null,null,null,null,null,null,null,null,null,null,null,null,null,null,null,null,"",null,"",null,null,null,null,null,null,null,null,null,null,null,null,null,null,null,null,null,null,null,null,null,null,null,""]
[null,44,null,null,null,null,"",null,null,null,null,null,null,null,null,null,null,null,null,null,null,null,null,null,null,null,null,null,null,null,"",null,"",null,null,null,null,null,null,null,null,null,null,null,null,null,null,null,null,null,null,null,null,null,null,null,"",null,"",null,null,null,null,null,null,null,null,null,null,null,null,null,null,null,null,null,null,null,null,null,null,null,"",null,"",null,null,null,null,null,null,null,null,null,null,null,null,null,null,null,null,null,null,null,null,null,null,null,"",null,"",null,null,null,null,null,null,null,null,null,null,null,null,null,null,null,null,null,null,null,null,null,null,null,"",null,"",null,null,null,null,null,null,null,null,null,null,null,null,null,null,null,null,null,null,null,null,null,null,null,"",null,"",null,null,null,null,null,null,null,null,null,null,null,null,null,null,null,null,null,null,null,null,null,null,null,"",null,"",null,null,null,null,null,null,null,null,null,null,null,null,null,null,null,null,null,null,null,null,null,null,null,"",null,"",null,null,null,null,null,null,null,null,null,null,null,null,null,null,null,null,null,null,null,null,null,null,null,"",null,"",null,null,null,null,null,null,null,null,null,null,null,null,null,null,null,null,null,null,null,null,null,null,null,"",null,"",null,null,null,null,null,null,null,null,null,null,null,null,null,null,null,null,null,null,null,null,null,null,null,""]
[null,45,null,null,null,null,"",null,null,null,null,null,null,null,null,null,null,null,null,null,null,null,null,null,null,null,null,null,null,null,"",null,"",null,null,null,null,null,null,null,null,null,null,null,null,null,null,null,null,null,null,null,null,null,null,null,"",null,"",null,null,null,null,null,null,null,null,null,null,null,null,null,null,null,null,null,null,null,null,null,null,null,"",null,"",null,null,null,null,null,null,null,null,null,null,null,null,null,null,null,null,null,null,null,null,null,null,null,"",null,"",null,null,null,null,null,null,null,null,null,null,null,null,null,null,null,null,null,null,null,null,null,null,null,"",null,"",null,null,null,null,null,null,null,null,null,null,null,null,null,null,null,null,null,null,null,null,null,null,null,"",null,"",null,null,null,null,null,null,null,null,null,null,null,null,null,null,null,null,null,null,null,null,null,null,null,"",null,"",null,null,null,null,null,null,null,null,null,null,null,null,null,null,null,null,null,null,null,null,null,null,null,"",null,"",null,null,null,null,null,null,null,null,null,null,null,null,null,null,null,null,null,null,null,null,null,null,null,"",null,"",null,null,null,null,null,null,null,null,null,null,null,null,null,null,null,null,null,null,null,null,null,null,null,"",null,"",null,null,null,null,null,null,null,null,null,null,null,null,null,null,null,null,null,null,null,null,null,null,null,""]
[null,46,null,null,null,null,"",null,null,null,null,null,null,null,null,null,null,null,null,null,null,null,null,null,null,null,null,null,null,null,"",null,"",null,null,null,null,null,null,null,null,null,null,null,null,null,null,null,null,null,null,null,null,null,null,null,"",null,"",null,null,null,null,null,null,null,null,null,null,null,null,null,null,null,null,null,null,null,null,null,null,null,"",null,"",null,null,null,null,null,null,null,null,null,null,null,null,null,null,null,null,null,null,null,null,null,null,null,"",null,"",null,null,null,null,null,null,null,null,null,null,null,null,null,null,null,null,null,null,null,null,null,null,null,"",null,"",null,null,null,null,null,null,null,null,null,null,null,null,null,null,null,null,null,null,null,null,null,null,null,"",null,"",null,null,null,null,null,null,null,null,null,null,null,null,null,null,null,null,null,null,null,null,null,null,null,"",null,"",null,null,null,null,null,null,null,null,null,null,null,null,null,null,null,null,null,null,null,null,null,null,null,"",null,"",null,null,null,null,null,null,null,null,null,null,null,null,null,null,null,null,null,null,null,null,null,null,null,"",null,"",null,null,null,null,null,null,null,null,null,null,null,null,null,null,null,null,null,null,null,null,null,null,null,"",null,"",null,null,null,null,null,null,null,null,null,null,null,null,null,null,null,null,null,null,null,null,null,null,null,""]
[null,47,null,null,null,null,"",null,null,null,null,null,null,null,null,null,null,null,null,null,null,null,null,null,null,null,null,null,null,null,"",null,"",null,null,null,null,null,null,null,null,null,null,null,null,null,null,null,null,null,null,null,null,null,null,null,"",null,"",null,null,null,null,null,null,null,null,null,null,null,null,null,null,null,null,null,null,null,null,null,null,null,"",null,"",null,null,null,null,null,null,null,null,null,null,null,null,null,null,null,null,null,null,null,null,null,null,null,"",null,"",null,null,null,null,null,null,null,null,null,null,null,null,null,null,null,null,null,null,null,null,null,null,null,"",null,"",null,null,null,null,null,null,null,null,null,null,null,null,null,null,null,null,null,null,null,null,null,null,null,"",null,"",null,null,null,null,null,null,null,null,null,null,null,null,null,null,null,null,null,null,null,null,null,null,null,"",null,"",null,null,null,null,null,null,null,null,null,null,null,null,null,null,null,null,null,null,null,null,null,null,null,"",null,"",null,null,null,null,null,null,null,null,null,null,null,null,null,null,null,null,null,null,null,null,null,null,null,"",null,"",null,null,null,null,null,null,null,null,null,null,null,null,null,null,null,null,null,null,null,null,null,null,null,"",null,"",null,null,null,null,null,null,null,null,null,null,null,null,null,null,null,null,null,null,null,null,null,null,null,""]
[null,48,null,null,null,null,"",null,null,null,null,null,null,null,null,null,null,null,null,null,null,null,null,null,null,null,null,null,null,null,"",null,"",null,null,null,null,null,null,null,null,null,null,null,null,null,null,null,null,null,null,null,null,null,null,null,"",null,"",null,null,null,null,null,null,null,null,null,null,null,null,null,null,null,null,null,null,null,null,null,null,null,"",null,"",null,null,null,null,null,null,null,null,null,null,null,null,null,null,null,null,null,null,null,null,null,null,null,"",null,"",null,null,null,null,null,null,null,null,null,null,null,null,null,null,null,null,null,null,null,null,null,null,null,"",null,"",null,null,null,null,null,null,null,null,null,null,null,null,null,null,null,null,null,null,null,null,null,null,null,"",null,"",null,null,null,null,null,null,null,null,null,null,null,null,null,null,null,null,null,null,null,null,null,null,null,"",null,"",null,null,null,null,null,null,null,null,null,null,null,null,null,null,null,null,null,null,null,null,null,null,null,"",null,"",null,null,null,null,null,null,null,null,null,null,null,null,null,null,null,null,null,null,null,null,null,null,null,"",null,"",null,null,null,null,null,null,null,null,null,null,null,null,null,null,null,null,null,null,null,null,null,null,null,"",null,"",null,null,null,null,null,null,null,null,null,null,null,null,null,null,null,null,null,null,null,null,null,null,null,""]
[null,49,null,null,null,null,"",null,null,null,null,null,null,null,null,null,null,null,null,null,null,null,null,null,null,null,null,null,null,null,"",null,"",null,null,null,null,null,null,null,null,null,null,null,null,null,null,null,null,null,null,null,null,null,null,null,"",null,"",null,null,null,null,null,null,null,null,null,null,null,null,null,null,null,null,null,null,null,null,null,null,null,"",null,"",null,null,null,null,null,null,null,null,null,null,null,null,null,null,null,null,null,null,null,null,null,null,null,"",null,"",null,null,null,null,null,null,null,null,null,null,null,null,null,null,null,null,null,null,null,null,null,null,null,"",null,"",null,null,null,null,null,null,null,null,null,null,null,null,null,null,null,null,null,null,null,null,null,null,null,"",null,"",null,null,null,null,null,null,null,null,null,null,null,null,null,null,null,null,null,null,null,null,null,null,null,"",null,"",null,null,null,null,null,null,null,null,null,null,null,null,null,null,null,null,null,null,null,null,null,null,null,"",null,"",null,null,null,null,null,null,null,null,null,null,null,null,null,null,null,null,null,null,null,null,null,null,null,"",null,"",null,null,null,null,null,null,null,null,null,null,null,null,null,null,null,null,null,null,null,null,null,null,null,"",null,"",null,null,null,null,null,null,null,null,null,null,null,null,null,null,null,null,null,null,null,null,null,null,null,""]
[null,50,null,null,null,null,"",null,null,null,null,null,null,null,null,null,null,null,null,null,null,null,null,null,null,null,null,null,null,null,"",null,"",null,null,null,null,null,null,null,null,null,null,null,null,null,null,null,null,null,null,null,null,null,null,null,"",null,"",null,null,null,null,null,null,null,null,null,null,null,null,null,null,null,null,null,null,null,null,null,null,null,"",null,"",null,null,null,null,null,null,null,null,null,null,null,null,null,null,null,null,null,null,null,null,null,null,null,"",null,"",null,null,null,null,null,null,null,null,null,null,null,null,null,null,null,null,null,null,null,null,null,null,null,"",null,"",null,null,null,null,null,null,null,null,null,null,null,null,null,null,null,null,null,null,null,null,null,null,null,"",null,"",null,null,null,null,null,null,null,null,null,null,null,null,null,null,null,null,null,null,null,null,null,null,null,"",null,"",null,null,null,null,null,null,null,null,null,null,null,null,null,null,null,null,null,null,null,null,null,null,null,"",null,"",null,null,null,null,null,null,null,null,null,null,null,null,null,null,null,null,null,null,null,null,null,null,null,"",null,"",null,null,null,null,null,null,null,null,null,null,null,null,null,null,null,null,null,null,null,null,null,null,null,"",null,"",null,null,null,null,null,null,null,null,null,null,null,null,null,null,null,null,null,null,null,null,null,null,null,""]
[null,51,null,null,null,null,"",null,null,null,null,null,null,null,null,null,null,null,null,null,null,null,null,null,null,null,null,null,null,null,"",null,"",null,null,null,null,null,null,null,null,null,null,null,null,null,null,null,null,null,null,null,null,null,null,null,"",null,"",null,null,null,null,null,null,null,null,null,null,null,null,null,null,null,null,null,null,null,null,null,null,null,"",null,"",null,null,null,null,null,null,null,null,null,null,null,null,null,null,null,null,null,null,null,null,null,null,null,"",null,"",null,null,null,null,null,null,null,null,null,null,null,null,null,null,null,null,null,null,null,null,null,null,null,"",null,"",null,null,null,null,null,null,null,null,null,null,null,null,null,null,null,null,null,null,null,null,null,null,null,"",null,"",null,null,null,null,null,null,null,null,null,null,null,null,null,null,null,null,null,null,null,null,null,null,null,"",null,"",null,null,null,null,null,null,null,null,null,null,null,null,null,null,null,null,null,null,null,null,null,null,null,"",null,"",null,null,null,null,null,null,null,null,null,null,null,null,null,null,null,null,null,null,null,null,null,null,null,"",null,"",null,null,null,null,null,null,null,null,null,null,null,null,null,null,null,null,null,null,null,null,null,null,null,"",null,"",null,null,null,null,null,null,null,null,null,null,null,null,null,null,null,null,null,null,null,null,null,null,null,""]
[null,52,null,null,null,null,"",null,null,null,null,null,null,null,null,null,null,null,null,null,null,null,null,null,null,null,null,null,null,null,"",null,"",null,null,null,null,null,null,null,null,null,null,null,null,null,null,null,null,null,null,null,null,null,null,null,"",null,"",null,null,null,null,null,null,null,null,null,null,null,null,null,null,null,null,null,null,null,null,null,null,null,"",null,"",null,null,null,null,null,null,null,null,null,null,null,null,null,null,null,null,null,null,null,null,null,null,null,"",null,"",null,null,null,null,null,null,null,null,null,null,null,null,null,null,null,null,null,null,null,null,null,null,null,"",null,"",null,null,null,null,null,null,null,null,null,null,null,null,null,null,null,null,null,null,null,null,null,null,null,"",null,"",null,null,null,null,null,null,null,null,null,null,null,null,null,null,null,null,null,null,null,null,null,null,null,"",null,"",null,null,null,null,null,null,null,null,null,null,null,null,null,null,null,null,null,null,null,null,null,null,null,"",null,"",null,null,null,null,null,null,null,null,null,null,null,null,null,null,null,null,null,null,null,null,null,null,null,"",null,"",null,null,null,null,null,null,null,null,null,null,null,null,null,null,null,null,null,null,null,null,null,null,null,"",null,"",null,null,null,null,null,null,null,null,null,null,null,null,null,null,null,null,null,null,null,null,null,null,null,""]
[null,53,null,null,null,null,"",null,null,null,null,null,null,null,null,null,null,null,null,null,null,null,null,null,null,null,null,null,null,null,"",null,"",null,null,null,null,null,null,null,null,null,null,null,null,null,null,null,null,null,null,null,null,null,null,null,"",null,"",null,null,null,null,null,null,null,null,null,null,null,null,null,null,null,null,null,null,null,null,null,null,null,"",null,"",null,null,null,null,null,null,null,null,null,null,null,null,null,null,null,null,null,null,null,null,null,null,null,"",null,"",null,null,null,null,null,null,null,null,null,null,null,null,null,null,null,null,null,null,null,null,null,null,null,"",null,"",null,null,null,null,null,null,null,null,null,null,null,null,null,null,null,null,null,null,null,null,null,null,null,"",null,"",null,null,null,null,null,null,null,null,null,null,null,null,null,null,null,null,null,null,null,null,null,null,null,"",null,"",null,null,null,null,null,null,null,null,null,null,null,null,null,null,null,null,null,null,null,null,null,null,null,"",null,"",null,null,null,null,null,null,null,null,null,null,null,null,null,null,null,null,null,null,null,null,null,null,null,"",null,"",null,null,null,null,null,null,null,null,null,null,null,null,null,null,null,null,null,null,null,null,null,null,null,"",null,"",null,null,null,null,null,null,null,null,null,null,null,null,null,null,null,null,null,null,null,null,null,null,null,""]
[null,54,null,null,null,null,"",null,null,null,null,null,null,null,null,null,null,null,null,null,null,null,null,null,null,null,null,null,null,null,"",null,"",null,null,null,null,null,null,null,null,null,null,null,null,null,null,null,null,null,null,null,null,null,null,null,"",null,"",null,null,null,null,null,null,null,null,null,null,null,null,null,null,null,null,null,null,null,null,null,null,null,"",null,"",null,null,null,null,null,null,null,null,null,null,null,null,null,null,null,null,null,null,null,null,null,null,null,"",null,"",null,null,null,null,null,null,null,null,null,null,null,null,null,null,null,null,null,null,null,null,null,null,null,"",null,"",null,null,null,null,null,null,null,null,null,null,null,null,null,null,null,null,null,null,null,null,null,null,null,"",null,"",null,null,null,null,null,null,null,null,null,null,null,null,null,null,null,null,null,null,null,null,null,null,null,"",null,"",null,null,null,null,null,null,null,null,null,null,null,null,null,null,null,null,null,null,null,null,null,null,null,"",null,"",null,null,null,null,null,null,null,null,null,null,null,null,null,null,null,null,null,null,null,null,null,null,null,"",null,"",null,null,null,null,null,null,null,null,null,null,null,null,null,null,null,null,null,null,null,null,null,null,null,"",null,"",null,null,null,null,null,null,null,null,null,null,null,null,null,null,null,null,null,null,null,null,null,null,null,""]
[null,55,null,null,null,null,"",null,null,null,null,null,null,null,null,null,null,null,null,null,null,null,null,null,null,null,null,null,null,null,"",null,"",null,null,null,null,null,null,null,null,null,null,null,null,null,null,null,null,null,null,null,null,null,null,null,"",null,"",null,null,null,null,null,null,null,null,null,null,null,null,null,null,null,null,null,null,null,null,null,null,null,"",null,"",null,null,null,null,null,null,null,null,null,null,null,null,null,null,null,null,null,null,null,null,null,null,null,"",null,"",null,null,null,null,null,null,null,null,null,null,null,null,null,null,null,null,null,null,null,null,null,null,null,"",null,"",null,null,null,null,null,null,null,null,null,null,null,null,null,null,null,null,null,null,null,null,null,null,null,"",null,"",null,null,null,null,null,null,null,null,null,null,null,null,null,null,null,null,null,null,null,null,null,null,null,"",null,"",null,null,null,null,null,null,null,null,null,null,null,null,null,null,null,null,null,null,null,null,null,null,null,"",null,"",null,null,null,null,null,null,null,null,null,null,null,null,null,null,null,null,null,null,null,null,null,null,null,"",null,"",null,null,null,null,null,null,null,null,null,null,null,null,null,null,null,null,null,null,null,null,null,null,null,"",null,"",null,null,null,null,null,null,null,null,null,null,null,null,null,null,null,null,null,null,null,null,null,null,null,""]
[null,56,null,null,null,null,"",null,null,null,null,null,null,null,null,null,null,null,null,null,null,null,null,null,null,null,null,null,null,null,"",null,"",null,null,null,null,null,null,null,null,null,null,null,null,null,null,null,null,null,null,null,null,null,null,null,"",null,"",null,null,null,null,null,null,null,null,null,null,null,null,null,null,null,null,null,null,null,null,null,null,null,"",null,"",null,null,null,null,null,null,null,null,null,null,null,null,null,null,null,null,null,null,null,null,null,null,null,"",null,"",null,null,null,null,null,null,null,null,null,null,null,null,null,null,null,null,null,null,null,null,null,null,null,"",null,"",null,null,null,null,null,null,null,null,null,null,null,null,null,null,null,null,null,null,null,null,null,null,null,"",null,"",null,null,null,null,null,null,null,null,null,null,null,null,null,null,null,null,null,null,null,null,null,null,null,"",null,"",null,null,null,null,null,null,null,null,null,null,null,null,null,null,null,null,null,null,null,null,null,null,null,"",null,"",null,null,null,null,null,null,null,null,null,null,null,null,null,null,null,null,null,null,null,null,null,null,null,"",null,"",null,null,null,null,null,null,null,null,null,null,null,null,null,null,null,null,null,null,null,null,null,null,null,"",null,"",null,null,null,null,null,null,null,null,null,null,null,null,null,null,null,null,null,null,null,null,null,null,null,""]
[null,57,null,null,null,null,"",null,null,null,null,null,null,null,null,null,null,null,null,null,null,null,null,null,null,null,null,null,null,null,"",null,"",null,null,null,null,null,null,null,null,null,null,null,null,null,null,null,null,null,null,null,null,null,null,null,"",null,"",null,null,null,null,null,null,null,null,null,null,null,null,null,null,null,null,null,null,null,null,null,null,null,"",null,"",null,null,null,null,null,null,null,null,null,null,null,null,null,null,null,null,null,null,null,null,null,null,null,"",null,"",null,null,null,null,null,null,null,null,null,null,null,null,null,null,null,null,null,null,null,null,null,null,null,"",null,"",null,null,null,null,null,null,null,null,null,null,null,null,null,null,null,null,null,null,null,null,null,null,null,"",null,"",null,null,null,null,null,null,null,null,null,null,null,null,null,null,null,null,null,null,null,null,null,null,null,"",null,"",null,null,null,null,null,null,null,null,null,null,null,null,null,null,null,null,null,null,null,null,null,null,null,"",null,"",null,null,null,null,null,null,null,null,null,null,null,null,null,null,null,null,null,null,null,null,null,null,null,"",null,"",null,null,null,null,null,null,null,null,null,null,null,null,null,null,null,null,null,null,null,null,null,null,null,"",null,"",null,null,null,null,null,null,null,null,null,null,null,null,null,null,null,null,null,null,null,null,null,null,null,""]
[null,58,null,null,null,null,"",null,null,null,null,null,null,null,null,null,null,null,null,null,null,null,null,null,null,null,null,null,null,null,"",null,"",null,null,null,null,null,null,null,null,null,null,null,null,null,null,null,null,null,null,null,null,null,null,null,"",null,"",null,null,null,null,null,null,null,null,null,null,null,null,null,null,null,null,null,null,null,null,null,null,null,"",null,"",null,null,null,null,null,null,null,null,null,null,null,null,null,null,null,null,null,null,null,null,null,null,null,"",null,"",null,null,null,null,null,null,null,null,null,null,null,null,null,null,null,null,null,null,null,null,null,null,null,"",null,"",null,null,null,null,null,null,null,null,null,null,null,null,null,null,null,null,null,null,null,null,null,null,null,"",null,"",null,null,null,null,null,null,null,null,null,null,null,null,null,null,null,null,null,null,null,null,null,null,null,"",null,"",null,null,null,null,null,null,null,null,null,null,null,null,null,null,null,null,null,null,null,null,null,null,null,"",null,"",null,null,null,null,null,null,null,null,null,null,null,null,null,null,null,null,null,null,null,null,null,null,null,"",null,"",null,null,null,null,null,null,null,null,null,null,null,null,null,null,null,null,null,null,null,null,null,null,null,"",null,"",null,null,null,null,null,null,null,null,null,null,null,null,null,null,null,null,null,null,null,null,null,null,null,""]
[null,59,null,null,null,null,"",null,null,null,null,null,null,null,null,null,null,null,null,null,null,null,null,null,null,null,null,null,null,null,"",null,"",null,null,null,null,null,null,null,null,null,null,null,null,null,null,null,null,null,null,null,null,null,null,null,"",null,"",null,null,null,null,null,null,null,null,null,null,null,null,null,null,null,null,null,null,null,null,null,null,null,"",null,"",null,null,null,null,null,null,null,null,null,null,null,null,null,null,null,null,null,null,null,null,null,null,null,"",null,"",null,null,null,null,null,null,null,null,null,null,null,null,null,null,null,null,null,null,null,null,null,null,null,"",null,"",null,null,null,null,null,null,null,null,null,null,null,null,null,null,null,null,null,null,null,null,null,null,null,"",null,"",null,null,null,null,null,null,null,null,null,null,null,null,null,null,null,null,null,null,null,null,null,null,null,"",null,"",null,null,null,null,null,null,null,null,null,null,null,null,null,null,null,null,null,null,null,null,null,null,null,"",null,"",null,null,null,null,null,null,null,null,null,null,null,null,null,null,null,null,null,null,null,null,null,null,null,"",null,"",null,null,null,null,null,null,null,null,null,null,null,null,null,null,null,null,null,null,null,null,null,null,null,"",null,"",null,null,null,null,null,null,null,null,null,null,null,null,null,null,null,null,null,null,null,null,null,null,null,""]
[null,60,null,null,null,null,"",null,null,null,null,null,null,null,null,null,null,null,null,null,null,null,null,null,null,null,null,null,null,null,"",null,"",null,null,null,null,null,null,null,null,null,null,null,null,null,null,null,null,null,null,null,null,null,null,null,"",null,"",null,null,null,null,null,null,null,null,null,null,null,null,null,null,null,null,null,null,null,null,null,null,null,"",null,"",null,null,null,null,null,null,null,null,null,null,null,null,null,null,null,null,null,null,null,null,null,null,null,"",null,"",null,null,null,null,null,null,null,null,null,null,null,null,null,null,null,null,null,null,null,null,null,null,null,"",null,"",null,null,null,null,null,null,null,null,null,null,null,null,null,null,null,null,null,null,null,null,null,null,null,"",null,"",null,null,null,null,null,null,null,null,null,null,null,null,null,null,null,null,null,null,null,null,null,null,null,"",null,"",null,null,null,null,null,null,null,null,null,null,null,null,null,null,null,null,null,null,null,null,null,null,null,"",null,"",null,null,null,null,null,null,null,null,null,null,null,null,null,null,null,null,null,null,null,null,null,null,null,"",null,"",null,null,null,null,null,null,null,null,null,null,null,null,null,null,null,null,null,null,null,null,null,null,null,"",null,"",null,null,null,null,null,null,null,null,null,null,null,null,null,null,null,null,null,null,null,null,null,null,null,""]
[null,61,null,null,null,null,"",null,null,null,null,null,null,null,null,null,null,null,null,null,null,null,null,null,null,null,null,null,null,null,"",null,"",null,null,null,null,null,null,null,null,null,null,null,null,null,null,null,null,null,null,null,null,null,null,null,"",null,"",null,null,null,null,null,null,null,null,null,null,null,null,null,null,null,null,null,null,null,null,null,null,null,"",null,"",null,null,null,null,null,null,null,null,null,null,null,null,null,null,null,null,null,null,null,null,null,null,null,"",null,"",null,null,null,null,null,null,null,null,null,null,null,null,null,null,null,null,null,null,null,null,null,null,null,"",null,"",null,null,null,null,null,null,null,null,null,null,null,null,null,null,null,null,null,null,null,null,null,null,null,"",null,"",null,null,null,null,null,null,null,null,null,null,null,null,null,null,null,null,null,null,null,null,null,null,null,"",null,"",null,null,null,null,null,null,null,null,null,null,null,null,null,null,null,null,null,null,null,null,null,null,null,"",null,"",null,null,null,null,null,null,null,null,null,null,null,null,null,null,null,null,null,null,null,null,null,null,null,"",null,"",null,null,null,null,null,null,null,null,null,null,null,null,null,null,null,null,null,null,null,null,null,null,null,"",null,"",null,null,null,null,null,null,null,null,null,null,null,null,null,null,null,null,null,null,null,null,null,null,null,""]
[null,62,null,null,null,null,"",null,null,null,null,null,null,null,null,null,null,null,null,null,null,null,null,null,null,null,null,null,null,null,"",null,"",null,null,null,null,null,null,null,null,null,null,null,null,null,null,null,null,null,null,null,null,null,null,null,"",null,"",null,null,null,null,null,null,null,null,null,null,null,null,null,null,null,null,null,null,null,null,null,null,null,"",null,"",null,null,null,null,null,null,null,null,null,null,null,null,null,null,null,null,null,null,null,null,null,null,null,"",null,"",null,null,null,null,null,null,null,null,null,null,null,null,null,null,null,null,null,null,null,null,null,null,null,"",null,"",null,null,null,null,null,null,null,null,null,null,null,null,null,null,null,null,null,null,null,null,null,null,null,"",null,"",null,null,null,null,null,null,null,null,null,null,null,null,null,null,null,null,null,null,null,null,null,null,null,"",null,"",null,null,null,null,null,null,null,null,null,null,null,null,null,null,null,null,null,null,null,null,null,null,null,"",null,"",null,null,null,null,null,null,null,null,null,null,null,null,null,null,null,null,null,null,null,null,null,null,null,"",null,"",null,null,null,null,null,null,null,null,null,null,null,null,null,null,null,null,null,null,null,null,null,null,null,"",null,"",null,null,null,null,null,null,null,null,null,null,null,null,null,null,null,null,null,null,null,null,null,null,null,""]
[null,63,null,null,null,null,"",null,null,null,null,null,null,null,null,null,null,null,null,null,null,null,null,null,null,null,null,null,null,null,"",null,"",null,null,null,null,null,null,null,null,null,null,null,null,null,null,null,null,null,null,null,null,null,null,null,"",null,"",null,null,null,null,null,null,null,null,null,null,null,null,null,null,null,null,null,null,null,null,null,null,null,"",null,"",null,null,null,null,null,null,null,null,null,null,null,null,null,null,null,null,null,null,null,null,null,null,null,"",null,"",null,null,null,null,null,null,null,null,null,null,null,null,null,null,null,null,null,null,null,null,null,null,null,"",null,"",null,null,null,null,null,null,null,null,null,null,null,null,null,null,null,null,null,null,null,null,null,null,null,"",null,"",null,null,null,null,null,null,null,null,null,null,null,null,null,null,null,null,null,null,null,null,null,null,null,"",null,"",null,null,null,null,null,null,null,null,null,null,null,null,null,null,null,null,null,null,null,null,null,null,null,"",null,"",null,null,null,null,null,null,null,null,null,null,null,null,null,null,null,null,null,null,null,null,null,null,null,"",null,"",null,null,null,null,null,null,null,null,null,null,null,null,null,null,null,null,null,null,null,null,null,null,null,"",null,"",null,null,null,null,null,null,null,null,null,null,null,null,null,null,null,null,null,null,null,null,null,null,null,""]
[null,64,null,null,null,null,"",null,null,null,null,null,null,null,null,null,null,null,null,null,null,null,null,null,null,null,null,null,null,null,"",null,"",null,null,null,null,null,null,null,null,null,null,null,null,null,null,null,null,null,null,null,null,null,null,null,"",null,"",null,null,null,null,null,null,null,null,null,null,null,null,null,null,null,null,null,null,null,null,null,null,null,"",null,"",null,null,null,null,null,null,null,null,null,null,null,null,null,null,null,null,null,null,null,null,null,null,null,"",null,"",null,null,null,null,null,null,null,null,null,null,null,null,null,null,null,null,null,null,null,null,null,null,null,"",null,"",null,null,null,null,null,null,null,null,null,null,null,null,null,null,null,null,null,null,null,null,null,null,null,"",null,"",null,null,null,null,null,null,null,null,null,null,null,null,null,null,null,null,null,null,null,null,null,null,null,"",null,"",null,null,null,null,null,null,null,null,null,null,null,null,null,null,null,null,null,null,null,null,null,null,null,"",null,"",null,null,null,null,null,null,null,null,null,null,null,null,null,null,null,null,null,null,null,null,null,null,null,"",null,"",null,null,null,null,null,null,null,null,null,null,null,null,null,null,null,null,null,null,null,null,null,null,null,"",null,"",null,null,null,null,null,null,null,null,null,null,null,null,null,null,null,null,null,null,null,null,null,null,null,""]
[null,65,null,null,null,null,"",null,null,null,null,null,null,null,null,null,null,null,null,null,null,null,null,null,null,null,null,null,null,null,"",null,"",null,null,null,null,null,null,null,null,null,null,null,null,null,null,null,null,null,null,null,null,null,null,null,"",null,"",null,null,null,null,null,null,null,null,null,null,null,null,null,null,null,null,null,null,null,null,null,null,null,"",null,"",null,null,null,null,null,null,null,null,null,null,null,null,null,null,null,null,null,null,null,null,null,null,null,"",null,"",null,null,null,null,null,null,null,null,null,null,null,null,null,null,null,null,null,null,null,null,null,null,null,"",null,"",null,null,null,null,null,null,null,null,null,null,null,null,null,null,null,null,null,null,null,null,null,null,null,"",null,"",null,null,null,null,null,null,null,null,null,null,null,null,null,null,null,null,null,null,null,null,null,null,null,"",null,"",null,null,null,null,null,null,null,null,null,null,null,null,null,null,null,null,null,null,null,null,null,null,null,"",null,"",null,null,null,null,null,null,null,null,null,null,null,null,null,null,null,null,null,null,null,null,null,null,null,"",null,"",null,null,null,null,null,null,null,null,null,null,null,null,null,null,null,null,null,null,null,null,null,null,null,"",null,"",null,null,null,null,null,null,null,null,null,null,null,null,null,null,null,null,null,null,null,null,null,null,null,""]
[null,66,null,null,null,null,{"$f":"IF($C88=\"\",\"\",L$11)","v":""},null,null,null,null,null,null,null,null,null,null,null,null,null,null,null,null,null,null,null,null,null,null,null,{"$f":"IF($C88=\"\",\"\",SUM(H88:AD88))","v":""},null,{"$f":"IF($C88=\"\",\"\",AL$11)","v":""},null,null,null,null,null,null,null,null,null,null,null,null,null,null,null,null,null,null,null,null,null,null,null,{"$f":"IF($C88=\"\",\"\",SUM(AH88:BD88))","v":""},null,{"$f":"IF($C88=\"\",\"\",BL$11)","v":""},null,null,null,null,null,null,null,null,null,null,null,null,null,null,null,null,null,null,null,null,null,null,null,{"$f":"IF($C88=\"\",\"\",SUM(BH88:CD88))","v":""},null,{"$f":"IF($C88=\"\",\"\",CL$11)","v":""},null,null,null,null,null,null,null,null,null,null,null,null,null,null,null,null,null,null,null,null,null,null,null,{"$f":"IF($C88=\"\",\"\",SUM(CH88:DD88))","v":""},null,{"$f":"IF($C88=\"\",\"\",DL$11)","v":""},null,null,null,null,null,null,null,null,null,null,null,null,null,null,null,null,null,null,null,null,null,null,null,{"$f":"IF($C88=\"\",\"\",SUM(DH88:ED88))","v":""},null,{"$f":"IF($C88=\"\",\"\",EL$11)","v":""},null,null,null,null,null,null,null,null,null,null,null,null,null,null,null,null,null,null,null,null,null,null,null,{"$f":"IF($C88=\"\",\"\",SUM(EH88:FD88))","v":""},null,{"$f":"IF($C88=\"\",\"\",FL$11)","v":""},null,null,null,null,null,null,null,null,null,null,null,null,null,null,null,null,null,null,null,null,null,null,null,{"$f":"IF($C88=\"\",\"\",SUM(FH88:GD88))","v":""},null,{"$f":"IF($C88=\"\",\"\",GL$11)","v":""},null,null,null,null,null,null,null,null,null,null,null,null,null,null,null,null,null,null,null,null,null,null,null,{"$f":"IF($C88=\"\",\"\",SUM(GH88:HD88))","v":""},null,{"$f":"IF($C88=\"\",\"\",HL$11)","v":""},null,null,null,null,null,null,null,null,null,null,null,null,null,null,null,null,null,null,null,null,null,null,null,{"$f":"IF($C88=\"\",\"\",SUM(HH88:ID88))","v":""},null,{"$f":"IF($C88=\"\",\"\",IL$11)","v":""},null,null,null,null,null,null,null,null,null,null,null,null,null,null,null,null,null,null,null,null,null,null,null,{"$f":"IF($C88=\"\",\"\",SUM(IH88:JD88))","v":""},null,{"$f":"IF($C88=\"\",\"\",JL$11)","v":""},null,null,null,null,null,null,null,null,null,null,null,null,null,null,null,null,null,null,null,null,null,null,null,{"$f":"IF($C88=\"\",\"\",SUM(JH88:KD88))","v":""}]
[null,67,null,null,null,null,"",null,null,null,null,null,null,null,null,null,null,null,null,null,null,null,null,null,null,null,null,null,null,null,"",null,"",null,null,null,null,null,null,null,null,null,null,null,null,null,null,null,null,null,null,null,null,null,null,null,"",null,"",null,null,null,null,null,null,null,null,null,null,null,null,null,null,null,null,null,null,null,null,null,null,null,"",null,"",null,null,null,null,null,null,null,null,null,null,null,null,null,null,null,null,null,null,null,null,null,null,null,"",null,"",null,null,null,null,null,null,null,null,null,null,null,null,null,null,null,null,null,null,null,null,null,null,null,"",null,"",null,null,null,null,null,null,null,null,null,null,null,null,null,null,null,null,null,null,null,null,null,null,null,"",null,"",null,null,null,null,null,null,null,null,null,null,null,null,null,null,null,null,null,null,null,null,null,null,null,"",null,"",null,null,null,null,null,null,null,null,null,null,null,null,null,null,null,null,null,null,null,null,null,null,null,"",null,"",null,null,null,null,null,null,null,null,null,null,null,null,null,null,null,null,null,null,null,null,null,null,null,"",null,"",null,null,null,null,null,null,null,null,null,null,null,null,null,null,null,null,null,null,null,null,null,null,null,"",null,"",null,null,null,null,null,null,null,null,null,null,null,null,null,null,null,null,null,null,null,null,null,null,null,""]
[null,68,null,null,null,null,"",null,null,null,null,null,null,null,null,null,null,null,null,null,null,null,null,null,null,null,null,null,null,null,"",null,"",null,null,null,null,null,null,null,null,null,null,null,null,null,null,null,null,null,null,null,null,null,null,null,"",null,"",null,null,null,null,null,null,null,null,null,null,null,null,null,null,null,null,null,null,null,null,null,null,null,"",null,"",null,null,null,null,null,null,null,null,null,null,null,null,null,null,null,null,null,null,null,null,null,null,null,"",null,"",null,null,null,null,null,null,null,null,null,null,null,null,null,null,null,null,null,null,null,null,null,null,null,"",null,"",null,null,null,null,null,null,null,null,null,null,null,null,null,null,null,null,null,null,null,null,null,null,null,"",null,"",null,null,null,null,null,null,null,null,null,null,null,null,null,null,null,null,null,null,null,null,null,null,null,"",null,"",null,null,null,null,null,null,null,null,null,null,null,null,null,null,null,null,null,null,null,null,null,null,null,"",null,"",null,null,null,null,null,null,null,null,null,null,null,null,null,null,null,null,null,null,null,null,null,null,null,"",null,"",null,null,null,null,null,null,null,null,null,null,null,null,null,null,null,null,null,null,null,null,null,null,null,"",null,"",null,null,null,null,null,null,null,null,null,null,null,null,null,null,null,null,null,null,null,null,null,null,null,""]
[null,69,null,null,null,null,"",null,null,null,null,null,null,null,null,null,null,null,null,null,null,null,null,null,null,null,null,null,null,null,"",null,"",null,null,null,null,null,null,null,null,null,null,null,null,null,null,null,null,null,null,null,null,null,null,null,"",null,"",null,null,null,null,null,null,null,null,null,null,null,null,null,null,null,null,null,null,null,null,null,null,null,"",null,"",null,null,null,null,null,null,null,null,null,null,null,null,null,null,null,null,null,null,null,null,null,null,null,"",null,"",null,null,null,null,null,null,null,null,null,null,null,null,null,null,null,null,null,null,null,null,null,null,null,"",null,"",null,null,null,null,null,null,null,null,null,null,null,null,null,null,null,null,null,null,null,null,null,null,null,"",null,"",null,null,null,null,null,null,null,null,null,null,null,null,null,null,null,null,null,null,null,null,null,null,null,"",null,"",null,null,null,null,null,null,null,null,null,null,null,null,null,null,null,null,null,null,null,null,null,null,null,"",null,"",null,null,null,null,null,null,null,null,null,null,null,null,null,null,null,null,null,null,null,null,null,null,null,"",null,"",null,null,null,null,null,null,null,null,null,null,null,null,null,null,null,null,null,null,null,null,null,null,null,"",null,"",null,null,null,null,null,null,null,null,null,null,null,null,null,null,null,null,null,null,null,null,null,null,null,""]
[null,70,null,null,null,null,"",null,null,null,null,null,null,null,null,null,null,null,null,null,null,null,null,null,null,null,null,null,null,null,"",null,"",null,null,null,null,null,null,null,null,null,null,null,null,null,null,null,null,null,null,null,null,null,null,null,"",null,"",null,null,null,null,null,null,null,null,null,null,null,null,null,null,null,null,null,null,null,null,null,null,null,"",null,"",null,null,null,null,null,null,null,null,null,null,null,null,null,null,null,null,null,null,null,null,null,null,null,"",null,"",null,null,null,null,null,null,null,null,null,null,null,null,null,null,null,null,null,null,null,null,null,null,null,"",null,"",null,null,null,null,null,null,null,null,null,null,null,null,null,null,null,null,null,null,null,null,null,null,null,"",null,"",null,null,null,null,null,null,null,null,null,null,null,null,null,null,null,null,null,null,null,null,null,null,null,"",null,"",null,null,null,null,null,null,null,null,null,null,null,null,null,null,null,null,null,null,null,null,null,null,null,"",null,"",null,null,null,null,null,null,null,null,null,null,null,null,null,null,null,null,null,null,null,null,null,null,null,"",null,"",null,null,null,null,null,null,null,null,null,null,null,null,null,null,null,null,null,null,null,null,null,null,null,"",null,"",null,null,null,null,null,null,null,null,null,null,null,null,null,null,null,null,null,null,null,null,null,null,null,""]
[null,71,null,null,null,null,"",null,null,null,null,null,null,null,null,null,null,null,null,null,null,null,null,null,null,null,null,null,null,null,"",null,"",null,null,null,null,null,null,null,null,null,null,null,null,null,null,null,null,null,null,null,null,null,null,null,"",null,"",null,null,null,null,null,null,null,null,null,null,null,null,null,null,null,null,null,null,null,null,null,null,null,"",null,"",null,null,null,null,null,null,null,null,null,null,null,null,null,null,null,null,null,null,null,null,null,null,null,"",null,"",null,null,null,null,null,null,null,null,null,null,null,null,null,null,null,null,null,null,null,null,null,null,null,"",null,"",null,null,null,null,null,null,null,null,null,null,null,null,null,null,null,null,null,null,null,null,null,null,null,"",null,"",null,null,null,null,null,null,null,null,null,null,null,null,null,null,null,null,null,null,null,null,null,null,null,"",null,"",null,null,null,null,null,null,null,null,null,null,null,null,null,null,null,null,null,null,null,null,null,null,null,"",null,"",null,null,null,null,null,null,null,null,null,null,null,null,null,null,null,null,null,null,null,null,null,null,null,"",null,"",null,null,null,null,null,null,null,null,null,null,null,null,null,null,null,null,null,null,null,null,null,null,null,"",null,"",null,null,null,null,null,null,null,null,null,null,null,null,null,null,null,null,null,null,null,null,null,null,null,""]
[null,72,null,null,null,null,"",null,null,null,null,null,null,null,null,null,null,null,null,null,null,null,null,null,null,null,null,null,null,null,"",null,"",null,null,null,null,null,null,null,null,null,null,null,null,null,null,null,null,null,null,null,null,null,null,null,"",null,"",null,null,null,null,null,null,null,null,null,null,null,null,null,null,null,null,null,null,null,null,null,null,null,"",null,"",null,null,null,null,null,null,null,null,null,null,null,null,null,null,null,null,null,null,null,null,null,null,null,"",null,"",null,null,null,null,null,null,null,null,null,null,null,null,null,null,null,null,null,null,null,null,null,null,null,"",null,"",null,null,null,null,null,null,null,null,null,null,null,null,null,null,null,null,null,null,null,null,null,null,null,"",null,"",null,null,null,null,null,null,null,null,null,null,null,null,null,null,null,null,null,null,null,null,null,null,null,"",null,"",null,null,null,null,null,null,null,null,null,null,null,null,null,null,null,null,null,null,null,null,null,null,null,"",null,"",null,null,null,null,null,null,null,null,null,null,null,null,null,null,null,null,null,null,null,null,null,null,null,"",null,"",null,null,null,null,null,null,null,null,null,null,null,null,null,null,null,null,null,null,null,null,null,null,null,"",null,"",null,null,null,null,null,null,null,null,null,null,null,null,null,null,null,null,null,null,null,null,null,null,null,""]
[null,73,null,null,null,null,"",null,null,null,null,null,null,null,null,null,null,null,null,null,null,null,null,null,null,null,null,null,null,null,"",null,"",null,null,null,null,null,null,null,null,null,null,null,null,null,null,null,null,null,null,null,null,null,null,null,"",null,"",null,null,null,null,null,null,null,null,null,null,null,null,null,null,null,null,null,null,null,null,null,null,null,"",null,"",null,null,null,null,null,null,null,null,null,null,null,null,null,null,null,null,null,null,null,null,null,null,null,"",null,"",null,null,null,null,null,null,null,null,null,null,null,null,null,null,null,null,null,null,null,null,null,null,null,"",null,"",null,null,null,null,null,null,null,null,null,null,null,null,null,null,null,null,null,null,null,null,null,null,null,"",null,"",null,null,null,null,null,null,null,null,null,null,null,null,null,null,null,null,null,null,null,null,null,null,null,"",null,"",null,null,null,null,null,null,null,null,null,null,null,null,null,null,null,null,null,null,null,null,null,null,null,"",null,"",null,null,null,null,null,null,null,null,null,null,null,null,null,null,null,null,null,null,null,null,null,null,null,"",null,"",null,null,null,null,null,null,null,null,null,null,null,null,null,null,null,null,null,null,null,null,null,null,null,"",null,"",null,null,null,null,null,null,null,null,null,null,null,null,null,null,null,null,null,null,null,null,null,null,null,""]
[null,74,null,null,null,null,"",null,null,null,null,null,null,null,null,null,null,null,null,null,null,null,null,null,null,null,null,null,null,null,"",null,"",null,null,null,null,null,null,null,null,null,null,null,null,null,null,null,null,null,null,null,null,null,null,null,"",null,"",null,null,null,null,null,null,null,null,null,null,null,null,null,null,null,null,null,null,null,null,null,null,null,"",null,"",null,null,null,null,null,null,null,null,null,null,null,null,null,null,null,null,null,null,null,null,null,null,null,"",null,"",null,null,null,null,null,null,null,null,null,null,null,null,null,null,null,null,null,null,null,null,null,null,null,"",null,"",null,null,null,null,null,null,null,null,null,null,null,null,null,null,null,null,null,null,null,null,null,null,null,"",null,"",null,null,null,null,null,null,null,null,null,null,null,null,null,null,null,null,null,null,null,null,null,null,null,"",null,"",null,null,null,null,null,null,null,null,null,null,null,null,null,null,null,null,null,null,null,null,null,null,null,"",null,"",null,null,null,null,null,null,null,null,null,null,null,null,null,null,null,null,null,null,null,null,null,null,null,"",null,"",null,null,null,null,null,null,null,null,null,null,null,null,null,null,null,null,null,null,null,null,null,null,null,"",null,"",null,null,null,null,null,null,null,null,null,null,null,null,null,null,null,null,null,null,null,null,null,null,null,""]
[null,75,null,null,null,null,"",null,null,null,null,null,null,null,null,null,null,null,null,null,null,null,null,null,null,null,null,null,null,null,"",null,"",null,null,null,null,null,null,null,null,null,null,null,null,null,null,null,null,null,null,null,null,null,null,null,"",null,"",null,null,null,null,null,null,null,null,null,null,null,null,null,null,null,null,null,null,null,null,null,null,null,"",null,"",null,null,null,null,null,null,null,null,null,null,null,null,null,null,null,null,null,null,null,null,null,null,null,"",null,"",null,null,null,null,null,null,null,null,null,null,null,null,null,null,null,null,null,null,null,null,null,null,null,"",null,"",null,null,null,null,null,null,null,null,null,null,null,null,null,null,null,null,null,null,null,null,null,null,null,"",null,"",null,null,null,null,null,null,null,null,null,null,null,null,null,null,null,null,null,null,null,null,null,null,null,"",null,"",null,null,null,null,null,null,null,null,null,null,null,null,null,null,null,null,null,null,null,null,null,null,null,"",null,"",null,null,null,null,null,null,null,null,null,null,null,null,null,null,null,null,null,null,null,null,null,null,null,"",null,"",null,null,null,null,null,null,null,null,null,null,null,null,null,null,null,null,null,null,null,null,null,null,null,"",null,"",null,null,null,null,null,null,null,null,null,null,null,null,null,null,null,null,null,null,null,null,null,null,null,""]
[null,76,null,null,null,null,"",null,null,null,null,null,null,null,null,null,null,null,null,null,null,null,null,null,null,null,null,null,null,null,"",null,"",null,null,null,null,null,null,null,null,null,null,null,null,null,null,null,null,null,null,null,null,null,null,null,"",null,"",null,null,null,null,null,null,null,null,null,null,null,null,null,null,null,null,null,null,null,null,null,null,null,"",null,"",null,null,null,null,null,null,null,null,null,null,null,null,null,null,null,null,null,null,null,null,null,null,null,"",null,"",null,null,null,null,null,null,null,null,null,null,null,null,null,null,null,null,null,null,null,null,null,null,null,"",null,"",null,null,null,null,null,null,null,null,null,null,null,null,null,null,null,null,null,null,null,null,null,null,null,"",null,"",null,null,null,null,null,null,null,null,null,null,null,null,null,null,null,null,null,null,null,null,null,null,null,"",null,"",null,null,null,null,null,null,null,null,null,null,null,null,null,null,null,null,null,null,null,null,null,null,null,"",null,"",null,null,null,null,null,null,null,null,null,null,null,null,null,null,null,null,null,null,null,null,null,null,null,"",null,"",null,null,null,null,null,null,null,null,null,null,null,null,null,null,null,null,null,null,null,null,null,null,null,"",null,"",null,null,null,null,null,null,null,null,null,null,null,null,null,null,null,null,null,null,null,null,null,null,null,""]
[null,77,null,null,null,null,"",null,null,null,null,null,null,null,null,null,null,null,null,null,null,null,null,null,null,null,null,null,null,null,"",null,"",null,null,null,null,null,null,null,null,null,null,null,null,null,null,null,null,null,null,null,null,null,null,null,"",null,"",null,null,null,null,null,null,null,null,null,null,null,null,null,null,null,null,null,null,null,null,null,null,null,"",null,"",null,null,null,null,null,null,null,null,null,null,null,null,null,null,null,null,null,null,null,null,null,null,null,"",null,"",null,null,null,null,null,null,null,null,null,null,null,null,null,null,null,null,null,null,null,null,null,null,null,"",null,"",null,null,null,null,null,null,null,null,null,null,null,null,null,null,null,null,null,null,null,null,null,null,null,"",null,"",null,null,null,null,null,null,null,null,null,null,null,null,null,null,null,null,null,null,null,null,null,null,null,"",null,"",null,null,null,null,null,null,null,null,null,null,null,null,null,null,null,null,null,null,null,null,null,null,null,"",null,"",null,null,null,null,null,null,null,null,null,null,null,null,null,null,null,null,null,null,null,null,null,null,null,"",null,"",null,null,null,null,null,null,null,null,null,null,null,null,null,null,null,null,null,null,null,null,null,null,null,"",null,"",null,null,null,null,null,null,null,null,null,null,null,null,null,null,null,null,null,null,null,null,null,null,null,""]
[null,78,null,null,null,null,"",null,null,null,null,null,null,null,null,null,null,null,null,null,null,null,null,null,null,null,null,null,null,null,"",null,"",null,null,null,null,null,null,null,null,null,null,null,null,null,null,null,null,null,null,null,null,null,null,null,"",null,"",null,null,null,null,null,null,null,null,null,null,null,null,null,null,null,null,null,null,null,null,null,null,null,"",null,"",null,null,null,null,null,null,null,null,null,null,null,null,null,null,null,null,null,null,null,null,null,null,null,"",null,"",null,null,null,null,null,null,null,null,null,null,null,null,null,null,null,null,null,null,null,null,null,null,null,"",null,"",null,null,null,null,null,null,null,null,null,null,null,null,null,null,null,null,null,null,null,null,null,null,null,"",null,"",null,null,null,null,null,null,null,null,null,null,null,null,null,null,null,null,null,null,null,null,null,null,null,"",null,"",null,null,null,null,null,null,null,null,null,null,null,null,null,null,null,null,null,null,null,null,null,null,null,"",null,"",null,null,null,null,null,null,null,null,null,null,null,null,null,null,null,null,null,null,null,null,null,null,null,"",null,"",null,null,null,null,null,null,null,null,null,null,null,null,null,null,null,null,null,null,null,null,null,null,null,"",null,"",null,null,null,null,null,null,null,null,null,null,null,null,null,null,null,null,null,null,null,null,null,null,null,""]
[null,79,null,null,null,null,"",null,null,null,null,null,null,null,null,null,null,null,null,null,null,null,null,null,null,null,null,null,null,null,"",null,"",null,null,null,null,null,null,null,null,null,null,null,null,null,null,null,null,null,null,null,null,null,null,null,"",null,"",null,null,null,null,null,null,null,null,null,null,null,null,null,null,null,null,null,null,null,null,null,null,null,"",null,"",null,null,null,null,null,null,null,null,null,null,null,null,null,null,null,null,null,null,null,null,null,null,null,"",null,"",null,null,null,null,null,null,null,null,null,null,null,null,null,null,null,null,null,null,null,null,null,null,null,"",null,"",null,null,null,null,null,null,null,null,null,null,null,null,null,null,null,null,null,null,null,null,null,null,null,"",null,"",null,null,null,null,null,null,null,null,null,null,null,null,null,null,null,null,null,null,null,null,null,null,null,"",null,"",null,null,null,null,null,null,null,null,null,null,null,null,null,null,null,null,null,null,null,null,null,null,null,"",null,"",null,null,null,null,null,null,null,null,null,null,null,null,null,null,null,null,null,null,null,null,null,null,null,"",null,"",null,null,null,null,null,null,null,null,null,null,null,null,null,null,null,null,null,null,null,null,null,null,null,"",null,"",null,null,null,null,null,null,null,null,null,null,null,null,null,null,null,null,null,null,null,null,null,null,null,""]
[null,80,null,null,null,null,"",null,null,null,null,null,null,null,null,null,null,null,null,null,null,null,null,null,null,null,null,null,null,null,"",null,"",null,null,null,null,null,null,null,null,null,null,null,null,null,null,null,null,null,null,null,null,null,null,null,"",null,"",null,null,null,null,null,null,null,null,null,null,null,null,null,null,null,null,null,null,null,null,null,null,null,"",null,"",null,null,null,null,null,null,null,null,null,null,null,null,null,null,null,null,null,null,null,null,null,null,null,"",null,"",null,null,null,null,null,null,null,null,null,null,null,null,null,null,null,null,null,null,null,null,null,null,null,"",null,"",null,null,null,null,null,null,null,null,null,null,null,null,null,null,null,null,null,null,null,null,null,null,null,"",null,"",null,null,null,null,null,null,null,null,null,null,null,null,null,null,null,null,null,null,null,null,null,null,null,"",null,"",null,null,null,null,null,null,null,null,null,null,null,null,null,null,null,null,null,null,null,null,null,null,null,"",null,"",null,null,null,null,null,null,null,null,null,null,null,null,null,null,null,null,null,null,null,null,null,null,null,"",null,"",null,null,null,null,null,null,null,null,null,null,null,null,null,null,null,null,null,null,null,null,null,null,null,"",null,"",null,null,null,null,null,null,null,null,null,null,null,null,null,null,null,null,null,null,null,null,null,null,null,""]
[null,81,null,null,null,null,"",null,null,null,null,null,null,null,null,null,null,null,null,null,null,null,null,null,null,null,null,null,null,null,"",null,"",null,null,null,null,null,null,null,null,null,null,null,null,null,null,null,null,null,null,null,null,null,null,null,"",null,"",null,null,null,null,null,null,null,null,null,null,null,null,null,null,null,null,null,null,null,null,null,null,null,"",null,"",null,null,null,null,null,null,null,null,null,null,null,null,null,null,null,null,null,null,null,null,null,null,null,"",null,"",null,null,null,null,null,null,null,null,null,null,null,null,null,null,null,null,null,null,null,null,null,null,null,"",null,"",null,null,null,null,null,null,null,null,null,null,null,null,null,null,null,null,null,null,null,null,null,null,null,"",null,"",null,null,null,null,null,null,null,null,null,null,null,null,null,null,null,null,null,null,null,null,null,null,null,"",null,"",null,null,null,null,null,null,null,null,null,null,null,null,null,null,null,null,null,null,null,null,null,null,null,"",null,"",null,null,null,null,null,null,null,null,null,null,null,null,null,null,null,null,null,null,null,null,null,null,null,"",null,"",null,null,null,null,null,null,null,null,null,null,null,null,null,null,null,null,null,null,null,null,null,null,null,"",null,"",null,null,null,null,null,null,null,null,null,null,null,null,null,null,null,null,null,null,null,null,null,null,null,""]
[null,82,null,null,null,null,"",null,null,null,null,null,null,null,null,null,null,null,null,null,null,null,null,null,null,null,null,null,null,null,"",null,"",null,null,null,null,null,null,null,null,null,null,null,null,null,null,null,null,null,null,null,null,null,null,null,"",null,"",null,null,null,null,null,null,null,null,null,null,null,null,null,null,null,null,null,null,null,null,null,null,null,"",null,"",null,null,null,null,null,null,null,null,null,null,null,null,null,null,null,null,null,null,null,null,null,null,null,"",null,"",null,null,null,null,null,null,null,null,null,null,null,null,null,null,null,null,null,null,null,null,null,null,null,"",null,"",null,null,null,null,null,null,null,null,null,null,null,null,null,null,null,null,null,null,null,null,null,null,null,"",null,"",null,null,null,null,null,null,null,null,null,null,null,null,null,null,null,null,null,null,null,null,null,null,null,"",null,"",null,null,null,null,null,null,null,null,null,null,null,null,null,null,null,null,null,null,null,null,null,null,null,"",null,"",null,null,null,null,null,null,null,null,null,null,null,null,null,null,null,null,null,null,null,null,null,null,null,"",null,"",null,null,null,null,null,null,null,null,null,null,null,null,null,null,null,null,null,null,null,null,null,null,null,"",null,"",null,null,null,null,null,null,null,null,null,null,null,null,null,null,null,null,null,null,null,null,null,null,null,""]
[null,83,null,null,null,null,"",null,null,null,null,null,null,null,null,null,null,null,null,null,null,null,null,null,null,null,null,null,null,null,"",null,"",null,null,null,null,null,null,null,null,null,null,null,null,null,null,null,null,null,null,null,null,null,null,null,"",null,"",null,null,null,null,null,null,null,null,null,null,null,null,null,null,null,null,null,null,null,null,null,null,null,"",null,"",null,null,null,null,null,null,null,null,null,null,null,null,null,null,null,null,null,null,null,null,null,null,null,"",null,"",null,null,null,null,null,null,null,null,null,null,null,null,null,null,null,null,null,null,null,null,null,null,null,"",null,"",null,null,null,null,null,null,null,null,null,null,null,null,null,null,null,null,null,null,null,null,null,null,null,"",null,"",null,null,null,null,null,null,null,null,null,null,null,null,null,null,null,null,null,null,null,null,null,null,null,"",null,"",null,null,null,null,null,null,null,null,null,null,null,null,null,null,null,null,null,null,null,null,null,null,null,"",null,"",null,null,null,null,null,null,null,null,null,null,null,null,null,null,null,null,null,null,null,null,null,null,null,"",null,"",null,null,null,null,null,null,null,null,null,null,null,null,null,null,null,null,null,null,null,null,null,null,null,"",null,"",null,null,null,null,null,null,null,null,null,null,null,null,null,null,null,null,null,null,null,null,null,null,null,""]
[null,84,null,null,null,null,"",null,null,null,null,null,null,null,null,null,null,null,null,null,null,null,null,null,null,null,null,null,null,null,"",null,"",null,null,null,null,null,null,null,null,null,null,null,null,null,null,null,null,null,null,null,null,null,null,null,"",null,"",null,null,null,null,null,null,null,null,null,null,null,null,null,null,null,null,null,null,null,null,null,null,null,"",null,"",null,null,null,null,null,null,null,null,null,null,null,null,null,null,null,null,null,null,null,null,null,null,null,"",null,"",null,null,null,null,null,null,null,null,null,null,null,null,null,null,null,null,null,null,null,null,null,null,null,"",null,"",null,null,null,null,null,null,null,null,null,null,null,null,null,null,null,null,null,null,null,null,null,null,null,"",null,"",null,null,null,null,null,null,null,null,null,null,null,null,null,null,null,null,null,null,null,null,null,null,null,"",null,"",null,null,null,null,null,null,null,null,null,null,null,null,null,null,null,null,null,null,null,null,null,null,null,"",null,"",null,null,null,null,null,null,null,null,null,null,null,null,null,null,null,null,null,null,null,null,null,null,null,"",null,"",null,null,null,null,null,null,null,null,null,null,null,null,null,null,null,null,null,null,null,null,null,null,null,"",null,"",null,null,null,null,null,null,null,null,null,null,null,null,null,null,null,null,null,null,null,null,null,null,null,""]
[null,85,null,null,null,null,"",null,null,null,null,null,null,null,null,null,null,null,null,null,null,null,null,null,null,null,null,null,null,null,"",null,"",null,null,null,null,null,null,null,null,null,null,null,null,null,null,null,null,null,null,null,null,null,null,null,"",null,"",null,null,null,null,null,null,null,null,null,null,null,null,null,null,null,null,null,null,null,null,null,null,null,"",null,"",null,null,null,null,null,null,null,null,null,null,null,null,null,null,null,null,null,null,null,null,null,null,null,"",null,"",null,null,null,null,null,null,null,null,null,null,null,null,null,null,null,null,null,null,null,null,null,null,null,"",null,"",null,null,null,null,null,null,null,null,null,null,null,null,null,null,null,null,null,null,null,null,null,null,null,"",null,"",null,null,null,null,null,null,null,null,null,null,null,null,null,null,null,null,null,null,null,null,null,null,null,"",null,"",null,null,null,null,null,null,null,null,null,null,null,null,null,null,null,null,null,null,null,null,null,null,null,"",null,"",null,null,null,null,null,null,null,null,null,null,null,null,null,null,null,null,null,null,null,null,null,null,null,"",null,"",null,null,null,null,null,null,null,null,null,null,null,null,null,null,null,null,null,null,null,null,null,null,null,"",null,"",null,null,null,null,null,null,null,null,null,null,null,null,null,null,null,null,null,null,null,null,null,null,null,""]
[null,86,null,null,null,null,"",null,null,null,null,null,null,null,null,null,null,null,null,null,null,null,null,null,null,null,null,null,null,null,"",null,"",null,null,null,null,null,null,null,null,null,null,null,null,null,null,null,null,null,null,null,null,null,null,null,"",null,"",null,null,null,null,null,null,null,null,null,null,null,null,null,null,null,null,null,null,null,null,null,null,null,"",null,"",null,null,null,null,null,null,null,null,null,null,null,null,null,null,null,null,null,null,null,null,null,null,null,"",null,"",null,null,null,null,null,null,null,null,null,null,null,null,null,null,null,null,null,null,null,null,null,null,null,"",null,"",null,null,null,null,null,null,null,null,null,null,null,null,null,null,null,null,null,null,null,null,null,null,null,"",null,"",null,null,null,null,null,null,null,null,null,null,null,null,null,null,null,null,null,null,null,null,null,null,null,"",null,"",null,null,null,null,null,null,null,null,null,null,null,null,null,null,null,null,null,null,null,null,null,null,null,"",null,"",null,null,null,null,null,null,null,null,null,null,null,null,null,null,null,null,null,null,null,null,null,null,null,"",null,"",null,null,null,null,null,null,null,null,null,null,null,null,null,null,null,null,null,null,null,null,null,null,null,"",null,"",null,null,null,null,null,null,null,null,null,null,null,null,null,null,null,null,null,null,null,null,null,null,null,""]
[null,87,null,null,null,null,"",null,null,null,null,null,null,null,null,null,null,null,null,null,null,null,null,null,null,null,null,null,null,null,"",null,"",null,null,null,null,null,null,null,null,null,null,null,null,null,null,null,null,null,null,null,null,null,null,null,"",null,"",null,null,null,null,null,null,null,null,null,null,null,null,null,null,null,null,null,null,null,null,null,null,null,"",null,"",null,null,null,null,null,null,null,null,null,null,null,null,null,null,null,null,null,null,null,null,null,null,null,"",null,"",null,null,null,null,null,null,null,null,null,null,null,null,null,null,null,null,null,null,null,null,null,null,null,"",null,"",null,null,null,null,null,null,null,null,null,null,null,null,null,null,null,null,null,null,null,null,null,null,null,"",null,"",null,null,null,null,null,null,null,null,null,null,null,null,null,null,null,null,null,null,null,null,null,null,null,"",null,"",null,null,null,null,null,null,null,null,null,null,null,null,null,null,null,null,null,null,null,null,null,null,null,"",null,"",null,null,null,null,null,null,null,null,null,null,null,null,null,null,null,null,null,null,null,null,null,null,null,"",null,"",null,null,null,null,null,null,null,null,null,null,null,null,null,null,null,null,null,null,null,null,null,null,null,"",null,"",null,null,null,null,null,null,null,null,null,null,null,null,null,null,null,null,null,null,null,null,null,null,null,""]
[null,88,null,null,null,null,"",null,null,null,null,null,null,null,null,null,null,null,null,null,null,null,null,null,null,null,null,null,null,null,"",null,"",null,null,null,null,null,null,null,null,null,null,null,null,null,null,null,null,null,null,null,null,null,null,null,"",null,"",null,null,null,null,null,null,null,null,null,null,null,null,null,null,null,null,null,null,null,null,null,null,null,"",null,"",null,null,null,null,null,null,null,null,null,null,null,null,null,null,null,null,null,null,null,null,null,null,null,"",null,"",null,null,null,null,null,null,null,null,null,null,null,null,null,null,null,null,null,null,null,null,null,null,null,"",null,"",null,null,null,null,null,null,null,null,null,null,null,null,null,null,null,null,null,null,null,null,null,null,null,"",null,"",null,null,null,null,null,null,null,null,null,null,null,null,null,null,null,null,null,null,null,null,null,null,null,"",null,"",null,null,null,null,null,null,null,null,null,null,null,null,null,null,null,null,null,null,null,null,null,null,null,"",null,"",null,null,null,null,null,null,null,null,null,null,null,null,null,null,null,null,null,null,null,null,null,null,null,"",null,"",null,null,null,null,null,null,null,null,null,null,null,null,null,null,null,null,null,null,null,null,null,null,null,"",null,"",null,null,null,null,null,null,null,null,null,null,null,null,null,null,null,null,null,null,null,null,null,null,null,""]
[null,89,null,null,null,null,"",null,null,null,null,null,null,null,null,null,null,null,null,null,null,null,null,null,null,null,null,null,null,null,"",null,"",null,null,null,null,null,null,null,null,null,null,null,null,null,null,null,null,null,null,null,null,null,null,null,"",null,"",null,null,null,null,null,null,null,null,null,null,null,null,null,null,null,null,null,null,null,null,null,null,null,"",null,"",null,null,null,null,null,null,null,null,null,null,null,null,null,null,null,null,null,null,null,null,null,null,null,"",null,"",null,null,null,null,null,null,null,null,null,null,null,null,null,null,null,null,null,null,null,null,null,null,null,"",null,"",null,null,null,null,null,null,null,null,null,null,null,null,null,null,null,null,null,null,null,null,null,null,null,"",null,"",null,null,null,null,null,null,null,null,null,null,null,null,null,null,null,null,null,null,null,null,null,null,null,"",null,"",null,null,null,null,null,null,null,null,null,null,null,null,null,null,null,null,null,null,null,null,null,null,null,"",null,"",null,null,null,null,null,null,null,null,null,null,null,null,null,null,null,null,null,null,null,null,null,null,null,"",null,"",null,null,null,null,null,null,null,null,null,null,null,null,null,null,null,null,null,null,null,null,null,null,null,"",null,"",null,null,null,null,null,null,null,null,null,null,null,null,null,null,null,null,null,null,null,null,null,null,null,""]
[null,90,null,null,null,null,"",null,null,null,null,null,null,null,null,null,null,null,null,null,null,null,null,null,null,null,null,null,null,null,"",null,"",null,null,null,null,null,null,null,null,null,null,null,null,null,null,null,null,null,null,null,null,null,null,null,"",null,"",null,null,null,null,null,null,null,null,null,null,null,null,null,null,null,null,null,null,null,null,null,null,null,"",null,"",null,null,null,null,null,null,null,null,null,null,null,null,null,null,null,null,null,null,null,null,null,null,null,"",null,"",null,null,null,null,null,null,null,null,null,null,null,null,null,null,null,null,null,null,null,null,null,null,null,"",null,"",null,null,null,null,null,null,null,null,null,null,null,null,null,null,null,null,null,null,null,null,null,null,null,"",null,"",null,null,null,null,null,null,null,null,null,null,null,null,null,null,null,null,null,null,null,null,null,null,null,"",null,"",null,null,null,null,null,null,null,null,null,null,null,null,null,null,null,null,null,null,null,null,null,null,null,"",null,"",null,null,null,null,null,null,null,null,null,null,null,null,null,null,null,null,null,null,null,null,null,null,null,"",null,"",null,null,null,null,null,null,null,null,null,null,null,null,null,null,null,null,null,null,null,null,null,null,null,"",null,"",null,null,null,null,null,null,null,null,null,null,null,null,null,null,null,null,null,null,null,null,null,null,null,""]
[null,91,null,null,null,null,"",null,null,null,null,null,null,null,null,null,null,null,null,null,null,null,null,null,null,null,null,null,null,null,"",null,"",null,null,null,null,null,null,null,null,null,null,null,null,null,null,null,null,null,null,null,null,null,null,null,"",null,"",null,null,null,null,null,null,null,null,null,null,null,null,null,null,null,null,null,null,null,null,null,null,null,"",null,"",null,null,null,null,null,null,null,null,null,null,null,null,null,null,null,null,null,null,null,null,null,null,null,"",null,"",null,null,null,null,null,null,null,null,null,null,null,null,null,null,null,null,null,null,null,null,null,null,null,"",null,"",null,null,null,null,null,null,null,null,null,null,null,null,null,null,null,null,null,null,null,null,null,null,null,"",null,"",null,null,null,null,null,null,null,null,null,null,null,null,null,null,null,null,null,null,null,null,null,null,null,"",null,"",null,null,null,null,null,null,null,null,null,null,null,null,null,null,null,null,null,null,null,null,null,null,null,"",null,"",null,null,null,null,null,null,null,null,null,null,null,null,null,null,null,null,null,null,null,null,null,null,null,"",null,"",null,null,null,null,null,null,null,null,null,null,null,null,null,null,null,null,null,null,null,null,null,null,null,"",null,"",null,null,null,null,null,null,null,null,null,null,null,null,null,null,null,null,null,null,null,null,null,null,null,""]
[null,92,null,null,null,null,"",null,null,null,null,null,null,null,null,null,null,null,null,null,null,null,null,null,null,null,null,null,null,null,"",null,"",null,null,null,null,null,null,null,null,null,null,null,null,null,null,null,null,null,null,null,null,null,null,null,"",null,"",null,null,null,null,null,null,null,null,null,null,null,null,null,null,null,null,null,null,null,null,null,null,null,"",null,"",null,null,null,null,null,null,null,null,null,null,null,null,null,null,null,null,null,null,null,null,null,null,null,"",null,"",null,null,null,null,null,null,null,null,null,null,null,null,null,null,null,null,null,null,null,null,null,null,null,"",null,"",null,null,null,null,null,null,null,null,null,null,null,null,null,null,null,null,null,null,null,null,null,null,null,"",null,"",null,null,null,null,null,null,null,null,null,null,null,null,null,null,null,null,null,null,null,null,null,null,null,"",null,"",null,null,null,null,null,null,null,null,null,null,null,null,null,null,null,null,null,null,null,null,null,null,null,"",null,"",null,null,null,null,null,null,null,null,null,null,null,null,null,null,null,null,null,null,null,null,null,null,null,"",null,"",null,null,null,null,null,null,null,null,null,null,null,null,null,null,null,null,null,null,null,null,null,null,null,"",null,"",null,null,null,null,null,null,null,null,null,null,null,null,null,null,null,null,null,null,null,null,null,null,null,""]
[null,93,null,null,null,null,"",null,null,null,null,null,null,null,null,null,null,null,null,null,null,null,null,null,null,null,null,null,null,null,"",null,"",null,null,null,null,null,null,null,null,null,null,null,null,null,null,null,null,null,null,null,null,null,null,null,"",null,"",null,null,null,null,null,null,null,null,null,null,null,null,null,null,null,null,null,null,null,null,null,null,null,"",null,"",null,null,null,null,null,null,null,null,null,null,null,null,null,null,null,null,null,null,null,null,null,null,null,"",null,"",null,null,null,null,null,null,null,null,null,null,null,null,null,null,null,null,null,null,null,null,null,null,null,"",null,"",null,null,null,null,null,null,null,null,null,null,null,null,null,null,null,null,null,null,null,null,null,null,null,"",null,"",null,null,null,null,null,null,null,null,null,null,null,null,null,null,null,null,null,null,null,null,null,null,null,"",null,"",null,null,null,null,null,null,null,null,null,null,null,null,null,null,null,null,null,null,null,null,null,null,null,"",null,"",null,null,null,null,null,null,null,null,null,null,null,null,null,null,null,null,null,null,null,null,null,null,null,"",null,"",null,null,null,null,null,null,null,null,null,null,null,null,null,null,null,null,null,null,null,null,null,null,null,"",null,"",null,null,null,null,null,null,null,null,null,null,null,null,null,null,null,null,null,null,null,null,null,null,null,""]
[null,94,null,null,null,null,"",null,null,null,null,null,null,null,null,null,null,null,null,null,null,null,null,null,null,null,null,null,null,null,"",null,"",null,null,null,null,null,null,null,null,null,null,null,null,null,null,null,null,null,null,null,null,null,null,null,"",null,"",null,null,null,null,null,null,null,null,null,null,null,null,null,null,null,null,null,null,null,null,null,null,null,"",null,"",null,null,null,null,null,null,null,null,null,null,null,null,null,null,null,null,null,null,null,null,null,null,null,"",null,"",null,null,null,null,null,null,null,null,null,null,null,null,null,null,null,null,null,null,null,null,null,null,null,"",null,"",null,null,null,null,null,null,null,null,null,null,null,null,null,null,null,null,null,null,null,null,null,null,null,"",null,"",null,null,null,null,null,null,null,null,null,null,null,null,null,null,null,null,null,null,null,null,null,null,null,"",null,"",null,null,null,null,null,null,null,null,null,null,null,null,null,null,null,null,null,null,null,null,null,null,null,"",null,"",null,null,null,null,null,null,null,null,null,null,null,null,null,null,null,null,null,null,null,null,null,null,null,"",null,"",null,null,null,null,null,null,null,null,null,null,null,null,null,null,null,null,null,null,null,null,null,null,null,"",null,"",null,null,null,null,null,null,null,null,null,null,null,null,null,null,null,null,null,null,null,null,null,null,null,""]
[null,95,null,null,null,null,"",null,null,null,null,null,null,null,null,null,null,null,null,null,null,null,null,null,null,null,null,null,null,null,"",null,"",null,null,null,null,null,null,null,null,null,null,null,null,null,null,null,null,null,null,null,null,null,null,null,"",null,"",null,null,null,null,null,null,null,null,null,null,null,null,null,null,null,null,null,null,null,null,null,null,null,"",null,"",null,null,null,null,null,null,null,null,null,null,null,null,null,null,null,null,null,null,null,null,null,null,null,"",null,"",null,null,null,null,null,null,null,null,null,null,null,null,null,null,null,null,null,null,null,null,null,null,null,"",null,"",null,null,null,null,null,null,null,null,null,null,null,null,null,null,null,null,null,null,null,null,null,null,null,"",null,"",null,null,null,null,null,null,null,null,null,null,null,null,null,null,null,null,null,null,null,null,null,null,null,"",null,"",null,null,null,null,null,null,null,null,null,null,null,null,null,null,null,null,null,null,null,null,null,null,null,"",null,"",null,null,null,null,null,null,null,null,null,null,null,null,null,null,null,null,null,null,null,null,null,null,null,"",null,"",null,null,null,null,null,null,null,null,null,null,null,null,null,null,null,null,null,null,null,null,null,null,null,"",null,"",null,null,null,null,null,null,null,null,null,null,null,null,null,null,null,null,null,null,null,null,null,null,null,""]
[null,96,null,null,null,null,"",null,null,null,null,null,null,null,null,null,null,null,null,null,null,null,null,null,null,null,null,null,null,null,"",null,"",null,null,null,null,null,null,null,null,null,null,null,null,null,null,null,null,null,null,null,null,null,null,null,"",null,"",null,null,null,null,null,null,null,null,null,null,null,null,null,null,null,null,null,null,null,null,null,null,null,"",null,"",null,null,null,null,null,null,null,null,null,null,null,null,null,null,null,null,null,null,null,null,null,null,null,"",null,"",null,null,null,null,null,null,null,null,null,null,null,null,null,null,null,null,null,null,null,null,null,null,null,"",null,"",null,null,null,null,null,null,null,null,null,null,null,null,null,null,null,null,null,null,null,null,null,null,null,"",null,"",null,null,null,null,null,null,null,null,null,null,null,null,null,null,null,null,null,null,null,null,null,null,null,"",null,"",null,null,null,null,null,null,null,null,null,null,null,null,null,null,null,null,null,null,null,null,null,null,null,"",null,"",null,null,null,null,null,null,null,null,null,null,null,null,null,null,null,null,null,null,null,null,null,null,null,"",null,"",null,null,null,null,null,null,null,null,null,null,null,null,null,null,null,null,null,null,null,null,null,null,null,"",null,"",null,null,null,null,null,null,null,null,null,null,null,null,null,null,null,null,null,null,null,null,null,null,null,""]
[null,97,null,null,null,null,"",null,null,null,null,null,null,null,null,null,null,null,null,null,null,null,null,null,null,null,null,null,null,null,"",null,"",null,null,null,null,null,null,null,null,null,null,null,null,null,null,null,null,null,null,null,null,null,null,null,"",null,"",null,null,null,null,null,null,null,null,null,null,null,null,null,null,null,null,null,null,null,null,null,null,null,"",null,"",null,null,null,null,null,null,null,null,null,null,null,null,null,null,null,null,null,null,null,null,null,null,null,"",null,"",null,null,null,null,null,null,null,null,null,null,null,null,null,null,null,null,null,null,null,null,null,null,null,"",null,"",null,null,null,null,null,null,null,null,null,null,null,null,null,null,null,null,null,null,null,null,null,null,null,"",null,"",null,null,null,null,null,null,null,null,null,null,null,null,null,null,null,null,null,null,null,null,null,null,null,"",null,"",null,null,null,null,null,null,null,null,null,null,null,null,null,null,null,null,null,null,null,null,null,null,null,"",null,"",null,null,null,null,null,null,null,null,null,null,null,null,null,null,null,null,null,null,null,null,null,null,null,"",null,"",null,null,null,null,null,null,null,null,null,null,null,null,null,null,null,null,null,null,null,null,null,null,null,"",null,"",null,null,null,null,null,null,null,null,null,null,null,null,null,null,null,null,null,null,null,null,null,null,null,""]
[null,98,null,null,null,null,"",null,null,null,null,null,null,null,null,null,null,null,null,null,null,null,null,null,null,null,null,null,null,null,"",null,"",null,null,null,null,null,null,null,null,null,null,null,null,null,null,null,null,null,null,null,null,null,null,null,"",null,"",null,null,null,null,null,null,null,null,null,null,null,null,null,null,null,null,null,null,null,null,null,null,null,"",null,"",null,null,null,null,null,null,null,null,null,null,null,null,null,null,null,null,null,null,null,null,null,null,null,"",null,"",null,null,null,null,null,null,null,null,null,null,null,null,null,null,null,null,null,null,null,null,null,null,null,"",null,"",null,null,null,null,null,null,null,null,null,null,null,null,null,null,null,null,null,null,null,null,null,null,null,"",null,"",null,null,null,null,null,null,null,null,null,null,null,null,null,null,null,null,null,null,null,null,null,null,null,"",null,"",null,null,null,null,null,null,null,null,null,null,null,null,null,null,null,null,null,null,null,null,null,null,null,"",null,"",null,null,null,null,null,null,null,null,null,null,null,null,null,null,null,null,null,null,null,null,null,null,null,"",null,"",null,null,null,null,null,null,null,null,null,null,null,null,null,null,null,null,null,null,null,null,null,null,null,"",null,"",null,null,null,null,null,null,null,null,null,null,null,null,null,null,null,null,null,null,null,null,null,null,null,""]
[null,99,null,null,null,null,"",null,null,null,null,null,null,null,null,null,null,null,null,null,null,null,null,null,null,null,null,null,null,null,"",null,"",null,null,null,null,null,null,null,null,null,null,null,null,null,null,null,null,null,null,null,null,null,null,null,"",null,"",null,null,null,null,null,null,null,null,null,null,null,null,null,null,null,null,null,null,null,null,null,null,null,"",null,"",null,null,null,null,null,null,null,null,null,null,null,null,null,null,null,null,null,null,null,null,null,null,null,"",null,"",null,null,null,null,null,null,null,null,null,null,null,null,null,null,null,null,null,null,null,null,null,null,null,"",null,"",null,null,null,null,null,null,null,null,null,null,null,null,null,null,null,null,null,null,null,null,null,null,null,"",null,"",null,null,null,null,null,null,null,null,null,null,null,null,null,null,null,null,null,null,null,null,null,null,null,"",null,"",null,null,null,null,null,null,null,null,null,null,null,null,null,null,null,null,null,null,null,null,null,null,null,"",null,"",null,null,null,null,null,null,null,null,null,null,null,null,null,null,null,null,null,null,null,null,null,null,null,"",null,"",null,null,null,null,null,null,null,null,null,null,null,null,null,null,null,null,null,null,null,null,null,null,null,"",null,"",null,null,null,null,null,null,null,null,null,null,null,null,null,null,null,null,null,null,null,null,null,null,null,""]
[null,100,null,null,null,null,"",null,null,null,null,null,null,null,null,null,null,null,null,null,null,null,null,null,null,null,null,null,null,null,"",null,"",null,null,null,null,null,null,null,null,null,null,null,null,null,null,null,null,null,null,null,null,null,null,null,"",null,"",null,null,null,null,null,null,null,null,null,null,null,null,null,null,null,null,null,null,null,null,null,null,null,"",null,"",null,null,null,null,null,null,null,null,null,null,null,null,null,null,null,null,null,null,null,null,null,null,null,"",null,"",null,null,null,null,null,null,null,null,null,null,null,null,null,null,null,null,null,null,null,null,null,null,null,"",null,"",null,null,null,null,null,null,null,null,null,null,null,null,null,null,null,null,null,null,null,null,null,null,null,"",null,"",null,null,null,null,null,null,null,null,null,null,null,null,null,null,null,null,null,null,null,null,null,null,null,"",null,"",null,null,null,null,null,null,null,null,null,null,null,null,null,null,null,null,null,null,null,null,null,null,null,"",null,"",null,null,null,null,null,null,null,null,null,null,null,null,null,null,null,null,null,null,null,null,null,null,null,"",null,"",null,null,null,null,null,null,null,null,null,null,null,null,null,null,null,null,null,null,null,null,null,null,null,"",null,"",null,null,null,null,null,null,null,null,null,null,null,null,null,null,null,null,null,null,null,null,null,null,null,""]
[null,101,null,null,null,null,"",null,null,null,null,null,null,null,null,null,null,null,null,null,null,null,null,null,null,null,null,null,null,null,"",null,"",null,null,null,null,null,null,null,null,null,null,null,null,null,null,null,null,null,null,null,null,null,null,null,"",null,"",null,null,null,null,null,null,null,null,null,null,null,null,null,null,null,null,null,null,null,null,null,null,null,"",null,"",null,null,null,null,null,null,null,null,null,null,null,null,null,null,null,null,null,null,null,null,null,null,null,"",null,"",null,null,null,null,null,null,null,null,null,null,null,null,null,null,null,null,null,null,null,null,null,null,null,"",null,"",null,null,null,null,null,null,null,null,null,null,null,null,null,null,null,null,null,null,null,null,null,null,null,"",null,"",null,null,null,null,null,null,null,null,null,null,null,null,null,null,null,null,null,null,null,null,null,null,null,"",null,"",null,null,null,null,null,null,null,null,null,null,null,null,null,null,null,null,null,null,null,null,null,null,null,"",null,"",null,null,null,null,null,null,null,null,null,null,null,null,null,null,null,null,null,null,null,null,null,null,null,"",null,"",null,null,null,null,null,null,null,null,null,null,null,null,null,null,null,null,null,null,null,null,null,null,null,"",null,"",null,null,null,null,null,null,null,null,null,null,null,null,null,null,null,null,null,null,null,null,null,null,null,""]
[null,102,null,null,null,null,"",null,null,null,null,null,null,null,null,null,null,null,null,null,null,null,null,null,null,null,null,null,null,null,"",null,"",null,null,null,null,null,null,null,null,null,null,null,null,null,null,null,null,null,null,null,null,null,null,null,"",null,"",null,null,null,null,null,null,null,null,null,null,null,null,null,null,null,null,null,null,null,null,null,null,null,"",null,"",null,null,null,null,null,null,null,null,null,null,null,null,null,null,null,null,null,null,null,null,null,null,null,"",null,"",null,null,null,null,null,null,null,null,null,null,null,null,null,null,null,null,null,null,null,null,null,null,null,"",null,"",null,null,null,null,null,null,null,null,null,null,null,null,null,null,null,null,null,null,null,null,null,null,null,"",null,"",null,null,null,null,null,null,null,null,null,null,null,null,null,null,null,null,null,null,null,null,null,null,null,"",null,"",null,null,null,null,null,null,null,null,null,null,null,null,null,null,null,null,null,null,null,null,null,null,null,"",null,"",null,null,null,null,null,null,null,null,null,null,null,null,null,null,null,null,null,null,null,null,null,null,null,"",null,"",null,null,null,null,null,null,null,null,null,null,null,null,null,null,null,null,null,null,null,null,null,null,null,"",null,"",null,null,null,null,null,null,null,null,null,null,null,null,null,null,null,null,null,null,null,null,null,null,null,""]
[null,103,null,null,null,null,"",null,null,null,null,null,null,null,null,null,null,null,null,null,null,null,null,null,null,null,null,null,null,null,"",null,"",null,null,null,null,null,null,null,null,null,null,null,null,null,null,null,null,null,null,null,null,null,null,null,"",null,"",null,null,null,null,null,null,null,null,null,null,null,null,null,null,null,null,null,null,null,null,null,null,null,"",null,"",null,null,null,null,null,null,null,null,null,null,null,null,null,null,null,null,null,null,null,null,null,null,null,"",null,"",null,null,null,null,null,null,null,null,null,null,null,null,null,null,null,null,null,null,null,null,null,null,null,"",null,"",null,null,null,null,null,null,null,null,null,null,null,null,null,null,null,null,null,null,null,null,null,null,null,"",null,"",null,null,null,null,null,null,null,null,null,null,null,null,null,null,null,null,null,null,null,null,null,null,null,"",null,"",null,null,null,null,null,null,null,null,null,null,null,null,null,null,null,null,null,null,null,null,null,null,null,"",null,"",null,null,null,null,null,null,null,null,null,null,null,null,null,null,null,null,null,null,null,null,null,null,null,"",null,"",null,null,null,null,null,null,null,null,null,null,null,null,null,null,null,null,null,null,null,null,null,null,null,"",null,"",null,null,null,null,null,null,null,null,null,null,null,null,null,null,null,null,null,null,null,null,null,null,null,""]
[null,104,null,null,null,null,"",null,null,null,null,null,null,null,null,null,null,null,null,null,null,null,null,null,null,null,null,null,null,null,"",null,"",null,null,null,null,null,null,null,null,null,null,null,null,null,null,null,null,null,null,null,null,null,null,null,"",null,"",null,null,null,null,null,null,null,null,null,null,null,null,null,null,null,null,null,null,null,null,null,null,null,"",null,"",null,null,null,null,null,null,null,null,null,null,null,null,null,null,null,null,null,null,null,null,null,null,null,"",null,"",null,null,null,null,null,null,null,null,null,null,null,null,null,null,null,null,null,null,null,null,null,null,null,"",null,"",null,null,null,null,null,null,null,null,null,null,null,null,null,null,null,null,null,null,null,null,null,null,null,"",null,"",null,null,null,null,null,null,null,null,null,null,null,null,null,null,null,null,null,null,null,null,null,null,null,"",null,"",null,null,null,null,null,null,null,null,null,null,null,null,null,null,null,null,null,null,null,null,null,null,null,"",null,"",null,null,null,null,null,null,null,null,null,null,null,null,null,null,null,null,null,null,null,null,null,null,null,"",null,"",null,null,null,null,null,null,null,null,null,null,null,null,null,null,null,null,null,null,null,null,null,null,null,"",null,"",null,null,null,null,null,null,null,null,null,null,null,null,null,null,null,null,null,null,null,null,null,null,null,""]
[null,105,null,null,null,null,"",null,null,null,null,null,null,null,null,null,null,null,null,null,null,null,null,null,null,null,null,null,null,null,"",null,"",null,null,null,null,null,null,null,null,null,null,null,null,null,null,null,null,null,null,null,null,null,null,null,"",null,"",null,null,null,null,null,null,null,null,null,null,null,null,null,null,null,null,null,null,null,null,null,null,null,"",null,"",null,null,null,null,null,null,null,null,null,null,null,null,null,null,null,null,null,null,null,null,null,null,null,"",null,"",null,null,null,null,null,null,null,null,null,null,null,null,null,null,null,null,null,null,null,null,null,null,null,"",null,"",null,null,null,null,null,null,null,null,null,null,null,null,null,null,null,null,null,null,null,null,null,null,null,"",null,"",null,null,null,null,null,null,null,null,null,null,null,null,null,null,null,null,null,null,null,null,null,null,null,"",null,"",null,null,null,null,null,null,null,null,null,null,null,null,null,null,null,null,null,null,null,null,null,null,null,"",null,"",null,null,null,null,null,null,null,null,null,null,null,null,null,null,null,null,null,null,null,null,null,null,null,"",null,"",null,null,null,null,null,null,null,null,null,null,null,null,null,null,null,null,null,null,null,null,null,null,null,"",null,"",null,null,null,null,null,null,null,null,null,null,null,null,null,null,null,null,null,null,null,null,null,null,null,""]
[null,106,null,null,null,null,"",null,null,null,null,null,null,null,null,null,null,null,null,null,null,null,null,null,null,null,null,null,null,null,"",null,"",null,null,null,null,null,null,null,null,null,null,null,null,null,null,null,null,null,null,null,null,null,null,null,"",null,"",null,null,null,null,null,null,null,null,null,null,null,null,null,null,null,null,null,null,null,null,null,null,null,"",null,"",null,null,null,null,null,null,null,null,null,null,null,null,null,null,null,null,null,null,null,null,null,null,null,"",null,"",null,null,null,null,null,null,null,null,null,null,null,null,null,null,null,null,null,null,null,null,null,null,null,"",null,"",null,null,null,null,null,null,null,null,null,null,null,null,null,null,null,null,null,null,null,null,null,null,null,"",null,"",null,null,null,null,null,null,null,null,null,null,null,null,null,null,null,null,null,null,null,null,null,null,null,"",null,"",null,null,null,null,null,null,null,null,null,null,null,null,null,null,null,null,null,null,null,null,null,null,null,"",null,"",null,null,null,null,null,null,null,null,null,null,null,null,null,null,null,null,null,null,null,null,null,null,null,"",null,"",null,null,null,null,null,null,null,null,null,null,null,null,null,null,null,null,null,null,null,null,null,null,null,"",null,"",null,null,null,null,null,null,null,null,null,null,null,null,null,null,null,null,null,null,null,null,null,null,null,""]
[null,107,null,null,null,null,"",null,null,null,null,null,null,null,null,null,null,null,null,null,null,null,null,null,null,null,null,null,null,null,"",null,"",null,null,null,null,null,null,null,null,null,null,null,null,null,null,null,null,null,null,null,null,null,null,null,"",null,"",null,null,null,null,null,null,null,null,null,null,null,null,null,null,null,null,null,null,null,null,null,null,null,"",null,"",null,null,null,null,null,null,null,null,null,null,null,null,null,null,null,null,null,null,null,null,null,null,null,"",null,"",null,null,null,null,null,null,null,null,null,null,null,null,null,null,null,null,null,null,null,null,null,null,null,"",null,"",null,null,null,null,null,null,null,null,null,null,null,null,null,null,null,null,null,null,null,null,null,null,null,"",null,"",null,null,null,null,null,null,null,null,null,null,null,null,null,null,null,null,null,null,null,null,null,null,null,"",null,"",null,null,null,null,null,null,null,null,null,null,null,null,null,null,null,null,null,null,null,null,null,null,null,"",null,"",null,null,null,null,null,null,null,null,null,null,null,null,null,null,null,null,null,null,null,null,null,null,null,"",null,"",null,null,null,null,null,null,null,null,null,null,null,null,null,null,null,null,null,null,null,null,null,null,null,"",null,"",null,null,null,null,null,null,null,null,null,null,null,null,null,null,null,null,null,null,null,null,null,null,null,""]
[null,108,null,null,null,null,"",null,null,null,null,null,null,null,null,null,null,null,null,null,null,null,null,null,null,null,null,null,null,null,"",null,"",null,null,null,null,null,null,null,null,null,null,null,null,null,null,null,null,null,null,null,null,null,null,null,"",null,"",null,null,null,null,null,null,null,null,null,null,null,null,null,null,null,null,null,null,null,null,null,null,null,"",null,"",null,null,null,null,null,null,null,null,null,null,null,null,null,null,null,null,null,null,null,null,null,null,null,"",null,"",null,null,null,null,null,null,null,null,null,null,null,null,null,null,null,null,null,null,null,null,null,null,null,"",null,"",null,null,null,null,null,null,null,null,null,null,null,null,null,null,null,null,null,null,null,null,null,null,null,"",null,"",null,null,null,null,null,null,null,null,null,null,null,null,null,null,null,null,null,null,null,null,null,null,null,"",null,"",null,null,null,null,null,null,null,null,null,null,null,null,null,null,null,null,null,null,null,null,null,null,null,"",null,"",null,null,null,null,null,null,null,null,null,null,null,null,null,null,null,null,null,null,null,null,null,null,null,"",null,"",null,null,null,null,null,null,null,null,null,null,null,null,null,null,null,null,null,null,null,null,null,null,null,"",null,"",null,null,null,null,null,null,null,null,null,null,null,null,null,null,null,null,null,null,null,null,null,null,null,""]
[null,109,null,null,null,null,"",null,null,null,null,null,null,null,null,null,null,null,null,null,null,null,null,null,null,null,null,null,null,null,"",null,"",null,null,null,null,null,null,null,null,null,null,null,null,null,null,null,null,null,null,null,null,null,null,null,"",null,"",null,null,null,null,null,null,null,null,null,null,null,null,null,null,null,null,null,null,null,null,null,null,null,"",null,"",null,null,null,null,null,null,null,null,null,null,null,null,null,null,null,null,null,null,null,null,null,null,null,"",null,"",null,null,null,null,null,null,null,null,null,null,null,null,null,null,null,null,null,null,null,null,null,null,null,"",null,"",null,null,null,null,null,null,null,null,null,null,null,null,null,null,null,null,null,null,null,null,null,null,null,"",null,"",null,null,null,null,null,null,null,null,null,null,null,null,null,null,null,null,null,null,null,null,null,null,null,"",null,"",null,null,null,null,null,null,null,null,null,null,null,null,null,null,null,null,null,null,null,null,null,null,null,"",null,"",null,null,null,null,null,null,null,null,null,null,null,null,null,null,null,null,null,null,null,null,null,null,null,"",null,"",null,null,null,null,null,null,null,null,null,null,null,null,null,null,null,null,null,null,null,null,null,null,null,"",null,"",null,null,null,null,null,null,null,null,null,null,null,null,null,null,null,null,null,null,null,null,null,null,null,""]
[null,110,null,null,null,null,"",null,null,null,null,null,null,null,null,null,null,null,null,null,null,null,null,null,null,null,null,null,null,null,"",null,"",null,null,null,null,null,null,null,null,null,null,null,null,null,null,null,null,null,null,null,null,null,null,null,"",null,"",null,null,null,null,null,null,null,null,null,null,null,null,null,null,null,null,null,null,null,null,null,null,null,"",null,"",null,null,null,null,null,null,null,null,null,null,null,null,null,null,null,null,null,null,null,null,null,null,null,"",null,"",null,null,null,null,null,null,null,null,null,null,null,null,null,null,null,null,null,null,null,null,null,null,null,"",null,"",null,null,null,null,null,null,null,null,null,null,null,null,null,null,null,null,null,null,null,null,null,null,null,"",null,"",null,null,null,null,null,null,null,null,null,null,null,null,null,null,null,null,null,null,null,null,null,null,null,"",null,"",null,null,null,null,null,null,null,null,null,null,null,null,null,null,null,null,null,null,null,null,null,null,null,"",null,"",null,null,null,null,null,null,null,null,null,null,null,null,null,null,null,null,null,null,null,null,null,null,null,"",null,"",null,null,null,null,null,null,null,null,null,null,null,null,null,null,null,null,null,null,null,null,null,null,null,"",null,"",null,null,null,null,null,null,null,null,null,null,null,null,null,null,null,null,null,null,null,null,null,null,null,""]
[null,111,null,null,null,null,"",null,null,null,null,null,null,null,null,null,null,null,null,null,null,null,null,null,null,null,null,null,null,null,"",null,"",null,null,null,null,null,null,null,null,null,null,null,null,null,null,null,null,null,null,null,null,null,null,null,"",null,"",null,null,null,null,null,null,null,null,null,null,null,null,null,null,null,null,null,null,null,null,null,null,null,"",null,"",null,null,null,null,null,null,null,null,null,null,null,null,null,null,null,null,null,null,null,null,null,null,null,"",null,"",null,null,null,null,null,null,null,null,null,null,null,null,null,null,null,null,null,null,null,null,null,null,null,"",null,"",null,null,null,null,null,null,null,null,null,null,null,null,null,null,null,null,null,null,null,null,null,null,null,"",null,"",null,null,null,null,null,null,null,null,null,null,null,null,null,null,null,null,null,null,null,null,null,null,null,"",null,"",null,null,null,null,null,null,null,null,null,null,null,null,null,null,null,null,null,null,null,null,null,null,null,"",null,"",null,null,null,null,null,null,null,null,null,null,null,null,null,null,null,null,null,null,null,null,null,null,null,"",null,"",null,null,null,null,null,null,null,null,null,null,null,null,null,null,null,null,null,null,null,null,null,null,null,"",null,"",null,null,null,null,null,null,null,null,null,null,null,null,null,null,null,null,null,null,null,null,null,null,null,""]
[null,112,null,null,null,null,"",null,null,null,null,null,null,null,null,null,null,null,null,null,null,null,null,null,null,null,null,null,null,null,"",null,"",null,null,null,null,null,null,null,null,null,null,null,null,null,null,null,null,null,null,null,null,null,null,null,"",null,"",null,null,null,null,null,null,null,null,null,null,null,null,null,null,null,null,null,null,null,null,null,null,null,"",null,"",null,null,null,null,null,null,null,null,null,null,null,null,null,null,null,null,null,null,null,null,null,null,null,"",null,"",null,null,null,null,null,null,null,null,null,null,null,null,null,null,null,null,null,null,null,null,null,null,null,"",null,"",null,null,null,null,null,null,null,null,null,null,null,null,null,null,null,null,null,null,null,null,null,null,null,"",null,"",null,null,null,null,null,null,null,null,null,null,null,null,null,null,null,null,null,null,null,null,null,null,null,"",null,"",null,null,null,null,null,null,null,null,null,null,null,null,null,null,null,null,null,null,null,null,null,null,null,"",null,"",null,null,null,null,null,null,null,null,null,null,null,null,null,null,null,null,null,null,null,null,null,null,null,"",null,"",null,null,null,null,null,null,null,null,null,null,null,null,null,null,null,null,null,null,null,null,null,null,null,"",null,"",null,null,null,null,null,null,null,null,null,null,null,null,null,null,null,null,null,null,null,null,null,null,null,""]
[null,113,null,null,null,null,"",null,null,null,null,null,null,null,null,null,null,null,null,null,null,null,null,null,null,null,null,null,null,null,"",null,"",null,null,null,null,null,null,null,null,null,null,null,null,null,null,null,null,null,null,null,null,null,null,null,"",null,"",null,null,null,null,null,null,null,null,null,null,null,null,null,null,null,null,null,null,null,null,null,null,null,"",null,"",null,null,null,null,null,null,null,null,null,null,null,null,null,null,null,null,null,null,null,null,null,null,null,"",null,"",null,null,null,null,null,null,null,null,null,null,null,null,null,null,null,null,null,null,null,null,null,null,null,"",null,"",null,null,null,null,null,null,null,null,null,null,null,null,null,null,null,null,null,null,null,null,null,null,null,"",null,"",null,null,null,null,null,null,null,null,null,null,null,null,null,null,null,null,null,null,null,null,null,null,null,"",null,"",null,null,null,null,null,null,null,null,null,null,null,null,null,null,null,null,null,null,null,null,null,null,null,"",null,"",null,null,null,null,null,null,null,null,null,null,null,null,null,null,null,null,null,null,null,null,null,null,null,"",null,"",null,null,null,null,null,null,null,null,null,null,null,null,null,null,null,null,null,null,null,null,null,null,null,"",null,"",null,null,null,null,null,null,null,null,null,null,null,null,null,null,null,null,null,null,null,null,null,null,null,""]
[null,114,null,null,null,null,"",null,null,null,null,null,null,null,null,null,null,null,null,null,null,null,null,null,null,null,null,null,null,null,"",null,"",null,null,null,null,null,null,null,null,null,null,null,null,null,null,null,null,null,null,null,null,null,null,null,"",null,"",null,null,null,null,null,null,null,null,null,null,null,null,null,null,null,null,null,null,null,null,null,null,null,"",null,"",null,null,null,null,null,null,null,null,null,null,null,null,null,null,null,null,null,null,null,null,null,null,null,"",null,"",null,null,null,null,null,null,null,null,null,null,null,null,null,null,null,null,null,null,null,null,null,null,null,"",null,"",null,null,null,null,null,null,null,null,null,null,null,null,null,null,null,null,null,null,null,null,null,null,null,"",null,"",null,null,null,null,null,null,null,null,null,null,null,null,null,null,null,null,null,null,null,null,null,null,null,"",null,"",null,null,null,null,null,null,null,null,null,null,null,null,null,null,null,null,null,null,null,null,null,null,null,"",null,"",null,null,null,null,null,null,null,null,null,null,null,null,null,null,null,null,null,null,null,null,null,null,null,"",null,"",null,null,null,null,null,null,null,null,null,null,null,null,null,null,null,null,null,null,null,null,null,null,null,"",null,"",null,null,null,null,null,null,null,null,null,null,null,null,null,null,null,null,null,null,null,null,null,null,null,""]
[null,115,null,null,null,null,"",null,null,null,null,null,null,null,null,null,null,null,null,null,null,null,null,null,null,null,null,null,null,null,"",null,"",null,null,null,null,null,null,null,null,null,null,null,null,null,null,null,null,null,null,null,null,null,null,null,"",null,"",null,null,null,null,null,null,null,null,null,null,null,null,null,null,null,null,null,null,null,null,null,null,null,"",null,"",null,null,null,null,null,null,null,null,null,null,null,null,null,null,null,null,null,null,null,null,null,null,null,"",null,"",null,null,null,null,null,null,null,null,null,null,null,null,null,null,null,null,null,null,null,null,null,null,null,"",null,"",null,null,null,null,null,null,null,null,null,null,null,null,null,null,null,null,null,null,null,null,null,null,null,"",null,"",null,null,null,null,null,null,null,null,null,null,null,null,null,null,null,null,null,null,null,null,null,null,null,"",null,"",null,null,null,null,null,null,null,null,null,null,null,null,null,null,null,null,null,null,null,null,null,null,null,"",null,"",null,null,null,null,null,null,null,null,null,null,null,null,null,null,null,null,null,null,null,null,null,null,null,"",null,"",null,null,null,null,null,null,null,null,null,null,null,null,null,null,null,null,null,null,null,null,null,null,null,"",null,"",null,null,null,null,null,null,null,null,null,null,null,null,null,null,null,null,null,null,null,null,null,null,null,""]
[null,116,null,null,null,null,"",null,null,null,null,null,null,null,null,null,null,null,null,null,null,null,null,null,null,null,null,null,null,null,"",null,"",null,null,null,null,null,null,null,null,null,null,null,null,null,null,null,null,null,null,null,null,null,null,null,"",null,"",null,null,null,null,null,null,null,null,null,null,null,null,null,null,null,null,null,null,null,null,null,null,null,"",null,"",null,null,null,null,null,null,null,null,null,null,null,null,null,null,null,null,null,null,null,null,null,null,null,"",null,"",null,null,null,null,null,null,null,null,null,null,null,null,null,null,null,null,null,null,null,null,null,null,null,"",null,"",null,null,null,null,null,null,null,null,null,null,null,null,null,null,null,null,null,null,null,null,null,null,null,"",null,"",null,null,null,null,null,null,null,null,null,null,null,null,null,null,null,null,null,null,null,null,null,null,null,"",null,"",null,null,null,null,null,null,null,null,null,null,null,null,null,null,null,null,null,null,null,null,null,null,null,"",null,"",null,null,null,null,null,null,null,null,null,null,null,null,null,null,null,null,null,null,null,null,null,null,null,"",null,"",null,null,null,null,null,null,null,null,null,null,null,null,null,null,null,null,null,null,null,null,null,null,null,"",null,"",null,null,null,null,null,null,null,null,null,null,null,null,null,null,null,null,null,null,null,null,null,null,null,""]
[null,117,null,null,null,null,"",null,null,null,null,null,null,null,null,null,null,null,null,null,null,null,null,null,null,null,null,null,null,null,"",null,"",null,null,null,null,null,null,null,null,null,null,null,null,null,null,null,null,null,null,null,null,null,null,null,"",null,"",null,null,null,null,null,null,null,null,null,null,null,null,null,null,null,null,null,null,null,null,null,null,null,"",null,"",null,null,null,null,null,null,null,null,null,null,null,null,null,null,null,null,null,null,null,null,null,null,null,"",null,"",null,null,null,null,null,null,null,null,null,null,null,null,null,null,null,null,null,null,null,null,null,null,null,"",null,"",null,null,null,null,null,null,null,null,null,null,null,null,null,null,null,null,null,null,null,null,null,null,null,"",null,"",null,null,null,null,null,null,null,null,null,null,null,null,null,null,null,null,null,null,null,null,null,null,null,"",null,"",null,null,null,null,null,null,null,null,null,null,null,null,null,null,null,null,null,null,null,null,null,null,null,"",null,"",null,null,null,null,null,null,null,null,null,null,null,null,null,null,null,null,null,null,null,null,null,null,null,"",null,"",null,null,null,null,null,null,null,null,null,null,null,null,null,null,null,null,null,null,null,null,null,null,null,"",null,"",null,null,null,null,null,null,null,null,null,null,null,null,null,null,null,null,null,null,null,null,null,null,null,""]
[null,118,null,null,null,null,"",null,null,null,null,null,null,null,null,null,null,null,null,null,null,null,null,null,null,null,null,null,null,null,"",null,"",null,null,null,null,null,null,null,null,null,null,null,null,null,null,null,null,null,null,null,null,null,null,null,"",null,"",null,null,null,null,null,null,null,null,null,null,null,null,null,null,null,null,null,null,null,null,null,null,null,"",null,"",null,null,null,null,null,null,null,null,null,null,null,null,null,null,null,null,null,null,null,null,null,null,null,"",null,"",null,null,null,null,null,null,null,null,null,null,null,null,null,null,null,null,null,null,null,null,null,null,null,"",null,"",null,null,null,null,null,null,null,null,null,null,null,null,null,null,null,null,null,null,null,null,null,null,null,"",null,"",null,null,null,null,null,null,null,null,null,null,null,null,null,null,null,null,null,null,null,null,null,null,null,"",null,"",null,null,null,null,null,null,null,null,null,null,null,null,null,null,null,null,null,null,null,null,null,null,null,"",null,"",null,null,null,null,null,null,null,null,null,null,null,null,null,null,null,null,null,null,null,null,null,null,null,"",null,"",null,null,null,null,null,null,null,null,null,null,null,null,null,null,null,null,null,null,null,null,null,null,null,"",null,"",null,null,null,null,null,null,null,null,null,null,null,null,null,null,null,null,null,null,null,null,null,null,null,""]
[null,119,null,null,null,null,"",null,null,null,null,null,null,null,null,null,null,null,null,null,null,null,null,null,null,null,null,null,null,null,"",null,"",null,null,null,null,null,null,null,null,null,null,null,null,null,null,null,null,null,null,null,null,null,null,null,"",null,"",null,null,null,null,null,null,null,null,null,null,null,null,null,null,null,null,null,null,null,null,null,null,null,"",null,"",null,null,null,null,null,null,null,null,null,null,null,null,null,null,null,null,null,null,null,null,null,null,null,"",null,"",null,null,null,null,null,null,null,null,null,null,null,null,null,null,null,null,null,null,null,null,null,null,null,"",null,"",null,null,null,null,null,null,null,null,null,null,null,null,null,null,null,null,null,null,null,null,null,null,null,"",null,"",null,null,null,null,null,null,null,null,null,null,null,null,null,null,null,null,null,null,null,null,null,null,null,"",null,"",null,null,null,null,null,null,null,null,null,null,null,null,null,null,null,null,null,null,null,null,null,null,null,"",null,"",null,null,null,null,null,null,null,null,null,null,null,null,null,null,null,null,null,null,null,null,null,null,null,"",null,"",null,null,null,null,null,null,null,null,null,null,null,null,null,null,null,null,null,null,null,null,null,null,null,"",null,"",null,null,null,null,null,null,null,null,null,null,null,null,null,null,null,null,null,null,null,null,null,null,null,""]
[null,120,null,null,null,null,"",null,null,null,null,null,null,null,null,null,null,null,null,null,null,null,null,null,null,null,null,null,null,null,"",null,"",null,null,null,null,null,null,null,null,null,null,null,null,null,null,null,null,null,null,null,null,null,null,null,"",null,"",null,null,null,null,null,null,null,null,null,null,null,null,null,null,null,null,null,null,null,null,null,null,null,"",null,"",null,null,null,null,null,null,null,null,null,null,null,null,null,null,null,null,null,null,null,null,null,null,null,"",null,"",null,null,null,null,null,null,null,null,null,null,null,null,null,null,null,null,null,null,null,null,null,null,null,"",null,"",null,null,null,null,null,null,null,null,null,null,null,null,null,null,null,null,null,null,null,null,null,null,null,"",null,"",null,null,null,null,null,null,null,null,null,null,null,null,null,null,null,null,null,null,null,null,null,null,null,"",null,"",null,null,null,null,null,null,null,null,null,null,null,null,null,null,null,null,null,null,null,null,null,null,null,"",null,"",null,null,null,null,null,null,null,null,null,null,null,null,null,null,null,null,null,null,null,null,null,null,null,"",null,"",null,null,null,null,null,null,null,null,null,null,null,null,null,null,null,null,null,null,null,null,null,null,null,"",null,"",null,null,null,null,null,null,null,null,null,null,null,null,null,null,null,null,null,null,null,null,null,null,null,""]
[null,121,null,null,null,null,"",null,null,null,null,null,null,null,null,null,null,null,null,null,null,null,null,null,null,null,null,null,null,null,"",null,"",null,null,null,null,null,null,null,null,null,null,null,null,null,null,null,null,null,null,null,null,null,null,null,"",null,"",null,null,null,null,null,null,null,null,null,null,null,null,null,null,null,null,null,null,null,null,null,null,null,"",null,"",null,null,null,null,null,null,null,null,null,null,null,null,null,null,null,null,null,null,null,null,null,null,null,"",null,"",null,null,null,null,null,null,null,null,null,null,null,null,null,null,null,null,null,null,null,null,null,null,null,"",null,"",null,null,null,null,null,null,null,null,null,null,null,null,null,null,null,null,null,null,null,null,null,null,null,"",null,"",null,null,null,null,null,null,null,null,null,null,null,null,null,null,null,null,null,null,null,null,null,null,null,"",null,"",null,null,null,null,null,null,null,null,null,null,null,null,null,null,null,null,null,null,null,null,null,null,null,"",null,"",null,null,null,null,null,null,null,null,null,null,null,null,null,null,null,null,null,null,null,null,null,null,null,"",null,"",null,null,null,null,null,null,null,null,null,null,null,null,null,null,null,null,null,null,null,null,null,null,null,"",null,"",null,null,null,null,null,null,null,null,null,null,null,null,null,null,null,null,null,null,null,null,null,null,null,""]
[null,122,null,null,null,null,"",null,null,null,null,null,null,null,null,null,null,null,null,null,null,null,null,null,null,null,null,null,null,null,"",null,"",null,null,null,null,null,null,null,null,null,null,null,null,null,null,null,null,null,null,null,null,null,null,null,"",null,"",null,null,null,null,null,null,null,null,null,null,null,null,null,null,null,null,null,null,null,null,null,null,null,"",null,"",null,null,null,null,null,null,null,null,null,null,null,null,null,null,null,null,null,null,null,null,null,null,null,"",null,"",null,null,null,null,null,null,null,null,null,null,null,null,null,null,null,null,null,null,null,null,null,null,null,"",null,"",null,null,null,null,null,null,null,null,null,null,null,null,null,null,null,null,null,null,null,null,null,null,null,"",null,"",null,null,null,null,null,null,null,null,null,null,null,null,null,null,null,null,null,null,null,null,null,null,null,"",null,"",null,null,null,null,null,null,null,null,null,null,null,null,null,null,null,null,null,null,null,null,null,null,null,"",null,"",null,null,null,null,null,null,null,null,null,null,null,null,null,null,null,null,null,null,null,null,null,null,null,"",null,"",null,null,null,null,null,null,null,null,null,null,null,null,null,null,null,null,null,null,null,null,null,null,null,"",null,"",null,null,null,null,null,null,null,null,null,null,null,null,null,null,null,null,null,null,null,null,null,null,null,""]
[null,123,null,null,null,null,"",null,null,null,null,null,null,null,null,null,null,null,null,null,null,null,null,null,null,null,null,null,null,null,"",null,"",null,null,null,null,null,null,null,null,null,null,null,null,null,null,null,null,null,null,null,null,null,null,null,"",null,"",null,null,null,null,null,null,null,null,null,null,null,null,null,null,null,null,null,null,null,null,null,null,null,"",null,"",null,null,null,null,null,null,null,null,null,null,null,null,null,null,null,null,null,null,null,null,null,null,null,"",null,"",null,null,null,null,null,null,null,null,null,null,null,null,null,null,null,null,null,null,null,null,null,null,null,"",null,"",null,null,null,null,null,null,null,null,null,null,null,null,null,null,null,null,null,null,null,null,null,null,null,"",null,"",null,null,null,null,null,null,null,null,null,null,null,null,null,null,null,null,null,null,null,null,null,null,null,"",null,"",null,null,null,null,null,null,null,null,null,null,null,null,null,null,null,null,null,null,null,null,null,null,null,"",null,"",null,null,null,null,null,null,null,null,null,null,null,null,null,null,null,null,null,null,null,null,null,null,null,"",null,"",null,null,null,null,null,null,null,null,null,null,null,null,null,null,null,null,null,null,null,null,null,null,null,"",null,"",null,null,null,null,null,null,null,null,null,null,null,null,null,null,null,null,null,null,null,null,null,null,null,""]
[null,124,null,null,null,null,"",null,null,null,null,null,null,null,null,null,null,null,null,null,null,null,null,null,null,null,null,null,null,null,"",null,"",null,null,null,null,null,null,null,null,null,null,null,null,null,null,null,null,null,null,null,null,null,null,null,"",null,"",null,null,null,null,null,null,null,null,null,null,null,null,null,null,null,null,null,null,null,null,null,null,null,"",null,"",null,null,null,null,null,null,null,null,null,null,null,null,null,null,null,null,null,null,null,null,null,null,null,"",null,"",null,null,null,null,null,null,null,null,null,null,null,null,null,null,null,null,null,null,null,null,null,null,null,"",null,"",null,null,null,null,null,null,null,null,null,null,null,null,null,null,null,null,null,null,null,null,null,null,null,"",null,"",null,null,null,null,null,null,null,null,null,null,null,null,null,null,null,null,null,null,null,null,null,null,null,"",null,"",null,null,null,null,null,null,null,null,null,null,null,null,null,null,null,null,null,null,null,null,null,null,null,"",null,"",null,null,null,null,null,null,null,null,null,null,null,null,null,null,null,null,null,null,null,null,null,null,null,"",null,"",null,null,null,null,null,null,null,null,null,null,null,null,null,null,null,null,null,null,null,null,null,null,null,"",null,"",null,null,null,null,null,null,null,null,null,null,null,null,null,null,null,null,null,null,null,null,null,null,null,""]
[null,125,null,null,null,null,"",null,null,null,null,null,null,null,null,null,null,null,null,null,null,null,null,null,null,null,null,null,null,null,"",null,"",null,null,null,null,null,null,null,null,null,null,null,null,null,null,null,null,null,null,null,null,null,null,null,"",null,"",null,null,null,null,null,null,null,null,null,null,null,null,null,null,null,null,null,null,null,null,null,null,null,"",null,"",null,null,null,null,null,null,null,null,null,null,null,null,null,null,null,null,null,null,null,null,null,null,null,"",null,"",null,null,null,null,null,null,null,null,null,null,null,null,null,null,null,null,null,null,null,null,null,null,null,"",null,"",null,null,null,null,null,null,null,null,null,null,null,null,null,null,null,null,null,null,null,null,null,null,null,"",null,"",null,null,null,null,null,null,null,null,null,null,null,null,null,null,null,null,null,null,null,null,null,null,null,"",null,"",null,null,null,null,null,null,null,null,null,null,null,null,null,null,null,null,null,null,null,null,null,null,null,"",null,"",null,null,null,null,null,null,null,null,null,null,null,null,null,null,null,null,null,null,null,null,null,null,null,"",null,"",null,null,null,null,null,null,null,null,null,null,null,null,null,null,null,null,null,null,null,null,null,null,null,"",null,"",null,null,null,null,null,null,null,null,null,null,null,null,null,null,null,null,null,null,null,null,null,null,null,""]
[null,126,null,null,null,null,"",null,null,null,null,null,null,null,null,null,null,null,null,null,null,null,null,null,null,null,null,null,null,null,"",null,"",null,null,null,null,null,null,null,null,null,null,null,null,null,null,null,null,null,null,null,null,null,null,null,"",null,"",null,null,null,null,null,null,null,null,null,null,null,null,null,null,null,null,null,null,null,null,null,null,null,"",null,"",null,null,null,null,null,null,null,null,null,null,null,null,null,null,null,null,null,null,null,null,null,null,null,"",null,"",null,null,null,null,null,null,null,null,null,null,null,null,null,null,null,null,null,null,null,null,null,null,null,"",null,"",null,null,null,null,null,null,null,null,null,null,null,null,null,null,null,null,null,null,null,null,null,null,null,"",null,"",null,null,null,null,null,null,null,null,null,null,null,null,null,null,null,null,null,null,null,null,null,null,null,"",null,"",null,null,null,null,null,null,null,null,null,null,null,null,null,null,null,null,null,null,null,null,null,null,null,"",null,"",null,null,null,null,null,null,null,null,null,null,null,null,null,null,null,null,null,null,null,null,null,null,null,"",null,"",null,null,null,null,null,null,null,null,null,null,null,null,null,null,null,null,null,null,null,null,null,null,null,"",null,"",null,null,null,null,null,null,null,null,null,null,null,null,null,null,null,null,null,null,null,null,null,null,null,""]
[null,127,null,null,null,null,"",null,null,null,null,null,null,null,null,null,null,null,null,null,null,null,null,null,null,null,null,null,null,null,"",null,"",null,null,null,null,null,null,null,null,null,null,null,null,null,null,null,null,null,null,null,null,null,null,null,"",null,"",null,null,null,null,null,null,null,null,null,null,null,null,null,null,null,null,null,null,null,null,null,null,null,"",null,"",null,null,null,null,null,null,null,null,null,null,null,null,null,null,null,null,null,null,null,null,null,null,null,"",null,"",null,null,null,null,null,null,null,null,null,null,null,null,null,null,null,null,null,null,null,null,null,null,null,"",null,"",null,null,null,null,null,null,null,null,null,null,null,null,null,null,null,null,null,null,null,null,null,null,null,"",null,"",null,null,null,null,null,null,null,null,null,null,null,null,null,null,null,null,null,null,null,null,null,null,null,"",null,"",null,null,null,null,null,null,null,null,null,null,null,null,null,null,null,null,null,null,null,null,null,null,null,"",null,"",null,null,null,null,null,null,null,null,null,null,null,null,null,null,null,null,null,null,null,null,null,null,null,"",null,"",null,null,null,null,null,null,null,null,null,null,null,null,null,null,null,null,null,null,null,null,null,null,null,"",null,"",null,null,null,null,null,null,null,null,null,null,null,null,null,null,null,null,null,null,null,null,null,null,null,""]
[null,128,null,null,null,null,"",null,null,null,null,null,null,null,null,null,null,null,null,null,null,null,null,null,null,null,null,null,null,null,"",null,"",null,null,null,null,null,null,null,null,null,null,null,null,null,null,null,null,null,null,null,null,null,null,null,"",null,"",null,null,null,null,null,null,null,null,null,null,null,null,null,null,null,null,null,null,null,null,null,null,null,"",null,"",null,null,null,null,null,null,null,null,null,null,null,null,null,null,null,null,null,null,null,null,null,null,null,"",null,"",null,null,null,null,null,null,null,null,null,null,null,null,null,null,null,null,null,null,null,null,null,null,null,"",null,"",null,null,null,null,null,null,null,null,null,null,null,null,null,null,null,null,null,null,null,null,null,null,null,"",null,"",null,null,null,null,null,null,null,null,null,null,null,null,null,null,null,null,null,null,null,null,null,null,null,"",null,"",null,null,null,null,null,null,null,null,null,null,null,null,null,null,null,null,null,null,null,null,null,null,null,"",null,"",null,null,null,null,null,null,null,null,null,null,null,null,null,null,null,null,null,null,null,null,null,null,null,"",null,"",null,null,null,null,null,null,null,null,null,null,null,null,null,null,null,null,null,null,null,null,null,null,null,"",null,"",null,null,null,null,null,null,null,null,null,null,null,null,null,null,null,null,null,null,null,null,null,null,null,""]
[null,129,null,null,null,null,"",null,null,null,null,null,null,null,null,null,null,null,null,null,null,null,null,null,null,null,null,null,null,null,"",null,"",null,null,null,null,null,null,null,null,null,null,null,null,null,null,null,null,null,null,null,null,null,null,null,"",null,"",null,null,null,null,null,null,null,null,null,null,null,null,null,null,null,null,null,null,null,null,null,null,null,"",null,"",null,null,null,null,null,null,null,null,null,null,null,null,null,null,null,null,null,null,null,null,null,null,null,"",null,"",null,null,null,null,null,null,null,null,null,null,null,null,null,null,null,null,null,null,null,null,null,null,null,"",null,"",null,null,null,null,null,null,null,null,null,null,null,null,null,null,null,null,null,null,null,null,null,null,null,"",null,"",null,null,null,null,null,null,null,null,null,null,null,null,null,null,null,null,null,null,null,null,null,null,null,"",null,"",null,null,null,null,null,null,null,null,null,null,null,null,null,null,null,null,null,null,null,null,null,null,null,"",null,"",null,null,null,null,null,null,null,null,null,null,null,null,null,null,null,null,null,null,null,null,null,null,null,"",null,"",null,null,null,null,null,null,null,null,null,null,null,null,null,null,null,null,null,null,null,null,null,null,null,"",null,"",null,null,null,null,null,null,null,null,null,null,null,null,null,null,null,null,null,null,null,null,null,null,null,""]
[null,130,null,null,null,null,{"$f":"IF($C152=\"\",\"\",L$11)","v":""},null,null,null,null,null,null,null,null,null,null,null,null,null,null,null,null,null,null,null,null,null,null,null,{"$f":"IF($C152=\"\",\"\",SUM(H152:AD152))","v":""},null,{"$f":"IF($C152=\"\",\"\",AL$11)","v":""},null,null,null,null,null,null,null,null,null,null,null,null,null,null,null,null,null,null,null,null,null,null,null,{"$f":"IF($C152=\"\",\"\",SUM(AH152:BD152))","v":""},null,{"$f":"IF($C152=\"\",\"\",BL$11)","v":""},null,null,null,null,null,null,null,null,null,null,null,null,null,null,null,null,null,null,null,null,null,null,null,{"$f":"IF($C152=\"\",\"\",SUM(BH152:CD152))","v":""},null,{"$f":"IF($C152=\"\",\"\",CL$11)","v":""},null,null,null,null,null,null,null,null,null,null,null,null,null,null,null,null,null,null,null,null,null,null,null,{"$f":"IF($C152=\"\",\"\",SUM(CH152:DD152))","v":""},null,{"$f":"IF($C152=\"\",\"\",DL$11)","v":""},null,null,null,null,null,null,null,null,null,null,null,null,null,null,null,null,null,null,null,null,null,null,null,{"$f":"IF($C152=\"\",\"\",SUM(DH152:ED152))","v":""},null,{"$f":"IF($C152=\"\",\"\",EL$11)","v":""},null,null,null,null,null,null,null,null,null,null,null,null,null,null,null,null,null,null,null,null,null,null,null,{"$f":"IF($C152=\"\",\"\",SUM(EH152:FD152))","v":""},null,{"$f":"IF($C152=\"\",\"\",FL$11)","v":""},null,null,null,null,null,null,null,null,null,null,null,null,null,null,null,null,null,null,null,null,null,null,null,{"$f":"IF($C152=\"\",\"\",SUM(FH152:GD152))","v":""},null,{"$f":"IF($C152=\"\",\"\",GL$11)","v":""},null,null,null,null,null,null,null,null,null,null,null,null,null,null,null,null,null,null,null,null,null,null,null,{"$f":"IF($C152=\"\",\"\",SUM(GH152:HD152))","v":""},null,{"$f":"IF($C152=\"\",\"\",HL$11)","v":""},null,null,null,null,null,null,null,null,null,null,null,null,null,null,null,null,null,null,null,null,null,null,null,{"$f":"IF($C152=\"\",\"\",SUM(HH152:ID152))","v":""},null,{"$f":"IF($C152=\"\",\"\",IL$11)","v":""},null,null,null,null,null,null,null,null,null,null,null,null,null,null,null,null,null,null,null,null,null,null,null,{"$f":"IF($C152=\"\",\"\",SUM(IH152:JD152))","v":""},null,{"$f":"IF($C152=\"\",\"\",JL$11)","v":""},null,null,null,null,null,null,null,null,null,null,null,null,null,null,null,null,null,null,null,null,null,null,null,{"$f":"IF($C152=\"\",\"\",SUM(JH152:KD152))","v":""}]
[null,131,null,null,null,null,"",null,null,null,null,null,null,null,null,null,null,null,null,null,null,null,null,null,null,null,null,null,null,null,"",null,"",null,null,null,null,null,null,null,null,null,null,null,null,null,null,null,null,null,null,null,null,null,null,null,"",null,"",null,null,null,null,null,null,null,null,null,null,null,null,null,null,null,null,null,null,null,null,null,null,null,"",null,"",null,null,null,null,null,null,null,null,null,null,null,null,null,null,null,null,null,null,null,null,null,null,null,"",null,"",null,null,null,null,null,null,null,null,null,null,null,null,null,null,null,null,null,null,null,null,null,null,null,"",null,"",null,null,null,null,null,null,null,null,null,null,null,null,null,null,null,null,null,null,null,null,null,null,null,"",null,"",null,null,null,null,null,null,null,null,null,null,null,null,null,null,null,null,null,null,null,null,null,null,null,"",null,"",null,null,null,null,null,null,null,null,null,null,null,null,null,null,null,null,null,null,null,null,null,null,null,"",null,"",null,null,null,null,null,null,null,null,null,null,null,null,null,null,null,null,null,null,null,null,null,null,null,"",null,"",null,null,null,null,null,null,null,null,null,null,null,null,null,null,null,null,null,null,null,null,null,null,null,"",null,"",null,null,null,null,null,null,null,null,null,null,null,null,null,null,null,null,null,null,null,null,null,null,null,""]
[null,132,null,null,null,null,"",null,null,null,null,null,null,null,null,null,null,null,null,null,null,null,null,null,null,null,null,null,null,null,"",null,"",null,null,null,null,null,null,null,null,null,null,null,null,null,null,null,null,null,null,null,null,null,null,null,"",null,"",null,null,null,null,null,null,null,null,null,null,null,null,null,null,null,null,null,null,null,null,null,null,null,"",null,"",null,null,null,null,null,null,null,null,null,null,null,null,null,null,null,null,null,null,null,null,null,null,null,"",null,"",null,null,null,null,null,null,null,null,null,null,null,null,null,null,null,null,null,null,null,null,null,null,null,"",null,"",null,null,null,null,null,null,null,null,null,null,null,null,null,null,null,null,null,null,null,null,null,null,null,"",null,"",null,null,null,null,null,null,null,null,null,null,null,null,null,null,null,null,null,null,null,null,null,null,null,"",null,"",null,null,null,null,null,null,null,null,null,null,null,null,null,null,null,null,null,null,null,null,null,null,null,"",null,"",null,null,null,null,null,null,null,null,null,null,null,null,null,null,null,null,null,null,null,null,null,null,null,"",null,"",null,null,null,null,null,null,null,null,null,null,null,null,null,null,null,null,null,null,null,null,null,null,null,"",null,"",null,null,null,null,null,null,null,null,null,null,null,null,null,null,null,null,null,null,null,null,null,null,null,""]
[null,133,null,null,null,null,"",null,null,null,null,null,null,null,null,null,null,null,null,null,null,null,null,null,null,null,null,null,null,null,"",null,"",null,null,null,null,null,null,null,null,null,null,null,null,null,null,null,null,null,null,null,null,null,null,null,"",null,"",null,null,null,null,null,null,null,null,null,null,null,null,null,null,null,null,null,null,null,null,null,null,null,"",null,"",null,null,null,null,null,null,null,null,null,null,null,null,null,null,null,null,null,null,null,null,null,null,null,"",null,"",null,null,null,null,null,null,null,null,null,null,null,null,null,null,null,null,null,null,null,null,null,null,null,"",null,"",null,null,null,null,null,null,null,null,null,null,null,null,null,null,null,null,null,null,null,null,null,null,null,"",null,"",null,null,null,null,null,null,null,null,null,null,null,null,null,null,null,null,null,null,null,null,null,null,null,"",null,"",null,null,null,null,null,null,null,null,null,null,null,null,null,null,null,null,null,null,null,null,null,null,null,"",null,"",null,null,null,null,null,null,null,null,null,null,null,null,null,null,null,null,null,null,null,null,null,null,null,"",null,"",null,null,null,null,null,null,null,null,null,null,null,null,null,null,null,null,null,null,null,null,null,null,null,"",null,"",null,null,null,null,null,null,null,null,null,null,null,null,null,null,null,null,null,null,null,null,null,null,null,""]
[null,134,null,null,null,null,"",null,null,null,null,null,null,null,null,null,null,null,null,null,null,null,null,null,null,null,null,null,null,null,"",null,"",null,null,null,null,null,null,null,null,null,null,null,null,null,null,null,null,null,null,null,null,null,null,null,"",null,"",null,null,null,null,null,null,null,null,null,null,null,null,null,null,null,null,null,null,null,null,null,null,null,"",null,"",null,null,null,null,null,null,null,null,null,null,null,null,null,null,null,null,null,null,null,null,null,null,null,"",null,"",null,null,null,null,null,null,null,null,null,null,null,null,null,null,null,null,null,null,null,null,null,null,null,"",null,"",null,null,null,null,null,null,null,null,null,null,null,null,null,null,null,null,null,null,null,null,null,null,null,"",null,"",null,null,null,null,null,null,null,null,null,null,null,null,null,null,null,null,null,null,null,null,null,null,null,"",null,"",null,null,null,null,null,null,null,null,null,null,null,null,null,null,null,null,null,null,null,null,null,null,null,"",null,"",null,null,null,null,null,null,null,null,null,null,null,null,null,null,null,null,null,null,null,null,null,null,null,"",null,"",null,null,null,null,null,null,null,null,null,null,null,null,null,null,null,null,null,null,null,null,null,null,null,"",null,"",null,null,null,null,null,null,null,null,null,null,null,null,null,null,null,null,null,null,null,null,null,null,null,""]
[null,135,null,null,null,null,"",null,null,null,null,null,null,null,null,null,null,null,null,null,null,null,null,null,null,null,null,null,null,null,"",null,"",null,null,null,null,null,null,null,null,null,null,null,null,null,null,null,null,null,null,null,null,null,null,null,"",null,"",null,null,null,null,null,null,null,null,null,null,null,null,null,null,null,null,null,null,null,null,null,null,null,"",null,"",null,null,null,null,null,null,null,null,null,null,null,null,null,null,null,null,null,null,null,null,null,null,null,"",null,"",null,null,null,null,null,null,null,null,null,null,null,null,null,null,null,null,null,null,null,null,null,null,null,"",null,"",null,null,null,null,null,null,null,null,null,null,null,null,null,null,null,null,null,null,null,null,null,null,null,"",null,"",null,null,null,null,null,null,null,null,null,null,null,null,null,null,null,null,null,null,null,null,null,null,null,"",null,"",null,null,null,null,null,null,null,null,null,null,null,null,null,null,null,null,null,null,null,null,null,null,null,"",null,"",null,null,null,null,null,null,null,null,null,null,null,null,null,null,null,null,null,null,null,null,null,null,null,"",null,"",null,null,null,null,null,null,null,null,null,null,null,null,null,null,null,null,null,null,null,null,null,null,null,"",null,"",null,null,null,null,null,null,null,null,null,null,null,null,null,null,null,null,null,null,null,null,null,null,null,""]
[null,136,null,null,null,null,"",null,null,null,null,null,null,null,null,null,null,null,null,null,null,null,null,null,null,null,null,null,null,null,"",null,"",null,null,null,null,null,null,null,null,null,null,null,null,null,null,null,null,null,null,null,null,null,null,null,"",null,"",null,null,null,null,null,null,null,null,null,null,null,null,null,null,null,null,null,null,null,null,null,null,null,"",null,"",null,null,null,null,null,null,null,null,null,null,null,null,null,null,null,null,null,null,null,null,null,null,null,"",null,"",null,null,null,null,null,null,null,null,null,null,null,null,null,null,null,null,null,null,null,null,null,null,null,"",null,"",null,null,null,null,null,null,null,null,null,null,null,null,null,null,null,null,null,null,null,null,null,null,null,"",null,"",null,null,null,null,null,null,null,null,null,null,null,null,null,null,null,null,null,null,null,null,null,null,null,"",null,"",null,null,null,null,null,null,null,null,null,null,null,null,null,null,null,null,null,null,null,null,null,null,null,"",null,"",null,null,null,null,null,null,null,null,null,null,null,null,null,null,null,null,null,null,null,null,null,null,null,"",null,"",null,null,null,null,null,null,null,null,null,null,null,null,null,null,null,null,null,null,null,null,null,null,null,"",null,"",null,null,null,null,null,null,null,null,null,null,null,null,null,null,null,null,null,null,null,null,null,null,null,""]
[null,137,null,null,null,null,"",null,null,null,null,null,null,null,null,null,null,null,null,null,null,null,null,null,null,null,null,null,null,null,"",null,"",null,null,null,null,null,null,null,null,null,null,null,null,null,null,null,null,null,null,null,null,null,null,null,"",null,"",null,null,null,null,null,null,null,null,null,null,null,null,null,null,null,null,null,null,null,null,null,null,null,"",null,"",null,null,null,null,null,null,null,null,null,null,null,null,null,null,null,null,null,null,null,null,null,null,null,"",null,"",null,null,null,null,null,null,null,null,null,null,null,null,null,null,null,null,null,null,null,null,null,null,null,"",null,"",null,null,null,null,null,null,null,null,null,null,null,null,null,null,null,null,null,null,null,null,null,null,null,"",null,"",null,null,null,null,null,null,null,null,null,null,null,null,null,null,null,null,null,null,null,null,null,null,null,"",null,"",null,null,null,null,null,null,null,null,null,null,null,null,null,null,null,null,null,null,null,null,null,null,null,"",null,"",null,null,null,null,null,null,null,null,null,null,null,null,null,null,null,null,null,null,null,null,null,null,null,"",null,"",null,null,null,null,null,null,null,null,null,null,null,null,null,null,null,null,null,null,null,null,null,null,null,"",null,"",null,null,null,null,null,null,null,null,null,null,null,null,null,null,null,null,null,null,null,null,null,null,null,""]
[null,138,null,null,null,null,"",null,null,null,null,null,null,null,null,null,null,null,null,null,null,null,null,null,null,null,null,null,null,null,"",null,"",null,null,null,null,null,null,null,null,null,null,null,null,null,null,null,null,null,null,null,null,null,null,null,"",null,"",null,null,null,null,null,null,null,null,null,null,null,null,null,null,null,null,null,null,null,null,null,null,null,"",null,"",null,null,null,null,null,null,null,null,null,null,null,null,null,null,null,null,null,null,null,null,null,null,null,"",null,"",null,null,null,null,null,null,null,null,null,null,null,null,null,null,null,null,null,null,null,null,null,null,null,"",null,"",null,null,null,null,null,null,null,null,null,null,null,null,null,null,null,null,null,null,null,null,null,null,null,"",null,"",null,null,null,null,null,null,null,null,null,null,null,null,null,null,null,null,null,null,null,null,null,null,null,"",null,"",null,null,null,null,null,null,null,null,null,null,null,null,null,null,null,null,null,null,null,null,null,null,null,"",null,"",null,null,null,null,null,null,null,null,null,null,null,null,null,null,null,null,null,null,null,null,null,null,null,"",null,"",null,null,null,null,null,null,null,null,null,null,null,null,null,null,null,null,null,null,null,null,null,null,null,"",null,"",null,null,null,null,null,null,null,null,null,null,null,null,null,null,null,null,null,null,null,null,null,null,null,""]
[null,139,null,null,null,null,"",null,null,null,null,null,null,null,null,null,null,null,null,null,null,null,null,null,null,null,null,null,null,null,"",null,"",null,null,null,null,null,null,null,null,null,null,null,null,null,null,null,null,null,null,null,null,null,null,null,"",null,"",null,null,null,null,null,null,null,null,null,null,null,null,null,null,null,null,null,null,null,null,null,null,null,"",null,"",null,null,null,null,null,null,null,null,null,null,null,null,null,null,null,null,null,null,null,null,null,null,null,"",null,"",null,null,null,null,null,null,null,null,null,null,null,null,null,null,null,null,null,null,null,null,null,null,null,"",null,"",null,null,null,null,null,null,null,null,null,null,null,null,null,null,null,null,null,null,null,null,null,null,null,"",null,"",null,null,null,null,null,null,null,null,null,null,null,null,null,null,null,null,null,null,null,null,null,null,null,"",null,"",null,null,null,null,null,null,null,null,null,null,null,null,null,null,null,null,null,null,null,null,null,null,null,"",null,"",null,null,null,null,null,null,null,null,null,null,null,null,null,null,null,null,null,null,null,null,null,null,null,"",null,"",null,null,null,null,null,null,null,null,null,null,null,null,null,null,null,null,null,null,null,null,null,null,null,"",null,"",null,null,null,null,null,null,null,null,null,null,null,null,null,null,null,null,null,null,null,null,null,null,null,""]
[null,140,null,null,null,null,"",null,null,null,null,null,null,null,null,null,null,null,null,null,null,null,null,null,null,null,null,null,null,null,"",null,"",null,null,null,null,null,null,null,null,null,null,null,null,null,null,null,null,null,null,null,null,null,null,null,"",null,"",null,null,null,null,null,null,null,null,null,null,null,null,null,null,null,null,null,null,null,null,null,null,null,"",null,"",null,null,null,null,null,null,null,null,null,null,null,null,null,null,null,null,null,null,null,null,null,null,null,"",null,"",null,null,null,null,null,null,null,null,null,null,null,null,null,null,null,null,null,null,null,null,null,null,null,"",null,"",null,null,null,null,null,null,null,null,null,null,null,null,null,null,null,null,null,null,null,null,null,null,null,"",null,"",null,null,null,null,null,null,null,null,null,null,null,null,null,null,null,null,null,null,null,null,null,null,null,"",null,"",null,null,null,null,null,null,null,null,null,null,null,null,null,null,null,null,null,null,null,null,null,null,null,"",null,"",null,null,null,null,null,null,null,null,null,null,null,null,null,null,null,null,null,null,null,null,null,null,null,"",null,"",null,null,null,null,null,null,null,null,null,null,null,null,null,null,null,null,null,null,null,null,null,null,null,"",null,"",null,null,null,null,null,null,null,null,null,null,null,null,null,null,null,null,null,null,null,null,null,null,null,""]
[null,141,null,null,null,null,"",null,null,null,null,null,null,null,null,null,null,null,null,null,null,null,null,null,null,null,null,null,null,null,"",null,"",null,null,null,null,null,null,null,null,null,null,null,null,null,null,null,null,null,null,null,null,null,null,null,"",null,"",null,null,null,null,null,null,null,null,null,null,null,null,null,null,null,null,null,null,null,null,null,null,null,"",null,"",null,null,null,null,null,null,null,null,null,null,null,null,null,null,null,null,null,null,null,null,null,null,null,"",null,"",null,null,null,null,null,null,null,null,null,null,null,null,null,null,null,null,null,null,null,null,null,null,null,"",null,"",null,null,null,null,null,null,null,null,null,null,null,null,null,null,null,null,null,null,null,null,null,null,null,"",null,"",null,null,null,null,null,null,null,null,null,null,null,null,null,null,null,null,null,null,null,null,null,null,null,"",null,"",null,null,null,null,null,null,null,null,null,null,null,null,null,null,null,null,null,null,null,null,null,null,null,"",null,"",null,null,null,null,null,null,null,null,null,null,null,null,null,null,null,null,null,null,null,null,null,null,null,"",null,"",null,null,null,null,null,null,null,null,null,null,null,null,null,null,null,null,null,null,null,null,null,null,null,"",null,"",null,null,null,null,null,null,null,null,null,null,null,null,null,null,null,null,null,null,null,null,null,null,null,""]
[null,142,null,null,null,null,"",null,null,null,null,null,null,null,null,null,null,null,null,null,null,null,null,null,null,null,null,null,null,null,"",null,"",null,null,null,null,null,null,null,null,null,null,null,null,null,null,null,null,null,null,null,null,null,null,null,"",null,"",null,null,null,null,null,null,null,null,null,null,null,null,null,null,null,null,null,null,null,null,null,null,null,"",null,"",null,null,null,null,null,null,null,null,null,null,null,null,null,null,null,null,null,null,null,null,null,null,null,"",null,"",null,null,null,null,null,null,null,null,null,null,null,null,null,null,null,null,null,null,null,null,null,null,null,"",null,"",null,null,null,null,null,null,null,null,null,null,null,null,null,null,null,null,null,null,null,null,null,null,null,"",null,"",null,null,null,null,null,null,null,null,null,null,null,null,null,null,null,null,null,null,null,null,null,null,null,"",null,"",null,null,null,null,null,null,null,null,null,null,null,null,null,null,null,null,null,null,null,null,null,null,null,"",null,"",null,null,null,null,null,null,null,null,null,null,null,null,null,null,null,null,null,null,null,null,null,null,null,"",null,"",null,null,null,null,null,null,null,null,null,null,null,null,null,null,null,null,null,null,null,null,null,null,null,"",null,"",null,null,null,null,null,null,null,null,null,null,null,null,null,null,null,null,null,null,null,null,null,null,null,""]
[null,143,null,null,null,null,"",null,null,null,null,null,null,null,null,null,null,null,null,null,null,null,null,null,null,null,null,null,null,null,"",null,"",null,null,null,null,null,null,null,null,null,null,null,null,null,null,null,null,null,null,null,null,null,null,null,"",null,"",null,null,null,null,null,null,null,null,null,null,null,null,null,null,null,null,null,null,null,null,null,null,null,"",null,"",null,null,null,null,null,null,null,null,null,null,null,null,null,null,null,null,null,null,null,null,null,null,null,"",null,"",null,null,null,null,null,null,null,null,null,null,null,null,null,null,null,null,null,null,null,null,null,null,null,"",null,"",null,null,null,null,null,null,null,null,null,null,null,null,null,null,null,null,null,null,null,null,null,null,null,"",null,"",null,null,null,null,null,null,null,null,null,null,null,null,null,null,null,null,null,null,null,null,null,null,null,"",null,"",null,null,null,null,null,null,null,null,null,null,null,null,null,null,null,null,null,null,null,null,null,null,null,"",null,"",null,null,null,null,null,null,null,null,null,null,null,null,null,null,null,null,null,null,null,null,null,null,null,"",null,"",null,null,null,null,null,null,null,null,null,null,null,null,null,null,null,null,null,null,null,null,null,null,null,"",null,"",null,null,null,null,null,null,null,null,null,null,null,null,null,null,null,null,null,null,null,null,null,null,null,""]
[null,144,null,null,null,null,"",null,null,null,null,null,null,null,null,null,null,null,null,null,null,null,null,null,null,null,null,null,null,null,"",null,"",null,null,null,null,null,null,null,null,null,null,null,null,null,null,null,null,null,null,null,null,null,null,null,"",null,"",null,null,null,null,null,null,null,null,null,null,null,null,null,null,null,null,null,null,null,null,null,null,null,"",null,"",null,null,null,null,null,null,null,null,null,null,null,null,null,null,null,null,null,null,null,null,null,null,null,"",null,"",null,null,null,null,null,null,null,null,null,null,null,null,null,null,null,null,null,null,null,null,null,null,null,"",null,"",null,null,null,null,null,null,null,null,null,null,null,null,null,null,null,null,null,null,null,null,null,null,null,"",null,"",null,null,null,null,null,null,null,null,null,null,null,null,null,null,null,null,null,null,null,null,null,null,null,"",null,"",null,null,null,null,null,null,null,null,null,null,null,null,null,null,null,null,null,null,null,null,null,null,null,"",null,"",null,null,null,null,null,null,null,null,null,null,null,null,null,null,null,null,null,null,null,null,null,null,null,"",null,"",null,null,null,null,null,null,null,null,null,null,null,null,null,null,null,null,null,null,null,null,null,null,null,"",null,"",null,null,null,null,null,null,null,null,null,null,null,null,null,null,null,null,null,null,null,null,null,null,null,""]
[null,145,null,null,null,null,"",null,null,null,null,null,null,null,null,null,null,null,null,null,null,null,null,null,null,null,null,null,null,null,"",null,"",null,null,null,null,null,null,null,null,null,null,null,null,null,null,null,null,null,null,null,null,null,null,null,"",null,"",null,null,null,null,null,null,null,null,null,null,null,null,null,null,null,null,null,null,null,null,null,null,null,"",null,"",null,null,null,null,null,null,null,null,null,null,null,null,null,null,null,null,null,null,null,null,null,null,null,"",null,"",null,null,null,null,null,null,null,null,null,null,null,null,null,null,null,null,null,null,null,null,null,null,null,"",null,"",null,null,null,null,null,null,null,null,null,null,null,null,null,null,null,null,null,null,null,null,null,null,null,"",null,"",null,null,null,null,null,null,null,null,null,null,null,null,null,null,null,null,null,null,null,null,null,null,null,"",null,"",null,null,null,null,null,null,null,null,null,null,null,null,null,null,null,null,null,null,null,null,null,null,null,"",null,"",null,null,null,null,null,null,null,null,null,null,null,null,null,null,null,null,null,null,null,null,null,null,null,"",null,"",null,null,null,null,null,null,null,null,null,null,null,null,null,null,null,null,null,null,null,null,null,null,null,"",null,"",null,null,null,null,null,null,null,null,null,null,null,null,null,null,null,null,null,null,null,null,null,null,null,""]
[null,146,null,null,null,null,"",null,null,null,null,null,null,null,null,null,null,null,null,null,null,null,null,null,null,null,null,null,null,null,"",null,"",null,null,null,null,null,null,null,null,null,null,null,null,null,null,null,null,null,null,null,null,null,null,null,"",null,"",null,null,null,null,null,null,null,null,null,null,null,null,null,null,null,null,null,null,null,null,null,null,null,"",null,"",null,null,null,null,null,null,null,null,null,null,null,null,null,null,null,null,null,null,null,null,null,null,null,"",null,"",null,null,null,null,null,null,null,null,null,null,null,null,null,null,null,null,null,null,null,null,null,null,null,"",null,"",null,null,null,null,null,null,null,null,null,null,null,null,null,null,null,null,null,null,null,null,null,null,null,"",null,"",null,null,null,null,null,null,null,null,null,null,null,null,null,null,null,null,null,null,null,null,null,null,null,"",null,"",null,null,null,null,null,null,null,null,null,null,null,null,null,null,null,null,null,null,null,null,null,null,null,"",null,"",null,null,null,null,null,null,null,null,null,null,null,null,null,null,null,null,null,null,null,null,null,null,null,"",null,"",null,null,null,null,null,null,null,null,null,null,null,null,null,null,null,null,null,null,null,null,null,null,null,"",null,"",null,null,null,null,null,null,null,null,null,null,null,null,null,null,null,null,null,null,null,null,null,null,null,""]
[null,147,null,null,null,null,"",null,null,null,null,null,null,null,null,null,null,null,null,null,null,null,null,null,null,null,null,null,null,null,"",null,"",null,null,null,null,null,null,null,null,null,null,null,null,null,null,null,null,null,null,null,null,null,null,null,"",null,"",null,null,null,null,null,null,null,null,null,null,null,null,null,null,null,null,null,null,null,null,null,null,null,"",null,"",null,null,null,null,null,null,null,null,null,null,null,null,null,null,null,null,null,null,null,null,null,null,null,"",null,"",null,null,null,null,null,null,null,null,null,null,null,null,null,null,null,null,null,null,null,null,null,null,null,"",null,"",null,null,null,null,null,null,null,null,null,null,null,null,null,null,null,null,null,null,null,null,null,null,null,"",null,"",null,null,null,null,null,null,null,null,null,null,null,null,null,null,null,null,null,null,null,null,null,null,null,"",null,"",null,null,null,null,null,null,null,null,null,null,null,null,null,null,null,null,null,null,null,null,null,null,null,"",null,"",null,null,null,null,null,null,null,null,null,null,null,null,null,null,null,null,null,null,null,null,null,null,null,"",null,"",null,null,null,null,null,null,null,null,null,null,null,null,null,null,null,null,null,null,null,null,null,null,null,"",null,"",null,null,null,null,null,null,null,null,null,null,null,null,null,null,null,null,null,null,null,null,null,null,null,""]
[null,148,null,null,null,null,"",null,null,null,null,null,null,null,null,null,null,null,null,null,null,null,null,null,null,null,null,null,null,null,"",null,"",null,null,null,null,null,null,null,null,null,null,null,null,null,null,null,null,null,null,null,null,null,null,null,"",null,"",null,null,null,null,null,null,null,null,null,null,null,null,null,null,null,null,null,null,null,null,null,null,null,"",null,"",null,null,null,null,null,null,null,null,null,null,null,null,null,null,null,null,null,null,null,null,null,null,null,"",null,"",null,null,null,null,null,null,null,null,null,null,null,null,null,null,null,null,null,null,null,null,null,null,null,"",null,"",null,null,null,null,null,null,null,null,null,null,null,null,null,null,null,null,null,null,null,null,null,null,null,"",null,"",null,null,null,null,null,null,null,null,null,null,null,null,null,null,null,null,null,null,null,null,null,null,null,"",null,"",null,null,null,null,null,null,null,null,null,null,null,null,null,null,null,null,null,null,null,null,null,null,null,"",null,"",null,null,null,null,null,null,null,null,null,null,null,null,null,null,null,null,null,null,null,null,null,null,null,"",null,"",null,null,null,null,null,null,null,null,null,null,null,null,null,null,null,null,null,null,null,null,null,null,null,"",null,"",null,null,null,null,null,null,null,null,null,null,null,null,null,null,null,null,null,null,null,null,null,null,null,""]
[null,149,null,null,null,null,"",null,null,null,null,null,null,null,null,null,null,null,null,null,null,null,null,null,null,null,null,null,null,null,"",null,"",null,null,null,null,null,null,null,null,null,null,null,null,null,null,null,null,null,null,null,null,null,null,null,"",null,"",null,null,null,null,null,null,null,null,null,null,null,null,null,null,null,null,null,null,null,null,null,null,null,"",null,"",null,null,null,null,null,null,null,null,null,null,null,null,null,null,null,null,null,null,null,null,null,null,null,"",null,"",null,null,null,null,null,null,null,null,null,null,null,null,null,null,null,null,null,null,null,null,null,null,null,"",null,"",null,null,null,null,null,null,null,null,null,null,null,null,null,null,null,null,null,null,null,null,null,null,null,"",null,"",null,null,null,null,null,null,null,null,null,null,null,null,null,null,null,null,null,null,null,null,null,null,null,"",null,"",null,null,null,null,null,null,null,null,null,null,null,null,null,null,null,null,null,null,null,null,null,null,null,"",null,"",null,null,null,null,null,null,null,null,null,null,null,null,null,null,null,null,null,null,null,null,null,null,null,"",null,"",null,null,null,null,null,null,null,null,null,null,null,null,null,null,null,null,null,null,null,null,null,null,null,"",null,"",null,null,null,null,null,null,null,null,null,null,null,null,null,null,null,null,null,null,null,null,null,null,null,""]
[null,150,null,null,null,null,"",null,null,null,null,null,null,null,null,null,null,null,null,null,null,null,null,null,null,null,null,null,null,null,"",null,"",null,null,null,null,null,null,null,null,null,null,null,null,null,null,null,null,null,null,null,null,null,null,null,"",null,"",null,null,null,null,null,null,null,null,null,null,null,null,null,null,null,null,null,null,null,null,null,null,null,"",null,"",null,null,null,null,null,null,null,null,null,null,null,null,null,null,null,null,null,null,null,null,null,null,null,"",null,"",null,null,null,null,null,null,null,null,null,null,null,null,null,null,null,null,null,null,null,null,null,null,null,"",null,"",null,null,null,null,null,null,null,null,null,null,null,null,null,null,null,null,null,null,null,null,null,null,null,"",null,"",null,null,null,null,null,null,null,null,null,null,null,null,null,null,null,null,null,null,null,null,null,null,null,"",null,"",null,null,null,null,null,null,null,null,null,null,null,null,null,null,null,null,null,null,null,null,null,null,null,"",null,"",null,null,null,null,null,null,null,null,null,null,null,null,null,null,null,null,null,null,null,null,null,null,null,"",null,"",null,null,null,null,null,null,null,null,null,null,null,null,null,null,null,null,null,null,null,null,null,null,null,"",null,"",null,null,null,null,null,null,null,null,null,null,null,null,null,null,null,null,null,null,null,null,null,null,null,""]

{"sheet":"C3_Monit Efectivas Ini","index":11,"n_rows":170,"n_cols":291,"rows_kept":170,"cut":false,"hidden":true,"merged":[[17,290,19,290],[18,267,18,289],[12,266,12,270],[13,267,13,268],[13,269,13,270],[13,271,13,272],[14,267,14,268],[14,269,14,270],[14,271,14,272],[17,266,19,266],[17,267,17,289],[7,266,7,268],[7,269,7,270],[7,271,7,272],[7,273,7,274],[8,266,8,268],[8,269,8,270],[8,271,8,272],[8,273,8,274],[11,266,11,270],[7,11,7,12],[7,13,7,14],[7,32,7,34],[7,35,7,36],[7,37,7,38],[7,39,7,40],[3,2,3,3],[4,2,4,3],[6,4,6,5],[7,6,7,8],[7,9,7,10],[7,89,7,90],[7,91,7,92],[7,110,7,112],[7,113,7,114],[7,115,7,116],[7,117,7,118],[7,58,7,60],[7,61,7,62],[7,63,7,64],[7,65,7,66],[7,84,7,86],[7,87,7,88],[7,188,7,190],[7,191,7,192],[7,193,7,194],[7,195,7,196],[7,136,7,138],[7,139,7,140],[7,141,7,142],[7,143,7,144],[7,162,7,164],[7,165,7,166],[8,58,8,60],[8,61,8,62],[8,63,8,64],[8,65,8,66],[8,84,8,86],[8,87,8,88],[7,245,7,246],[7,247,7,248],[8,6,8,8],[8,9,8,10],[8,11,8,12],[8,13,8,14],[8,32,8,34],[8,35,8,36],[8,37,8,38],[8,39,8,40],[7,214,7,216],[7,217,7,218],[7,219,7,220],[7,221,7,222],[7,240,7,242],[7,243,7,244],[7,167,7,168],[7,169,7,170],[8,141,8,142],[8,143,8,144],[8,162,8,164],[8,165,8,166],[8,89,8,90],[8,91,8,92],[8,110,8,112],[8,113,8,114],[8,115,8,116],[8,117,8,118],[8,245,8,246],[8,247,8,248],[11,1,11,5],[11,6,11,10],[11,32,11,36],[11,58,11,62],[11,84,11,88],[11,110,11,114],[11,136,11,140],[11,162,11,166],[8,214,8,216],[8,217,8,218],[8,219,8,220],[8,221,8,222],[8,240,8,242],[8,243,8,244],[8,167,8,168],[8,169,8,170],[8,188,8,190],[8,191,8,192],[8,193,8,194],[8,195,8,196],[8,136,8,138],[8,139,8,140],[11,188,11,192],[11,214,11,218],[11,240,11,244],[12,1,13,2],[12,3,12,5],[12,6,12,10],[12,32,12,36],[12,58,12,62],[12,84,12,88],[12,110,12,114],[12,136,12,140],[12,162,12,166],[12,188,12,192],[12,214,12,218],[12,240,12,244],[13,7,13,8],[13,9,13,10],[13,11,13,12],[13,33,13,34],[13,35,13,36],[13,113,13,114],[13,115,13,116],[13,137,13,138],[13,139,13,140],[13,245,13,246],[14,1,14,2],[14,7,14,8],[14,9,14,10],[14,11,14,12],[14,33,14,34],[14,35,14,36],[14,37,14,38],[14,59,14,60],[14,61,14,62],[13,193,13,194],[13,215,13,216],[13,217,13,218],[13,219,13,220],[13,241,13,242],[13,243,13,244],[13,141,13,142],[13,163,13,164],[13,189,13,190],[13,191,13,192],[13,89,13,90],[13,111,13,112],[14,245,14,246],[14,193,14,194],[17,1,19,1],[17,2,19,2],[17,3,19,3],[17,4,19,4],[17,5,19,5],[17,6,19,6],[14,167,14,168],[14,189,14,190],[14,191,14,192],[17,7,17,29],[17,30,19,30],[17,32,19,32],[17,33,17,55],[17,56,19,56],[17,58,19,58],[14,215,14,216],[14,217,14,218],[14,115,14,116],[14,137,14,138],[14,139,14,140],[14,141,14,142],[14,163,14,164],[13,37,13,38],[13,59,13,60],[14,111,14,112],[13,165,13,166],[13,167,13,168],[13,61,13,62],[13,63,13,64],[13,85,13,86],[13,87,13,88],[14,219,14,220],[14,241,14,242],[14,243,14,244],[14,113,14,114],[17,160,19,160],[17,162,19,162],[18,137,18,159],[17,59,17,81],[17,82,19,82],[17,84,19,84],[17,85,17,107],[17,108,19,108],[17,110,19,110],[18,215,18,237],[18,241,18,263],[17,215,17,237],[17,238,19,238],[17,240,19,240],[17,241,17,263],[14,165,14,166],[14,63,14,64],[14,85,14,86],[14,87,14,88],[14,89,14,90],[17,264,19,264],[18,7,18,29],[18,33,18,55],[18,59,18,81],[18,85,18,107],[18,111,18,133],[17,163,17,185],[17,186,19,186],[17,188,19,188],[17,189,17,211],[17,212,19,212],[17,214,19,214],[18,163,18,185],[18,189,18,211],[17,111,17,133],[17,134,19,134],[17,136,19,136],[17,137,17,159]]}
[null,"Indicador 2: Porcentaje de jornadas laborales efectivas de los docentes."]
[null,"Calendarización y seguimiento del cumplimiento de horas en el año escolar 2017 (nivel Inicial)"]
[]
[null,null,"NIVEL/MODALIDAD",null,"H. DIA","N° SEC"]
[null,null,"INICIAL",null,{"$f":"'C3_Form Ini'!L14","v":0},{"$f":"'C3_Form Ini'!L13","v":0},"Estos datos se enlazan con las hojas de calendarización."]
[]
[null,null,null,null,"HORAS",null,"HRS. CALENDARIZADAS EN EL MES",null,null,null,null,null,null,null,null,null,null,null,null,null,null,null,null,null,null,null,null,null,null,null,null,null,"HORAS CALENDARIZADAS EN EL MES",null,null,null,null,null,null,null,null,null,null,null,null,null,null,null,null,null,null,null,null,null,null,null,null,null,"HORAS CALENDARIZADAS EN EL MES",null,null,null,null,null,null,null,null,null,null,null,null,null,null,null,null,null,null,null,null,null,null,null,null,null,"HORAS CALENDARIZADAS EN EL MES",null,null,null,null,null,null,null,null,null,null,null,null,null,null,null,null,null,null,null,null,null,null,null,null,null,"HORAS CALENDARIZADAS EN EL MES",null,null,null,null,null,null,null,null,null,null,null,null,null,null,null,null,null,null,null,null,null,null,null,null,null,"HORAS CALENDARIZADAS EN EL MES",null,null,null,null,null,null,null,null,null,null,null,null,null,null,null,null,null,null,null,null,null,null,null,null,null,"HORAS CALENDARIZADAS EN EL MES",null,null,null,null,null,null,null,null,null,null,null,null,null,null,null,null,null,null,null,null,null,null,null,null,null,"HORAS CALENDARIZADAS EN EL MES",null,null,null,null,null,null,null,null,null,null,null,null,null,null,null,null,null,null,null,null,null,null,null,null,null,"HORAS CALENDARIZADAS EN EL MES",null,null,null,null,null,null,null,null,null,null,null,null,null,null,null,null,null,null,null,null,null,null,null,null,null,"HORAS CALENDARIZADAS EN EL MES",null,null,null,null,null,null,null,null,null,null,null,null,null,null,null,null,null,null,null,null,null,null,null,null,null,"HORAS CALENDARIZADAS EN EL MES"]
[null,null,"AÑO","DIAS","LECT.","EFEC.","MES",null,null,"DIAS",null,"LECT.",null,"EFEC.",null,null,null,null,null,null,null,null,null,null,null,null,null,null,null,null,null,null,"MES",null,null,"DIAS",null,"LECT.",null,"EFEC.",null,null,null,null,null,null,null,null,null,null,null,null,null,null,null,null,null,null,"MES",null,null,"DIAS",null,"LECT.",null,"EFEC.",null,null,null,null,null,null,null,null,null,null,null,null,null,null,null,null,null,null,"MES",null,null,"DIAS",null,"LECT.",null,"EFEC.",null,null,null,null,null,null,null,null,null,null,null,null,null,null,null,null,null,null,"MES",null,null,"DIAS",null,"LECT.",null,"EFEC.",null,null,null,null,null,null,null,null,null,null,null,null,null,null,null,null,null,null,"MES",null,null,"DIAS",null,"LECT.",null,"EFEC.",null,null,null,null,null,null,null,null,null,null,null,null,null,null,null,null,null,null,"MES",null,null,"DIAS",null,"LECT.",null,"EFEC.",null,null,null,null,null,null,null,null,null,null,null,null,null,null,null,null,null,null,"MES",null,null,"DIAS",null,"LECT.",null,"EFEC.",null,null,null,null,null,null,null,null,null,null,null,null,null,null,null,null,null,null,"MES",null,null,"DIAS",null,"LECT.",null,"EFEC.",null,null,null,null,null,null,null,null,null,null,null,null,null,null,null,null,null,null,"MES",null,null,"DIAS",null,"LECT.",null,"EFEC.",null,null,null,null,null,null,null,null,null,null,null,null,null,null,null,null,null,null,"MES",null,null,"DIAS",null,"LECT.",null,"EFEC."]
[null,null,2017,{"$f":"J9+AJ9+BJ9+CJ9+EJ9+HJ9+IJ9+DJ9+FJ9+GJ9","v":184},{"$f":"'C3_Form Ini'!AQ43","v":0},{"$f":"'C3_Form Ini'!AR43","v":0},{"$f":"'C3_Form Ini'!B21","v":"2017-03-01"},null,null,{"$f":"'C3_Form Ini'!AP21","v":15},null,{"$f":"'C3_Form Ini'!AQ21","v":0},null,{"$f":"'C3_Form Ini'!AR21","v":0},null,"Estos datos se enlazan con las hojas de calendarización.",null,null,null,null,null,null,null,null,null,null,null,null,null,null,null,null,{"$f":"'C3_Form Ini'!B23","v":"2017-04-01"},null,null,{"$f":"'C3_Form Ini'!AP23","v":20},null,{"$f":"'C3_Form Ini'!AQ23","v":0},null,{"$f":"'C3_Form Ini'!AR23","v":0},null,null,null,null,null,null,null,null,null,null,null,null,null,null,null,null,null,null,{"$f":"'C3_Form Ini'!B25","v":"2017-05-01"},null,null,{"$f":"'C3_Form Ini'!AP25","v":22},null,{"$f":"'C3_Form Ini'!AQ25","v":0},null,{"$f":"'C3_Form Ini'!AR25","v":0},null,null,null,null,null,null,null,null,null,null,null,null,null,null,null,null,null,null,{"$f":"'C3_Form Ini'!B27","v":"2017-06-01"},null,null,{"$f":"'C3_Form Ini'!AP27","v":20},null,{"$f":"'C3_Form Ini'!AQ27","v":0},null,{"$f":"'C3_Form Ini'!AR27","v":0},null,null,null,null,null,null,null,null,null,null,null,null,null,null,null,null,null,null,{"$f":"'C3_Form Ini'!B29","v":"2017-07-01"},null,null,{"$f":"'C3_Form Ini'!AP29","v":15},null,{"$f":"'C3_Form Ini'!AQ29","v":0},null,{"$f":"'C3_Form Ini'!AR29","v":0},null,null,null,null,null,null,null,null,null,null,null,null,null,null,null,null,null,null,{"$f":"'C3_Form Ini'!B31","v":"2017-08-01"},null,null,{"$f":"'C3_Form Ini'!AP31","v":18},null,{"$f":"'C3_Form Ini'!AQ31","v":0},null,{"$f":"'C3_Form Ini'!AR31","v":0},null,null,null,null,null,null,null,null,null,null,null,null,null,null,null,null,null,null,{"$f":"'C3_Form Ini'!B33","v":"2017-09-01"},null,null,{"$f":"'C3_Form Ini'!AP33","v":21},null,{"$f":"'C3_Form Ini'!AQ33","v":0},null,{"$f":"'C3_Form Ini'!AR33","v":0},null,null,null,null,null,null,null,null,null,null,null,null,null,null,null,null,null,null,{"$f":"'C3_Form Ini'!B35","v":"2017-10-01"},null,null,{"$f":"'C3_Form Ini'!AP35","v":22},null,{"$f":"'C3_Form Ini'!AQ35","v":0},null,{"$f":"'C3_Form Ini'!AR35","v":0},null,null,null,null,null,null,null,null,null,null,null,null,null,null,null,null,null,null,{"$f":"'C3_Form Ini'!B37","v":"2017-11-01"},null,null,{"$f":"'C3_Form Ini'!AP37","v":21},null,{"$f":"'C3_Form Ini'!AQ37","v":0},null,{"$f":"'C3_Form Ini'!AR37","v":0},null,null,null,null,null,null,null,null,null,null,null,null,null,null,null,null,null,null,{"$f":"'C3_Form Ini'!B39","v":"2017-12-01"},null,null,{"$f":"'C3_Form Ini'!AP39","v":10},null,{"$f":"'C3_Form Ini'!AQ39","v":0},null,{"$f":"'C3_Form Ini'!AR39","v":0},null,null,null,null,null,null,null,null,null,null,null,null,null,null,null,null,null,null,{"$f":"'C3_Form Ini'!B41","v":"2018-01-01"},null,null,{"$f":"'C3_Form Ini'!AP41","v":0},null,{"$f":"'C3_Form Ini'!AQ41","v":0},null,{"$f":"'C3_Form Ini'!AR41","v":0}]
[]
[null,"INFORME DE LAS HORAS EFECTIVAS DE TRABAJO PEDAGOGICO EN LAS INSTITUCIONES EDUCATIVAS PUBLICAS *"]
[null,"AVANCE ANUAL DE JORN. LAB. EFECTIVA",null,null,null,null,{"$f":"G9","v":"2017-03-01"},null,null,null,null,null,null,null,null,null,null,null,null,null,null,null,null,null,null,null,null,null,null,null,null,null,{"$f":"AG9","v":"2017-04-01"},null,null,null,null,null,null,null,null,null,null,null,null,null,null,null,null,null,null,null,null,null,null,null,null,null,{"$f":"BG9","v":"2017-05-01"},null,null,null,null,null,null,null,null,null,null,null,null,null,null,null,null,null,null,null,null,null,null,null,null,null,{"$f":"CG9","v":"2017-06-01"},null,null,null,null,null,null,null,null,null,null,null,null,null,null,null,null,null,null,null,null,null,null,null,null,null,{"$f":"DG9","v":"2017-07-01"},null,null,null,null,null,null,null,null,null,null,null,null,null,null,null,null,null,null,null,null,null,null,null,null,null,{"$f":"EG9","v":"2017-08-01"},null,null,null,null,null,null,null,null,null,null,null,null,null,null,null,null,null,null,null,null,null,null,null,null,null,{"$f":"FG9","v":"2017-09-01"},null,null,null,null,null,null,null,null,null,null,null,null,null,null,null,null,null,null,null,null,null,null,null,null,null,{"$f":"GG9","v":"2017-10-01"},null,null,null,null,null,null,null,null,null,null,null,null,null,null,null,null,null,null,null,null,null,null,null,null,null,{"$f":"HG9","v":"2017-11-01"},null,null,null,null,null,null,null,null,null,null,null,null,null,null,null,null,null,null,null,null,null,null,null,null,null,{"$f":"IG9","v":"2017-12-01"},null,null,null,null,null,null,null,null,null,null,null,null,null,null,null,null,null,null,null,null,null,null,null,null,null,{"$f":"JG9","v":"2018-01-01"}]
[null,"NIVEL",null,"JORNADA EFECTIVA",null,null,"JORNADA EFECTIVA",null,null,null,null,null,null,null,null,null,null,null,null,null,null,null,null,null,null,null,null,null,null,null,null,null,"JORNADA EFECTIVA",null,null,null,null,null,null,null,null,null,null,null,null,null,null,null,null,null,null,null,null,null,null,null,null,null,"JORNADA EFECTIVA",null,null,null,null,null,null,null,null,null,null,null,null,null,null,null,null,null,null,null,null,null,null,null,null,null,"JORNADA EFECTIVA",null,null,null,null,null,null,null,null,null,null,null,null,null,null,null,null,null,null,null,null,null,null,null,null,null,"JORNADA EFECTIVA",null,null,null,null,null,null,null,null,null,null,null,null,null,null,null,null,null,null,null,null,null,null,null,null,null,"JORNADA EFECTIVA",null,null,null,null,null,null,null,null,null,null,null,null,null,null,null,null,null,null,null,null,null,null,null,null,null,"JORNADA EFECTIVA",null,null,null,null,null,null,null,null,null,null,null,null,null,null,null,null,null,null,null,null,null,null,null,null,null,"JORNADA EFECTIVA",null,null,null,null,null,null,null,null,null,null,null,null,null,null,null,null,null,null,null,null,null,null,null,null,null,"JORNADA EFECTIVA",null,null,null,null,null,null,null,null,null,null,null,null,null,null,null,null,null,null,null,null,null,null,null,null,null,"JORNADA EFECTIVA",null,null,null,null,null,null,null,null,null,null,null,null,null,null,null,null,null,null,null,null,null,null,null,null,null,"JORNADA EFECTIVA"]
[null,null,null,"PROG.","CUMP.","%","PROG.","CUMPL.",null,"% MES",null,"% AÑO",null,null,null,null,null,null,null,null,null,null,null,null,null,null,null,null,null,null,null,null,"PROG.","CUMPL.",null,"% MES",null,"% AÑO",null,null,null,null,null,null,null,null,null,null,null,null,null,null,null,null,null,null,null,null,"PROG.","CUMPL.",null,"% MES",null,"% AÑO",null,null,null,null,null,null,null,null,null,null,null,null,null,null,null,null,null,null,null,null,"PROG.","CUMPL.",null,"% MES",null,"% AÑO",null,null,null,null,null,null,null,null,null,null,null,null,null,null,null,null,null,null,null,null,"PROG.","CUMPL.",null,"% MES",null,"% AÑO",null,null,null,null,null,null,null,null,null,null,null,null,null,null,null,null,null,null,null,null,"PROG.","CUMPL.",null,"% MES",null,"% AÑO",null,null,null,null,null,null,null,null,null,null,null,null,null,null,null,null,null,null,null,null,"PROG.","CUMPL.",null,"% MES",null,"% AÑO",null,null,null,null,null,null,null,null,null,null,null,null,null,null,null,null,null,null,null,null,"PROG.","CUMPL.",null,"% MES",null,"% AÑO",null,null,null,null,null,null,null,null,null,null,null,null,null,null,null,null,null,null,null,null,"PROG.","CUMPL.",null,"% MES",null,"% AÑO",null,null,null,null,null,null,null,null,null,null,null,null,null,null,null,null,null,null,null,null,"PROG.","CUMPL.",null,"% MES",null,"% AÑO",null,null,null,null,null,null,null,null,null,null,null,null,null,null,null,null,null,null,null,null,"PROG.","CUMPL.",null,"% MES",null,"% AÑO"]
[null,"INICIAL",null,{"$f":"F9","v":0},{"$f":"H15+AH15+BH15+CH15+DH15+EH15+FH15+GH15+HH15+IH15+JH15","v":0},{"$f":"IF(D15=0,\"100%\",E15/D15)","v":"100%"},{"$f":"IF(N9=\"\",\"\",N9)","v":0},{"$f":"SUM(AE21:AE3154)","v":0},null,{"$f":"IF(G15=0,\"100%\",H15/G15)","v":"100%"},null,{"$f":"IF(D15=0,\"100%\",H15/D15)","v":"100%"},null,null,null,null,null,null,null,null,null,null,null,null,null,null,".",null,null,null,null,null,{"$f":"IF(AN9=\"\",\"\",AN9)","v":0},{"$f":"SUM(BE21:BE3154)","v":0},null,{"$f":"IF(AG15=0,\"100%\",AH15/AG15)","v":"100%"},null,{"$f":"IF(D15=0,\"100%\",(AH15+H15)/D15)","v":"100%"},null,null,null,null,null,null,null,null,null,null,null,null,null,null,null,null,null,null,null,null,{"$f":"IF(BN9=\"\",\"\",BN9)","v":0},{"$f":"SUM(CE21:CE3154)","v":0},null,{"$f":"IF(BG15=0,\"100%\",BH15/BG15)","v":"100%"},null,{"$f":"IF(D15=0,\"100%\",(BH15+AH15+H15)/D15)","v":"100%"},null,null,null,null,null,null,null,null,null,null,null,null,null,null,null,null,null,null,null,null,{"$f":"IF(CN9=\"\",\"\",CN9)","v":0},{"$f":"SUM(DE21:DE3154)","v":0},null,{"$f":"IF(CG15=0,\"100%\",CH15/CG15)","v":"100%"},null,{"$f":"IF(D15=0,\"100%\",(CH15+BH15+AH15+H15)/D15)","v":"100%"},null,null,null,null,null,null,null,null,null,null,null,null,null,null,null,null,null,null,null,null,{"$f":"IF(DN9=\"\",\"\",DN9)","v":0},{"$f":"SUM(EE21:EE3154)","v":0},null,{"$f":"IF(DG15=0,\"100%\",DH15/DG15)","v":"100%"},null,{"$f":"IF(D15=0,\"100%\",(DH15+CH15+BH15+AH15+H15)/D15)","v":"100%"},null,null,null,null,null,null,null,null,null,null,null,null,null,null,null,null,null,null,null,null,{"$f":"IF(EN9=\"\",\"\",EN9)","v":0},{"$f":"SUM(FE21:FE3154)","v":0},null,{"$f":"IF(EG15=0,\"100%\",EH15/EG15)","v":"100%"},null,{"$f":"IF(D15=0,\"100%\",(EH15+DH15+CH15+BH15+AH15+H15)/D15)","v":"100%"},null,null,null,null,null,null,null,null,null,null,null,null,null,null,null,null,null,null,null,null,{"$f":"IF(FN9=\"\",\"\",FN9)","v":0},{"$f":"SUM(GE21:GE3154)","v":0},null,{"$f":"IF(FG15=0,\"100%\",FH15/FG15)","v":"100%"},null,{"$f":"IF(D15=0,\"100%\",(FH15+EH15+DH15+CH15+BH15+AH15+H15)/D15)","v":"100%"},null,null,null,null,null,null,null,null,null,null,null,null,null,null,null,null,null,null,null,null,{"$f":"IF(GN9=\"\",\"\",GN9)","v":0},{"$f":"SUM(HE21:HE3154)","v":0},null,{"$f":"IF(GG15=0,\"100%\",GH15/GG15)","v":"100%"},null,{"$f":"IF(D15=0,\"100%\",(GH15+FH15+EH15+DH15+CH15+BH15+AH15+H15)/D15)","v":"100%"},null,null,null,null,null,null,null,null,null,null,null,null,null,null,null,null,null,null,null,null,{"$f":"IF(HN9=\"\",\"\",HN9)","v":0},{"$f":"SUM(IE21:IE3154)","v":0},null,{"$f":"IF(HG15=0,\"100%\",HH15/HG15)","v":"100%"},null,{"$f":"IF(D15=0,\"100%\",(HH15+GH15+FH15+EH15+DH15+CH15+BH15+AH15+H15)/D15)","v":"100%"},null,null,null,null,null,null,null,null,null,null,null,null,null,null,null,null,null,null,null,null,{"$f":"IF(IN9=\"\",\"\",IN9)","v":0},{"$f":"SUM(JE21:JE3154)","v":0},null,{"$f":"IF(IG15=0,\"100%\",IH15/IG15)","v":"100%"},null,{"$f":"IF(D15=0,\"100%\",(JG15+IH15+HH15+GH15+FH15+EH15+DH15+CH15+BH15+AH15+H15)/D15)","v":"100%"},null,null,null,null,null,null,null,null,null,null,null,null,null,null,null,null,null,null,null,null,{"$f":"IF(JN9=\"\",\"\",JN9)","v":0},{"$f":"SUM(KE21:KE3154)","v":0},null,{"$f":"IF(JG15=0,\"100%\",JH15/JG15)","v":"100%"},null,{"$f":"IF(D15=0,\"100%\",(JH15+IH15+HH15+GH15+FH15+EH15+DH15+CH15+BH15+AH15+H15)/D15)","v":"100%"}]
[]
[null,"* FORMATO 02, PROPUESTO EN \"LINEAMIENTOS PARA EL SEGUIMIENTO Y CONTROL DE LA LABOR EFECTIVA DE TRABAJO DOCENTE EN LAS INSTITUCIONES EDUCATIVAS PÚBLICAS\"  DS Nº 008-2006-ED"]
[null,"N°","APELLIDOS NOMBRES","JORN. EFECT. DE TRABAJO PEDAG.","EDAD","SECCIÓN","Horas programadas",{"$f":"CONCATENATE(\"MES: \",TEXT(G12,\"mmmm\"))","v":"MES: Marzo"},null,null,null,null,null,null,null,null,null,null,null,null,null,null,null,null,null,null,null,null,null,null,"TOTAL DE HORAS EFECTIVAS MENSUAL",null,"Horas programadas",{"$f":"CONCATENATE(\"MES: \",TEXT(AG12,\"mmmm\"))","v":"MES: Abril"},null,null,null,null,null,null,null,null,null,null,null,null,null,null,null,null,null,null,null,null,null,null,"TOTAL DE HORAS EFECTIVAS MENSUAL",null,"Horas programadas",{"$f":"CONCATENATE(\"MES: \",TEXT(BG12,\"mmmm\"))","v":"MES: Mayo"},null,null,null,null,null,null,null,null,null,null,null,null,null,null,null,null,null,null,null,null,null,null,"TOTAL DE HORAS EFECTIVAS MENSUAL",null,"Horas programadas",{"$f":"CONCATENATE(\"MES: \",TEXT(CG12,\"mmmm\"))","v":"MES: Junio"},null,null,null,null,null,null,null,null,null,null,null,null,null,null,null,null,null,null,null,null,null,null,"TOTAL DE HORAS EFECTIVAS MENSUAL",null,"Horas programadas",{"$f":"CONCATENATE(\"MES: \",TEXT(DG12,\"mmmm\"))","v":"MES: Julio"},null,null,null,null,null,null,null,null,null,null,null,null,null,null,null,null,null,null,null,null,null,null,"TOTAL DE HORAS EFECTIVAS MENSUAL",null,"Horas programadas",{"$f":"CONCATENATE(\"MES: \",TEXT(EG12,\"mmmm\"))","v":"MES: Agosto"},null,null,null,null,null,null,null,null,null,null,null,null,null,null,null,null,null,null,null,null,null,null,"TOTAL DE HORAS EFECTIVAS MENSUAL",null,"Horas programadas",{"$f":"CONCATENATE(\"MES: \",TEXT(FG12,\"mmmm\"))","v":"MES: Setiembre"},null,null,null,null,null,null,null,null,null,null,null,null,null,null,null,null,null,null,null,null,null,null,"TOTAL DE HORAS EFECTIVAS MENSUAL",null,"Horas programadas",{"$f":"CONCATENATE(\"MES: \",TEXT(GG12,\"mmmm\"))","v":"MES: Octubre"},null,null,null,null,null,null,null,null,null,null,null,null,null,null,null,null,null,null,null,null,null,null,"TOTAL DE HORAS EFECTIVAS MENSUAL",null,"Horas programadas",{"$f":"CONCATENATE(\"MES: \",TEXT(HG12,\"mmmm\"))","v":"MES: Noviembre"},null,null,null,null,null,null,null,null,null,null,null,null,null,null,null,null,null,null,null,null,null,null,"TOTAL DE HORAS EFECTIVAS MENSUAL",null,"Horas programadas",{"$f":"CONCATENATE(\"MES: \",TEXT(IG12,\"mmmm\"))","v":"MES: Diciembre"},null,null,null,null,null,null,null,null,null,null,null,null,null,null,null,null,null,null,null,null,null,null,"TOTAL DE HORAS EFECTIVAS MENSUAL",null,"Horas programadas",{"$f":"CONCATENATE(\"MES: \",TEXT(JG12,\"mmmm\"))","v":"MES: Enero"},null,null,null,null,null,null,null,null,null,null,null,null,null,null,null,null,null,null,null,null,null,null,"TOTAL DE HORAS EFECTIVAS MENSUAL"]
[null,null,null,null,null,null,null,"DÍAS EFECTIVOS DE TRABAJO ESCOLAR",null,null,null,null,null,null,null,null,null,null,null,null,null,null,null,null,null,null,null,null,null,null,null,null,null,"DÍAS EFECTIVOS DE TRABAJO ESCOLAR",null,null,null,null,null,null,null,null,null,null,null,null,null,null,null,null,null,null,null,null,null,null,null,null,null,"DÍAS EFECTIVOS DE TRABAJO ESCOLAR",null,null,null,null,null,null,null,null,null,null,null,null,null,null,null,null,null,null,null,null,null,null,null,null,null,"DÍAS EFECTIVOS DE TRABAJO ESCOLAR",null,null,null,null,null,null,null,null,null,null,null,null,null,null,null,null,null,null,null,null,null,null,null,null,null,"DÍAS EFECTIVOS DE TRABAJO ESCOLAR",null,null,null,null,null,null,null,null,null,null,null,null,null,null,null,null,null,null,null,null,null,null,null,null,null,"DÍAS EFECTIVOS DE TRABAJO ESCOLAR",null,null,null,null,null,null,null,null,null,null,null,null,null,null,null,null,null,null,null,null,null,null,null,null,null,"DÍAS EFECTIVOS DE TRABAJO ESCOLAR",null,null,null,null,null,null,null,null,null,null,null,null,null,null,null,null,null,null,null,null,null,null,null,null,null,"DÍAS EFECTIVOS DE TRABAJO ESCOLAR",null,null,null,null,null,null,null,null,null,null,null,null,null,null,null,null,null,null,null,null,null,null,null,null,null,"DÍAS EFECTIVOS DE TRABAJO ESCOLAR",null,null,null,null,null,null,null,null,null,null,null,null,null,null,null,null,null,null,null,null,null,null,null,null,null,"DÍAS EFECTIVOS DE TRABAJO ESCOLAR",null,null,null,null,null,null,null,null,null,null,null,null,null,null,null,null,null,null,null,null,null,null,null,null,null,"DÍAS EFECTIVOS DE TRABAJO ESCOLAR"]
[null,null,null,null,null,null,null,{"$f":"IF(G12<>\"\",1,\"\")","v":1},{"$f":"IF(H20<$J$9,H20+1,\"\")","v":2},{"$f":"IF(I20<$J$9,I20+1,\"\")","v":3},4,5,6,7,8,9,10,11,12,13,14,15,"","","","","","","","",null,null,null,{"$f":"IF(AG12<>\"\",1,\"\")","v":1},{"$f":"IF(AH20<$AJ$9,AH20+1,\"\")","v":2},{"$f":"IF(AI20<$AJ$9,AI20+1,\"\")","v":3},4,5,6,7,8,9,10,11,12,13,14,15,16,17,18,19,20,"","","",null,null,null,{"$f":"IF(BG12<>\"\",1,\"\")","v":1},{"$f":"IF(BH20<$BJ$9,BH20+1,\"\")","v":2},{"$f":"IF(BI20<$BJ$9,BI20+1,\"\")","v":3},4,5,6,7,8,9,10,11,12,13,14,15,16,17,18,19,20,21,22,"",null,null,null,{"$f":"IF(CG12<>\"\",1,\"\")","v":1},{"$f":"IF(CH20<$CJ$9,CH20+1,\"\")","v":2},{"$f":"IF(CI20<$CJ$9,CI20+1,\"\")","v":3},4,5,6,7,8,9,10,11,12,13,14,15,16,17,18,19,20,"","","",null,null,null,{"$f":"IF(DG12<>\"\",1,\"\")","v":1},{"$f":"IF(DH20<$DJ$9,DH20+1,\"\")","v":2},{"$f":"IF(DI20<$DJ$9,DI20+1,\"\")","v":3},4,5,6,7,8,9,10,11,12,13,14,15,"","","","","","","","",null,null,null,{"$f":"IF(EG12<>\"\",1,\"\")","v":1},{"$f":"IF(EH20<$EJ$9,EH20+1,\"\")","v":2},{"$f":"IF(EI20<$EJ$9,EI20+1,\"\")","v":3},4,5,6,7,8,9,10,11,12,13,14,15,16,17,18,"","","","","",null,null,null,{"$f":"IF(FG12<>\"\",1,\"\")","v":1},{"$f":"IF(FH20<$FJ$9,FH20+1,\"\")","v":2},{"$f":"IF(FI20<$FJ$9,FI20+1,\"\")","v":3},4,5,6,7,8,9,10,11,12,13,14,15,16,17,18,19,20,21,"","",null,null,null,{"$f":"IF(GG12<>\"\",1,\"\")","v":1},{"$f":"IF(GH20<$GJ$9,GH20+1,\"\")","v":2},{"$f":"IF(GI20<$GJ$9,GI20+1,\"\")","v":3},4,5,6,7,8,9,10,11,12,13,14,15,16,17,18,19,20,21,22,"",null,null,null,{"$f":"IF(HG12<>\"\",1,\"\")","v":1},{"$f":"IF(HH20<$HJ$9,HH20+1,\"\")","v":2},{"$f":"IF(HI20<$HJ$9,HI20+1,\"\")","v":3},4,5,6,7,8,9,10,11,12,13,14,15,16,17,18,19,20,21,"","",null,null,null,{"$f":"IF(IG12<>\"\",1,\"\")","v":1},{"$f":"IF(IH20<$IJ$9,IH20+1,\"\")","v":2},{"$f":"IF(II20<$IJ$9,II20+1,\"\")","v":3},4,5,6,7,8,9,10,"","","","","","","","","","","","","",null,null,null,{"$f":"IF(JG12<>\"\",1,\"\")","v":1},{"$f":"IF(JH20<$JJ$9,JH20+1,\"\")","v":""},{"$f":"IF(JI20<$JJ$9,JI20+1,\"\")","v":""},"","","","","","","","","","","","","","","","","","","",""]
[null,1,null,null,null,null,{"$f":"IF($C21=\"\",\"\",L$9)","v":""},null,null,null,null,null,null,null,null,null,null,null,null,null,null,null,null,null,null,null,null,null,null,null,{"$f":"IF($C21=\"\",\"\",SUM(H21:AD21))","v":""},null,{"$f":"IF($C21=\"\",\"\",AL$9)","v":""},null,null,null,null,null,null,null,null,null,null,null,null,null,null,null,null,null,null,null,null,null,null,null,{"$f":"IF($C21=\"\",\"\",SUM(AH21:BD21))","v":""},null,{"$f":"IF($C21=\"\",\"\",BL$9)","v":""},null,null,null,null,null,null,null,null,null,null,null,null,null,null,null,null,null,null,null,null,null,null,null,{"$f":"IF($C21=\"\",\"\",SUM(BH21:CD21))","v":""},null,{"$f":"IF($C21=\"\",\"\",CL$9)","v":""},null,null,null,null,null,null,null,null,null,null,null,null,null,null,null,null,null,null,null,null,null,null,null,{"$f":"IF($C21=\"\",\"\",SUM(CH21:DD21))","v":""},null,{"$f":"IF($C21=\"\",\"\",DL$9)","v":""},null,null,null,null,null,null,null,null,null,null,null,null,null,null,null,null,null,null,null,null,null,null,null,{"$f":"IF($C21=\"\",\"\",SUM(DH21:ED21))","v":""},null,{"$f":"IF($C21=\"\",\"\",EL$9)","v":""},null,null,null,null,null,null,null,null,null,null,null,null,null,null,null,null,null,null,null,null,null,null,null,{"$f":"IF($C21=\"\",\"\",SUM(EH21:FD21))","v":""},null,{"$f":"IF($C21=\"\",\"\",FL$9)","v":""},null,null,null,null,null,null,null,null,null,null,null,null,null,null,null,null,null,null,null,null,null,null,null,{"$f":"IF($C21=\"\",\"\",SUM(FH21:GD21))","v":""},null,{"$f":"IF($C21=\"\",\"\",GL$9)","v":""},null,null,null,null,null,null,null,null,null,null,null,null,null,null,null,null,null,null,null,null,null,null,null,{"$f":"IF($C21=\"\",\"\",SUM(GH21:HD21))","v":""},null,{"$f":"IF($C21=\"\",\"\",HL$9)","v":""},null,null,null,null,null,null,null,null,null,null,null,null,null,null,null,null,null,null,null,null,null,null,null,{"$f":"IF($C21=\"\",\"\",SUM(HH21:ID21))","v":""},null,{"$f":"IF($C21=\"\",\"\",IL$9)","v":""},null,null,null,null,null,null,null,null,null,null,null,null,null,null,null,null,null,null,null,null,null,null,null,{"$f":"IF($C21=\"\",\"\",SUM(IH21:JD21))","v":""},null,{"$f":"IF($C21=\"\",\"\",JL$9)","v":""},null,null,null,null,null,null,null,null,null,null,null,null,null,null,null,null,null,null,null,null,null,null,null,{"$f":"IF($C21=\"\",\"\",SUM(JH21:KD21))","v":""}]
[null,2,null,null,null,null,{"$f":"IF($C22=\"\",\"\",L$9)","v":""},null,null,null,null,null,null,null,null,null,null,null,null,null,null,null,null,null,null,null,null,null,null,null,{"$f":"IF($C22=\"\",\"\",SUM(H22:AD22))","v":""},null,{"$f":"IF($C22=\"\",\"\",AL$9)","v":""},null,null,null,null,null,null,null,null,null,null,null,null,null,null,null,null,null,null,null,null,null,null,null,{"$f":"IF($C22=\"\",\"\",SUM(AH22:BD22))","v":""},null,{"$f":"IF($C22=\"\",\"\",BL$9)","v":""},null,null,null,null,null,null,null,null,null,null,null,null,null,null,null,null,null,null,null,null,null,null,null,{"$f":"IF($C22=\"\",\"\",SUM(BH22:CD22))","v":""},null,{"$f":"IF($C22=\"\",\"\",CL$9)","v":""},null,null,null,null,null,null,null,null,null,null,null,null,null,null,null,null,null,null,null,null,null,null,null,{"$f":"IF($C22=\"\",\"\",SUM(CH22:DD22))","v":""},null,{"$f":"IF($C22=\"\",\"\",DL$9)","v":""},null,null,null,null,null,null,null,null,null,null,null,null,null,null,null,null,null,null,null,null,null,null,null,{"$f":"IF($C22=\"\",\"\",SUM(DH22:ED22))","v":""},null,{"$f":"IF($C22=\"\",\"\",EL$9)","v":""},null,null,null,null,null,null,null,null,null,null,null,null,null,null,null,null,null,null,null,null,null,null,null,{"$f":"IF($C22=\"\",\"\",SUM(EH22:FD22))","v":""},null,{"$f":"IF($C22=\"\",\"\",FL$9)","v":""},null,null,null,null,null,null,null,null,null,null,null,null,null,null,null,null,null,null,null,null,null,null,null,{"$f":"IF($C22=\"\",\"\",SUM(FH22:GD22))","v":""},null,{"$f":"IF($C22=\"\",\"\",GL$9)","v":""},null,null,null,null,null,null,null,null,null,null,null,null,null,null,null,null,null,null,null,null,null,null,null,{"$f":"IF($C22=\"\",\"\",SUM(GH22:HD22))","v":""},null,{"$f":"IF($C22=\"\",\"\",HL$9)","v":""},null,null,null,null,null,null,null,null,null,null,null,null,null,null,null,null,null,null,null,null,null,null,null,{"$f":"IF($C22=\"\",\"\",SUM(HH22:ID22))","v":""},null,{"$f":"IF($C22=\"\",\"\",IL$9)","v":""},null,null,null,null,null,null,null,null,null,null,null,null,null,null,null,null,null,null,null,null,null,null,null,{"$f":"IF($C22=\"\",\"\",SUM(IH22:JD22))","v":""},null,{"$f":"IF($C22=\"\",\"\",JL$9)","v":""},null,null,null,null,null,null,null,null,null,null,null,null,null,null,null,null,null,null,null,null,null,null,null,{"$f":"IF($C22=\"\",\"\",SUM(JH22:KD22))","v":""}]
[null,3,null,null,null,null,"",null,null,null,null,null,null,null,null,null,null,null,null,null,null,null,null,null,null,null,null,null,null,null,"",null,"",null,null,null,null,null,null,null,null,null,null,null,null,null,null,null,null,null,null,null,null,null,null,null,"",null,"",null,null,null,null,null,null,null,null,null,null,null,null,null,null,null,null,null,null,null,null,null,null,null,"",null,"",null,null,null,null,null,null,null,null,null,null,null,null,null,null,null,null,null,null,null,null,null,null,null,"",null,"",null,null,null,null,null,null,null,null,null,null,null,null,null,null,null,null,null,null,null,null,null,null,null,"",null,"",null,null,null,null,null,null,null,null,null,null,null,null,null,null,null,null,null,null,null,null,null,null,null,"",null,"",null,null,null,null,null,null,null,null,null,null,null,null,null,null,null,null,null,null,null,null,null,null,null,"",null,"",null,null,null,null,null,null,null,null,null,null,null,null,null,null,null,null,null,null,null,null,null,null,null,"",null,"",null,null,null,null,null,null,null,null,null,null,null,null,null,null,null,null,null,null,null,null,null,null,null,"",null,"",null,null,null,null,null,null,null,null,null,null,null,null,null,null,null,null,null,null,null,null,null,null,null,"",null,"",null,null,null,null,null,null,null,null,null,null,null,null,null,null,null,null,null,null,null,null,null,null,null,""]
[null,4,null,null,null,null,"",null,null,null,null,null,null,null,null,null,null,null,null,null,null,null,null,null,null,null,null,null,null,null,"",null,"",null,null,null,null,null,null,null,null,null,null,null,null,null,null,null,null,null,null,null,null,null,null,null,"",null,"",null,null,null,null,null,null,null,null,null,null,null,null,null,null,null,null,null,null,null,null,null,null,null,"",null,"",null,null,null,null,null,null,null,null,null,null,null,null,null,null,null,null,null,null,null,null,null,null,null,"",null,"",null,null,null,null,null,null,null,null,null,null,null,null,null,null,null,null,null,null,null,null,null,null,null,"",null,"",null,null,null,null,null,null,null,null,null,null,null,null,null,null,null,null,null,null,null,null,null,null,null,"",null,"",null,null,null,null,null,null,null,null,null,null,null,null,null,null,null,null,null,null,null,null,null,null,null,"",null,"",null,null,null,null,null,null,null,null,null,null,null,null,null,null,null,null,null,null,null,null,null,null,null,"",null,"",null,null,null,null,null,null,null,null,null,null,null,null,null,null,null,null,null,null,null,null,null,null,null,"",null,"",null,null,null,null,null,null,null,null,null,null,null,null,null,null,null,null,null,null,null,null,null,null,null,"",null,"",null,null,null,null,null,null,null,null,null,null,null,null,null,null,null,null,null,null,null,null,null,null,null,""]
[null,5,null,null,null,null,"",null,null,null,null,null,null,null,null,null,null,null,null,null,null,null,null,null,null,null,null,null,null,null,"",null,"",null,null,null,null,null,null,null,null,null,null,null,null,null,null,null,null,null,null,null,null,null,null,null,"",null,"",null,null,null,null,null,null,null,null,null,null,null,null,null,null,null,null,null,null,null,null,null,null,null,"",null,"",null,null,null,null,null,null,null,null,null,null,null,null,null,null,null,null,null,null,null,null,null,null,null,"",null,"",null,null,null,null,null,null,null,null,null,null,null,null,null,null,null,null,null,null,null,null,null,null,null,"",null,"",null,null,null,null,null,null,null,null,null,null,null,null,null,null,null,null,null,null,null,null,null,null,null,"",null,"",null,null,null,null,null,null,null,null,null,null,null,null,null,null,null,null,null,null,null,null,null,null,null,"",null,"",null,null,null,null,null,null,null,null,null,null,null,null,null,null,null,null,null,null,null,null,null,null,null,"",null,"",null,null,null,null,null,null,null,null,null,null,null,null,null,null,null,null,null,null,null,null,null,null,null,"",null,"",null,null,null,null,null,null,null,null,null,null,null,null,null,null,null,null,null,null,null,null,null,null,null,"",null,"",null,null,null,null,null,null,null,null,null,null,null,null,null,null,null,null,null,null,null,null,null,null,null,""]
[null,6,null,null,null,null,"",null,null,null,null,null,null,null,null,null,null,null,null,null,null,null,null,null,null,null,null,null,null,null,"",null,"",null,null,null,null,null,null,null,null,null,null,null,null,null,null,null,null,null,null,null,null,null,null,null,"",null,"",null,null,null,null,null,null,null,null,null,null,null,null,null,null,null,null,null,null,null,null,null,null,null,"",null,"",null,null,null,null,null,null,null,null,null,null,null,null,null,null,null,null,null,null,null,null,null,null,null,"",null,"",null,null,null,null,null,null,null,null,null,null,null,null,null,null,null,null,null,null,null,null,null,null,null,"",null,"",null,null,null,null,null,null,null,null,null,null,null,null,null,null,null,null,null,null,null,null,null,null,null,"",null,"",null,null,null,null,null,null,null,null,null,null,null,null,null,null,null,null,null,null,null,null,null,null,null,"",null,"",null,null,null,null,null,null,null,null,null,null,null,null,null,null,null,null,null,null,null,null,null,null,null,"",null,"",null,null,null,null,null,null,null,null,null,null,null,null,null,null,null,null,null,null,null,null,null,null,null,"",null,"",null,null,null,null,null,null,null,null,null,null,null,null,null,null,null,null,null,null,null,null,null,null,null,"",null,"",null,null,null,null,null,null,null,null,null,null,null,null,null,null,null,null,null,null,null,null,null,null,null,""]
[null,7,null,null,null,null,"",null,null,null,null,null,null,null,null,null,null,null,null,null,null,null,null,null,null,null,null,null,null,null,"",null,"",null,null,null,null,null,null,null,null,null,null,null,null,null,null,null,null,null,null,null,null,null,null,null,"",null,"",null,null,null,null,null,null,null,null,null,null,null,null,null,null,null,null,null,null,null,null,null,null,null,"",null,"",null,null,null,null,null,null,null,null,null,null,null,null,null,null,null,null,null,null,null,null,null,null,null,"",null,"",null,null,null,null,null,null,null,null,null,null,null,null,null,null,null,null,null,null,null,null,null,null,null,"",null,"",null,null,null,null,null,null,null,null,null,null,null,null,null,null,null,null,null,null,null,null,null,null,null,"",null,"",null,null,null,null,null,null,null,null,null,null,null,null,null,null,null,null,null,null,null,null,null,null,null,"",null,"",null,null,null,null,null,null,null,null,null,null,null,null,null,null,null,null,null,null,null,null,null,null,null,"",null,"",null,null,null,null,null,null,null,null,null,null,null,null,null,null,null,null,null,null,null,null,null,null,null,"",null,"",null,null,null,null,null,null,null,null,null,null,null,null,null,null,null,null,null,null,null,null,null,null,null,"",null,"",null,null,null,null,null,null,null,null,null,null,null,null,null,null,null,null,null,null,null,null,null,null,null,""]
[null,8,null,null,null,null,"",null,null,null,null,null,null,null,null,null,null,null,null,null,null,null,null,null,null,null,null,null,null,null,"",null,"",null,null,null,null,null,null,null,null,null,null,null,null,null,null,null,null,null,null,null,null,null,null,null,"",null,"",null,null,null,null,null,null,null,null,null,null,null,null,null,null,null,null,null,null,null,null,null,null,null,"",null,"",null,null,null,null,null,null,null,null,null,null,null,null,null,null,null,null,null,null,null,null,null,null,null,"",null,"",null,null,null,null,null,null,null,null,null,null,null,null,null,null,null,null,null,null,null,null,null,null,null,"",null,"",null,null,null,null,null,null,null,null,null,null,null,null,null,null,null,null,null,null,null,null,null,null,null,"",null,"",null,null,null,null,null,null,null,null,null,null,null,null,null,null,null,null,null,null,null,null,null,null,null,"",null,"",null,null,null,null,null,null,null,null,null,null,null,null,null,null,null,null,null,null,null,null,null,null,null,"",null,"",null,null,null,null,null,null,null,null,null,null,null,null,null,null,null,null,null,null,null,null,null,null,null,"",null,"",null,null,null,null,null,null,null,null,null,null,null,null,null,null,null,null,null,null,null,null,null,null,null,"",null,"",null,null,null,null,null,null,null,null,null,null,null,null,null,null,null,null,null,null,null,null,null,null,null,""]
[null,9,null,null,null,null,"",null,null,null,null,null,null,null,null,null,null,null,null,null,null,null,null,null,null,null,null,null,null,null,"",null,"",null,null,null,null,null,null,null,null,null,null,null,null,null,null,null,null,null,null,null,null,null,null,null,"",null,"",null,null,null,null,null,null,null,null,null,null,null,null,null,null,null,null,null,null,null,null,null,null,null,"",null,"",null,null,null,null,null,null,null,null,null,null,null,null,null,null,null,null,null,null,null,null,null,null,null,"",null,"",null,null,null,null,null,null,null,null,null,null,null,null,null,null,null,null,null,null,null,null,null,null,null,"",null,"",null,null,null,null,null,null,null,null,null,null,null,null,null,null,null,null,null,null,null,null,null,null,null,"",null,"",null,null,null,null,null,null,null,null,null,null,null,null,null,null,null,null,null,null,null,null,null,null,null,"",null,"",null,null,null,null,null,null,null,null,null,null,null,null,null,null,null,null,null,null,null,null,null,null,null,"",null,"",null,null,null,null,null,null,null,null,null,null,null,null,null,null,null,null,null,null,null,null,null,null,null,"",null,"",null,null,null,null,null,null,null,null,null,null,null,null,null,null,null,null,null,null,null,null,null,null,null,"",null,"",null,null,null,null,null,null,null,null,null,null,null,null,null,null,null,null,null,null,null,null,null,null,null,""]
[null,10,null,null,null,null,"",null,null,null,null,null,null,null,null,null,null,null,null,null,null,null,null,null,null,null,null,null,null,null,"",null,"",null,null,null,null,null,null,null,null,null,null,null,null,null,null,null,null,null,null,null,null,null,null,null,"",null,"",null,null,null,null,null,null,null,null,null,null,null,null,null,null,null,null,null,null,null,null,null,null,null,"",null,"",null,null,null,null,null,null,null,null,null,null,null,null,null,null,null,null,null,null,null,null,null,null,null,"",null,"",null,null,null,null,null,null,null,null,null,null,null,null,null,null,null,null,null,null,null,null,null,null,null,"",null,"",null,null,null,null,null,null,null,null,null,null,null,null,null,null,null,null,null,null,null,null,null,null,null,"",null,"",null,null,null,null,null,null,null,null,null,null,null,null,null,null,null,null,null,null,null,null,null,null,null,"",null,"",null,null,null,null,null,null,null,null,null,null,null,null,null,null,null,null,null,null,null,null,null,null,null,"",null,"",null,null,null,null,null,null,null,null,null,null,null,null,null,null,null,null,null,null,null,null,null,null,null,"",null,"",null,null,null,null,null,null,null,null,null,null,null,null,null,null,null,null,null,null,null,null,null,null,null,"",null,"",null,null,null,null,null,null,null,null,null,null,null,null,null,null,null,null,null,null,null,null,null,null,null,""]
[null,11,null,null,null,null,"",null,null,null,null,null,null,null,null,null,null,null,null,null,null,null,null,null,null,null,null,null,null,null,"",null,"",null,null,null,null,null,null,null,null,null,null,null,null,null,null,null,null,null,null,null,null,null,null,null,"",null,"",null,null,null,null,null,null,null,null,null,null,null,null,null,null,null,null,null,null,null,null,null,null,null,"",null,"",null,null,null,null,null,null,null,null,null,null,null,null,null,null,null,null,null,null,null,null,null,null,null,"",null,"",null,null,null,null,null,null,null,null,null,null,null,null,null,null,null,null,null,null,null,null,null,null,null,"",null,"",null,null,null,null,null,null,null,null,null,null,null,null,null,null,null,null,null,null,null,null,null,null,null,"",null,"",null,null,null,null,null,null,null,null,null,null,null,null,null,null,null,null,null,null,null,null,null,null,null,"",null,"",null,null,null,null,null,null,null,null,null,null,null,null,null,null,null,null,null,null,null,null,null,null,null,"",null,"",null,null,null,null,null,null,null,null,null,null,null,null,null,null,null,null,null,null,null,null,null,null,null,"",null,"",null,null,null,null,null,null,null,null,null,null,null,null,null,null,null,null,null,null,null,null,null,null,null,"",null,"",null,null,null,null,null,null,null,null,null,null,null,null,null,null,null,null,null,null,null,null,null,null,null,""]
[null,12,null,null,null,null,"",null,null,null,null,null,null,null,null,null,null,null,null,null,null,null,null,null,null,null,null,null,null,null,"",null,"",null,null,null,null,null,null,null,null,null,null,null,null,null,null,null,null,null,null,null,null,null,null,null,"",null,"",null,null,null,null,null,null,null,null,null,null,null,null,null,null,null,null,null,null,null,null,null,null,null,"",null,"",null,null,null,null,null,null,null,null,null,null,null,null,null,null,null,null,null,null,null,null,null,null,null,"",null,"",null,null,null,null,null,null,null,null,null,null,null,null,null,null,null,null,null,null,null,null,null,null,null,"",null,"",null,null,null,null,null,null,null,null,null,null,null,null,null,null,null,null,null,null,null,null,null,null,null,"",null,"",null,null,null,null,null,null,null,null,null,null,null,null,null,null,null,null,null,null,null,null,null,null,null,"",null,"",null,null,null,null,null,null,null,null,null,null,null,null,null,null,null,null,null,null,null,null,null,null,null,"",null,"",null,null,null,null,null,null,null,null,null,null,null,null,null,null,null,null,null,null,null,null,null,null,null,"",null,"",null,null,null,null,null,null,null,null,null,null,null,null,null,null,null,null,null,null,null,null,null,null,null,"",null,"",null,null,null,null,null,null,null,null,null,null,null,null,null,null,null,null,null,null,null,null,null,null,null,""]
[null,13,null,null,null,null,"",null,null,null,null,null,null,null,null,null,null,null,null,null,null,null,null,null,null,null,null,null,null,null,"",null,"",null,null,null,null,null,null,null,null,null,null,null,null,null,null,null,null,null,null,null,null,null,null,null,"",null,"",null,null,null,null,null,null,null,null,null,null,null,null,null,null,null,null,null,null,null,null,null,null,null,"",null,"",null,null,null,null,null,null,null,null,null,null,null,null,null,null,null,null,null,null,null,null,null,null,null,"",null,"",null,null,null,null,null,null,null,null,null,null,null,null,null,null,null,null,null,null,null,null,null,null,null,"",null,"",null,null,null,null,null,null,null,null,null,null,null,null,null,null,null,null,null,null,null,null,null,null,null,"",null,"",null,null,null,null,null,null,null,null,null,null,null,null,null,null,null,null,null,null,null,null,null,null,null,"",null,"",null,null,null,null,null,null,null,null,null,null,null,null,null,null,null,null,null,null,null,null,null,null,null,"",null,"",null,null,null,null,null,null,null,null,null,null,null,null,null,null,null,null,null,null,null,null,null,null,null,"",null,"",null,null,null,null,null,null,null,null,null,null,null,null,null,null,null,null,null,null,null,null,null,null,null,"",null,"",null,null,null,null,null,null,null,null,null,null,null,null,null,null,null,null,null,null,null,null,null,null,null,""]
[null,14,null,null,null,null,"",null,null,null,null,null,null,null,null,null,null,null,null,null,null,null,null,null,null,null,null,null,null,null,"",null,"",null,null,null,null,null,null,null,null,null,null,null,null,null,null,null,null,null,null,null,null,null,null,null,"",null,"",null,null,null,null,null,null,null,null,null,null,null,null,null,null,null,null,null,null,null,null,null,null,null,"",null,"",null,null,null,null,null,null,null,null,null,null,null,null,null,null,null,null,null,null,null,null,null,null,null,"",null,"",null,null,null,null,null,null,null,null,null,null,null,null,null,null,null,null,null,null,null,null,null,null,null,"",null,"",null,null,null,null,null,null,null,null,null,null,null,null,null,null,null,null,null,null,null,null,null,null,null,"",null,"",null,null,null,null,null,null,null,null,null,null,null,null,null,null,null,null,null,null,null,null,null,null,null,"",null,"",null,null,null,null,null,null,null,null,null,null,null,null,null,null,null,null,null,null,null,null,null,null,null,"",null,"",null,null,null,null,null,null,null,null,null,null,null,null,null,null,null,null,null,null,null,null,null,null,null,"",null,"",null,null,null,null,null,null,null,null,null,null,null,null,null,null,null,null,null,null,null,null,null,null,null,"",null,"",null,null,null,null,null,null,null,null,null,null,null,null,null,null,null,null,null,null,null,null,null,null,null,""]
[null,15,null,null,null,null,"",null,null,null,null,null,null,null,null,null,null,null,null,null,null,null,null,null,null,null,null,null,null,null,"",null,"",null,null,null,null,null,null,null,null,null,null,null,null,null,null,null,null,null,null,null,null,null,null,null,"",null,"",null,null,null,null,null,null,null,null,null,null,null,null,null,null,null,null,null,null,null,null,null,null,null,"",null,"",null,null,null,null,null,null,null,null,null,null,null,null,null,null,null,null,null,null,null,null,null,null,null,"",null,"",null,null,null,null,null,null,null,null,null,null,null,null,null,null,null,null,null,null,null,null,null,null,null,"",null,"",null,null,null,null,null,null,null,null,null,null,null,null,null,null,null,null,null,null,null,null,null,null,null,"",null,"",null,null,null,null,null,null,null,null,null,null,null,null,null,null,null,null,null,null,null,null,null,null,null,"",null,"",null,null,null,null,null,null,null,null,null,null,null,null,null,null,null,null,null,null,null,null,null,null,null,"",null,"",null,null,null,null,null,null,null,null,null,null,null,null,null,null,null,null,null,null,null,null,null,null,null,"",null,"",null,null,null,null,null,null,null,null,null,null,null,null,null,null,null,null,null,null,null,null,null,null,null,"",null,"",null,null,null,null,null,null,null,null,null,null,null,null,null,null,null,null,null,null,null,null,null,null,null,""]
[null,16,null,null,null,null,"",null,null,null,null,null,null,null,null,null,null,null,null,null,null,null,null,null,null,null,null,null,null,null,"",null,"",null,null,null,null,null,null,null,null,null,null,null,null,null,null,null,null,null,null,null,null,null,null,null,"",null,"",null,null,null,null,null,null,null,null,null,null,null,null,null,null,null,null,null,null,null,null,null,null,null,"",null,"",null,null,null,null,null,null,null,null,null,null,null,null,null,null,null,null,null,null,null,null,null,null,null,"",null,"",null,null,null,null,null,null,null,null,null,null,null,null,null,null,null,null,null,null,null,null,null,null,null,"",null,"",null,null,null,null,null,null,null,null,null,null,null,null,null,null,null,null,null,null,null,null,null,null,null,"",null,"",null,null,null,null,null,null,null,null,null,null,null,null,null,null,null,null,null,null,null,null,null,null,null,"",null,"",null,null,null,null,null,null,null,null,null,null,null,null,null,null,null,null,null,null,null,null,null,null,null,"",null,"",null,null,null,null,null,null,null,null,null,null,null,null,null,null,null,null,null,null,null,null,null,null,null,"",null,"",null,null,null,null,null,null,null,null,null,null,null,null,null,null,null,null,null,null,null,null,null,null,null,"",null,"",null,null,null,null,null,null,null,null,null,null,null,null,null,null,null,null,null,null,null,null,null,null,null,""]
[null,17,null,null,null,null,"",null,null,null,null,null,null,null,null,null,null,null,null,null,null,null,null,null,null,null,null,null,null,null,"",null,"",null,null,null,null,null,null,null,null,null,null,null,null,null,null,null,null,null,null,null,null,null,null,null,"",null,"",null,null,null,null,null,null,null,null,null,null,null,null,null,null,null,null,null,null,null,null,null,null,null,"",null,"",null,null,null,null,null,null,null,null,null,null,null,null,null,null,null,null,null,null,null,null,null,null,null,"",null,"",null,null,null,null,null,null,null,null,null,null,null,null,null,null,null,null,null,null,null,null,null,null,null,"",null,"",null,null,null,null,null,null,null,null,null,null,null,null,null,null,null,null,null,null,null,null,null,null,null,"",null,"",null,null,null,null,null,null,null,null,null,null,null,null,null,null,null,null,null,null,null,null,null,null,null,"",null,"",null,null,null,null,null,null,null,null,null,null,null,null,null,null,null,null,null,null,null,null,null,null,null,"",null,"",null,null,null,null,null,null,null,null,null,null,null,null,null,null,null,null,null,null,null,null,null,null,null,"",null,"",null,null,null,null,null,null,null,null,null,null,null,null,null,null,null,null,null,null,null,null,null,null,null,"",null,"",null,null,null,null,null,null,null,null,null,null,null,null,null,null,null,null,null,null,null,null,null,null,null,""]
[null,18,null,null,null,null,"",null,null,null,null,null,null,null,null,null,null,null,null,null,null,null,null,null,null,null,null,null,null,null,"",null,"",null,null,null,null,null,null,null,null,null,null,null,null,null,null,null,null,null,null,null,null,null,null,null,"",null,"",null,null,null,null,null,null,null,null,null,null,null,null,null,null,null,null,null,null,null,null,null,null,null,"",null,"",null,null,null,null,null,null,null,null,null,null,null,null,null,null,null,null,null,null,null,null,null,null,null,"",null,"",null,null,null,null,null,null,null,null,null,null,null,null,null,null,null,null,null,null,null,null,null,null,null,"",null,"",null,null,null,null,null,null,null,null,null,null,null,null,null,null,null,null,null,null,null,null,null,null,null,"",null,"",null,null,null,null,null,null,null,null,null,null,null,null,null,null,null,null,null,null,null,null,null,null,null,"",null,"",null,null,null,null,null,null,null,null,null,null,null,null,null,null,null,null,null,null,null,null,null,null,null,"",null,"",null,null,null,null,null,null,null,null,null,null,null,null,null,null,null,null,null,null,null,null,null,null,null,"",null,"",null,null,null,null,null,null,null,null,null,null,null,null,null,null,null,null,null,null,null,null,null,null,null,"",null,"",null,null,null,null,null,null,null,null,null,null,null,null,null,null,null,null,null,null,null,null,null,null,null,""]
[null,19,null,null,null,null,"",null,null,null,null,null,null,null,null,null,null,null,null,null,null,null,null,null,null,null,null,null,null,null,"",null,"",null,null,null,null,null,null,null,null,null,null,null,null,null,null,null,null,null,null,null,null,null,null,null,"",null,"",null,null,null,null,null,null,null,null,null,null,null,null,null,null,null,null,null,null,null,null,null,null,null,"",null,"",null,null,null,null,null,null,null,null,null,null,null,null,null,null,null,null,null,null,null,null,null,null,null,"",null,"",null,null,null,null,null,null,null,null,null,null,null,null,null,null,null,null,null,null,null,null,null,null,null,"",null,"",null,null,null,null,null,null,null,null,null,null,null,null,null,null,null,null,null,null,null,null,null,null,null,"",null,"",null,null,null,null,null,null,null,null,null,null,null,null,null,null,null,null,null,null,null,null,null,null,null,"",null,"",null,null,null,null,null,null,null,null,null,null,null,null,null,null,null,null,null,null,null,null,null,null,null,"",null,"",null,null,null,null,null,null,null,null,null,null,null,null,null,null,null,null,null,null,null,null,null,null,null,"",null,"",null,null,null,null,null,null,null,null,null,null,null,null,null,null,null,null,null,null,null,null,null,null,null,"",null,"",null,null,null,null,null,null,null,null,null,null,null,null,null,null,null,null,null,null,null,null,null,null,null,""]
[null,20,null,null,null,null,"",null,null,null,null,null,null,null,null,null,null,null,null,null,null,null,null,null,null,null,null,null,null,null,"",null,"",null,null,null,null,null,null,null,null,null,null,null,null,null,null,null,null,null,null,null,null,null,null,null,"",null,"",null,null,null,null,null,null,null,null,null,null,null,null,null,null,null,null,null,null,null,null,null,null,null,"",null,"",null,null,null,null,null,null,null,null,null,null,null,null,null,null,null,null,null,null,null,null,null,null,null,"",null,"",null,null,null,null,null,null,null,null,null,null,null,null,null,null,null,null,null,null,null,null,null,null,null,"",null,"",null,null,null,null,null,null,null,null,null,null,null,null,null,null,null,null,null,null,null,null,null,null,null,"",null,"",null,null,null,null,null,null,null,null,null,null,null,null,null,null,null,null,null,null,null,null,null,null,null,"",null,"",null,null,null,null,null,null,null,null,null,null,null,null,null,null,null,null,null,null,null,null,null,null,null,"",null,"",null,null,null,null,null,null,null,null,null,null,null,null,null,null,null,null,null,null,null,null,null,null,null,"",null,"",null,null,null,null,null,null,null,null,null,null,null,null,null,null,null,null,null,null,null,null,null,null,null,"",null,"",null,null,null,null,null,null,null,null,null,null,null,null,null,null,null,null,null,null,null,null,null,null,null,""]
[null,21,null,null,null,null,"",null,null,null,null,null,null,null,null,null,null,null,null,null,null,null,null,null,null,null,null,null,null,null,"",null,"",null,null,null,null,null,null,null,null,null,null,null,null,null,null,null,null,null,null,null,null,null,null,null,"",null,"",null,null,null,null,null,null,null,null,null,null,null,null,null,null,null,null,null,null,null,null,null,null,null,"",null,"",null,null,null,null,null,null,null,null,null,null,null,null,null,null,null,null,null,null,null,null,null,null,null,"",null,"",null,null,null,null,null,null,null,null,null,null,null,null,null,null,null,null,null,null,null,null,null,null,null,"",null,"",null,null,null,null,null,null,null,null,null,null,null,null,null,null,null,null,null,null,null,null,null,null,null,"",null,"",null,null,null,null,null,null,null,null,null,null,null,null,null,null,null,null,null,null,null,null,null,null,null,"",null,"",null,null,null,null,null,null,null,null,null,null,null,null,null,null,null,null,null,null,null,null,null,null,null,"",null,"",null,null,null,null,null,null,null,null,null,null,null,null,null,null,null,null,null,null,null,null,null,null,null,"",null,"",null,null,null,null,null,null,null,null,null,null,null,null,null,null,null,null,null,null,null,null,null,null,null,"",null,"",null,null,null,null,null,null,null,null,null,null,null,null,null,null,null,null,null,null,null,null,null,null,null,""]
[null,22,null,null,null,null,"",null,null,null,null,null,null,null,null,null,null,null,null,null,null,null,null,null,null,null,null,null,null,null,"",null,"",null,null,null,null,null,null,null,null,null,null,null,null,null,null,null,null,null,null,null,null,null,null,null,"",null,"",null,null,null,null,null,null,null,null,null,null,null,null,null,null,null,null,null,null,null,null,null,null,null,"",null,"",null,null,null,null,null,null,null,null,null,null,null,null,null,null,null,null,null,null,null,null,null,null,null,"",null,"",null,null,null,null,null,null,null,null,null,null,null,null,null,null,null,null,null,null,null,null,null,null,null,"",null,"",null,null,null,null,null,null,null,null,null,null,null,null,null,null,null,null,null,null,null,null,null,null,null,"",null,"",null,null,null,null,null,null,null,null,null,null,null,null,null,null,null,null,null,null,null,null,null,null,null,"",null,"",null,null,null,null,null,null,null,null,null,null,null,null,null,null,null,null,null,null,null,null,null,null,null,"",null,"",null,null,null,null,null,null,null,null,null,null,null,null,null,null,null,null,null,null,null,null,null,null,null,"",null,"",null,null,null,null,null,null,null,null,null,null,null,null,null,null,null,null,null,null,null,null,null,null,null,"",null,"",null,null,null,null,null,null,null,null,null,null,null,null,null,null,null,null,null,null,null,null,null,null,null,""]
[null,23,null,null,null,null,"",null,null,null,null,null,null,null,null,null,null,null,null,null,null,null,null,null,null,null,null,null,null,null,"",null,"",null,null,null,null,null,null,null,null,null,null,null,null,null,null,null,null,null,null,null,null,null,null,null,"",null,"",null,null,null,null,null,null,null,null,null,null,null,null,null,null,null,null,null,null,null,null,null,null,null,"",null,"",null,null,null,null,null,null,null,null,null,null,null,null,null,null,null,null,null,null,null,null,null,null,null,"",null,"",null,null,null,null,null,null,null,null,null,null,null,null,null,null,null,null,null,null,null,null,null,null,null,"",null,"",null,null,null,null,null,null,null,null,null,null,null,null,null,null,null,null,null,null,null,null,null,null,null,"",null,"",null,null,null,null,null,null,null,null,null,null,null,null,null,null,null,null,null,null,null,null,null,null,null,"",null,"",null,null,null,null,null,null,null,null,null,null,null,null,null,null,null,null,null,null,null,null,null,null,null,"",null,"",null,null,null,null,null,null,null,null,null,null,null,null,null,null,null,null,null,null,null,null,null,null,null,"",null,"",null,null,null,null,null,null,null,null,null,null,null,null,null,null,null,null,null,null,null,null,null,null,null,"",null,"",null,null,null,null,null,null,null,null,null,null,null,null,null,null,null,null,null,null,null,null,null,null,null,""]
[null,24,null,null,null,null,"",null,null,null,null,null,null,null,null,null,null,null,null,null,null,null,null,null,null,null,null,null,null,null,"",null,"",null,null,null,null,null,null,null,null,null,null,null,null,null,null,null,null,null,null,null,null,null,null,null,"",null,"",null,null,null,null,null,null,null,null,null,null,null,null,null,null,null,null,null,null,null,null,null,null,null,"",null,"",null,null,null,null,null,null,null,null,null,null,null,null,null,null,null,null,null,null,null,null,null,null,null,"",null,"",null,null,null,null,null,null,null,null,null,null,null,null,null,null,null,null,null,null,null,null,null,null,null,"",null,"",null,null,null,null,null,null,null,null,null,null,null,null,null,null,null,null,null,null,null,null,null,null,null,"",null,"",null,null,null,null,null,null,null,null,null,null,null,null,null,null,null,null,null,null,null,null,null,null,null,"",null,"",null,null,null,null,null,null,null,null,null,null,null,null,null,null,null,null,null,null,null,null,null,null,null,"",null,"",null,null,null,null,null,null,null,null,null,null,null,null,null,null,null,null,null,null,null,null,null,null,null,"",null,"",null,null,null,null,null,null,null,null,null,null,null,null,null,null,null,null,null,null,null,null,null,null,null,"",null,"",null,null,null,null,null,null,null,null,null,null,null,null,null,null,null,null,null,null,null,null,null,null,null,""]
[null,25,null,null,null,null,"",null,null,null,null,null,null,null,null,null,null,null,null,null,null,null,null,null,null,null,null,null,null,null,"",null,"",null,null,null,null,null,null,null,null,null,null,null,null,null,null,null,null,null,null,null,null,null,null,null,"",null,"",null,null,null,null,null,null,null,null,null,null,null,null,null,null,null,null,null,null,null,null,null,null,null,"",null,"",null,null,null,null,null,null,null,null,null,null,null,null,null,null,null,null,null,null,null,null,null,null,null,"",null,"",null,null,null,null,null,null,null,null,null,null,null,null,null,null,null,null,null,null,null,null,null,null,null,"",null,"",null,null,null,null,null,null,null,null,null,null,null,null,null,null,null,null,null,null,null,null,null,null,null,"",null,"",null,null,null,null,null,null,null,null,null,null,null,null,null,null,null,null,null,null,null,null,null,null,null,"",null,"",null,null,null,null,null,null,null,null,null,null,null,null,null,null,null,null,null,null,null,null,null,null,null,"",null,"",null,null,null,null,null,null,null,null,null,null,null,null,null,null,null,null,null,null,null,null,null,null,null,"",null,"",null,null,null,null,null,null,null,null,null,null,null,null,null,null,null,null,null,null,null,null,null,null,null,"",null,"",null,null,null,null,null,null,null,null,null,null,null,null,null,null,null,null,null,null,null,null,null,null,null,""]
[null,26,null,null,null,null,"",null,null,null,null,null,null,null,null,null,null,null,null,null,null,null,null,null,null,null,null,null,null,null,"",null,"",null,null,null,null,null,null,null,null,null,null,null,null,null,null,null,null,null,null,null,null,null,null,null,"",null,"",null,null,null,null,null,null,null,null,null,null,null,null,null,null,null,null,null,null,null,null,null,null,null,"",null,"",null,null,null,null,null,null,null,null,null,null,null,null,null,null,null,null,null,null,null,null,null,null,null,"",null,"",null,null,null,null,null,null,null,null,null,null,null,null,null,null,null,null,null,null,null,null,null,null,null,"",null,"",null,null,null,null,null,null,null,null,null,null,null,null,null,null,null,null,null,null,null,null,null,null,null,"",null,"",null,null,null,null,null,null,null,null,null,null,null,null,null,null,null,null,null,null,null,null,null,null,null,"",null,"",null,null,null,null,null,null,null,null,null,null,null,null,null,null,null,null,null,null,null,null,null,null,null,"",null,"",null,null,null,null,null,null,null,null,null,null,null,null,null,null,null,null,null,null,null,null,null,null,null,"",null,"",null,null,null,null,null,null,null,null,null,null,null,null,null,null,null,null,null,null,null,null,null,null,null,"",null,"",null,null,null,null,null,null,null,null,null,null,null,null,null,null,null,null,null,null,null,null,null,null,null,""]
[null,27,null,null,null,null,"",null,null,null,null,null,null,null,null,null,null,null,null,null,null,null,null,null,null,null,null,null,null,null,"",null,"",null,null,null,null,null,null,null,null,null,null,null,null,null,null,null,null,null,null,null,null,null,null,null,"",null,"",null,null,null,null,null,null,null,null,null,null,null,null,null,null,null,null,null,null,null,null,null,null,null,"",null,"",null,null,null,null,null,null,null,null,null,null,null,null,null,null,null,null,null,null,null,null,null,null,null,"",null,"",null,null,null,null,null,null,null,null,null,null,null,null,null,null,null,null,null,null,null,null,null,null,null,"",null,"",null,null,null,null,null,null,null,null,null,null,null,null,null,null,null,null,null,null,null,null,null,null,null,"",null,"",null,null,null,null,null,null,null,null,null,null,null,null,null,null,null,null,null,null,null,null,null,null,null,"",null,"",null,null,null,null,null,null,null,null,null,null,null,null,null,null,null,null,null,null,null,null,null,null,null,"",null,"",null,null,null,null,null,null,null,null,null,null,null,null,null,null,null,null,null,null,null,null,null,null,null,"",null,"",null,null,null,null,null,null,null,null,null,null,null,null,null,null,null,null,null,null,null,null,null,null,null,"",null,"",null,null,null,null,null,null,null,null,null,null,null,null,null,null,null,null,null,null,null,null,null,null,null,""]
[null,28,null,null,null,null,"",null,null,null,null,null,null,null,null,null,null,null,null,null,null,null,null,null,null,null,null,null,null,null,"",null,"",null,null,null,null,null,null,null,null,null,null,null,null,null,null,null,null,null,null,null,null,null,null,null,"",null,"",null,null,null,null,null,null,null,null,null,null,null,null,null,null,null,null,null,null,null,null,null,null,null,"",null,"",null,null,null,null,null,null,null,null,null,null,null,null,null,null,null,null,null,null,null,null,null,null,null,"",null,"",null,null,null,null,null,null,null,null,null,null,null,null,null,null,null,null,null,null,null,null,null,null,null,"",null,"",null,null,null,null,null,null,null,null,null,null,null,null,null,null,null,null,null,null,null,null,null,null,null,"",null,"",null,null,null,null,null,null,null,null,null,null,null,null,null,null,null,null,null,null,null,null,null,null,null,"",null,"",null,null,null,null,null,null,null,null,null,null,null,null,null,null,null,null,null,null,null,null,null,null,null,"",null,"",null,null,null,null,null,null,null,null,null,null,null,null,null,null,null,null,null,null,null,null,null,null,null,"",null,"",null,null,null,null,null,null,null,null,null,null,null,null,null,null,null,null,null,null,null,null,null,null,null,"",null,"",null,null,null,null,null,null,null,null,null,null,null,null,null,null,null,null,null,null,null,null,null,null,null,""]
[null,29,null,null,null,null,"",null,null,null,null,null,null,null,null,null,null,null,null,null,null,null,null,null,null,null,null,null,null,null,"",null,"",null,null,null,null,null,null,null,null,null,null,null,null,null,null,null,null,null,null,null,null,null,null,null,"",null,"",null,null,null,null,null,null,null,null,null,null,null,null,null,null,null,null,null,null,null,null,null,null,null,"",null,"",null,null,null,null,null,null,null,null,null,null,null,null,null,null,null,null,null,null,null,null,null,null,null,"",null,"",null,null,null,null,null,null,null,null,null,null,null,null,null,null,null,null,null,null,null,null,null,null,null,"",null,"",null,null,null,null,null,null,null,null,null,null,null,null,null,null,null,null,null,null,null,null,null,null,null,"",null,"",null,null,null,null,null,null,null,null,null,null,null,null,null,null,null,null,null,null,null,null,null,null,null,"",null,"",null,null,null,null,null,null,null,null,null,null,null,null,null,null,null,null,null,null,null,null,null,null,null,"",null,"",null,null,null,null,null,null,null,null,null,null,null,null,null,null,null,null,null,null,null,null,null,null,null,"",null,"",null,null,null,null,null,null,null,null,null,null,null,null,null,null,null,null,null,null,null,null,null,null,null,"",null,"",null,null,null,null,null,null,null,null,null,null,null,null,null,null,null,null,null,null,null,null,null,null,null,""]
[null,30,null,null,null,null,"",null,null,null,null,null,null,null,null,null,null,null,null,null,null,null,null,null,null,null,null,null,null,null,"",null,"",null,null,null,null,null,null,null,null,null,null,null,null,null,null,null,null,null,null,null,null,null,null,null,"",null,"",null,null,null,null,null,null,null,null,null,null,null,null,null,null,null,null,null,null,null,null,null,null,null,"",null,"",null,null,null,null,null,null,null,null,null,null,null,null,null,null,null,null,null,null,null,null,null,null,null,"",null,"",null,null,null,null,null,null,null,null,null,null,null,null,null,null,null,null,null,null,null,null,null,null,null,"",null,"",null,null,null,null,null,null,null,null,null,null,null,null,null,null,null,null,null,null,null,null,null,null,null,"",null,"",null,null,null,null,null,null,null,null,null,null,null,null,null,null,null,null,null,null,null,null,null,null,null,"",null,"",null,null,null,null,null,null,null,null,null,null,null,null,null,null,null,null,null,null,null,null,null,null,null,"",null,"",null,null,null,null,null,null,null,null,null,null,null,null,null,null,null,null,null,null,null,null,null,null,null,"",null,"",null,null,null,null,null,null,null,null,null,null,null,null,null,null,null,null,null,null,null,null,null,null,null,"",null,"",null,null,null,null,null,null,null,null,null,null,null,null,null,null,null,null,null,null,null,null,null,null,null,""]
[null,31,null,null,null,null,"",null,null,null,null,null,null,null,null,null,null,null,null,null,null,null,null,null,null,null,null,null,null,null,"",null,"",null,null,null,null,null,null,null,null,null,null,null,null,null,null,null,null,null,null,null,null,null,null,null,"",null,"",null,null,null,null,null,null,null,null,null,null,null,null,null,null,null,null,null,null,null,null,null,null,null,"",null,"",null,null,null,null,null,null,null,null,null,null,null,null,null,null,null,null,null,null,null,null,null,null,null,"",null,"",null,null,null,null,null,null,null,null,null,null,null,null,null,null,null,null,null,null,null,null,null,null,null,"",null,"",null,null,null,null,null,null,null,null,null,null,null,null,null,null,null,null,null,null,null,null,null,null,null,"",null,"",null,null,null,null,null,null,null,null,null,null,null,null,null,null,null,null,null,null,null,null,null,null,null,"",null,"",null,null,null,null,null,null,null,null,null,null,null,null,null,null,null,null,null,null,null,null,null,null,null,"",null,"",null,null,null,null,null,null,null,null,null,null,null,null,null,null,null,null,null,null,null,null,null,null,null,"",null,"",null,null,null,null,null,null,null,null,null,null,null,null,null,null,null,null,null,null,null,null,null,null,null,"",null,"",null,null,null,null,null,null,null,null,null,null,null,null,null,null,null,null,null,null,null,null,null,null,null,""]
[null,32,null,null,null,null,"",null,null,null,null,null,null,null,null,null,null,null,null,null,null,null,null,null,null,null,null,null,null,null,"",null,"",null,null,null,null,null,null,null,null,null,null,null,null,null,null,null,null,null,null,null,null,null,null,null,"",null,"",null,null,null,null,null,null,null,null,null,null,null,null,null,null,null,null,null,null,null,null,null,null,null,"",null,"",null,null,null,null,null,null,null,null,null,null,null,null,null,null,null,null,null,null,null,null,null,null,null,"",null,"",null,null,null,null,null,null,null,null,null,null,null,null,null,null,null,null,null,null,null,null,null,null,null,"",null,"",null,null,null,null,null,null,null,null,null,null,null,null,null,null,null,null,null,null,null,null,null,null,null,"",null,"",null,null,null,null,null,null,null,null,null,null,null,null,null,null,null,null,null,null,null,null,null,null,null,"",null,"",null,null,null,null,null,null,null,null,null,null,null,null,null,null,null,null,null,null,null,null,null,null,null,"",null,"",null,null,null,null,null,null,null,null,null,null,null,null,null,null,null,null,null,null,null,null,null,null,null,"",null,"",null,null,null,null,null,null,null,null,null,null,null,null,null,null,null,null,null,null,null,null,null,null,null,"",null,"",null,null,null,null,null,null,null,null,null,null,null,null,null,null,null,null,null,null,null,null,null,null,null,""]
[null,33,null,null,null,null,"",null,null,null,null,null,null,null,null,null,null,null,null,null,null,null,null,null,null,null,null,null,null,null,"",null,"",null,null,null,null,null,null,null,null,null,null,null,null,null,null,null,null,null,null,null,null,null,null,null,"",null,"",null,null,null,null,null,null,null,null,null,null,null,null,null,null,null,null,null,null,null,null,null,null,null,"",null,"",null,null,null,null,null,null,null,null,null,null,null,null,null,null,null,null,null,null,null,null,null,null,null,"",null,"",null,null,null,null,null,null,null,null,null,null,null,null,null,null,null,null,null,null,null,null,null,null,null,"",null,"",null,null,null,null,null,null,null,null,null,null,null,null,null,null,null,null,null,null,null,null,null,null,null,"",null,"",null,null,null,null,null,null,null,null,null,null,null,null,null,null,null,null,null,null,null,null,null,null,null,"",null,"",null,null,null,null,null,null,null,null,null,null,null,null,null,null,null,null,null,null,null,null,null,null,null,"",null,"",null,null,null,null,null,null,null,null,null,null,null,null,null,null,null,null,null,null,null,null,null,null,null,"",null,"",null,null,null,null,null,null,null,null,null,null,null,null,null,null,null,null,null,null,null,null,null,null,null,"",null,"",null,null,null,null,null,null,null,null,null,null,null,null,null,null,null,null,null,null,null,null,null,null,null,""]
[null,34,null,null,null,null,"",null,null,null,null,null,null,null,null,null,null,null,null,null,null,null,null,null,null,null,null,null,null,null,"",null,"",null,null,null,null,null,null,null,null,null,null,null,null,null,null,null,null,null,null,null,null,null,null,null,"",null,"",null,null,null,null,null,null,null,null,null,null,null,null,null,null,null,null,null,null,null,null,null,null,null,"",null,"",null,null,null,null,null,null,null,null,null,null,null,null,null,null,null,null,null,null,null,null,null,null,null,"",null,"",null,null,null,null,null,null,null,null,null,null,null,null,null,null,null,null,null,null,null,null,null,null,null,"",null,"",null,null,null,null,null,null,null,null,null,null,null,null,null,null,null,null,null,null,null,null,null,null,null,"",null,"",null,null,null,null,null,null,null,null,null,null,null,null,null,null,null,null,null,null,null,null,null,null,null,"",null,"",null,null,null,null,null,null,null,null,null,null,null,null,null,null,null,null,null,null,null,null,null,null,null,"",null,"",null,null,null,null,null,null,null,null,null,null,null,null,null,null,null,null,null,null,null,null,null,null,null,"",null,"",null,null,null,null,null,null,null,null,null,null,null,null,null,null,null,null,null,null,null,null,null,null,null,"",null,"",null,null,null,null,null,null,null,null,null,null,null,null,null,null,null,null,null,null,null,null,null,null,null,""]
[null,35,null,null,null,null,"",null,null,null,null,null,null,null,null,null,null,null,null,null,null,null,null,null,null,null,null,null,null,null,"",null,"",null,null,null,null,null,null,null,null,null,null,null,null,null,null,null,null,null,null,null,null,null,null,null,"",null,"",null,null,null,null,null,null,null,null,null,null,null,null,null,null,null,null,null,null,null,null,null,null,null,"",null,"",null,null,null,null,null,null,null,null,null,null,null,null,null,null,null,null,null,null,null,null,null,null,null,"",null,"",null,null,null,null,null,null,null,null,null,null,null,null,null,null,null,null,null,null,null,null,null,null,null,"",null,"",null,null,null,null,null,null,null,null,null,null,null,null,null,null,null,null,null,null,null,null,null,null,null,"",null,"",null,null,null,null,null,null,null,null,null,null,null,null,null,null,null,null,null,null,null,null,null,null,null,"",null,"",null,null,null,null,null,null,null,null,null,null,null,null,null,null,null,null,null,null,null,null,null,null,null,"",null,"",null,null,null,null,null,null,null,null,null,null,null,null,null,null,null,null,null,null,null,null,null,null,null,"",null,"",null,null,null,null,null,null,null,null,null,null,null,null,null,null,null,null,null,null,null,null,null,null,null,"",null,"",null,null,null,null,null,null,null,null,null,null,null,null,null,null,null,null,null,null,null,null,null,null,null,""]
[null,36,null,null,null,null,"",null,null,null,null,null,null,null,null,null,null,null,null,null,null,null,null,null,null,null,null,null,null,null,"",null,"",null,null,null,null,null,null,null,null,null,null,null,null,null,null,null,null,null,null,null,null,null,null,null,"",null,"",null,null,null,null,null,null,null,null,null,null,null,null,null,null,null,null,null,null,null,null,null,null,null,"",null,"",null,null,null,null,null,null,null,null,null,null,null,null,null,null,null,null,null,null,null,null,null,null,null,"",null,"",null,null,null,null,null,null,null,null,null,null,null,null,null,null,null,null,null,null,null,null,null,null,null,"",null,"",null,null,null,null,null,null,null,null,null,null,null,null,null,null,null,null,null,null,null,null,null,null,null,"",null,"",null,null,null,null,null,null,null,null,null,null,null,null,null,null,null,null,null,null,null,null,null,null,null,"",null,"",null,null,null,null,null,null,null,null,null,null,null,null,null,null,null,null,null,null,null,null,null,null,null,"",null,"",null,null,null,null,null,null,null,null,null,null,null,null,null,null,null,null,null,null,null,null,null,null,null,"",null,"",null,null,null,null,null,null,null,null,null,null,null,null,null,null,null,null,null,null,null,null,null,null,null,"",null,"",null,null,null,null,null,null,null,null,null,null,null,null,null,null,null,null,null,null,null,null,null,null,null,""]
[null,37,null,null,null,null,"",null,null,null,null,null,null,null,null,null,null,null,null,null,null,null,null,null,null,null,null,null,null,null,"",null,"",null,null,null,null,null,null,null,null,null,null,null,null,null,null,null,null,null,null,null,null,null,null,null,"",null,"",null,null,null,null,null,null,null,null,null,null,null,null,null,null,null,null,null,null,null,null,null,null,null,"",null,"",null,null,null,null,null,null,null,null,null,null,null,null,null,null,null,null,null,null,null,null,null,null,null,"",null,"",null,null,null,null,null,null,null,null,null,null,null,null,null,null,null,null,null,null,null,null,null,null,null,"",null,"",null,null,null,null,null,null,null,null,null,null,null,null,null,null,null,null,null,null,null,null,null,null,null,"",null,"",null,null,null,null,null,null,null,null,null,null,null,null,null,null,null,null,null,null,null,null,null,null,null,"",null,"",null,null,null,null,null,null,null,null,null,null,null,null,null,null,null,null,null,null,null,null,null,null,null,"",null,"",null,null,null,null,null,null,null,null,null,null,null,null,null,null,null,null,null,null,null,null,null,null,null,"",null,"",null,null,null,null,null,null,null,null,null,null,null,null,null,null,null,null,null,null,null,null,null,null,null,"",null,"",null,null,null,null,null,null,null,null,null,null,null,null,null,null,null,null,null,null,null,null,null,null,null,""]
[null,38,null,null,null,null,"",null,null,null,null,null,null,null,null,null,null,null,null,null,null,null,null,null,null,null,null,null,null,null,"",null,"",null,null,null,null,null,null,null,null,null,null,null,null,null,null,null,null,null,null,null,null,null,null,null,"",null,"",null,null,null,null,null,null,null,null,null,null,null,null,null,null,null,null,null,null,null,null,null,null,null,"",null,"",null,null,null,null,null,null,null,null,null,null,null,null,null,null,null,null,null,null,null,null,null,null,null,"",null,"",null,null,null,null,null,null,null,null,null,null,null,null,null,null,null,null,null,null,null,null,null,null,null,"",null,"",null,null,null,null,null,null,null,null,null,null,null,null,null,null,null,null,null,null,null,null,null,null,null,"",null,"",null,null,null,null,null,null,null,null,null,null,null,null,null,null,null,null,null,null,null,null,null,null,null,"",null,"",null,null,null,null,null,null,null,null,null,null,null,null,null,null,null,null,null,null,null,null,null,null,null,"",null,"",null,null,null,null,null,null,null,null,null,null,null,null,null,null,null,null,null,null,null,null,null,null,null,"",null,"",null,null,null,null,null,null,null,null,null,null,null,null,null,null,null,null,null,null,null,null,null,null,null,"",null,"",null,null,null,null,null,null,null,null,null,null,null,null,null,null,null,null,null,null,null,null,null,null,null,""]
[null,39,null,null,null,null,"",null,null,null,null,null,null,null,null,null,null,null,null,null,null,null,null,null,null,null,null,null,null,null,"",null,"",null,null,null,null,null,null,null,null,null,null,null,null,null,null,null,null,null,null,null,null,null,null,null,"",null,"",null,null,null,null,null,null,null,null,null,null,null,null,null,null,null,null,null,null,null,null,null,null,null,"",null,"",null,null,null,null,null,null,null,null,null,null,null,null,null,null,null,null,null,null,null,null,null,null,null,"",null,"",null,null,null,null,null,null,null,null,null,null,null,null,null,null,null,null,null,null,null,null,null,null,null,"",null,"",null,null,null,null,null,null,null,null,null,null,null,null,null,null,null,null,null,null,null,null,null,null,null,"",null,"",null,null,null,null,null,null,null,null,null,null,null,null,null,null,null,null,null,null,null,null,null,null,null,"",null,"",null,null,null,null,null,null,null,null,null,null,null,null,null,null,null,null,null,null,null,null,null,null,null,"",null,"",null,null,null,null,null,null,null,null,null,null,null,null,null,null,null,null,null,null,null,null,null,null,null,"",null,"",null,null,null,null,null,null,null,null,null,null,null,null,null,null,null,null,null,null,null,null,null,null,null,"",null,"",null,null,null,null,null,null,null,null,null,null,null,null,null,null,null,null,null,null,null,null,null,null,null,""]
[null,40,null,null,null,null,"",null,null,null,null,null,null,null,null,null,null,null,null,null,null,null,null,null,null,null,null,null,null,null,"",null,"",null,null,null,null,null,null,null,null,null,null,null,null,null,null,null,null,null,null,null,null,null,null,null,"",null,"",null,null,null,null,null,null,null,null,null,null,null,null,null,null,null,null,null,null,null,null,null,null,null,"",null,"",null,null,null,null,null,null,null,null,null,null,null,null,null,null,null,null,null,null,null,null,null,null,null,"",null,"",null,null,null,null,null,null,null,null,null,null,null,null,null,null,null,null,null,null,null,null,null,null,null,"",null,"",null,null,null,null,null,null,null,null,null,null,null,null,null,null,null,null,null,null,null,null,null,null,null,"",null,"",null,null,null,null,null,null,null,null,null,null,null,null,null,null,null,null,null,null,null,null,null,null,null,"",null,"",null,null,null,null,null,null,null,null,null,null,null,null,null,null,null,null,null,null,null,null,null,null,null,"",null,"",null,null,null,null,null,null,null,null,null,null,null,null,null,null,null,null,null,null,null,null,null,null,null,"",null,"",null,null,null,null,null,null,null,null,null,null,null,null,null,null,null,null,null,null,null,null,null,null,null,"",null,"",null,null,null,null,null,null,null,null,null,null,null,null,null,null,null,null,null,null,null,null,null,null,null,""]
[null,41,null,null,null,null,"",null,null,null,null,null,null,null,null,null,null,null,null,null,null,null,null,null,null,null,null,null,null,null,"",null,"",null,null,null,null,null,null,null,null,null,null,null,null,null,null,null,null,null,null,null,null,null,null,null,"",null,"",null,null,null,null,null,null,null,null,null,null,null,null,null,null,null,null,null,null,null,null,null,null,null,"",null,"",null,null,null,null,null,null,null,null,null,null,null,null,null,null,null,null,null,null,null,null,null,null,null,"",null,"",null,null,null,null,null,null,null,null,null,null,null,null,null,null,null,null,null,null,null,null,null,null,null,"",null,"",null,null,null,null,null,null,null,null,null,null,null,null,null,null,null,null,null,null,null,null,null,null,null,"",null,"",null,null,null,null,null,null,null,null,null,null,null,null,null,null,null,null,null,null,null,null,null,null,null,"",null,"",null,null,null,null,null,null,null,null,null,null,null,null,null,null,null,null,null,null,null,null,null,null,null,"",null,"",null,null,null,null,null,null,null,null,null,null,null,null,null,null,null,null,null,null,null,null,null,null,null,"",null,"",null,null,null,null,null,null,null,null,null,null,null,null,null,null,null,null,null,null,null,null,null,null,null,"",null,"",null,null,null,null,null,null,null,null,null,null,null,null,null,null,null,null,null,null,null,null,null,null,null,""]
[null,42,null,null,null,null,"",null,null,null,null,null,null,null,null,null,null,null,null,null,null,null,null,null,null,null,null,null,null,null,"",null,"",null,null,null,null,null,null,null,null,null,null,null,null,null,null,null,null,null,null,null,null,null,null,null,"",null,"",null,null,null,null,null,null,null,null,null,null,null,null,null,null,null,null,null,null,null,null,null,null,null,"",null,"",null,null,null,null,null,null,null,null,null,null,null,null,null,null,null,null,null,null,null,null,null,null,null,"",null,"",null,null,null,null,null,null,null,null,null,null,null,null,null,null,null,null,null,null,null,null,null,null,null,"",null,"",null,null,null,null,null,null,null,null,null,null,null,null,null,null,null,null,null,null,null,null,null,null,null,"",null,"",null,null,null,null,null,null,null,null,null,null,null,null,null,null,null,null,null,null,null,null,null,null,null,"",null,"",null,null,null,null,null,null,null,null,null,null,null,null,null,null,null,null,null,null,null,null,null,null,null,"",null,"",null,null,null,null,null,null,null,null,null,null,null,null,null,null,null,null,null,null,null,null,null,null,null,"",null,"",null,null,null,null,null,null,null,null,null,null,null,null,null,null,null,null,null,null,null,null,null,null,null,"",null,"",null,null,null,null,null,null,null,null,null,null,null,null,null,null,null,null,null,null,null,null,null,null,null,""]
[null,43,null,null,null,null,"",null,null,null,null,null,null,null,null,null,null,null,null,null,null,null,null,null,null,null,null,null,null,null,"",null,"",null,null,null,null,null,null,null,null,null,null,null,null,null,null,null,null,null,null,null,null,null,null,null,"",null,"",null,null,null,null,null,null,null,null,null,null,null,null,null,null,null,null,null,null,null,null,null,null,null,"",null,"",null,null,null,null,null,null,null,null,null,null,null,null,null,null,null,null,null,null,null,null,null,null,null,"",null,"",null,null,null,null,null,null,null,null,null,null,null,null,null,null,null,null,null,null,null,null,null,null,null,"",null,"",null,null,null,null,null,null,null,null,null,null,null,null,null,null,null,null,null,null,null,null,null,null,null,"",null,"",null,null,null,null,null,null,null,null,null,null,null,null,null,null,null,null,null,null,null,null,null,null,null,"",null,"",null,null,null,null,null,null,null,null,null,null,null,null,null,null,null,null,null,null,null,null,null,null,null,"",null,"",null,null,null,null,null,null,null,null,null,null,null,null,null,null,null,null,null,null,null,null,null,null,null,"",null,"",null,null,null,null,null,null,null,null,null,null,null,null,null,null,null,null,null,null,null,null,null,null,null,"",null,"",null,null,null,null,null,null,null,null,null,null,null,null,null,null,null,null,null,null,null,null,null,null,null,""]
[null,44,null,null,null,null,"",null,null,null,null,null,null,null,null,null,null,null,null,null,null,null,null,null,null,null,null,null,null,null,"",null,"",null,null,null,null,null,null,null,null,null,null,null,null,null,null,null,null,null,null,null,null,null,null,null,"",null,"",null,null,null,null,null,null,null,null,null,null,null,null,null,null,null,null,null,null,null,null,null,null,null,"",null,"",null,null,null,null,null,null,null,null,null,null,null,null,null,null,null,null,null,null,null,null,null,null,null,"",null,"",null,null,null,null,null,null,null,null,null,null,null,null,null,null,null,null,null,null,null,null,null,null,null,"",null,"",null,null,null,null,null,null,null,null,null,null,null,null,null,null,null,null,null,null,null,null,null,null,null,"",null,"",null,null,null,null,null,null,null,null,null,null,null,null,null,null,null,null,null,null,null,null,null,null,null,"",null,"",null,null,null,null,null,null,null,null,null,null,null,null,null,null,null,null,null,null,null,null,null,null,null,"",null,"",null,null,null,null,null,null,null,null,null,null,null,null,null,null,null,null,null,null,null,null,null,null,null,"",null,"",null,null,null,null,null,null,null,null,null,null,null,null,null,null,null,null,null,null,null,null,null,null,null,"",null,"",null,null,null,null,null,null,null,null,null,null,null,null,null,null,null,null,null,null,null,null,null,null,null,""]
[null,45,null,null,null,null,"",null,null,null,null,null,null,null,null,null,null,null,null,null,null,null,null,null,null,null,null,null,null,null,"",null,"",null,null,null,null,null,null,null,null,null,null,null,null,null,null,null,null,null,null,null,null,null,null,null,"",null,"",null,null,null,null,null,null,null,null,null,null,null,null,null,null,null,null,null,null,null,null,null,null,null,"",null,"",null,null,null,null,null,null,null,null,null,null,null,null,null,null,null,null,null,null,null,null,null,null,null,"",null,"",null,null,null,null,null,null,null,null,null,null,null,null,null,null,null,null,null,null,null,null,null,null,null,"",null,"",null,null,null,null,null,null,null,null,null,null,null,null,null,null,null,null,null,null,null,null,null,null,null,"",null,"",null,null,null,null,null,null,null,null,null,null,null,null,null,null,null,null,null,null,null,null,null,null,null,"",null,"",null,null,null,null,null,null,null,null,null,null,null,null,null,null,null,null,null,null,null,null,null,null,null,"",null,"",null,null,null,null,null,null,null,null,null,null,null,null,null,null,null,null,null,null,null,null,null,null,null,"",null,"",null,null,null,null,null,null,null,null,null,null,null,null,null,null,null,null,null,null,null,null,null,null,null,"",null,"",null,null,null,null,null,null,null,null,null,null,null,null,null,null,null,null,null,null,null,null,null,null,null,""]
[null,46,null,null,null,null,"",null,null,null,null,null,null,null,null,null,null,null,null,null,null,null,null,null,null,null,null,null,null,null,"",null,"",null,null,null,null,null,null,null,null,null,null,null,null,null,null,null,null,null,null,null,null,null,null,null,"",null,"",null,null,null,null,null,null,null,null,null,null,null,null,null,null,null,null,null,null,null,null,null,null,null,"",null,"",null,null,null,null,null,null,null,null,null,null,null,null,null,null,null,null,null,null,null,null,null,null,null,"",null,"",null,null,null,null,null,null,null,null,null,null,null,null,null,null,null,null,null,null,null,null,null,null,null,"",null,"",null,null,null,null,null,null,null,null,null,null,null,null,null,null,null,null,null,null,null,null,null,null,null,"",null,"",null,null,null,null,null,null,null,null,null,null,null,null,null,null,null,null,null,null,null,null,null,null,null,"",null,"",null,null,null,null,null,null,null,null,null,null,null,null,null,null,null,null,null,null,null,null,null,null,null,"",null,"",null,null,null,null,null,null,null,null,null,null,null,null,null,null,null,null,null,null,null,null,null,null,null,"",null,"",null,null,null,null,null,null,null,null,null,null,null,null,null,null,null,null,null,null,null,null,null,null,null,"",null,"",null,null,null,null,null,null,null,null,null,null,null,null,null,null,null,null,null,null,null,null,null,null,null,""]
[null,47,null,null,null,null,"",null,null,null,null,null,null,null,null,null,null,null,null,null,null,null,null,null,null,null,null,null,null,null,"",null,"",null,null,null,null,null,null,null,null,null,null,null,null,null,null,null,null,null,null,null,null,null,null,null,"",null,"",null,null,null,null,null,null,null,null,null,null,null,null,null,null,null,null,null,null,null,null,null,null,null,"",null,"",null,null,null,null,null,null,null,null,null,null,null,null,null,null,null,null,null,null,null,null,null,null,null,"",null,"",null,null,null,null,null,null,null,null,null,null,null,null,null,null,null,null,null,null,null,null,null,null,null,"",null,"",null,null,null,null,null,null,null,null,null,null,null,null,null,null,null,null,null,null,null,null,null,null,null,"",null,"",null,null,null,null,null,null,null,null,null,null,null,null,null,null,null,null,null,null,null,null,null,null,null,"",null,"",null,null,null,null,null,null,null,null,null,null,null,null,null,null,null,null,null,null,null,null,null,null,null,"",null,"",null,null,null,null,null,null,null,null,null,null,null,null,null,null,null,null,null,null,null,null,null,null,null,"",null,"",null,null,null,null,null,null,null,null,null,null,null,null,null,null,null,null,null,null,null,null,null,null,null,"",null,"",null,null,null,null,null,null,null,null,null,null,null,null,null,null,null,null,null,null,null,null,null,null,null,""]
[null,48,null,null,null,null,"",null,null,null,null,null,null,null,null,null,null,null,null,null,null,null,null,null,null,null,null,null,null,null,"",null,"",null,null,null,null,null,null,null,null,null,null,null,null,null,null,null,null,null,null,null,null,null,null,null,"",null,"",null,null,null,null,null,null,null,null,null,null,null,null,null,null,null,null,null,null,null,null,null,null,null,"",null,"",null,null,null,null,null,null,null,null,null,null,null,null,null,null,null,null,null,null,null,null,null,null,null,"",null,"",null,null,null,null,null,null,null,null,null,null,null,null,null,null,null,null,null,null,null,null,null,null,null,"",null,"",null,null,null,null,null,null,null,null,null,null,null,null,null,null,null,null,null,null,null,null,null,null,null,"",null,"",null,null,null,null,null,null,null,null,null,null,null,null,null,null,null,null,null,null,null,null,null,null,null,"",null,"",null,null,null,null,null,null,null,null,null,null,null,null,null,null,null,null,null,null,null,null,null,null,null,"",null,"",null,null,null,null,null,null,null,null,null,null,null,null,null,null,null,null,null,null,null,null,null,null,null,"",null,"",null,null,null,null,null,null,null,null,null,null,null,null,null,null,null,null,null,null,null,null,null,null,null,"",null,"",null,null,null,null,null,null,null,null,null,null,null,null,null,null,null,null,null,null,null,null,null,null,null,""]
[null,49,null,null,null,null,"",null,null,null,null,null,null,null,null,null,null,null,null,null,null,null,null,null,null,null,null,null,null,null,"",null,"",null,null,null,null,null,null,null,null,null,null,null,null,null,null,null,null,null,null,null,null,null,null,null,"",null,"",null,null,null,null,null,null,null,null,null,null,null,null,null,null,null,null,null,null,null,null,null,null,null,"",null,"",null,null,null,null,null,null,null,null,null,null,null,null,null,null,null,null,null,null,null,null,null,null,null,"",null,"",null,null,null,null,null,null,null,null,null,null,null,null,null,null,null,null,null,null,null,null,null,null,null,"",null,"",null,null,null,null,null,null,null,null,null,null,null,null,null,null,null,null,null,null,null,null,null,null,null,"",null,"",null,null,null,null,null,null,null,null,null,null,null,null,null,null,null,null,null,null,null,null,null,null,null,"",null,"",null,null,null,null,null,null,null,null,null,null,null,null,null,null,null,null,null,null,null,null,null,null,null,"",null,"",null,null,null,null,null,null,null,null,null,null,null,null,null,null,null,null,null,null,null,null,null,null,null,"",null,"",null,null,null,null,null,null,null,null,null,null,null,null,null,null,null,null,null,null,null,null,null,null,null,"",null,"",null,null,null,null,null,null,null,null,null,null,null,null,null,null,null,null,null,null,null,null,null,null,null,""]
[null,50,null,null,null,null,"",null,null,null,null,null,null,null,null,null,null,null,null,null,null,null,null,null,null,null,null,null,null,null,"",null,"",null,null,null,null,null,null,null,null,null,null,null,null,null,null,null,null,null,null,null,null,null,null,null,"",null,"",null,null,null,null,null,null,null,null,null,null,null,null,null,null,null,null,null,null,null,null,null,null,null,"",null,"",null,null,null,null,null,null,null,null,null,null,null,null,null,null,null,null,null,null,null,null,null,null,null,"",null,"",null,null,null,null,null,null,null,null,null,null,null,null,null,null,null,null,null,null,null,null,null,null,null,"",null,"",null,null,null,null,null,null,null,null,null,null,null,null,null,null,null,null,null,null,null,null,null,null,null,"",null,"",null,null,null,null,null,null,null,null,null,null,null,null,null,null,null,null,null,null,null,null,null,null,null,"",null,"",null,null,null,null,null,null,null,null,null,null,null,null,null,null,null,null,null,null,null,null,null,null,null,"",null,"",null,null,null,null,null,null,null,null,null,null,null,null,null,null,null,null,null,null,null,null,null,null,null,"",null,"",null,null,null,null,null,null,null,null,null,null,null,null,null,null,null,null,null,null,null,null,null,null,null,"",null,"",null,null,null,null,null,null,null,null,null,null,null,null,null,null,null,null,null,null,null,null,null,null,null,""]
[null,51,null,null,null,null,"",null,null,null,null,null,null,null,null,null,null,null,null,null,null,null,null,null,null,null,null,null,null,null,"",null,"",null,null,null,null,null,null,null,null,null,null,null,null,null,null,null,null,null,null,null,null,null,null,null,"",null,"",null,null,null,null,null,null,null,null,null,null,null,null,null,null,null,null,null,null,null,null,null,null,null,"",null,"",null,null,null,null,null,null,null,null,null,null,null,null,null,null,null,null,null,null,null,null,null,null,null,"",null,"",null,null,null,null,null,null,null,null,null,null,null,null,null,null,null,null,null,null,null,null,null,null,null,"",null,"",null,null,null,null,null,null,null,null,null,null,null,null,null,null,null,null,null,null,null,null,null,null,null,"",null,"",null,null,null,null,null,null,null,null,null,null,null,null,null,null,null,null,null,null,null,null,null,null,null,"",null,"",null,null,null,null,null,null,null,null,null,null,null,null,null,null,null,null,null,null,null,null,null,null,null,"",null,"",null,null,null,null,null,null,null,null,null,null,null,null,null,null,null,null,null,null,null,null,null,null,null,"",null,"",null,null,null,null,null,null,null,null,null,null,null,null,null,null,null,null,null,null,null,null,null,null,null,"",null,"",null,null,null,null,null,null,null,null,null,null,null,null,null,null,null,null,null,null,null,null,null,null,null,""]
[null,52,null,null,null,null,"",null,null,null,null,null,null,null,null,null,null,null,null,null,null,null,null,null,null,null,null,null,null,null,"",null,"",null,null,null,null,null,null,null,null,null,null,null,null,null,null,null,null,null,null,null,null,null,null,null,"",null,"",null,null,null,null,null,null,null,null,null,null,null,null,null,null,null,null,null,null,null,null,null,null,null,"",null,"",null,null,null,null,null,null,null,null,null,null,null,null,null,null,null,null,null,null,null,null,null,null,null,"",null,"",null,null,null,null,null,null,null,null,null,null,null,null,null,null,null,null,null,null,null,null,null,null,null,"",null,"",null,null,null,null,null,null,null,null,null,null,null,null,null,null,null,null,null,null,null,null,null,null,null,"",null,"",null,null,null,null,null,null,null,null,null,null,null,null,null,null,null,null,null,null,null,null,null,null,null,"",null,"",null,null,null,null,null,null,null,null,null,null,null,null,null,null,null,null,null,null,null,null,null,null,null,"",null,"",null,null,null,null,null,null,null,null,null,null,null,null,null,null,null,null,null,null,null,null,null,null,null,"",null,"",null,null,null,null,null,null,null,null,null,null,null,null,null,null,null,null,null,null,null,null,null,null,null,"",null,"",null,null,null,null,null,null,null,null,null,null,null,null,null,null,null,null,null,null,null,null,null,null,null,""]
[null,53,null,null,null,null,"",null,null,null,null,null,null,null,null,null,null,null,null,null,null,null,null,null,null,null,null,null,null,null,"",null,"",null,null,null,null,null,null,null,null,null,null,null,null,null,null,null,null,null,null,null,null,null,null,null,"",null,"",null,null,null,null,null,null,null,null,null,null,null,null,null,null,null,null,null,null,null,null,null,null,null,"",null,"",null,null,null,null,null,null,null,null,null,null,null,null,null,null,null,null,null,null,null,null,null,null,null,"",null,"",null,null,null,null,null,null,null,null,null,null,null,null,null,null,null,null,null,null,null,null,null,null,null,"",null,"",null,null,null,null,null,null,null,null,null,null,null,null,null,null,null,null,null,null,null,null,null,null,null,"",null,"",null,null,null,null,null,null,null,null,null,null,null,null,null,null,null,null,null,null,null,null,null,null,null,"",null,"",null,null,null,null,null,null,null,null,null,null,null,null,null,null,null,null,null,null,null,null,null,null,null,"",null,"",null,null,null,null,null,null,null,null,null,null,null,null,null,null,null,null,null,null,null,null,null,null,null,"",null,"",null,null,null,null,null,null,null,null,null,null,null,null,null,null,null,null,null,null,null,null,null,null,null,"",null,"",null,null,null,null,null,null,null,null,null,null,null,null,null,null,null,null,null,null,null,null,null,null,null,""]
[null,54,null,null,null,null,"",null,null,null,null,null,null,null,null,null,null,null,null,null,null,null,null,null,null,null,null,null,null,null,"",null,"",null,null,null,null,null,null,null,null,null,null,null,null,null,null,null,null,null,null,null,null,null,null,null,"",null,"",null,null,null,null,null,null,null,null,null,null,null,null,null,null,null,null,null,null,null,null,null,null,null,"",null,"",null,null,null,null,null,null,null,null,null,null,null,null,null,null,null,null,null,null,null,null,null,null,null,"",null,"",null,null,null,null,null,null,null,null,null,null,null,null,null,null,null,null,null,null,null,null,null,null,null,"",null,"",null,null,null,null,null,null,null,null,null,null,null,null,null,null,null,null,null,null,null,null,null,null,null,"",null,"",null,null,null,null,null,null,null,null,null,null,null,null,null,null,null,null,null,null,null,null,null,null,null,"",null,"",null,null,null,null,null,null,null,null,null,null,null,null,null,null,null,null,null,null,null,null,null,null,null,"",null,"",null,null,null,null,null,null,null,null,null,null,null,null,null,null,null,null,null,null,null,null,null,null,null,"",null,"",null,null,null,null,null,null,null,null,null,null,null,null,null,null,null,null,null,null,null,null,null,null,null,"",null,"",null,null,null,null,null,null,null,null,null,null,null,null,null,null,null,null,null,null,null,null,null,null,null,""]
[null,55,null,null,null,null,"",null,null,null,null,null,null,null,null,null,null,null,null,null,null,null,null,null,null,null,null,null,null,null,"",null,"",null,null,null,null,null,null,null,null,null,null,null,null,null,null,null,null,null,null,null,null,null,null,null,"",null,"",null,null,null,null,null,null,null,null,null,null,null,null,null,null,null,null,null,null,null,null,null,null,null,"",null,"",null,null,null,null,null,null,null,null,null,null,null,null,null,null,null,null,null,null,null,null,null,null,null,"",null,"",null,null,null,null,null,null,null,null,null,null,null,null,null,null,null,null,null,null,null,null,null,null,null,"",null,"",null,null,null,null,null,null,null,null,null,null,null,null,null,null,null,null,null,null,null,null,null,null,null,"",null,"",null,null,null,null,null,null,null,null,null,null,null,null,null,null,null,null,null,null,null,null,null,null,null,"",null,"",null,null,null,null,null,null,null,null,null,null,null,null,null,null,null,null,null,null,null,null,null,null,null,"",null,"",null,null,null,null,null,null,null,null,null,null,null,null,null,null,null,null,null,null,null,null,null,null,null,"",null,"",null,null,null,null,null,null,null,null,null,null,null,null,null,null,null,null,null,null,null,null,null,null,null,"",null,"",null,null,null,null,null,null,null,null,null,null,null,null,null,null,null,null,null,null,null,null,null,null,null,""]
[null,56,null,null,null,null,"",null,null,null,null,null,null,null,null,null,null,null,null,null,null,null,null,null,null,null,null,null,null,null,"",null,"",null,null,null,null,null,null,null,null,null,null,null,null,null,null,null,null,null,null,null,null,null,null,null,"",null,"",null,null,null,null,null,null,null,null,null,null,null,null,null,null,null,null,null,null,null,null,null,null,null,"",null,"",null,null,null,null,null,null,null,null,null,null,null,null,null,null,null,null,null,null,null,null,null,null,null,"",null,"",null,null,null,null,null,null,null,null,null,null,null,null,null,null,null,null,null,null,null,null,null,null,null,"",null,"",null,null,null,null,null,null,null,null,null,null,null,null,null,null,null,null,null,null,null,null,null,null,null,"",null,"",null,null,null,null,null,null,null,null,null,null,null,null,null,null,null,null,null,null,null,null,null,null,null,"",null,"",null,null,null,null,null,null,null,null,null,null,null,null,null,null,null,null,null,null,null,null,null,null,null,"",null,"",null,null,null,null,null,null,null,null,null,null,null,null,null,null,null,null,null,null,null,null,null,null,null,"",null,"",null,null,null,null,null,null,null,null,null,null,null,null,null,null,null,null,null,null,null,null,null,null,null,"",null,"",null,null,null,null,null,null,null,null,null,null,null,null,null,null,null,null,null,null,null,null,null,null,null,""]
[null,57,null,null,null,null,"",null,null,null,null,null,null,null,null,null,null,null,null,null,null,null,null,null,null,null,null,null,null,null,"",null,"",null,null,null,null,null,null,null,null,null,null,null,null,null,null,null,null,null,null,null,null,null,null,null,"",null,"",null,null,null,null,null,null,null,null,null,null,null,null,null,null,null,null,null,null,null,null,null,null,null,"",null,"",null,null,null,null,null,null,null,null,null,null,null,null,null,null,null,null,null,null,null,null,null,null,null,"",null,"",null,null,null,null,null,null,null,null,null,null,null,null,null,null,null,null,null,null,null,null,null,null,null,"",null,"",null,null,null,null,null,null,null,null,null,null,null,null,null,null,null,null,null,null,null,null,null,null,null,"",null,"",null,null,null,null,null,null,null,null,null,null,null,null,null,null,null,null,null,null,null,null,null,null,null,"",null,"",null,null,null,null,null,null,null,null,null,null,null,null,null,null,null,null,null,null,null,null,null,null,null,"",null,"",null,null,null,null,null,null,null,null,null,null,null,null,null,null,null,null,null,null,null,null,null,null,null,"",null,"",null,null,null,null,null,null,null,null,null,null,null,null,null,null,null,null,null,null,null,null,null,null,null,"",null,"",null,null,null,null,null,null,null,null,null,null,null,null,null,null,null,null,null,null,null,null,null,null,null,""]
[null,58,null,null,null,null,"",null,null,null,null,null,null,null,null,null,null,null,null,null,null,null,null,null,null,null,null,null,null,null,"",null,"",null,null,null,null,null,null,null,null,null,null,null,null,null,null,null,null,null,null,null,null,null,null,null,"",null,"",null,null,null,null,null,null,null,null,null,null,null,null,null,null,null,null,null,null,null,null,null,null,null,"",null,"",null,null,null,null,null,null,null,null,null,null,null,null,null,null,null,null,null,null,null,null,null,null,null,"",null,"",null,null,null,null,null,null,null,null,null,null,null,null,null,null,null,null,null,null,null,null,null,null,null,"",null,"",null,null,null,null,null,null,null,null,null,null,null,null,null,null,null,null,null,null,null,null,null,null,null,"",null,"",null,null,null,null,null,null,null,null,null,null,null,null,null,null,null,null,null,null,null,null,null,null,null,"",null,"",null,null,null,null,null,null,null,null,null,null,null,null,null,null,null,null,null,null,null,null,null,null,null,"",null,"",null,null,null,null,null,null,null,null,null,null,null,null,null,null,null,null,null,null,null,null,null,null,null,"",null,"",null,null,null,null,null,null,null,null,null,null,null,null,null,null,null,null,null,null,null,null,null,null,null,"",null,"",null,null,null,null,null,null,null,null,null,null,null,null,null,null,null,null,null,null,null,null,null,null,null,""]
[null,59,null,null,null,null,"",null,null,null,null,null,null,null,null,null,null,null,null,null,null,null,null,null,null,null,null,null,null,null,"",null,"",null,null,null,null,null,null,null,null,null,null,null,null,null,null,null,null,null,null,null,null,null,null,null,"",null,"",null,null,null,null,null,null,null,null,null,null,null,null,null,null,null,null,null,null,null,null,null,null,null,"",null,"",null,null,null,null,null,null,null,null,null,null,null,null,null,null,null,null,null,null,null,null,null,null,null,"",null,"",null,null,null,null,null,null,null,null,null,null,null,null,null,null,null,null,null,null,null,null,null,null,null,"",null,"",null,null,null,null,null,null,null,null,null,null,null,null,null,null,null,null,null,null,null,null,null,null,null,"",null,"",null,null,null,null,null,null,null,null,null,null,null,null,null,null,null,null,null,null,null,null,null,null,null,"",null,"",null,null,null,null,null,null,null,null,null,null,null,null,null,null,null,null,null,null,null,null,null,null,null,"",null,"",null,null,null,null,null,null,null,null,null,null,null,null,null,null,null,null,null,null,null,null,null,null,null,"",null,"",null,null,null,null,null,null,null,null,null,null,null,null,null,null,null,null,null,null,null,null,null,null,null,"",null,"",null,null,null,null,null,null,null,null,null,null,null,null,null,null,null,null,null,null,null,null,null,null,null,""]
[null,60,null,null,null,null,"",null,null,null,null,null,null,null,null,null,null,null,null,null,null,null,null,null,null,null,null,null,null,null,"",null,"",null,null,null,null,null,null,null,null,null,null,null,null,null,null,null,null,null,null,null,null,null,null,null,"",null,"",null,null,null,null,null,null,null,null,null,null,null,null,null,null,null,null,null,null,null,null,null,null,null,"",null,"",null,null,null,null,null,null,null,null,null,null,null,null,null,null,null,null,null,null,null,null,null,null,null,"",null,"",null,null,null,null,null,null,null,null,null,null,null,null,null,null,null,null,null,null,null,null,null,null,null,"",null,"",null,null,null,null,null,null,null,null,null,null,null,null,null,null,null,null,null,null,null,null,null,null,null,"",null,"",null,null,null,null,null,null,null,null,null,null,null,null,null,null,null,null,null,null,null,null,null,null,null,"",null,"",null,null,null,null,null,null,null,null,null,null,null,null,null,null,null,null,null,null,null,null,null,null,null,"",null,"",null,null,null,null,null,null,null,null,null,null,null,null,null,null,null,null,null,null,null,null,null,null,null,"",null,"",null,null,null,null,null,null,null,null,null,null,null,null,null,null,null,null,null,null,null,null,null,null,null,"",null,"",null,null,null,null,null,null,null,null,null,null,null,null,null,null,null,null,null,null,null,null,null,null,null,""]
[null,61,null,null,null,null,"",null,null,null,null,null,null,null,null,null,null,null,null,null,null,null,null,null,null,null,null,null,null,null,"",null,"",null,null,null,null,null,null,null,null,null,null,null,null,null,null,null,null,null,null,null,null,null,null,null,"",null,"",null,null,null,null,null,null,null,null,null,null,null,null,null,null,null,null,null,null,null,null,null,null,null,"",null,"",null,null,null,null,null,null,null,null,null,null,null,null,null,null,null,null,null,null,null,null,null,null,null,"",null,"",null,null,null,null,null,null,null,null,null,null,null,null,null,null,null,null,null,null,null,null,null,null,null,"",null,"",null,null,null,null,null,null,null,null,null,null,null,null,null,null,null,null,null,null,null,null,null,null,null,"",null,"",null,null,null,null,null,null,null,null,null,null,null,null,null,null,null,null,null,null,null,null,null,null,null,"",null,"",null,null,null,null,null,null,null,null,null,null,null,null,null,null,null,null,null,null,null,null,null,null,null,"",null,"",null,null,null,null,null,null,null,null,null,null,null,null,null,null,null,null,null,null,null,null,null,null,null,"",null,"",null,null,null,null,null,null,null,null,null,null,null,null,null,null,null,null,null,null,null,null,null,null,null,"",null,"",null,null,null,null,null,null,null,null,null,null,null,null,null,null,null,null,null,null,null,null,null,null,null,""]
[null,62,null,null,null,null,"",null,null,null,null,null,null,null,null,null,null,null,null,null,null,null,null,null,null,null,null,null,null,null,"",null,"",null,null,null,null,null,null,null,null,null,null,null,null,null,null,null,null,null,null,null,null,null,null,null,"",null,"",null,null,null,null,null,null,null,null,null,null,null,null,null,null,null,null,null,null,null,null,null,null,null,"",null,"",null,null,null,null,null,null,null,null,null,null,null,null,null,null,null,null,null,null,null,null,null,null,null,"",null,"",null,null,null,null,null,null,null,null,null,null,null,null,null,null,null,null,null,null,null,null,null,null,null,"",null,"",null,null,null,null,null,null,null,null,null,null,null,null,null,null,null,null,null,null,null,null,null,null,null,"",null,"",null,null,null,null,null,null,null,null,null,null,null,null,null,null,null,null,null,null,null,null,null,null,null,"",null,"",null,null,null,null,null,null,null,null,null,null,null,null,null,null,null,null,null,null,null,null,null,null,null,"",null,"",null,null,null,null,null,null,null,null,null,null,null,null,null,null,null,null,null,null,null,null,null,null,null,"",null,"",null,null,null,null,null,null,null,null,null,null,null,null,null,null,null,null,null,null,null,null,null,null,null,"",null,"",null,null,null,null,null,null,null,null,null,null,null,null,null,null,null,null,null,null,null,null,null,null,null,""]
[null,63,null,null,null,null,"",null,null,null,null,null,null,null,null,null,null,null,null,null,null,null,null,null,null,null,null,null,null,null,"",null,"",null,null,null,null,null,null,null,null,null,null,null,null,null,null,null,null,null,null,null,null,null,null,null,"",null,"",null,null,null,null,null,null,null,null,null,null,null,null,null,null,null,null,null,null,null,null,null,null,null,"",null,"",null,null,null,null,null,null,null,null,null,null,null,null,null,null,null,null,null,null,null,null,null,null,null,"",null,"",null,null,null,null,null,null,null,null,null,null,null,null,null,null,null,null,null,null,null,null,null,null,null,"",null,"",null,null,null,null,null,null,null,null,null,null,null,null,null,null,null,null,null,null,null,null,null,null,null,"",null,"",null,null,null,null,null,null,null,null,null,null,null,null,null,null,null,null,null,null,null,null,null,null,null,"",null,"",null,null,null,null,null,null,null,null,null,null,null,null,null,null,null,null,null,null,null,null,null,null,null,"",null,"",null,null,null,null,null,null,null,null,null,null,null,null,null,null,null,null,null,null,null,null,null,null,null,"",null,"",null,null,null,null,null,null,null,null,null,null,null,null,null,null,null,null,null,null,null,null,null,null,null,"",null,"",null,null,null,null,null,null,null,null,null,null,null,null,null,null,null,null,null,null,null,null,null,null,null,""]
[null,64,null,null,null,null,"",null,null,null,null,null,null,null,null,null,null,null,null,null,null,null,null,null,null,null,null,null,null,null,"",null,"",null,null,null,null,null,null,null,null,null,null,null,null,null,null,null,null,null,null,null,null,null,null,null,"",null,"",null,null,null,null,null,null,null,null,null,null,null,null,null,null,null,null,null,null,null,null,null,null,null,"",null,"",null,null,null,null,null,null,null,null,null,null,null,null,null,null,null,null,null,null,null,null,null,null,null,"",null,"",null,null,null,null,null,null,null,null,null,null,null,null,null,null,null,null,null,null,null,null,null,null,null,"",null,"",null,null,null,null,null,null,null,null,null,null,null,null,null,null,null,null,null,null,null,null,null,null,null,"",null,"",null,null,null,null,null,null,null,null,null,null,null,null,null,null,null,null,null,null,null,null,null,null,null,"",null,"",null,null,null,null,null,null,null,null,null,null,null,null,null,null,null,null,null,null,null,null,null,null,null,"",null,"",null,null,null,null,null,null,null,null,null,null,null,null,null,null,null,null,null,null,null,null,null,null,null,"",null,"",null,null,null,null,null,null,null,null,null,null,null,null,null,null,null,null,null,null,null,null,null,null,null,"",null,"",null,null,null,null,null,null,null,null,null,null,null,null,null,null,null,null,null,null,null,null,null,null,null,""]
[null,65,null,null,null,null,"",null,null,null,null,null,null,null,null,null,null,null,null,null,null,null,null,null,null,null,null,null,null,null,"",null,"",null,null,null,null,null,null,null,null,null,null,null,null,null,null,null,null,null,null,null,null,null,null,null,"",null,"",null,null,null,null,null,null,null,null,null,null,null,null,null,null,null,null,null,null,null,null,null,null,null,"",null,"",null,null,null,null,null,null,null,null,null,null,null,null,null,null,null,null,null,null,null,null,null,null,null,"",null,"",null,null,null,null,null,null,null,null,null,null,null,null,null,null,null,null,null,null,null,null,null,null,null,"",null,"",null,null,null,null,null,null,null,null,null,null,null,null,null,null,null,null,null,null,null,null,null,null,null,"",null,"",null,null,null,null,null,null,null,null,null,null,null,null,null,null,null,null,null,null,null,null,null,null,null,"",null,"",null,null,null,null,null,null,null,null,null,null,null,null,null,null,null,null,null,null,null,null,null,null,null,"",null,"",null,null,null,null,null,null,null,null,null,null,null,null,null,null,null,null,null,null,null,null,null,null,null,"",null,"",null,null,null,null,null,null,null,null,null,null,null,null,null,null,null,null,null,null,null,null,null,null,null,"",null,"",null,null,null,null,null,null,null,null,null,null,null,null,null,null,null,null,null,null,null,null,null,null,null,""]
[null,66,null,null,null,null,{"$f":"IF($C86=\"\",\"\",L$9)","v":""},null,null,null,null,null,null,null,null,null,null,null,null,null,null,null,null,null,null,null,null,null,null,null,{"$f":"IF($C86=\"\",\"\",SUM(H86:AD86))","v":""},null,{"$f":"IF($C86=\"\",\"\",AL$9)","v":""},null,null,null,null,null,null,null,null,null,null,null,null,null,null,null,null,null,null,null,null,null,null,null,{"$f":"IF($C86=\"\",\"\",SUM(AH86:BD86))","v":""},null,{"$f":"IF($C86=\"\",\"\",BL$9)","v":""},null,null,null,null,null,null,null,null,null,null,null,null,null,null,null,null,null,null,null,null,null,null,null,{"$f":"IF($C86=\"\",\"\",SUM(BH86:CD86))","v":""},null,{"$f":"IF($C86=\"\",\"\",CL$9)","v":""},null,null,null,null,null,null,null,null,null,null,null,null,null,null,null,null,null,null,null,null,null,null,null,{"$f":"IF($C86=\"\",\"\",SUM(CH86:DD86))","v":""},null,{"$f":"IF($C86=\"\",\"\",DL$9)","v":""},null,null,null,null,null,null,null,null,null,null,null,null,null,null,null,null,null,null,null,null,null,null,null,{"$f":"IF($C86=\"\",\"\",SUM(DH86:ED86))","v":""},null,{"$f":"IF($C86=\"\",\"\",EL$9)","v":""},null,null,null,null,null,null,null,null,null,null,null,null,null,null,null,null,null,null,null,null,null,null,null,{"$f":"IF($C86=\"\",\"\",SUM(EH86:FD86))","v":""},null,{"$f":"IF($C86=\"\",\"\",FL$9)","v":""},null,null,null,null,null,null,null,null,null,null,null,null,null,null,null,null,null,null,null,null,null,null,null,{"$f":"IF($C86=\"\",\"\",SUM(FH86:GD86))","v":""},null,{"$f":"IF($C86=\"\",\"\",GL$9)","v":""},null,null,null,null,null,null,null,null,null,null,null,null,null,null,null,null,null,null,null,null,null,null,null,{"$f":"IF($C86=\"\",\"\",SUM(GH86:HD86))","v":""},null,{"$f":"IF($C86=\"\",\"\",HL$9)","v":""},null,null,null,null,null,null,null,null,null,null,null,null,null,null,null,null,null,null,null,null,null,null,null,{"$f":"IF($C86=\"\",\"\",SUM(HH86:ID86))","v":""},null,{"$f":"IF($C86=\"\",\"\",IL$9)","v":""},null,null,null,null,null,null,null,null,null,null,null,null,null,null,null,null,null,null,null,null,null,null,null,{"$f":"IF($C86=\"\",\"\",SUM(IH86:JD86))","v":""},null,{"$f":"IF($C86=\"\",\"\",JL$9)","v":""},null,null,null,null,null,null,null,null,null,null,null,null,null,null,null,null,null,null,null,null,null,null,null,{"$f":"IF($C86=\"\",\"\",SUM(JH86:KD86))","v":""}]
[null,67,null,null,null,null,"",null,null,null,null,null,null,null,null,null,null,null,null,null,null,null,null,null,null,null,null,null,null,null,"",null,"",null,null,null,null,null,null,null,null,null,null,null,null,null,null,null,null,null,null,null,null,null,null,null,"",null,"",null,null,null,null,null,null,null,null,null,null,null,null,null,null,null,null,null,null,null,null,null,null,null,"",null,"",null,null,null,null,null,null,null,null,null,null,null,null,null,null,null,null,null,null,null,null,null,null,null,"",null,"",null,null,null,null,null,null,null,null,null,null,null,null,null,null,null,null,null,null,null,null,null,null,null,"",null,"",null,null,null,null,null,null,null,null,null,null,null,null,null,null,null,null,null,null,null,null,null,null,null,"",null,"",null,null,null,null,null,null,null,null,null,null,null,null,null,null,null,null,null,null,null,null,null,null,null,"",null,"",null,null,null,null,null,null,null,null,null,null,null,null,null,null,null,null,null,null,null,null,null,null,null,"",null,"",null,null,null,null,null,null,null,null,null,null,null,null,null,null,null,null,null,null,null,null,null,null,null,"",null,"",null,null,null,null,null,null,null,null,null,null,null,null,null,null,null,null,null,null,null,null,null,null,null,"",null,"",null,null,null,null,null,null,null,null,null,null,null,null,null,null,null,null,null,null,null,null,null,null,null,""]
[null,68,null,null,null,null,"",null,null,null,null,null,null,null,null,null,null,null,null,null,null,null,null,null,null,null,null,null,null,null,"",null,"",null,null,null,null,null,null,null,null,null,null,null,null,null,null,null,null,null,null,null,null,null,null,null,"",null,"",null,null,null,null,null,null,null,null,null,null,null,null,null,null,null,null,null,null,null,null,null,null,null,"",null,"",null,null,null,null,null,null,null,null,null,null,null,null,null,null,null,null,null,null,null,null,null,null,null,"",null,"",null,null,null,null,null,null,null,null,null,null,null,null,null,null,null,null,null,null,null,null,null,null,null,"",null,"",null,null,null,null,null,null,null,null,null,null,null,null,null,null,null,null,null,null,null,null,null,null,null,"",null,"",null,null,null,null,null,null,null,null,null,null,null,null,null,null,null,null,null,null,null,null,null,null,null,"",null,"",null,null,null,null,null,null,null,null,null,null,null,null,null,null,null,null,null,null,null,null,null,null,null,"",null,"",null,null,null,null,null,null,null,null,null,null,null,null,null,null,null,null,null,null,null,null,null,null,null,"",null,"",null,null,null,null,null,null,null,null,null,null,null,null,null,null,null,null,null,null,null,null,null,null,null,"",null,"",null,null,null,null,null,null,null,null,null,null,null,null,null,null,null,null,null,null,null,null,null,null,null,""]
[null,69,null,null,null,null,"",null,null,null,null,null,null,null,null,null,null,null,null,null,null,null,null,null,null,null,null,null,null,null,"",null,"",null,null,null,null,null,null,null,null,null,null,null,null,null,null,null,null,null,null,null,null,null,null,null,"",null,"",null,null,null,null,null,null,null,null,null,null,null,null,null,null,null,null,null,null,null,null,null,null,null,"",null,"",null,null,null,null,null,null,null,null,null,null,null,null,null,null,null,null,null,null,null,null,null,null,null,"",null,"",null,null,null,null,null,null,null,null,null,null,null,null,null,null,null,null,null,null,null,null,null,null,null,"",null,"",null,null,null,null,null,null,null,null,null,null,null,null,null,null,null,null,null,null,null,null,null,null,null,"",null,"",null,null,null,null,null,null,null,null,null,null,null,null,null,null,null,null,null,null,null,null,null,null,null,"",null,"",null,null,null,null,null,null,null,null,null,null,null,null,null,null,null,null,null,null,null,null,null,null,null,"",null,"",null,null,null,null,null,null,null,null,null,null,null,null,null,null,null,null,null,null,null,null,null,null,null,"",null,"",null,null,null,null,null,null,null,null,null,null,null,null,null,null,null,null,null,null,null,null,null,null,null,"",null,"",null,null,null,null,null,null,null,null,null,null,null,null,null,null,null,null,null,null,null,null,null,null,null,""]
[null,70,null,null,null,null,"",null,null,null,null,null,null,null,null,null,null,null,null,null,null,null,null,null,null,null,null,null,null,null,"",null,"",null,null,null,null,null,null,null,null,null,null,null,null,null,null,null,null,null,null,null,null,null,null,null,"",null,"",null,null,null,null,null,null,null,null,null,null,null,null,null,null,null,null,null,null,null,null,null,null,null,"",null,"",null,null,null,null,null,null,null,null,null,null,null,null,null,null,null,null,null,null,null,null,null,null,null,"",null,"",null,null,null,null,null,null,null,null,null,null,null,null,null,null,null,null,null,null,null,null,null,null,null,"",null,"",null,null,null,null,null,null,null,null,null,null,null,null,null,null,null,null,null,null,null,null,null,null,null,"",null,"",null,null,null,null,null,null,null,null,null,null,null,null,null,null,null,null,null,null,null,null,null,null,null,"",null,"",null,null,null,null,null,null,null,null,null,null,null,null,null,null,null,null,null,null,null,null,null,null,null,"",null,"",null,null,null,null,null,null,null,null,null,null,null,null,null,null,null,null,null,null,null,null,null,null,null,"",null,"",null,null,null,null,null,null,null,null,null,null,null,null,null,null,null,null,null,null,null,null,null,null,null,"",null,"",null,null,null,null,null,null,null,null,null,null,null,null,null,null,null,null,null,null,null,null,null,null,null,""]
[null,71,null,null,null,null,"",null,null,null,null,null,null,null,null,null,null,null,null,null,null,null,null,null,null,null,null,null,null,null,"",null,"",null,null,null,null,null,null,null,null,null,null,null,null,null,null,null,null,null,null,null,null,null,null,null,"",null,"",null,null,null,null,null,null,null,null,null,null,null,null,null,null,null,null,null,null,null,null,null,null,null,"",null,"",null,null,null,null,null,null,null,null,null,null,null,null,null,null,null,null,null,null,null,null,null,null,null,"",null,"",null,null,null,null,null,null,null,null,null,null,null,null,null,null,null,null,null,null,null,null,null,null,null,"",null,"",null,null,null,null,null,null,null,null,null,null,null,null,null,null,null,null,null,null,null,null,null,null,null,"",null,"",null,null,null,null,null,null,null,null,null,null,null,null,null,null,null,null,null,null,null,null,null,null,null,"",null,"",null,null,null,null,null,null,null,null,null,null,null,null,null,null,null,null,null,null,null,null,null,null,null,"",null,"",null,null,null,null,null,null,null,null,null,null,null,null,null,null,null,null,null,null,null,null,null,null,null,"",null,"",null,null,null,null,null,null,null,null,null,null,null,null,null,null,null,null,null,null,null,null,null,null,null,"",null,"",null,null,null,null,null,null,null,null,null,null,null,null,null,null,null,null,null,null,null,null,null,null,null,""]
[null,72,null,null,null,null,"",null,null,null,null,null,null,null,null,null,null,null,null,null,null,null,null,null,null,null,null,null,null,null,"",null,"",null,null,null,null,null,null,null,null,null,null,null,null,null,null,null,null,null,null,null,null,null,null,null,"",null,"",null,null,null,null,null,null,null,null,null,null,null,null,null,null,null,null,null,null,null,null,null,null,null,"",null,"",null,null,null,null,null,null,null,null,null,null,null,null,null,null,null,null,null,null,null,null,null,null,null,"",null,"",null,null,null,null,null,null,null,null,null,null,null,null,null,null,null,null,null,null,null,null,null,null,null,"",null,"",null,null,null,null,null,null,null,null,null,null,null,null,null,null,null,null,null,null,null,null,null,null,null,"",null,"",null,null,null,null,null,null,null,null,null,null,null,null,null,null,null,null,null,null,null,null,null,null,null,"",null,"",null,null,null,null,null,null,null,null,null,null,null,null,null,null,null,null,null,null,null,null,null,null,null,"",null,"",null,null,null,null,null,null,null,null,null,null,null,null,null,null,null,null,null,null,null,null,null,null,null,"",null,"",null,null,null,null,null,null,null,null,null,null,null,null,null,null,null,null,null,null,null,null,null,null,null,"",null,"",null,null,null,null,null,null,null,null,null,null,null,null,null,null,null,null,null,null,null,null,null,null,null,""]
[null,73,null,null,null,null,"",null,null,null,null,null,null,null,null,null,null,null,null,null,null,null,null,null,null,null,null,null,null,null,"",null,"",null,null,null,null,null,null,null,null,null,null,null,null,null,null,null,null,null,null,null,null,null,null,null,"",null,"",null,null,null,null,null,null,null,null,null,null,null,null,null,null,null,null,null,null,null,null,null,null,null,"",null,"",null,null,null,null,null,null,null,null,null,null,null,null,null,null,null,null,null,null,null,null,null,null,null,"",null,"",null,null,null,null,null,null,null,null,null,null,null,null,null,null,null,null,null,null,null,null,null,null,null,"",null,"",null,null,null,null,null,null,null,null,null,null,null,null,null,null,null,null,null,null,null,null,null,null,null,"",null,"",null,null,null,null,null,null,null,null,null,null,null,null,null,null,null,null,null,null,null,null,null,null,null,"",null,"",null,null,null,null,null,null,null,null,null,null,null,null,null,null,null,null,null,null,null,null,null,null,null,"",null,"",null,null,null,null,null,null,null,null,null,null,null,null,null,null,null,null,null,null,null,null,null,null,null,"",null,"",null,null,null,null,null,null,null,null,null,null,null,null,null,null,null,null,null,null,null,null,null,null,null,"",null,"",null,null,null,null,null,null,null,null,null,null,null,null,null,null,null,null,null,null,null,null,null,null,null,""]
[null,74,null,null,null,null,"",null,null,null,null,null,null,null,null,null,null,null,null,null,null,null,null,null,null,null,null,null,null,null,"",null,"",null,null,null,null,null,null,null,null,null,null,null,null,null,null,null,null,null,null,null,null,null,null,null,"",null,"",null,null,null,null,null,null,null,null,null,null,null,null,null,null,null,null,null,null,null,null,null,null,null,"",null,"",null,null,null,null,null,null,null,null,null,null,null,null,null,null,null,null,null,null,null,null,null,null,null,"",null,"",null,null,null,null,null,null,null,null,null,null,null,null,null,null,null,null,null,null,null,null,null,null,null,"",null,"",null,null,null,null,null,null,null,null,null,null,null,null,null,null,null,null,null,null,null,null,null,null,null,"",null,"",null,null,null,null,null,null,null,null,null,null,null,null,null,null,null,null,null,null,null,null,null,null,null,"",null,"",null,null,null,null,null,null,null,null,null,null,null,null,null,null,null,null,null,null,null,null,null,null,null,"",null,"",null,null,null,null,null,null,null,null,null,null,null,null,null,null,null,null,null,null,null,null,null,null,null,"",null,"",null,null,null,null,null,null,null,null,null,null,null,null,null,null,null,null,null,null,null,null,null,null,null,"",null,"",null,null,null,null,null,null,null,null,null,null,null,null,null,null,null,null,null,null,null,null,null,null,null,""]
[null,75,null,null,null,null,"",null,null,null,null,null,null,null,null,null,null,null,null,null,null,null,null,null,null,null,null,null,null,null,"",null,"",null,null,null,null,null,null,null,null,null,null,null,null,null,null,null,null,null,null,null,null,null,null,null,"",null,"",null,null,null,null,null,null,null,null,null,null,null,null,null,null,null,null,null,null,null,null,null,null,null,"",null,"",null,null,null,null,null,null,null,null,null,null,null,null,null,null,null,null,null,null,null,null,null,null,null,"",null,"",null,null,null,null,null,null,null,null,null,null,null,null,null,null,null,null,null,null,null,null,null,null,null,"",null,"",null,null,null,null,null,null,null,null,null,null,null,null,null,null,null,null,null,null,null,null,null,null,null,"",null,"",null,null,null,null,null,null,null,null,null,null,null,null,null,null,null,null,null,null,null,null,null,null,null,"",null,"",null,null,null,null,null,null,null,null,null,null,null,null,null,null,null,null,null,null,null,null,null,null,null,"",null,"",null,null,null,null,null,null,null,null,null,null,null,null,null,null,null,null,null,null,null,null,null,null,null,"",null,"",null,null,null,null,null,null,null,null,null,null,null,null,null,null,null,null,null,null,null,null,null,null,null,"",null,"",null,null,null,null,null,null,null,null,null,null,null,null,null,null,null,null,null,null,null,null,null,null,null,""]
[null,76,null,null,null,null,"",null,null,null,null,null,null,null,null,null,null,null,null,null,null,null,null,null,null,null,null,null,null,null,"",null,"",null,null,null,null,null,null,null,null,null,null,null,null,null,null,null,null,null,null,null,null,null,null,null,"",null,"",null,null,null,null,null,null,null,null,null,null,null,null,null,null,null,null,null,null,null,null,null,null,null,"",null,"",null,null,null,null,null,null,null,null,null,null,null,null,null,null,null,null,null,null,null,null,null,null,null,"",null,"",null,null,null,null,null,null,null,null,null,null,null,null,null,null,null,null,null,null,null,null,null,null,null,"",null,"",null,null,null,null,null,null,null,null,null,null,null,null,null,null,null,null,null,null,null,null,null,null,null,"",null,"",null,null,null,null,null,null,null,null,null,null,null,null,null,null,null,null,null,null,null,null,null,null,null,"",null,"",null,null,null,null,null,null,null,null,null,null,null,null,null,null,null,null,null,null,null,null,null,null,null,"",null,"",null,null,null,null,null,null,null,null,null,null,null,null,null,null,null,null,null,null,null,null,null,null,null,"",null,"",null,null,null,null,null,null,null,null,null,null,null,null,null,null,null,null,null,null,null,null,null,null,null,"",null,"",null,null,null,null,null,null,null,null,null,null,null,null,null,null,null,null,null,null,null,null,null,null,null,""]
[null,77,null,null,null,null,"",null,null,null,null,null,null,null,null,null,null,null,null,null,null,null,null,null,null,null,null,null,null,null,"",null,"",null,null,null,null,null,null,null,null,null,null,null,null,null,null,null,null,null,null,null,null,null,null,null,"",null,"",null,null,null,null,null,null,null,null,null,null,null,null,null,null,null,null,null,null,null,null,null,null,null,"",null,"",null,null,null,null,null,null,null,null,null,null,null,null,null,null,null,null,null,null,null,null,null,null,null,"",null,"",null,null,null,null,null,null,null,null,null,null,null,null,null,null,null,null,null,null,null,null,null,null,null,"",null,"",null,null,null,null,null,null,null,null,null,null,null,null,null,null,null,null,null,null,null,null,null,null,null,"",null,"",null,null,null,null,null,null,null,null,null,null,null,null,null,null,null,null,null,null,null,null,null,null,null,"",null,"",null,null,null,null,null,null,null,null,null,null,null,null,null,null,null,null,null,null,null,null,null,null,null,"",null,"",null,null,null,null,null,null,null,null,null,null,null,null,null,null,null,null,null,null,null,null,null,null,null,"",null,"",null,null,null,null,null,null,null,null,null,null,null,null,null,null,null,null,null,null,null,null,null,null,null,"",null,"",null,null,null,null,null,null,null,null,null,null,null,null,null,null,null,null,null,null,null,null,null,null,null,""]
[null,78,null,null,null,null,"",null,null,null,null,null,null,null,null,null,null,null,null,null,null,null,null,null,null,null,null,null,null,null,"",null,"",null,null,null,null,null,null,null,null,null,null,null,null,null,null,null,null,null,null,null,null,null,null,null,"",null,"",null,null,null,null,null,null,null,null,null,null,null,null,null,null,null,null,null,null,null,null,null,null,null,"",null,"",null,null,null,null,null,null,null,null,null,null,null,null,null,null,null,null,null,null,null,null,null,null,null,"",null,"",null,null,null,null,null,null,null,null,null,null,null,null,null,null,null,null,null,null,null,null,null,null,null,"",null,"",null,null,null,null,null,null,null,null,null,null,null,null,null,null,null,null,null,null,null,null,null,null,null,"",null,"",null,null,null,null,null,null,null,null,null,null,null,null,null,null,null,null,null,null,null,null,null,null,null,"",null,"",null,null,null,null,null,null,null,null,null,null,null,null,null,null,null,null,null,null,null,null,null,null,null,"",null,"",null,null,null,null,null,null,null,null,null,null,null,null,null,null,null,null,null,null,null,null,null,null,null,"",null,"",null,null,null,null,null,null,null,null,null,null,null,null,null,null,null,null,null,null,null,null,null,null,null,"",null,"",null,null,null,null,null,null,null,null,null,null,null,null,null,null,null,null,null,null,null,null,null,null,null,""]
[null,79,null,null,null,null,"",null,null,null,null,null,null,null,null,null,null,null,null,null,null,null,null,null,null,null,null,null,null,null,"",null,"",null,null,null,null,null,null,null,null,null,null,null,null,null,null,null,null,null,null,null,null,null,null,null,"",null,"",null,null,null,null,null,null,null,null,null,null,null,null,null,null,null,null,null,null,null,null,null,null,null,"",null,"",null,null,null,null,null,null,null,null,null,null,null,null,null,null,null,null,null,null,null,null,null,null,null,"",null,"",null,null,null,null,null,null,null,null,null,null,null,null,null,null,null,null,null,null,null,null,null,null,null,"",null,"",null,null,null,null,null,null,null,null,null,null,null,null,null,null,null,null,null,null,null,null,null,null,null,"",null,"",null,null,null,null,null,null,null,null,null,null,null,null,null,null,null,null,null,null,null,null,null,null,null,"",null,"",null,null,null,null,null,null,null,null,null,null,null,null,null,null,null,null,null,null,null,null,null,null,null,"",null,"",null,null,null,null,null,null,null,null,null,null,null,null,null,null,null,null,null,null,null,null,null,null,null,"",null,"",null,null,null,null,null,null,null,null,null,null,null,null,null,null,null,null,null,null,null,null,null,null,null,"",null,"",null,null,null,null,null,null,null,null,null,null,null,null,null,null,null,null,null,null,null,null,null,null,null,""]
[null,80,null,null,null,null,"",null,null,null,null,null,null,null,null,null,null,null,null,null,null,null,null,null,null,null,null,null,null,null,"",null,"",null,null,null,null,null,null,null,null,null,null,null,null,null,null,null,null,null,null,null,null,null,null,null,"",null,"",null,null,null,null,null,null,null,null,null,null,null,null,null,null,null,null,null,null,null,null,null,null,null,"",null,"",null,null,null,null,null,null,null,null,null,null,null,null,null,null,null,null,null,null,null,null,null,null,null,"",null,"",null,null,null,null,null,null,null,null,null,null,null,null,null,null,null,null,null,null,null,null,null,null,null,"",null,"",null,null,null,null,null,null,null,null,null,null,null,null,null,null,null,null,null,null,null,null,null,null,null,"",null,"",null,null,null,null,null,null,null,null,null,null,null,null,null,null,null,null,null,null,null,null,null,null,null,"",null,"",null,null,null,null,null,null,null,null,null,null,null,null,null,null,null,null,null,null,null,null,null,null,null,"",null,"",null,null,null,null,null,null,null,null,null,null,null,null,null,null,null,null,null,null,null,null,null,null,null,"",null,"",null,null,null,null,null,null,null,null,null,null,null,null,null,null,null,null,null,null,null,null,null,null,null,"",null,"",null,null,null,null,null,null,null,null,null,null,null,null,null,null,null,null,null,null,null,null,null,null,null,""]
[null,81,null,null,null,null,"",null,null,null,null,null,null,null,null,null,null,null,null,null,null,null,null,null,null,null,null,null,null,null,"",null,"",null,null,null,null,null,null,null,null,null,null,null,null,null,null,null,null,null,null,null,null,null,null,null,"",null,"",null,null,null,null,null,null,null,null,null,null,null,null,null,null,null,null,null,null,null,null,null,null,null,"",null,"",null,null,null,null,null,null,null,null,null,null,null,null,null,null,null,null,null,null,null,null,null,null,null,"",null,"",null,null,null,null,null,null,null,null,null,null,null,null,null,null,null,null,null,null,null,null,null,null,null,"",null,"",null,null,null,null,null,null,null,null,null,null,null,null,null,null,null,null,null,null,null,null,null,null,null,"",null,"",null,null,null,null,null,null,null,null,null,null,null,null,null,null,null,null,null,null,null,null,null,null,null,"",null,"",null,null,null,null,null,null,null,null,null,null,null,null,null,null,null,null,null,null,null,null,null,null,null,"",null,"",null,null,null,null,null,null,null,null,null,null,null,null,null,null,null,null,null,null,null,null,null,null,null,"",null,"",null,null,null,null,null,null,null,null,null,null,null,null,null,null,null,null,null,null,null,null,null,null,null,"",null,"",null,null,null,null,null,null,null,null,null,null,null,null,null,null,null,null,null,null,null,null,null,null,null,""]
[null,82,null,null,null,null,"",null,null,null,null,null,null,null,null,null,null,null,null,null,null,null,null,null,null,null,null,null,null,null,"",null,"",null,null,null,null,null,null,null,null,null,null,null,null,null,null,null,null,null,null,null,null,null,null,null,"",null,"",null,null,null,null,null,null,null,null,null,null,null,null,null,null,null,null,null,null,null,null,null,null,null,"",null,"",null,null,null,null,null,null,null,null,null,null,null,null,null,null,null,null,null,null,null,null,null,null,null,"",null,"",null,null,null,null,null,null,null,null,null,null,null,null,null,null,null,null,null,null,null,null,null,null,null,"",null,"",null,null,null,null,null,null,null,null,null,null,null,null,null,null,null,null,null,null,null,null,null,null,null,"",null,"",null,null,null,null,null,null,null,null,null,null,null,null,null,null,null,null,null,null,null,null,null,null,null,"",null,"",null,null,null,null,null,null,null,null,null,null,null,null,null,null,null,null,null,null,null,null,null,null,null,"",null,"",null,null,null,null,null,null,null,null,null,null,null,null,null,null,null,null,null,null,null,null,null,null,null,"",null,"",null,null,null,null,null,null,null,null,null,null,null,null,null,null,null,null,null,null,null,null,null,null,null,"",null,"",null,null,null,null,null,null,null,null,null,null,null,null,null,null,null,null,null,null,null,null,null,null,null,""]
[null,83,null,null,null,null,"",null,null,null,null,null,null,null,null,null,null,null,null,null,null,null,null,null,null,null,null,null,null,null,"",null,"",null,null,null,null,null,null,null,null,null,null,null,null,null,null,null,null,null,null,null,null,null,null,null,"",null,"",null,null,null,null,null,null,null,null,null,null,null,null,null,null,null,null,null,null,null,null,null,null,null,"",null,"",null,null,null,null,null,null,null,null,null,null,null,null,null,null,null,null,null,null,null,null,null,null,null,"",null,"",null,null,null,null,null,null,null,null,null,null,null,null,null,null,null,null,null,null,null,null,null,null,null,"",null,"",null,null,null,null,null,null,null,null,null,null,null,null,null,null,null,null,null,null,null,null,null,null,null,"",null,"",null,null,null,null,null,null,null,null,null,null,null,null,null,null,null,null,null,null,null,null,null,null,null,"",null,"",null,null,null,null,null,null,null,null,null,null,null,null,null,null,null,null,null,null,null,null,null,null,null,"",null,"",null,null,null,null,null,null,null,null,null,null,null,null,null,null,null,null,null,null,null,null,null,null,null,"",null,"",null,null,null,null,null,null,null,null,null,null,null,null,null,null,null,null,null,null,null,null,null,null,null,"",null,"",null,null,null,null,null,null,null,null,null,null,null,null,null,null,null,null,null,null,null,null,null,null,null,""]
[null,84,null,null,null,null,"",null,null,null,null,null,null,null,null,null,null,null,null,null,null,null,null,null,null,null,null,null,null,null,"",null,"",null,null,null,null,null,null,null,null,null,null,null,null,null,null,null,null,null,null,null,null,null,null,null,"",null,"",null,null,null,null,null,null,null,null,null,null,null,null,null,null,null,null,null,null,null,null,null,null,null,"",null,"",null,null,null,null,null,null,null,null,null,null,null,null,null,null,null,null,null,null,null,null,null,null,null,"",null,"",null,null,null,null,null,null,null,null,null,null,null,null,null,null,null,null,null,null,null,null,null,null,null,"",null,"",null,null,null,null,null,null,null,null,null,null,null,null,null,null,null,null,null,null,null,null,null,null,null,"",null,"",null,null,null,null,null,null,null,null,null,null,null,null,null,null,null,null,null,null,null,null,null,null,null,"",null,"",null,null,null,null,null,null,null,null,null,null,null,null,null,null,null,null,null,null,null,null,null,null,null,"",null,"",null,null,null,null,null,null,null,null,null,null,null,null,null,null,null,null,null,null,null,null,null,null,null,"",null,"",null,null,null,null,null,null,null,null,null,null,null,null,null,null,null,null,null,null,null,null,null,null,null,"",null,"",null,null,null,null,null,null,null,null,null,null,null,null,null,null,null,null,null,null,null,null,null,null,null,""]
[null,85,null,null,null,null,"",null,null,null,null,null,null,null,null,null,null,null,null,null,null,null,null,null,null,null,null,null,null,null,"",null,"",null,null,null,null,null,null,null,null,null,null,null,null,null,null,null,null,null,null,null,null,null,null,null,"",null,"",null,null,null,null,null,null,null,null,null,null,null,null,null,null,null,null,null,null,null,null,null,null,null,"",null,"",null,null,null,null,null,null,null,null,null,null,null,null,null,null,null,null,null,null,null,null,null,null,null,"",null,"",null,null,null,null,null,null,null,null,null,null,null,null,null,null,null,null,null,null,null,null,null,null,null,"",null,"",null,null,null,null,null,null,null,null,null,null,null,null,null,null,null,null,null,null,null,null,null,null,null,"",null,"",null,null,null,null,null,null,null,null,null,null,null,null,null,null,null,null,null,null,null,null,null,null,null,"",null,"",null,null,null,null,null,null,null,null,null,null,null,null,null,null,null,null,null,null,null,null,null,null,null,"",null,"",null,null,null,null,null,null,null,null,null,null,null,null,null,null,null,null,null,null,null,null,null,null,null,"",null,"",null,null,null,null,null,null,null,null,null,null,null,null,null,null,null,null,null,null,null,null,null,null,null,"",null,"",null,null,null,null,null,null,null,null,null,null,null,null,null,null,null,null,null,null,null,null,null,null,null,""]
[null,86,null,null,null,null,"",null,null,null,null,null,null,null,null,null,null,null,null,null,null,null,null,null,null,null,null,null,null,null,"",null,"",null,null,null,null,null,null,null,null,null,null,null,null,null,null,null,null,null,null,null,null,null,null,null,"",null,"",null,null,null,null,null,null,null,null,null,null,null,null,null,null,null,null,null,null,null,null,null,null,null,"",null,"",null,null,null,null,null,null,null,null,null,null,null,null,null,null,null,null,null,null,null,null,null,null,null,"",null,"",null,null,null,null,null,null,null,null,null,null,null,null,null,null,null,null,null,null,null,null,null,null,null,"",null,"",null,null,null,null,null,null,null,null,null,null,null,null,null,null,null,null,null,null,null,null,null,null,null,"",null,"",null,null,null,null,null,null,null,null,null,null,null,null,null,null,null,null,null,null,null,null,null,null,null,"",null,"",null,null,null,null,null,null,null,null,null,null,null,null,null,null,null,null,null,null,null,null,null,null,null,"",null,"",null,null,null,null,null,null,null,null,null,null,null,null,null,null,null,null,null,null,null,null,null,null,null,"",null,"",null,null,null,null,null,null,null,null,null,null,null,null,null,null,null,null,null,null,null,null,null,null,null,"",null,"",null,null,null,null,null,null,null,null,null,null,null,null,null,null,null,null,null,null,null,null,null,null,null,""]
[null,87,null,null,null,null,"",null,null,null,null,null,null,null,null,null,null,null,null,null,null,null,null,null,null,null,null,null,null,null,"",null,"",null,null,null,null,null,null,null,null,null,null,null,null,null,null,null,null,null,null,null,null,null,null,null,"",null,"",null,null,null,null,null,null,null,null,null,null,null,null,null,null,null,null,null,null,null,null,null,null,null,"",null,"",null,null,null,null,null,null,null,null,null,null,null,null,null,null,null,null,null,null,null,null,null,null,null,"",null,"",null,null,null,null,null,null,null,null,null,null,null,null,null,null,null,null,null,null,null,null,null,null,null,"",null,"",null,null,null,null,null,null,null,null,null,null,null,null,null,null,null,null,null,null,null,null,null,null,null,"",null,"",null,null,null,null,null,null,null,null,null,null,null,null,null,null,null,null,null,null,null,null,null,null,null,"",null,"",null,null,null,null,null,null,null,null,null,null,null,null,null,null,null,null,null,null,null,null,null,null,null,"",null,"",null,null,null,null,null,null,null,null,null,null,null,null,null,null,null,null,null,null,null,null,null,null,null,"",null,"",null,null,null,null,null,null,null,null,null,null,null,null,null,null,null,null,null,null,null,null,null,null,null,"",null,"",null,null,null,null,null,null,null,null,null,null,null,null,null,null,null,null,null,null,null,null,null,null,null,""]
[null,88,null,null,null,null,"",null,null,null,null,null,null,null,null,null,null,null,null,null,null,null,null,null,null,null,null,null,null,null,"",null,"",null,null,null,null,null,null,null,null,null,null,null,null,null,null,null,null,null,null,null,null,null,null,null,"",null,"",null,null,null,null,null,null,null,null,null,null,null,null,null,null,null,null,null,null,null,null,null,null,null,"",null,"",null,null,null,null,null,null,null,null,null,null,null,null,null,null,null,null,null,null,null,null,null,null,null,"",null,"",null,null,null,null,null,null,null,null,null,null,null,null,null,null,null,null,null,null,null,null,null,null,null,"",null,"",null,null,null,null,null,null,null,null,null,null,null,null,null,null,null,null,null,null,null,null,null,null,null,"",null,"",null,null,null,null,null,null,null,null,null,null,null,null,null,null,null,null,null,null,null,null,null,null,null,"",null,"",null,null,null,null,null,null,null,null,null,null,null,null,null,null,null,null,null,null,null,null,null,null,null,"",null,"",null,null,null,null,null,null,null,null,null,null,null,null,null,null,null,null,null,null,null,null,null,null,null,"",null,"",null,null,null,null,null,null,null,null,null,null,null,null,null,null,null,null,null,null,null,null,null,null,null,"",null,"",null,null,null,null,null,null,null,null,null,null,null,null,null,null,null,null,null,null,null,null,null,null,null,""]
[null,89,null,null,null,null,"",null,null,null,null,null,null,null,null,null,null,null,null,null,null,null,null,null,null,null,null,null,null,null,"",null,"",null,null,null,null,null,null,null,null,null,null,null,null,null,null,null,null,null,null,null,null,null,null,null,"",null,"",null,null,null,null,null,null,null,null,null,null,null,null,null,null,null,null,null,null,null,null,null,null,null,"",null,"",null,null,null,null,null,null,null,null,null,null,null,null,null,null,null,null,null,null,null,null,null,null,null,"",null,"",null,null,null,null,null,null,null,null,null,null,null,null,null,null,null,null,null,null,null,null,null,null,null,"",null,"",null,null,null,null,null,null,null,null,null,null,null,null,null,null,null,null,null,null,null,null,null,null,null,"",null,"",null,null,null,null,null,null,null,null,null,null,null,null,null,null,null,null,null,null,null,null,null,null,null,"",null,"",null,null,null,null,null,null,null,null,null,null,null,null,null,null,null,null,null,null,null,null,null,null,null,"",null,"",null,null,null,null,null,null,null,null,null,null,null,null,null,null,null,null,null,null,null,null,null,null,null,"",null,"",null,null,null,null,null,null,null,null,null,null,null,null,null,null,null,null,null,null,null,null,null,null,null,"",null,"",null,null,null,null,null,null,null,null,null,null,null,null,null,null,null,null,null,null,null,null,null,null,null,""]
[null,90,null,null,null,null,"",null,null,null,null,null,null,null,null,null,null,null,null,null,null,null,null,null,null,null,null,null,null,null,"",null,"",null,null,null,null,null,null,null,null,null,null,null,null,null,null,null,null,null,null,null,null,null,null,null,"",null,"",null,null,null,null,null,null,null,null,null,null,null,null,null,null,null,null,null,null,null,null,null,null,null,"",null,"",null,null,null,null,null,null,null,null,null,null,null,null,null,null,null,null,null,null,null,null,null,null,null,"",null,"",null,null,null,null,null,null,null,null,null,null,null,null,null,null,null,null,null,null,null,null,null,null,null,"",null,"",null,null,null,null,null,null,null,null,null,null,null,null,null,null,null,null,null,null,null,null,null,null,null,"",null,"",null,null,null,null,null,null,null,null,null,null,null,null,null,null,null,null,null,null,null,null,null,null,null,"",null,"",null,null,null,null,null,null,null,null,null,null,null,null,null,null,null,null,null,null,null,null,null,null,null,"",null,"",null,null,null,null,null,null,null,null,null,null,null,null,null,null,null,null,null,null,null,null,null,null,null,"",null,"",null,null,null,null,null,null,null,null,null,null,null,null,null,null,null,null,null,null,null,null,null,null,null,"",null,"",null,null,null,null,null,null,null,null,null,null,null,null,null,null,null,null,null,null,null,null,null,null,null,""]
[null,91,null,null,null,null,"",null,null,null,null,null,null,null,null,null,null,null,null,null,null,null,null,null,null,null,null,null,null,null,"",null,"",null,null,null,null,null,null,null,null,null,null,null,null,null,null,null,null,null,null,null,null,null,null,null,"",null,"",null,null,null,null,null,null,null,null,null,null,null,null,null,null,null,null,null,null,null,null,null,null,null,"",null,"",null,null,null,null,null,null,null,null,null,null,null,null,null,null,null,null,null,null,null,null,null,null,null,"",null,"",null,null,null,null,null,null,null,null,null,null,null,null,null,null,null,null,null,null,null,null,null,null,null,"",null,"",null,null,null,null,null,null,null,null,null,null,null,null,null,null,null,null,null,null,null,null,null,null,null,"",null,"",null,null,null,null,null,null,null,null,null,null,null,null,null,null,null,null,null,null,null,null,null,null,null,"",null,"",null,null,null,null,null,null,null,null,null,null,null,null,null,null,null,null,null,null,null,null,null,null,null,"",null,"",null,null,null,null,null,null,null,null,null,null,null,null,null,null,null,null,null,null,null,null,null,null,null,"",null,"",null,null,null,null,null,null,null,null,null,null,null,null,null,null,null,null,null,null,null,null,null,null,null,"",null,"",null,null,null,null,null,null,null,null,null,null,null,null,null,null,null,null,null,null,null,null,null,null,null,""]
[null,92,null,null,null,null,"",null,null,null,null,null,null,null,null,null,null,null,null,null,null,null,null,null,null,null,null,null,null,null,"",null,"",null,null,null,null,null,null,null,null,null,null,null,null,null,null,null,null,null,null,null,null,null,null,null,"",null,"",null,null,null,null,null,null,null,null,null,null,null,null,null,null,null,null,null,null,null,null,null,null,null,"",null,"",null,null,null,null,null,null,null,null,null,null,null,null,null,null,null,null,null,null,null,null,null,null,null,"",null,"",null,null,null,null,null,null,null,null,null,null,null,null,null,null,null,null,null,null,null,null,null,null,null,"",null,"",null,null,null,null,null,null,null,null,null,null,null,null,null,null,null,null,null,null,null,null,null,null,null,"",null,"",null,null,null,null,null,null,null,null,null,null,null,null,null,null,null,null,null,null,null,null,null,null,null,"",null,"",null,null,null,null,null,null,null,null,null,null,null,null,null,null,null,null,null,null,null,null,null,null,null,"",null,"",null,null,null,null,null,null,null,null,null,null,null,null,null,null,null,null,null,null,null,null,null,null,null,"",null,"",null,null,null,null,null,null,null,null,null,null,null,null,null,null,null,null,null,null,null,null,null,null,null,"",null,"",null,null,null,null,null,null,null,null,null,null,null,null,null,null,null,null,null,null,null,null,null,null,null,""]
[null,93,null,null,null,null,"",null,null,null,null,null,null,null,null,null,null,null,null,null,null,null,null,null,null,null,null,null,null,null,"",null,"",null,null,null,null,null,null,null,null,null,null,null,null,null,null,null,null,null,null,null,null,null,null,null,"",null,"",null,null,null,null,null,null,null,null,null,null,null,null,null,null,null,null,null,null,null,null,null,null,null,"",null,"",null,null,null,null,null,null,null,null,null,null,null,null,null,null,null,null,null,null,null,null,null,null,null,"",null,"",null,null,null,null,null,null,null,null,null,null,null,null,null,null,null,null,null,null,null,null,null,null,null,"",null,"",null,null,null,null,null,null,null,null,null,null,null,null,null,null,null,null,null,null,null,null,null,null,null,"",null,"",null,null,null,null,null,null,null,null,null,null,null,null,null,null,null,null,null,null,null,null,null,null,null,"",null,"",null,null,null,null,null,null,null,null,null,null,null,null,null,null,null,null,null,null,null,null,null,null,null,"",null,"",null,null,null,null,null,null,null,null,null,null,null,null,null,null,null,null,null,null,null,null,null,null,null,"",null,"",null,null,null,null,null,null,null,null,null,null,null,null,null,null,null,null,null,null,null,null,null,null,null,"",null,"",null,null,null,null,null,null,null,null,null,null,null,null,null,null,null,null,null,null,null,null,null,null,null,""]
[null,94,null,null,null,null,"",null,null,null,null,null,null,null,null,null,null,null,null,null,null,null,null,null,null,null,null,null,null,null,"",null,"",null,null,null,null,null,null,null,null,null,null,null,null,null,null,null,null,null,null,null,null,null,null,null,"",null,"",null,null,null,null,null,null,null,null,null,null,null,null,null,null,null,null,null,null,null,null,null,null,null,"",null,"",null,null,null,null,null,null,null,null,null,null,null,null,null,null,null,null,null,null,null,null,null,null,null,"",null,"",null,null,null,null,null,null,null,null,null,null,null,null,null,null,null,null,null,null,null,null,null,null,null,"",null,"",null,null,null,null,null,null,null,null,null,null,null,null,null,null,null,null,null,null,null,null,null,null,null,"",null,"",null,null,null,null,null,null,null,null,null,null,null,null,null,null,null,null,null,null,null,null,null,null,null,"",null,"",null,null,null,null,null,null,null,null,null,null,null,null,null,null,null,null,null,null,null,null,null,null,null,"",null,"",null,null,null,null,null,null,null,null,null,null,null,null,null,null,null,null,null,null,null,null,null,null,null,"",null,"",null,null,null,null,null,null,null,null,null,null,null,null,null,null,null,null,null,null,null,null,null,null,null,"",null,"",null,null,null,null,null,null,null,null,null,null,null,null,null,null,null,null,null,null,null,null,null,null,null,""]
[null,95,null,null,null,null,"",null,null,null,null,null,null,null,null,null,null,null,null,null,null,null,null,null,null,null,null,null,null,null,"",null,"",null,null,null,null,null,null,null,null,null,null,null,null,null,null,null,null,null,null,null,null,null,null,null,"",null,"",null,null,null,null,null,null,null,null,null,null,null,null,null,null,null,null,null,null,null,null,null,null,null,"",null,"",null,null,null,null,null,null,null,null,null,null,null,null,null,null,null,null,null,null,null,null,null,null,null,"",null,"",null,null,null,null,null,null,null,null,null,null,null,null,null,null,null,null,null,null,null,null,null,null,null,"",null,"",null,null,null,null,null,null,null,null,null,null,null,null,null,null,null,null,null,null,null,null,null,null,null,"",null,"",null,null,null,null,null,null,null,null,null,null,null,null,null,null,null,null,null,null,null,null,null,null,null,"",null,"",null,null,null,null,null,null,null,null,null,null,null,null,null,null,null,null,null,null,null,null,null,null,null,"",null,"",null,null,null,null,null,null,null,null,null,null,null,null,null,null,null,null,null,null,null,null,null,null,null,"",null,"",null,null,null,null,null,null,null,null,null,null,null,null,null,null,null,null,null,null,null,null,null,null,null,"",null,"",null,null,null,null,null,null,null,null,null,null,null,null,null,null,null,null,null,null,null,null,null,null,null,""]
[null,96,null,null,null,null,"",null,null,null,null,null,null,null,null,null,null,null,null,null,null,null,null,null,null,null,null,null,null,null,"",null,"",null,null,null,null,null,null,null,null,null,null,null,null,null,null,null,null,null,null,null,null,null,null,null,"",null,"",null,null,null,null,null,null,null,null,null,null,null,null,null,null,null,null,null,null,null,null,null,null,null,"",null,"",null,null,null,null,null,null,null,null,null,null,null,null,null,null,null,null,null,null,null,null,null,null,null,"",null,"",null,null,null,null,null,null,null,null,null,null,null,null,null,null,null,null,null,null,null,null,null,null,null,"",null,"",null,null,null,null,null,null,null,null,null,null,null,null,null,null,null,null,null,null,null,null,null,null,null,"",null,"",null,null,null,null,null,null,null,null,null,null,null,null,null,null,null,null,null,null,null,null,null,null,null,"",null,"",null,null,null,null,null,null,null,null,null,null,null,null,null,null,null,null,null,null,null,null,null,null,null,"",null,"",null,null,null,null,null,null,null,null,null,null,null,null,null,null,null,null,null,null,null,null,null,null,null,"",null,"",null,null,null,null,null,null,null,null,null,null,null,null,null,null,null,null,null,null,null,null,null,null,null,"",null,"",null,null,null,null,null,null,null,null,null,null,null,null,null,null,null,null,null,null,null,null,null,null,null,""]
[null,97,null,null,null,null,"",null,null,null,null,null,null,null,null,null,null,null,null,null,null,null,null,null,null,null,null,null,null,null,"",null,"",null,null,null,null,null,null,null,null,null,null,null,null,null,null,null,null,null,null,null,null,null,null,null,"",null,"",null,null,null,null,null,null,null,null,null,null,null,null,null,null,null,null,null,null,null,null,null,null,null,"",null,"",null,null,null,null,null,null,null,null,null,null,null,null,null,null,null,null,null,null,null,null,null,null,null,"",null,"",null,null,null,null,null,null,null,null,null,null,null,null,null,null,null,null,null,null,null,null,null,null,null,"",null,"",null,null,null,null,null,null,null,null,null,null,null,null,null,null,null,null,null,null,null,null,null,null,null,"",null,"",null,null,null,null,null,null,null,null,null,null,null,null,null,null,null,null,null,null,null,null,null,null,null,"",null,"",null,null,null,null,null,null,null,null,null,null,null,null,null,null,null,null,null,null,null,null,null,null,null,"",null,"",null,null,null,null,null,null,null,null,null,null,null,null,null,null,null,null,null,null,null,null,null,null,null,"",null,"",null,null,null,null,null,null,null,null,null,null,null,null,null,null,null,null,null,null,null,null,null,null,null,"",null,"",null,null,null,null,null,null,null,null,null,null,null,null,null,null,null,null,null,null,null,null,null,null,null,""]
[null,98,null,null,null,null,"",null,null,null,null,null,null,null,null,null,null,null,null,null,null,null,null,null,null,null,null,null,null,null,"",null,"",null,null,null,null,null,null,null,null,null,null,null,null,null,null,null,null,null,null,null,null,null,null,null,"",null,"",null,null,null,null,null,null,null,null,null,null,null,null,null,null,null,null,null,null,null,null,null,null,null,"",null,"",null,null,null,null,null,null,null,null,null,null,null,null,null,null,null,null,null,null,null,null,null,null,null,"",null,"",null,null,null,null,null,null,null,null,null,null,null,null,null,null,null,null,null,null,null,null,null,null,null,"",null,"",null,null,null,null,null,null,null,null,null,null,null,null,null,null,null,null,null,null,null,null,null,null,null,"",null,"",null,null,null,null,null,null,null,null,null,null,null,null,null,null,null,null,null,null,null,null,null,null,null,"",null,"",null,null,null,null,null,null,null,null,null,null,null,null,null,null,null,null,null,null,null,null,null,null,null,"",null,"",null,null,null,null,null,null,null,null,null,null,null,null,null,null,null,null,null,null,null,null,null,null,null,"",null,"",null,null,null,null,null,null,null,null,null,null,null,null,null,null,null,null,null,null,null,null,null,null,null,"",null,"",null,null,null,null,null,null,null,null,null,null,null,null,null,null,null,null,null,null,null,null,null,null,null,""]
[null,99,null,null,null,null,"",null,null,null,null,null,null,null,null,null,null,null,null,null,null,null,null,null,null,null,null,null,null,null,"",null,"",null,null,null,null,null,null,null,null,null,null,null,null,null,null,null,null,null,null,null,null,null,null,null,"",null,"",null,null,null,null,null,null,null,null,null,null,null,null,null,null,null,null,null,null,null,null,null,null,null,"",null,"",null,null,null,null,null,null,null,null,null,null,null,null,null,null,null,null,null,null,null,null,null,null,null,"",null,"",null,null,null,null,null,null,null,null,null,null,null,null,null,null,null,null,null,null,null,null,null,null,null,"",null,"",null,null,null,null,null,null,null,null,null,null,null,null,null,null,null,null,null,null,null,null,null,null,null,"",null,"",null,null,null,null,null,null,null,null,null,null,null,null,null,null,null,null,null,null,null,null,null,null,null,"",null,"",null,null,null,null,null,null,null,null,null,null,null,null,null,null,null,null,null,null,null,null,null,null,null,"",null,"",null,null,null,null,null,null,null,null,null,null,null,null,null,null,null,null,null,null,null,null,null,null,null,"",null,"",null,null,null,null,null,null,null,null,null,null,null,null,null,null,null,null,null,null,null,null,null,null,null,"",null,"",null,null,null,null,null,null,null,null,null,null,null,null,null,null,null,null,null,null,null,null,null,null,null,""]
[null,100,null,null,null,null,"",null,null,null,null,null,null,null,null,null,null,null,null,null,null,null,null,null,null,null,null,null,null,null,"",null,"",null,null,null,null,null,null,null,null,null,null,null,null,null,null,null,null,null,null,null,null,null,null,null,"",null,"",null,null,null,null,null,null,null,null,null,null,null,null,null,null,null,null,null,null,null,null,null,null,null,"",null,"",null,null,null,null,null,null,null,null,null,null,null,null,null,null,null,null,null,null,null,null,null,null,null,"",null,"",null,null,null,null,null,null,null,null,null,null,null,null,null,null,null,null,null,null,null,null,null,null,null,"",null,"",null,null,null,null,null,null,null,null,null,null,null,null,null,null,null,null,null,null,null,null,null,null,null,"",null,"",null,null,null,null,null,null,null,null,null,null,null,null,null,null,null,null,null,null,null,null,null,null,null,"",null,"",null,null,null,null,null,null,null,null,null,null,null,null,null,null,null,null,null,null,null,null,null,null,null,"",null,"",null,null,null,null,null,null,null,null,null,null,null,null,null,null,null,null,null,null,null,null,null,null,null,"",null,"",null,null,null,null,null,null,null,null,null,null,null,null,null,null,null,null,null,null,null,null,null,null,null,"",null,"",null,null,null,null,null,null,null,null,null,null,null,null,null,null,null,null,null,null,null,null,null,null,null,""]
[null,101,null,null,null,null,"",null,null,null,null,null,null,null,null,null,null,null,null,null,null,null,null,null,null,null,null,null,null,null,"",null,"",null,null,null,null,null,null,null,null,null,null,null,null,null,null,null,null,null,null,null,null,null,null,null,"",null,"",null,null,null,null,null,null,null,null,null,null,null,null,null,null,null,null,null,null,null,null,null,null,null,"",null,"",null,null,null,null,null,null,null,null,null,null,null,null,null,null,null,null,null,null,null,null,null,null,null,"",null,"",null,null,null,null,null,null,null,null,null,null,null,null,null,null,null,null,null,null,null,null,null,null,null,"",null,"",null,null,null,null,null,null,null,null,null,null,null,null,null,null,null,null,null,null,null,null,null,null,null,"",null,"",null,null,null,null,null,null,null,null,null,null,null,null,null,null,null,null,null,null,null,null,null,null,null,"",null,"",null,null,null,null,null,null,null,null,null,null,null,null,null,null,null,null,null,null,null,null,null,null,null,"",null,"",null,null,null,null,null,null,null,null,null,null,null,null,null,null,null,null,null,null,null,null,null,null,null,"",null,"",null,null,null,null,null,null,null,null,null,null,null,null,null,null,null,null,null,null,null,null,null,null,null,"",null,"",null,null,null,null,null,null,null,null,null,null,null,null,null,null,null,null,null,null,null,null,null,null,null,""]
[null,102,null,null,null,null,"",null,null,null,null,null,null,null,null,null,null,null,null,null,null,null,null,null,null,null,null,null,null,null,"",null,"",null,null,null,null,null,null,null,null,null,null,null,null,null,null,null,null,null,null,null,null,null,null,null,"",null,"",null,null,null,null,null,null,null,null,null,null,null,null,null,null,null,null,null,null,null,null,null,null,null,"",null,"",null,null,null,null,null,null,null,null,null,null,null,null,null,null,null,null,null,null,null,null,null,null,null,"",null,"",null,null,null,null,null,null,null,null,null,null,null,null,null,null,null,null,null,null,null,null,null,null,null,"",null,"",null,null,null,null,null,null,null,null,null,null,null,null,null,null,null,null,null,null,null,null,null,null,null,"",null,"",null,null,null,null,null,null,null,null,null,null,null,null,null,null,null,null,null,null,null,null,null,null,null,"",null,"",null,null,null,null,null,null,null,null,null,null,null,null,null,null,null,null,null,null,null,null,null,null,null,"",null,"",null,null,null,null,null,null,null,null,null,null,null,null,null,null,null,null,null,null,null,null,null,null,null,"",null,"",null,null,null,null,null,null,null,null,null,null,null,null,null,null,null,null,null,null,null,null,null,null,null,"",null,"",null,null,null,null,null,null,null,null,null,null,null,null,null,null,null,null,null,null,null,null,null,null,null,""]
[null,103,null,null,null,null,"",null,null,null,null,null,null,null,null,null,null,null,null,null,null,null,null,null,null,null,null,null,null,null,"",null,"",null,null,null,null,null,null,null,null,null,null,null,null,null,null,null,null,null,null,null,null,null,null,null,"",null,"",null,null,null,null,null,null,null,null,null,null,null,null,null,null,null,null,null,null,null,null,null,null,null,"",null,"",null,null,null,null,null,null,null,null,null,null,null,null,null,null,null,null,null,null,null,null,null,null,null,"",null,"",null,null,null,null,null,null,null,null,null,null,null,null,null,null,null,null,null,null,null,null,null,null,null,"",null,"",null,null,null,null,null,null,null,null,null,null,null,null,null,null,null,null,null,null,null,null,null,null,null,"",null,"",null,null,null,null,null,null,null,null,null,null,null,null,null,null,null,null,null,null,null,null,null,null,null,"",null,"",null,null,null,null,null,null,null,null,null,null,null,null,null,null,null,null,null,null,null,null,null,null,null,"",null,"",null,null,null,null,null,null,null,null,null,null,null,null,null,null,null,null,null,null,null,null,null,null,null,"",null,"",null,null,null,null,null,null,null,null,null,null,null,null,null,null,null,null,null,null,null,null,null,null,null,"",null,"",null,null,null,null,null,null,null,null,null,null,null,null,null,null,null,null,null,null,null,null,null,null,null,""]
[null,104,null,null,null,null,"",null,null,null,null,null,null,null,null,null,null,null,null,null,null,null,null,null,null,null,null,null,null,null,"",null,"",null,null,null,null,null,null,null,null,null,null,null,null,null,null,null,null,null,null,null,null,null,null,null,"",null,"",null,null,null,null,null,null,null,null,null,null,null,null,null,null,null,null,null,null,null,null,null,null,null,"",null,"",null,null,null,null,null,null,null,null,null,null,null,null,null,null,null,null,null,null,null,null,null,null,null,"",null,"",null,null,null,null,null,null,null,null,null,null,null,null,null,null,null,null,null,null,null,null,null,null,null,"",null,"",null,null,null,null,null,null,null,null,null,null,null,null,null,null,null,null,null,null,null,null,null,null,null,"",null,"",null,null,null,null,null,null,null,null,null,null,null,null,null,null,null,null,null,null,null,null,null,null,null,"",null,"",null,null,null,null,null,null,null,null,null,null,null,null,null,null,null,null,null,null,null,null,null,null,null,"",null,"",null,null,null,null,null,null,null,null,null,null,null,null,null,null,null,null,null,null,null,null,null,null,null,"",null,"",null,null,null,null,null,null,null,null,null,null,null,null,null,null,null,null,null,null,null,null,null,null,null,"",null,"",null,null,null,null,null,null,null,null,null,null,null,null,null,null,null,null,null,null,null,null,null,null,null,""]
[null,105,null,null,null,null,"",null,null,null,null,null,null,null,null,null,null,null,null,null,null,null,null,null,null,null,null,null,null,null,"",null,"",null,null,null,null,null,null,null,null,null,null,null,null,null,null,null,null,null,null,null,null,null,null,null,"",null,"",null,null,null,null,null,null,null,null,null,null,null,null,null,null,null,null,null,null,null,null,null,null,null,"",null,"",null,null,null,null,null,null,null,null,null,null,null,null,null,null,null,null,null,null,null,null,null,null,null,"",null,"",null,null,null,null,null,null,null,null,null,null,null,null,null,null,null,null,null,null,null,null,null,null,null,"",null,"",null,null,null,null,null,null,null,null,null,null,null,null,null,null,null,null,null,null,null,null,null,null,null,"",null,"",null,null,null,null,null,null,null,null,null,null,null,null,null,null,null,null,null,null,null,null,null,null,null,"",null,"",null,null,null,null,null,null,null,null,null,null,null,null,null,null,null,null,null,null,null,null,null,null,null,"",null,"",null,null,null,null,null,null,null,null,null,null,null,null,null,null,null,null,null,null,null,null,null,null,null,"",null,"",null,null,null,null,null,null,null,null,null,null,null,null,null,null,null,null,null,null,null,null,null,null,null,"",null,"",null,null,null,null,null,null,null,null,null,null,null,null,null,null,null,null,null,null,null,null,null,null,null,""]
[null,106,null,null,null,null,"",null,null,null,null,null,null,null,null,null,null,null,null,null,null,null,null,null,null,null,null,null,null,null,"",null,"",null,null,null,null,null,null,null,null,null,null,null,null,null,null,null,null,null,null,null,null,null,null,null,"",null,"",null,null,null,null,null,null,null,null,null,null,null,null,null,null,null,null,null,null,null,null,null,null,null,"",null,"",null,null,null,null,null,null,null,null,null,null,null,null,null,null,null,null,null,null,null,null,null,null,null,"",null,"",null,null,null,null,null,null,null,null,null,null,null,null,null,null,null,null,null,null,null,null,null,null,null,"",null,"",null,null,null,null,null,null,null,null,null,null,null,null,null,null,null,null,null,null,null,null,null,null,null,"",null,"",null,null,null,null,null,null,null,null,null,null,null,null,null,null,null,null,null,null,null,null,null,null,null,"",null,"",null,null,null,null,null,null,null,null,null,null,null,null,null,null,null,null,null,null,null,null,null,null,null,"",null,"",null,null,null,null,null,null,null,null,null,null,null,null,null,null,null,null,null,null,null,null,null,null,null,"",null,"",null,null,null,null,null,null,null,null,null,null,null,null,null,null,null,null,null,null,null,null,null,null,null,"",null,"",null,null,null,null,null,null,null,null,null,null,null,null,null,null,null,null,null,null,null,null,null,null,null,""]
[null,107,null,null,null,null,"",null,null,null,null,null,null,null,null,null,null,null,null,null,null,null,null,null,null,null,null,null,null,null,"",null,"",null,null,null,null,null,null,null,null,null,null,null,null,null,null,null,null,null,null,null,null,null,null,null,"",null,"",null,null,null,null,null,null,null,null,null,null,null,null,null,null,null,null,null,null,null,null,null,null,null,"",null,"",null,null,null,null,null,null,null,null,null,null,null,null,null,null,null,null,null,null,null,null,null,null,null,"",null,"",null,null,null,null,null,null,null,null,null,null,null,null,null,null,null,null,null,null,null,null,null,null,null,"",null,"",null,null,null,null,null,null,null,null,null,null,null,null,null,null,null,null,null,null,null,null,null,null,null,"",null,"",null,null,null,null,null,null,null,null,null,null,null,null,null,null,null,null,null,null,null,null,null,null,null,"",null,"",null,null,null,null,null,null,null,null,null,null,null,null,null,null,null,null,null,null,null,null,null,null,null,"",null,"",null,null,null,null,null,null,null,null,null,null,null,null,null,null,null,null,null,null,null,null,null,null,null,"",null,"",null,null,null,null,null,null,null,null,null,null,null,null,null,null,null,null,null,null,null,null,null,null,null,"",null,"",null,null,null,null,null,null,null,null,null,null,null,null,null,null,null,null,null,null,null,null,null,null,null,""]
[null,108,null,null,null,null,"",null,null,null,null,null,null,null,null,null,null,null,null,null,null,null,null,null,null,null,null,null,null,null,"",null,"",null,null,null,null,null,null,null,null,null,null,null,null,null,null,null,null,null,null,null,null,null,null,null,"",null,"",null,null,null,null,null,null,null,null,null,null,null,null,null,null,null,null,null,null,null,null,null,null,null,"",null,"",null,null,null,null,null,null,null,null,null,null,null,null,null,null,null,null,null,null,null,null,null,null,null,"",null,"",null,null,null,null,null,null,null,null,null,null,null,null,null,null,null,null,null,null,null,null,null,null,null,"",null,"",null,null,null,null,null,null,null,null,null,null,null,null,null,null,null,null,null,null,null,null,null,null,null,"",null,"",null,null,null,null,null,null,null,null,null,null,null,null,null,null,null,null,null,null,null,null,null,null,null,"",null,"",null,null,null,null,null,null,null,null,null,null,null,null,null,null,null,null,null,null,null,null,null,null,null,"",null,"",null,null,null,null,null,null,null,null,null,null,null,null,null,null,null,null,null,null,null,null,null,null,null,"",null,"",null,null,null,null,null,null,null,null,null,null,null,null,null,null,null,null,null,null,null,null,null,null,null,"",null,"",null,null,null,null,null,null,null,null,null,null,null,null,null,null,null,null,null,null,null,null,null,null,null,""]
[null,109,null,null,null,null,"",null,null,null,null,null,null,null,null,null,null,null,null,null,null,null,null,null,null,null,null,null,null,null,"",null,"",null,null,null,null,null,null,null,null,null,null,null,null,null,null,null,null,null,null,null,null,null,null,null,"",null,"",null,null,null,null,null,null,null,null,null,null,null,null,null,null,null,null,null,null,null,null,null,null,null,"",null,"",null,null,null,null,null,null,null,null,null,null,null,null,null,null,null,null,null,null,null,null,null,null,null,"",null,"",null,null,null,null,null,null,null,null,null,null,null,null,null,null,null,null,null,null,null,null,null,null,null,"",null,"",null,null,null,null,null,null,null,null,null,null,null,null,null,null,null,null,null,null,null,null,null,null,null,"",null,"",null,null,null,null,null,null,null,null,null,null,null,null,null,null,null,null,null,null,null,null,null,null,null,"",null,"",null,null,null,null,null,null,null,null,null,null,null,null,null,null,null,null,null,null,null,null,null,null,null,"",null,"",null,null,null,null,null,null,null,null,null,null,null,null,null,null,null,null,null,null,null,null,null,null,null,"",null,"",null,null,null,null,null,null,null,null,null,null,null,null,null,null,null,null,null,null,null,null,null,null,null,"",null,"",null,null,null,null,null,null,null,null,null,null,null,null,null,null,null,null,null,null,null,null,null,null,null,""]
[null,110,null,null,null,null,"",null,null,null,null,null,null,null,null,null,null,null,null,null,null,null,null,null,null,null,null,null,null,null,"",null,"",null,null,null,null,null,null,null,null,null,null,null,null,null,null,null,null,null,null,null,null,null,null,null,"",null,"",null,null,null,null,null,null,null,null,null,null,null,null,null,null,null,null,null,null,null,null,null,null,null,"",null,"",null,null,null,null,null,null,null,null,null,null,null,null,null,null,null,null,null,null,null,null,null,null,null,"",null,"",null,null,null,null,null,null,null,null,null,null,null,null,null,null,null,null,null,null,null,null,null,null,null,"",null,"",null,null,null,null,null,null,null,null,null,null,null,null,null,null,null,null,null,null,null,null,null,null,null,"",null,"",null,null,null,null,null,null,null,null,null,null,null,null,null,null,null,null,null,null,null,null,null,null,null,"",null,"",null,null,null,null,null,null,null,null,null,null,null,null,null,null,null,null,null,null,null,null,null,null,null,"",null,"",null,null,null,null,null,null,null,null,null,null,null,null,null,null,null,null,null,null,null,null,null,null,null,"",null,"",null,null,null,null,null,null,null,null,null,null,null,null,null,null,null,null,null,null,null,null,null,null,null,"",null,"",null,null,null,null,null,null,null,null,null,null,null,null,null,null,null,null,null,null,null,null,null,null,null,""]
[null,111,null,null,null,null,"",null,null,null,null,null,null,null,null,null,null,null,null,null,null,null,null,null,null,null,null,null,null,null,"",null,"",null,null,null,null,null,null,null,null,null,null,null,null,null,null,null,null,null,null,null,null,null,null,null,"",null,"",null,null,null,null,null,null,null,null,null,null,null,null,null,null,null,null,null,null,null,null,null,null,null,"",null,"",null,null,null,null,null,null,null,null,null,null,null,null,null,null,null,null,null,null,null,null,null,null,null,"",null,"",null,null,null,null,null,null,null,null,null,null,null,null,null,null,null,null,null,null,null,null,null,null,null,"",null,"",null,null,null,null,null,null,null,null,null,null,null,null,null,null,null,null,null,null,null,null,null,null,null,"",null,"",null,null,null,null,null,null,null,null,null,null,null,null,null,null,null,null,null,null,null,null,null,null,null,"",null,"",null,null,null,null,null,null,null,null,null,null,null,null,null,null,null,null,null,null,null,null,null,null,null,"",null,"",null,null,null,null,null,null,null,null,null,null,null,null,null,null,null,null,null,null,null,null,null,null,null,"",null,"",null,null,null,null,null,null,null,null,null,null,null,null,null,null,null,null,null,null,null,null,null,null,null,"",null,"",null,null,null,null,null,null,null,null,null,null,null,null,null,null,null,null,null,null,null,null,null,null,null,""]
[null,112,null,null,null,null,"",null,null,null,null,null,null,null,null,null,null,null,null,null,null,null,null,null,null,null,null,null,null,null,"",null,"",null,null,null,null,null,null,null,null,null,null,null,null,null,null,null,null,null,null,null,null,null,null,null,"",null,"",null,null,null,null,null,null,null,null,null,null,null,null,null,null,null,null,null,null,null,null,null,null,null,"",null,"",null,null,null,null,null,null,null,null,null,null,null,null,null,null,null,null,null,null,null,null,null,null,null,"",null,"",null,null,null,null,null,null,null,null,null,null,null,null,null,null,null,null,null,null,null,null,null,null,null,"",null,"",null,null,null,null,null,null,null,null,null,null,null,null,null,null,null,null,null,null,null,null,null,null,null,"",null,"",null,null,null,null,null,null,null,null,null,null,null,null,null,null,null,null,null,null,null,null,null,null,null,"",null,"",null,null,null,null,null,null,null,null,null,null,null,null,null,null,null,null,null,null,null,null,null,null,null,"",null,"",null,null,null,null,null,null,null,null,null,null,null,null,null,null,null,null,null,null,null,null,null,null,null,"",null,"",null,null,null,null,null,null,null,null,null,null,null,null,null,null,null,null,null,null,null,null,null,null,null,"",null,"",null,null,null,null,null,null,null,null,null,null,null,null,null,null,null,null,null,null,null,null,null,null,null,""]
[null,113,null,null,null,null,"",null,null,null,null,null,null,null,null,null,null,null,null,null,null,null,null,null,null,null,null,null,null,null,"",null,"",null,null,null,null,null,null,null,null,null,null,null,null,null,null,null,null,null,null,null,null,null,null,null,"",null,"",null,null,null,null,null,null,null,null,null,null,null,null,null,null,null,null,null,null,null,null,null,null,null,"",null,"",null,null,null,null,null,null,null,null,null,null,null,null,null,null,null,null,null,null,null,null,null,null,null,"",null,"",null,null,null,null,null,null,null,null,null,null,null,null,null,null,null,null,null,null,null,null,null,null,null,"",null,"",null,null,null,null,null,null,null,null,null,null,null,null,null,null,null,null,null,null,null,null,null,null,null,"",null,"",null,null,null,null,null,null,null,null,null,null,null,null,null,null,null,null,null,null,null,null,null,null,null,"",null,"",null,null,null,null,null,null,null,null,null,null,null,null,null,null,null,null,null,null,null,null,null,null,null,"",null,"",null,null,null,null,null,null,null,null,null,null,null,null,null,null,null,null,null,null,null,null,null,null,null,"",null,"",null,null,null,null,null,null,null,null,null,null,null,null,null,null,null,null,null,null,null,null,null,null,null,"",null,"",null,null,null,null,null,null,null,null,null,null,null,null,null,null,null,null,null,null,null,null,null,null,null,""]
[null,114,null,null,null,null,"",null,null,null,null,null,null,null,null,null,null,null,null,null,null,null,null,null,null,null,null,null,null,null,"",null,"",null,null,null,null,null,null,null,null,null,null,null,null,null,null,null,null,null,null,null,null,null,null,null,"",null,"",null,null,null,null,null,null,null,null,null,null,null,null,null,null,null,null,null,null,null,null,null,null,null,"",null,"",null,null,null,null,null,null,null,null,null,null,null,null,null,null,null,null,null,null,null,null,null,null,null,"",null,"",null,null,null,null,null,null,null,null,null,null,null,null,null,null,null,null,null,null,null,null,null,null,null,"",null,"",null,null,null,null,null,null,null,null,null,null,null,null,null,null,null,null,null,null,null,null,null,null,null,"",null,"",null,null,null,null,null,null,null,null,null,null,null,null,null,null,null,null,null,null,null,null,null,null,null,"",null,"",null,null,null,null,null,null,null,null,null,null,null,null,null,null,null,null,null,null,null,null,null,null,null,"",null,"",null,null,null,null,null,null,null,null,null,null,null,null,null,null,null,null,null,null,null,null,null,null,null,"",null,"",null,null,null,null,null,null,null,null,null,null,null,null,null,null,null,null,null,null,null,null,null,null,null,"",null,"",null,null,null,null,null,null,null,null,null,null,null,null,null,null,null,null,null,null,null,null,null,null,null,""]
[null,115,null,null,null,null,"",null,null,null,null,null,null,null,null,null,null,null,null,null,null,null,null,null,null,null,null,null,null,null,"",null,"",null,null,null,null,null,null,null,null,null,null,null,null,null,null,null,null,null,null,null,null,null,null,null,"",null,"",null,null,null,null,null,null,null,null,null,null,null,null,null,null,null,null,null,null,null,null,null,null,null,"",null,"",null,null,null,null,null,null,null,null,null,null,null,null,null,null,null,null,null,null,null,null,null,null,null,"",null,"",null,null,null,null,null,null,null,null,null,null,null,null,null,null,null,null,null,null,null,null,null,null,null,"",null,"",null,null,null,null,null,null,null,null,null,null,null,null,null,null,null,null,null,null,null,null,null,null,null,"",null,"",null,null,null,null,null,null,null,null,null,null,null,null,null,null,null,null,null,null,null,null,null,null,null,"",null,"",null,null,null,null,null,null,null,null,null,null,null,null,null,null,null,null,null,null,null,null,null,null,null,"",null,"",null,null,null,null,null,null,null,null,null,null,null,null,null,null,null,null,null,null,null,null,null,null,null,"",null,"",null,null,null,null,null,null,null,null,null,null,null,null,null,null,null,null,null,null,null,null,null,null,null,"",null,"",null,null,null,null,null,null,null,null,null,null,null,null,null,null,null,null,null,null,null,null,null,null,null,""]
[null,116,null,null,null,null,"",null,null,null,null,null,null,null,null,null,null,null,null,null,null,null,null,null,null,null,null,null,null,null,"",null,"",null,null,null,null,null,null,null,null,null,null,null,null,null,null,null,null,null,null,null,null,null,null,null,"",null,"",null,null,null,null,null,null,null,null,null,null,null,null,null,null,null,null,null,null,null,null,null,null,null,"",null,"",null,null,null,null,null,null,null,null,null,null,null,null,null,null,null,null,null,null,null,null,null,null,null,"",null,"",null,null,null,null,null,null,null,null,null,null,null,null,null,null,null,null,null,null,null,null,null,null,null,"",null,"",null,null,null,null,null,null,null,null,null,null,null,null,null,null,null,null,null,null,null,null,null,null,null,"",null,"",null,null,null,null,null,null,null,null,null,null,null,null,null,null,null,null,null,null,null,null,null,null,null,"",null,"",null,null,null,null,null,null,null,null,null,null,null,null,null,null,null,null,null,null,null,null,null,null,null,"",null,"",null,null,null,null,null,null,null,null,null,null,null,null,null,null,null,null,null,null,null,null,null,null,null,"",null,"",null,null,null,null,null,null,null,null,null,null,null,null,null,null,null,null,null,null,null,null,null,null,null,"",null,"",null,null,null,null,null,null,null,null,null,null,null,null,null,null,null,null,null,null,null,null,null,null,null,""]
[null,117,null,null,null,null,"",null,null,null,null,null,null,null,null,null,null,null,null,null,null,null,null,null,null,null,null,null,null,null,"",null,"",null,null,null,null,null,null,null,null,null,null,null,null,null,null,null,null,null,null,null,null,null,null,null,"",null,"",null,null,null,null,null,null,null,null,null,null,null,null,null,null,null,null,null,null,null,null,null,null,null,"",null,"",null,null,null,null,null,null,null,null,null,null,null,null,null,null,null,null,null,null,null,null,null,null,null,"",null,"",null,null,null,null,null,null,null,null,null,null,null,null,null,null,null,null,null,null,null,null,null,null,null,"",null,"",null,null,null,null,null,null,null,null,null,null,null,null,null,null,null,null,null,null,null,null,null,null,null,"",null,"",null,null,null,null,null,null,null,null,null,null,null,null,null,null,null,null,null,null,null,null,null,null,null,"",null,"",null,null,null,null,null,null,null,null,null,null,null,null,null,null,null,null,null,null,null,null,null,null,null,"",null,"",null,null,null,null,null,null,null,null,null,null,null,null,null,null,null,null,null,null,null,null,null,null,null,"",null,"",null,null,null,null,null,null,null,null,null,null,null,null,null,null,null,null,null,null,null,null,null,null,null,"",null,"",null,null,null,null,null,null,null,null,null,null,null,null,null,null,null,null,null,null,null,null,null,null,null,""]
[null,118,null,null,null,null,"",null,null,null,null,null,null,null,null,null,null,null,null,null,null,null,null,null,null,null,null,null,null,null,"",null,"",null,null,null,null,null,null,null,null,null,null,null,null,null,null,null,null,null,null,null,null,null,null,null,"",null,"",null,null,null,null,null,null,null,null,null,null,null,null,null,null,null,null,null,null,null,null,null,null,null,"",null,"",null,null,null,null,null,null,null,null,null,null,null,null,null,null,null,null,null,null,null,null,null,null,null,"",null,"",null,null,null,null,null,null,null,null,null,null,null,null,null,null,null,null,null,null,null,null,null,null,null,"",null,"",null,null,null,null,null,null,null,null,null,null,null,null,null,null,null,null,null,null,null,null,null,null,null,"",null,"",null,null,null,null,null,null,null,null,null,null,null,null,null,null,null,null,null,null,null,null,null,null,null,"",null,"",null,null,null,null,null,null,null,null,null,null,null,null,null,null,null,null,null,null,null,null,null,null,null,"",null,"",null,null,null,null,null,null,null,null,null,null,null,null,null,null,null,null,null,null,null,null,null,null,null,"",null,"",null,null,null,null,null,null,null,null,null,null,null,null,null,null,null,null,null,null,null,null,null,null,null,"",null,"",null,null,null,null,null,null,null,null,null,null,null,null,null,null,null,null,null,null,null,null,null,null,null,""]
[null,119,null,null,null,null,"",null,null,null,null,null,null,null,null,null,null,null,null,null,null,null,null,null,null,null,null,null,null,null,"",null,"",null,null,null,null,null,null,null,null,null,null,null,null,null,null,null,null,null,null,null,null,null,null,null,"",null,"",null,null,null,null,null,null,null,null,null,null,null,null,null,null,null,null,null,null,null,null,null,null,null,"",null,"",null,null,null,null,null,null,null,null,null,null,null,null,null,null,null,null,null,null,null,null,null,null,null,"",null,"",null,null,null,null,null,null,null,null,null,null,null,null,null,null,null,null,null,null,null,null,null,null,null,"",null,"",null,null,null,null,null,null,null,null,null,null,null,null,null,null,null,null,null,null,null,null,null,null,null,"",null,"",null,null,null,null,null,null,null,null,null,null,null,null,null,null,null,null,null,null,null,null,null,null,null,"",null,"",null,null,null,null,null,null,null,null,null,null,null,null,null,null,null,null,null,null,null,null,null,null,null,"",null,"",null,null,null,null,null,null,null,null,null,null,null,null,null,null,null,null,null,null,null,null,null,null,null,"",null,"",null,null,null,null,null,null,null,null,null,null,null,null,null,null,null,null,null,null,null,null,null,null,null,"",null,"",null,null,null,null,null,null,null,null,null,null,null,null,null,null,null,null,null,null,null,null,null,null,null,""]
[null,120,null,null,null,null,"",null,null,null,null,null,null,null,null,null,null,null,null,null,null,null,null,null,null,null,null,null,null,null,"",null,"",null,null,null,null,null,null,null,null,null,null,null,null,null,null,null,null,null,null,null,null,null,null,null,"",null,"",null,null,null,null,null,null,null,null,null,null,null,null,null,null,null,null,null,null,null,null,null,null,null,"",null,"",null,null,null,null,null,null,null,null,null,null,null,null,null,null,null,null,null,null,null,null,null,null,null,"",null,"",null,null,null,null,null,null,null,null,null,null,null,null,null,null,null,null,null,null,null,null,null,null,null,"",null,"",null,null,null,null,null,null,null,null,null,null,null,null,null,null,null,null,null,null,null,null,null,null,null,"",null,"",null,null,null,null,null,null,null,null,null,null,null,null,null,null,null,null,null,null,null,null,null,null,null,"",null,"",null,null,null,null,null,null,null,null,null,null,null,null,null,null,null,null,null,null,null,null,null,null,null,"",null,"",null,null,null,null,null,null,null,null,null,null,null,null,null,null,null,null,null,null,null,null,null,null,null,"",null,"",null,null,null,null,null,null,null,null,null,null,null,null,null,null,null,null,null,null,null,null,null,null,null,"",null,"",null,null,null,null,null,null,null,null,null,null,null,null,null,null,null,null,null,null,null,null,null,null,null,""]
[null,121,null,null,null,null,"",null,null,null,null,null,null,null,null,null,null,null,null,null,null,null,null,null,null,null,null,null,null,null,"",null,"",null,null,null,null,null,null,null,null,null,null,null,null,null,null,null,null,null,null,null,null,null,null,null,"",null,"",null,null,null,null,null,null,null,null,null,null,null,null,null,null,null,null,null,null,null,null,null,null,null,"",null,"",null,null,null,null,null,null,null,null,null,null,null,null,null,null,null,null,null,null,null,null,null,null,null,"",null,"",null,null,null,null,null,null,null,null,null,null,null,null,null,null,null,null,null,null,null,null,null,null,null,"",null,"",null,null,null,null,null,null,null,null,null,null,null,null,null,null,null,null,null,null,null,null,null,null,null,"",null,"",null,null,null,null,null,null,null,null,null,null,null,null,null,null,null,null,null,null,null,null,null,null,null,"",null,"",null,null,null,null,null,null,null,null,null,null,null,null,null,null,null,null,null,null,null,null,null,null,null,"",null,"",null,null,null,null,null,null,null,null,null,null,null,null,null,null,null,null,null,null,null,null,null,null,null,"",null,"",null,null,null,null,null,null,null,null,null,null,null,null,null,null,null,null,null,null,null,null,null,null,null,"",null,"",null,null,null,null,null,null,null,null,null,null,null,null,null,null,null,null,null,null,null,null,null,null,null,""]
[null,122,null,null,null,null,"",null,null,null,null,null,null,null,null,null,null,null,null,null,null,null,null,null,null,null,null,null,null,null,"",null,"",null,null,null,null,null,null,null,null,null,null,null,null,null,null,null,null,null,null,null,null,null,null,null,"",null,"",null,null,null,null,null,null,null,null,null,null,null,null,null,null,null,null,null,null,null,null,null,null,null,"",null,"",null,null,null,null,null,null,null,null,null,null,null,null,null,null,null,null,null,null,null,null,null,null,null,"",null,"",null,null,null,null,null,null,null,null,null,null,null,null,null,null,null,null,null,null,null,null,null,null,null,"",null,"",null,null,null,null,null,null,null,null,null,null,null,null,null,null,null,null,null,null,null,null,null,null,null,"",null,"",null,null,null,null,null,null,null,null,null,null,null,null,null,null,null,null,null,null,null,null,null,null,null,"",null,"",null,null,null,null,null,null,null,null,null,null,null,null,null,null,null,null,null,null,null,null,null,null,null,"",null,"",null,null,null,null,null,null,null,null,null,null,null,null,null,null,null,null,null,null,null,null,null,null,null,"",null,"",null,null,null,null,null,null,null,null,null,null,null,null,null,null,null,null,null,null,null,null,null,null,null,"",null,"",null,null,null,null,null,null,null,null,null,null,null,null,null,null,null,null,null,null,null,null,null,null,null,""]
[null,123,null,null,null,null,"",null,null,null,null,null,null,null,null,null,null,null,null,null,null,null,null,null,null,null,null,null,null,null,"",null,"",null,null,null,null,null,null,null,null,null,null,null,null,null,null,null,null,null,null,null,null,null,null,null,"",null,"",null,null,null,null,null,null,null,null,null,null,null,null,null,null,null,null,null,null,null,null,null,null,null,"",null,"",null,null,null,null,null,null,null,null,null,null,null,null,null,null,null,null,null,null,null,null,null,null,null,"",null,"",null,null,null,null,null,null,null,null,null,null,null,null,null,null,null,null,null,null,null,null,null,null,null,"",null,"",null,null,null,null,null,null,null,null,null,null,null,null,null,null,null,null,null,null,null,null,null,null,null,"",null,"",null,null,null,null,null,null,null,null,null,null,null,null,null,null,null,null,null,null,null,null,null,null,null,"",null,"",null,null,null,null,null,null,null,null,null,null,null,null,null,null,null,null,null,null,null,null,null,null,null,"",null,"",null,null,null,null,null,null,null,null,null,null,null,null,null,null,null,null,null,null,null,null,null,null,null,"",null,"",null,null,null,null,null,null,null,null,null,null,null,null,null,null,null,null,null,null,null,null,null,null,null,"",null,"",null,null,null,null,null,null,null,null,null,null,null,null,null,null,null,null,null,null,null,null,null,null,null,""]
[null,124,null,null,null,null,"",null,null,null,null,null,null,null,null,null,null,null,null,null,null,null,null,null,null,null,null,null,null,null,"",null,"",null,null,null,null,null,null,null,null,null,null,null,null,null,null,null,null,null,null,null,null,null,null,null,"",null,"",null,null,null,null,null,null,null,null,null,null,null,null,null,null,null,null,null,null,null,null,null,null,null,"",null,"",null,null,null,null,null,null,null,null,null,null,null,null,null,null,null,null,null,null,null,null,null,null,null,"",null,"",null,null,null,null,null,null,null,null,null,null,null,null,null,null,null,null,null,null,null,null,null,null,null,"",null,"",null,null,null,null,null,null,null,null,null,null,null,null,null,null,null,null,null,null,null,null,null,null,null,"",null,"",null,null,null,null,null,null,null,null,null,null,null,null,null,null,null,null,null,null,null,null,null,null,null,"",null,"",null,null,null,null,null,null,null,null,null,null,null,null,null,null,null,null,null,null,null,null,null,null,null,"",null,"",null,null,null,null,null,null,null,null,null,null,null,null,null,null,null,null,null,null,null,null,null,null,null,"",null,"",null,null,null,null,null,null,null,null,null,null,null,null,null,null,null,null,null,null,null,null,null,null,null,"",null,"",null,null,null,null,null,null,null,null,null,null,null,null,null,null,null,null,null,null,null,null,null,null,null,""]
[null,125,null,null,null,null,"",null,null,null,null,null,null,null,null,null,null,null,null,null,null,null,null,null,null,null,null,null,null,null,"",null,"",null,null,null,null,null,null,null,null,null,null,null,null,null,null,null,null,null,null,null,null,null,null,null,"",null,"",null,null,null,null,null,null,null,null,null,null,null,null,null,null,null,null,null,null,null,null,null,null,null,"",null,"",null,null,null,null,null,null,null,null,null,null,null,null,null,null,null,null,null,null,null,null,null,null,null,"",null,"",null,null,null,null,null,null,null,null,null,null,null,null,null,null,null,null,null,null,null,null,null,null,null,"",null,"",null,null,null,null,null,null,null,null,null,null,null,null,null,null,null,null,null,null,null,null,null,null,null,"",null,"",null,null,null,null,null,null,null,null,null,null,null,null,null,null,null,null,null,null,null,null,null,null,null,"",null,"",null,null,null,null,null,null,null,null,null,null,null,null,null,null,null,null,null,null,null,null,null,null,null,"",null,"",null,null,null,null,null,null,null,null,null,null,null,null,null,null,null,null,null,null,null,null,null,null,null,"",null,"",null,null,null,null,null,null,null,null,null,null,null,null,null,null,null,null,null,null,null,null,null,null,null,"",null,"",null,null,null,null,null,null,null,null,null,null,null,null,null,null,null,null,null,null,null,null,null,null,null,""]
[null,126,null,null,null,null,"",null,null,null,null,null,null,null,null,null,null,null,null,null,null,null,null,null,null,null,null,null,null,null,"",null,"",null,null,null,null,null,null,null,null,null,null,null,null,null,null,null,null,null,null,null,null,null,null,null,"",null,"",null,null,null,null,null,null,null,null,null,null,null,null,null,null,null,null,null,null,null,null,null,null,null,"",null,"",null,null,null,null,null,null,null,null,null,null,null,null,null,null,null,null,null,null,null,null,null,null,null,"",null,"",null,null,null,null,null,null,null,null,null,null,null,null,null,null,null,null,null,null,null,null,null,null,null,"",null,"",null,null,null,null,null,null,null,null,null,null,null,null,null,null,null,null,null,null,null,null,null,null,null,"",null,"",null,null,null,null,null,null,null,null,null,null,null,null,null,null,null,null,null,null,null,null,null,null,null,"",null,"",null,null,null,null,null,null,null,null,null,null,null,null,null,null,null,null,null,null,null,null,null,null,null,"",null,"",null,null,null,null,null,null,null,null,null,null,null,null,null,null,null,null,null,null,null,null,null,null,null,"",null,"",null,null,null,null,null,null,null,null,null,null,null,null,null,null,null,null,null,null,null,null,null,null,null,"",null,"",null,null,null,null,null,null,null,null,null,null,null,null,null,null,null,null,null,null,null,null,null,null,null,""]
[null,127,null,null,null,null,"",null,null,null,null,null,null,null,null,null,null,null,null,null,null,null,null,null,null,null,null,null,null,null,"",null,"",null,null,null,null,null,null,null,null,null,null,null,null,null,null,null,null,null,null,null,null,null,null,null,"",null,"",null,null,null,null,null,null,null,null,null,null,null,null,null,null,null,null,null,null,null,null,null,null,null,"",null,"",null,null,null,null,null,null,null,null,null,null,null,null,null,null,null,null,null,null,null,null,null,null,null,"",null,"",null,null,null,null,null,null,null,null,null,null,null,null,null,null,null,null,null,null,null,null,null,null,null,"",null,"",null,null,null,null,null,null,null,null,null,null,null,null,null,null,null,null,null,null,null,null,null,null,null,"",null,"",null,null,null,null,null,null,null,null,null,null,null,null,null,null,null,null,null,null,null,null,null,null,null,"",null,"",null,null,null,null,null,null,null,null,null,null,null,null,null,null,null,null,null,null,null,null,null,null,null,"",null,"",null,null,null,null,null,null,null,null,null,null,null,null,null,null,null,null,null,null,null,null,null,null,null,"",null,"",null,null,null,null,null,null,null,null,null,null,null,null,null,null,null,null,null,null,null,null,null,null,null,"",null,"",null,null,null,null,null,null,null,null,null,null,null,null,null,null,null,null,null,null,null,null,null,null,null,""]
[null,128,null,null,null,null,"",null,null,null,null,null,null,null,null,null,null,null,null,null,null,null,null,null,null,null,null,null,null,null,"",null,"",null,null,null,null,null,null,null,null,null,null,null,null,null,null,null,null,null,null,null,null,null,null,null,"",null,"",null,null,null,null,null,null,null,null,null,null,null,null,null,null,null,null,null,null,null,null,null,null,null,"",null,"",null,null,null,null,null,null,null,null,null,null,null,null,null,null,null,null,null,null,null,null,null,null,null,"",null,"",null,null,null,null,null,null,null,null,null,null,null,null,null,null,null,null,null,null,null,null,null,null,null,"",null,"",null,null,null,null,null,null,null,null,null,null,null,null,null,null,null,null,null,null,null,null,null,null,null,"",null,"",null,null,null,null,null,null,null,null,null,null,null,null,null,null,null,null,null,null,null,null,null,null,null,"",null,"",null,null,null,null,null,null,null,null,null,null,null,null,null,null,null,null,null,null,null,null,null,null,null,"",null,"",null,null,null,null,null,null,null,null,null,null,null,null,null,null,null,null,null,null,null,null,null,null,null,"",null,"",null,null,null,null,null,null,null,null,null,null,null,null,null,null,null,null,null,null,null,null,null,null,null,"",null,"",null,null,null,null,null,null,null,null,null,null,null,null,null,null,null,null,null,null,null,null,null,null,null,""]
[null,129,null,null,null,null,"",null,null,null,null,null,null,null,null,null,null,null,null,null,null,null,null,null,null,null,null,null,null,null,"",null,"",null,null,null,null,null,null,null,null,null,null,null,null,null,null,null,null,null,null,null,null,null,null,null,"",null,"",null,null,null,null,null,null,null,null,null,null,null,null,null,null,null,null,null,null,null,null,null,null,null,"",null,"",null,null,null,null,null,null,null,null,null,null,null,null,null,null,null,null,null,null,null,null,null,null,null,"",null,"",null,null,null,null,null,null,null,null,null,null,null,null,null,null,null,null,null,null,null,null,null,null,null,"",null,"",null,null,null,null,null,null,null,null,null,null,null,null,null,null,null,null,null,null,null,null,null,null,null,"",null,"",null,null,null,null,null,null,null,null,null,null,null,null,null,null,null,null,null,null,null,null,null,null,null,"",null,"",null,null,null,null,null,null,null,null,null,null,null,null,null,null,null,null,null,null,null,null,null,null,null,"",null,"",null,null,null,null,null,null,null,null,null,null,null,null,null,null,null,null,null,null,null,null,null,null,null,"",null,"",null,null,null,null,null,null,null,null,null,null,null,null,null,null,null,null,null,null,null,null,null,null,null,"",null,"",null,null,null,null,null,null,null,null,null,null,null,null,null,null,null,null,null,null,null,null,null,null,null,""]
[null,130,null,null,null,null,{"$f":"IF($C150=\"\",\"\",L$9)","v":""},null,null,null,null,null,null,null,null,null,null,null,null,null,null,null,null,null,null,null,null,null,null,null,{"$f":"IF($C150=\"\",\"\",SUM(H150:AD150))","v":""},null,{"$f":"IF($C150=\"\",\"\",AL$9)","v":""},null,null,null,null,null,null,null,null,null,null,null,null,null,null,null,null,null,null,null,null,null,null,null,{"$f":"IF($C150=\"\",\"\",SUM(AH150:BD150))","v":""},null,{"$f":"IF($C150=\"\",\"\",BL$9)","v":""},null,null,null,null,null,null,null,null,null,null,null,null,null,null,null,null,null,null,null,null,null,null,null,{"$f":"IF($C150=\"\",\"\",SUM(BH150:CD150))","v":""},null,{"$f":"IF($C150=\"\",\"\",CL$9)","v":""},null,null,null,null,null,null,null,null,null,null,null,null,null,null,null,null,null,null,null,null,null,null,null,{"$f":"IF($C150=\"\",\"\",SUM(CH150:DD150))","v":""},null,{"$f":"IF($C150=\"\",\"\",DL$9)","v":""},null,null,null,null,null,null,null,null,null,null,null,null,null,null,null,null,null,null,null,null,null,null,null,{"$f":"IF($C150=\"\",\"\",SUM(DH150:ED150))","v":""},null,{"$f":"IF($C150=\"\",\"\",EL$9)","v":""},null,null,null,null,null,null,null,null,null,null,null,null,null,null,null,null,null,null,null,null,null,null,null,{"$f":"IF($C150=\"\",\"\",SUM(EH150:FD150))","v":""},null,{"$f":"IF($C150=\"\",\"\",FL$9)","v":""},null,null,null,null,null,null,null,null,null,null,null,null,null,null,null,null,null,null,null,null,null,null,null,{"$f":"IF($C150=\"\",\"\",SUM(FH150:GD150))","v":""},null,{"$f":"IF($C150=\"\",\"\",GL$9)","v":""},null,null,null,null,null,null,null,null,null,null,null,null,null,null,null,null,null,null,null,null,null,null,null,{"$f":"IF($C150=\"\",\"\",SUM(GH150:HD150))","v":""},null,{"$f":"IF($C150=\"\",\"\",HL$9)","v":""},null,null,null,null,null,null,null,null,null,null,null,null,null,null,null,null,null,null,null,null,null,null,null,{"$f":"IF($C150=\"\",\"\",SUM(HH150:ID150))","v":""},null,{"$f":"IF($C150=\"\",\"\",IL$9)","v":""},null,null,null,null,null,null,null,null,null,null,null,null,null,null,null,null,null,null,null,null,null,null,null,{"$f":"IF($C150=\"\",\"\",SUM(IH150:JD150))","v":""},null,{"$f":"IF($C150=\"\",\"\",JL$9)","v":""},null,null,null,null,null,null,null,null,null,null,null,null,null,null,null,null,null,null,null,null,null,null,null,{"$f":"IF($C150=\"\",\"\",SUM(JH150:KD150))","v":""}]
[null,131,null,null,null,null,"",null,null,null,null,null,null,null,null,null,null,null,null,null,null,null,null,null,null,null,null,null,null,null,"",null,"",null,null,null,null,null,null,null,null,null,null,null,null,null,null,null,null,null,null,null,null,null,null,null,"",null,"",null,null,null,null,null,null,null,null,null,null,null,null,null,null,null,null,null,null,null,null,null,null,null,"",null,"",null,null,null,null,null,null,null,null,null,null,null,null,null,null,null,null,null,null,null,null,null,null,null,"",null,"",null,null,null,null,null,null,null,null,null,null,null,null,null,null,null,null,null,null,null,null,null,null,null,"",null,"",null,null,null,null,null,null,null,null,null,null,null,null,null,null,null,null,null,null,null,null,null,null,null,"",null,"",null,null,null,null,null,null,null,null,null,null,null,null,null,null,null,null,null,null,null,null,null,null,null,"",null,"",null,null,null,null,null,null,null,null,null,null,null,null,null,null,null,null,null,null,null,null,null,null,null,"",null,"",null,null,null,null,null,null,null,null,null,null,null,null,null,null,null,null,null,null,null,null,null,null,null,"",null,"",null,null,null,null,null,null,null,null,null,null,null,null,null,null,null,null,null,null,null,null,null,null,null,"",null,"",null,null,null,null,null,null,null,null,null,null,null,null,null,null,null,null,null,null,null,null,null,null,null,""]
[null,132,null,null,null,null,"",null,null,null,null,null,null,null,null,null,null,null,null,null,null,null,null,null,null,null,null,null,null,null,"",null,"",null,null,null,null,null,null,null,null,null,null,null,null,null,null,null,null,null,null,null,null,null,null,null,"",null,"",null,null,null,null,null,null,null,null,null,null,null,null,null,null,null,null,null,null,null,null,null,null,null,"",null,"",null,null,null,null,null,null,null,null,null,null,null,null,null,null,null,null,null,null,null,null,null,null,null,"",null,"",null,null,null,null,null,null,null,null,null,null,null,null,null,null,null,null,null,null,null,null,null,null,null,"",null,"",null,null,null,null,null,null,null,null,null,null,null,null,null,null,null,null,null,null,null,null,null,null,null,"",null,"",null,null,null,null,null,null,null,null,null,null,null,null,null,null,null,null,null,null,null,null,null,null,null,"",null,"",null,null,null,null,null,null,null,null,null,null,null,null,null,null,null,null,null,null,null,null,null,null,null,"",null,"",null,null,null,null,null,null,null,null,null,null,null,null,null,null,null,null,null,null,null,null,null,null,null,"",null,"",null,null,null,null,null,null,null,null,null,null,null,null,null,null,null,null,null,null,null,null,null,null,null,"",null,"",null,null,null,null,null,null,null,null,null,null,null,null,null,null,null,null,null,null,null,null,null,null,null,""]
[null,133,null,null,null,null,"",null,null,null,null,null,null,null,null,null,null,null,null,null,null,null,null,null,null,null,null,null,null,null,"",null,"",null,null,null,null,null,null,null,null,null,null,null,null,null,null,null,null,null,null,null,null,null,null,null,"",null,"",null,null,null,null,null,null,null,null,null,null,null,null,null,null,null,null,null,null,null,null,null,null,null,"",null,"",null,null,null,null,null,null,null,null,null,null,null,null,null,null,null,null,null,null,null,null,null,null,null,"",null,"",null,null,null,null,null,null,null,null,null,null,null,null,null,null,null,null,null,null,null,null,null,null,null,"",null,"",null,null,null,null,null,null,null,null,null,null,null,null,null,null,null,null,null,null,null,null,null,null,null,"",null,"",null,null,null,null,null,null,null,null,null,null,null,null,null,null,null,null,null,null,null,null,null,null,null,"",null,"",null,null,null,null,null,null,null,null,null,null,null,null,null,null,null,null,null,null,null,null,null,null,null,"",null,"",null,null,null,null,null,null,null,null,null,null,null,null,null,null,null,null,null,null,null,null,null,null,null,"",null,"",null,null,null,null,null,null,null,null,null,null,null,null,null,null,null,null,null,null,null,null,null,null,null,"",null,"",null,null,null,null,null,null,null,null,null,null,null,null,null,null,null,null,null,null,null,null,null,null,null,""]
[null,134,null,null,null,null,"",null,null,null,null,null,null,null,null,null,null,null,null,null,null,null,null,null,null,null,null,null,null,null,"",null,"",null,null,null,null,null,null,null,null,null,null,null,null,null,null,null,null,null,null,null,null,null,null,null,"",null,"",null,null,null,null,null,null,null,null,null,null,null,null,null,null,null,null,null,null,null,null,null,null,null,"",null,"",null,null,null,null,null,null,null,null,null,null,null,null,null,null,null,null,null,null,null,null,null,null,null,"",null,"",null,null,null,null,null,null,null,null,null,null,null,null,null,null,null,null,null,null,null,null,null,null,null,"",null,"",null,null,null,null,null,null,null,null,null,null,null,null,null,null,null,null,null,null,null,null,null,null,null,"",null,"",null,null,null,null,null,null,null,null,null,null,null,null,null,null,null,null,null,null,null,null,null,null,null,"",null,"",null,null,null,null,null,null,null,null,null,null,null,null,null,null,null,null,null,null,null,null,null,null,null,"",null,"",null,null,null,null,null,null,null,null,null,null,null,null,null,null,null,null,null,null,null,null,null,null,null,"",null,"",null,null,null,null,null,null,null,null,null,null,null,null,null,null,null,null,null,null,null,null,null,null,null,"",null,"",null,null,null,null,null,null,null,null,null,null,null,null,null,null,null,null,null,null,null,null,null,null,null,""]
[null,135,null,null,null,null,"",null,null,null,null,null,null,null,null,null,null,null,null,null,null,null,null,null,null,null,null,null,null,null,"",null,"",null,null,null,null,null,null,null,null,null,null,null,null,null,null,null,null,null,null,null,null,null,null,null,"",null,"",null,null,null,null,null,null,null,null,null,null,null,null,null,null,null,null,null,null,null,null,null,null,null,"",null,"",null,null,null,null,null,null,null,null,null,null,null,null,null,null,null,null,null,null,null,null,null,null,null,"",null,"",null,null,null,null,null,null,null,null,null,null,null,null,null,null,null,null,null,null,null,null,null,null,null,"",null,"",null,null,null,null,null,null,null,null,null,null,null,null,null,null,null,null,null,null,null,null,null,null,null,"",null,"",null,null,null,null,null,null,null,null,null,null,null,null,null,null,null,null,null,null,null,null,null,null,null,"",null,"",null,null,null,null,null,null,null,null,null,null,null,null,null,null,null,null,null,null,null,null,null,null,null,"",null,"",null,null,null,null,null,null,null,null,null,null,null,null,null,null,null,null,null,null,null,null,null,null,null,"",null,"",null,null,null,null,null,null,null,null,null,null,null,null,null,null,null,null,null,null,null,null,null,null,null,"",null,"",null,null,null,null,null,null,null,null,null,null,null,null,null,null,null,null,null,null,null,null,null,null,null,""]
[null,136,null,null,null,null,"",null,null,null,null,null,null,null,null,null,null,null,null,null,null,null,null,null,null,null,null,null,null,null,"",null,"",null,null,null,null,null,null,null,null,null,null,null,null,null,null,null,null,null,null,null,null,null,null,null,"",null,"",null,null,null,null,null,null,null,null,null,null,null,null,null,null,null,null,null,null,null,null,null,null,null,"",null,"",null,null,null,null,null,null,null,null,null,null,null,null,null,null,null,null,null,null,null,null,null,null,null,"",null,"",null,null,null,null,null,null,null,null,null,null,null,null,null,null,null,null,null,null,null,null,null,null,null,"",null,"",null,null,null,null,null,null,null,null,null,null,null,null,null,null,null,null,null,null,null,null,null,null,null,"",null,"",null,null,null,null,null,null,null,null,null,null,null,null,null,null,null,null,null,null,null,null,null,null,null,"",null,"",null,null,null,null,null,null,null,null,null,null,null,null,null,null,null,null,null,null,null,null,null,null,null,"",null,"",null,null,null,null,null,null,null,null,null,null,null,null,null,null,null,null,null,null,null,null,null,null,null,"",null,"",null,null,null,null,null,null,null,null,null,null,null,null,null,null,null,null,null,null,null,null,null,null,null,"",null,"",null,null,null,null,null,null,null,null,null,null,null,null,null,null,null,null,null,null,null,null,null,null,null,""]
[null,137,null,null,null,null,"",null,null,null,null,null,null,null,null,null,null,null,null,null,null,null,null,null,null,null,null,null,null,null,"",null,"",null,null,null,null,null,null,null,null,null,null,null,null,null,null,null,null,null,null,null,null,null,null,null,"",null,"",null,null,null,null,null,null,null,null,null,null,null,null,null,null,null,null,null,null,null,null,null,null,null,"",null,"",null,null,null,null,null,null,null,null,null,null,null,null,null,null,null,null,null,null,null,null,null,null,null,"",null,"",null,null,null,null,null,null,null,null,null,null,null,null,null,null,null,null,null,null,null,null,null,null,null,"",null,"",null,null,null,null,null,null,null,null,null,null,null,null,null,null,null,null,null,null,null,null,null,null,null,"",null,"",null,null,null,null,null,null,null,null,null,null,null,null,null,null,null,null,null,null,null,null,null,null,null,"",null,"",null,null,null,null,null,null,null,null,null,null,null,null,null,null,null,null,null,null,null,null,null,null,null,"",null,"",null,null,null,null,null,null,null,null,null,null,null,null,null,null,null,null,null,null,null,null,null,null,null,"",null,"",null,null,null,null,null,null,null,null,null,null,null,null,null,null,null,null,null,null,null,null,null,null,null,"",null,"",null,null,null,null,null,null,null,null,null,null,null,null,null,null,null,null,null,null,null,null,null,null,null,""]
[null,138,null,null,null,null,"",null,null,null,null,null,null,null,null,null,null,null,null,null,null,null,null,null,null,null,null,null,null,null,"",null,"",null,null,null,null,null,null,null,null,null,null,null,null,null,null,null,null,null,null,null,null,null,null,null,"",null,"",null,null,null,null,null,null,null,null,null,null,null,null,null,null,null,null,null,null,null,null,null,null,null,"",null,"",null,null,null,null,null,null,null,null,null,null,null,null,null,null,null,null,null,null,null,null,null,null,null,"",null,"",null,null,null,null,null,null,null,null,null,null,null,null,null,null,null,null,null,null,null,null,null,null,null,"",null,"",null,null,null,null,null,null,null,null,null,null,null,null,null,null,null,null,null,null,null,null,null,null,null,"",null,"",null,null,null,null,null,null,null,null,null,null,null,null,null,null,null,null,null,null,null,null,null,null,null,"",null,"",null,null,null,null,null,null,null,null,null,null,null,null,null,null,null,null,null,null,null,null,null,null,null,"",null,"",null,null,null,null,null,null,null,null,null,null,null,null,null,null,null,null,null,null,null,null,null,null,null,"",null,"",null,null,null,null,null,null,null,null,null,null,null,null,null,null,null,null,null,null,null,null,null,null,null,"",null,"",null,null,null,null,null,null,null,null,null,null,null,null,null,null,null,null,null,null,null,null,null,null,null,""]
[null,139,null,null,null,null,"",null,null,null,null,null,null,null,null,null,null,null,null,null,null,null,null,null,null,null,null,null,null,null,"",null,"",null,null,null,null,null,null,null,null,null,null,null,null,null,null,null,null,null,null,null,null,null,null,null,"",null,"",null,null,null,null,null,null,null,null,null,null,null,null,null,null,null,null,null,null,null,null,null,null,null,"",null,"",null,null,null,null,null,null,null,null,null,null,null,null,null,null,null,null,null,null,null,null,null,null,null,"",null,"",null,null,null,null,null,null,null,null,null,null,null,null,null,null,null,null,null,null,null,null,null,null,null,"",null,"",null,null,null,null,null,null,null,null,null,null,null,null,null,null,null,null,null,null,null,null,null,null,null,"",null,"",null,null,null,null,null,null,null,null,null,null,null,null,null,null,null,null,null,null,null,null,null,null,null,"",null,"",null,null,null,null,null,null,null,null,null,null,null,null,null,null,null,null,null,null,null,null,null,null,null,"",null,"",null,null,null,null,null,null,null,null,null,null,null,null,null,null,null,null,null,null,null,null,null,null,null,"",null,"",null,null,null,null,null,null,null,null,null,null,null,null,null,null,null,null,null,null,null,null,null,null,null,"",null,"",null,null,null,null,null,null,null,null,null,null,null,null,null,null,null,null,null,null,null,null,null,null,null,""]
[null,140,null,null,null,null,"",null,null,null,null,null,null,null,null,null,null,null,null,null,null,null,null,null,null,null,null,null,null,null,"",null,"",null,null,null,null,null,null,null,null,null,null,null,null,null,null,null,null,null,null,null,null,null,null,null,"",null,"",null,null,null,null,null,null,null,null,null,null,null,null,null,null,null,null,null,null,null,null,null,null,null,"",null,"",null,null,null,null,null,null,null,null,null,null,null,null,null,null,null,null,null,null,null,null,null,null,null,"",null,"",null,null,null,null,null,null,null,null,null,null,null,null,null,null,null,null,null,null,null,null,null,null,null,"",null,"",null,null,null,null,null,null,null,null,null,null,null,null,null,null,null,null,null,null,null,null,null,null,null,"",null,"",null,null,null,null,null,null,null,null,null,null,null,null,null,null,null,null,null,null,null,null,null,null,null,"",null,"",null,null,null,null,null,null,null,null,null,null,null,null,null,null,null,null,null,null,null,null,null,null,null,"",null,"",null,null,null,null,null,null,null,null,null,null,null,null,null,null,null,null,null,null,null,null,null,null,null,"",null,"",null,null,null,null,null,null,null,null,null,null,null,null,null,null,null,null,null,null,null,null,null,null,null,"",null,"",null,null,null,null,null,null,null,null,null,null,null,null,null,null,null,null,null,null,null,null,null,null,null,""]
[null,141,null,null,null,null,"",null,null,null,null,null,null,null,null,null,null,null,null,null,null,null,null,null,null,null,null,null,null,null,"",null,"",null,null,null,null,null,null,null,null,null,null,null,null,null,null,null,null,null,null,null,null,null,null,null,"",null,"",null,null,null,null,null,null,null,null,null,null,null,null,null,null,null,null,null,null,null,null,null,null,null,"",null,"",null,null,null,null,null,null,null,null,null,null,null,null,null,null,null,null,null,null,null,null,null,null,null,"",null,"",null,null,null,null,null,null,null,null,null,null,null,null,null,null,null,null,null,null,null,null,null,null,null,"",null,"",null,null,null,null,null,null,null,null,null,null,null,null,null,null,null,null,null,null,null,null,null,null,null,"",null,"",null,null,null,null,null,null,null,null,null,null,null,null,null,null,null,null,null,null,null,null,null,null,null,"",null,"",null,null,null,null,null,null,null,null,null,null,null,null,null,null,null,null,null,null,null,null,null,null,null,"",null,"",null,null,null,null,null,null,null,null,null,null,null,null,null,null,null,null,null,null,null,null,null,null,null,"",null,"",null,null,null,null,null,null,null,null,null,null,null,null,null,null,null,null,null,null,null,null,null,null,null,"",null,"",null,null,null,null,null,null,null,null,null,null,null,null,null,null,null,null,null,null,null,null,null,null,null,""]
[null,142,null,null,null,null,"",null,null,null,null,null,null,null,null,null,null,null,null,null,null,null,null,null,null,null,null,null,null,null,"",null,"",null,null,null,null,null,null,null,null,null,null,null,null,null,null,null,null,null,null,null,null,null,null,null,"",null,"",null,null,null,null,null,null,null,null,null,null,null,null,null,null,null,null,null,null,null,null,null,null,null,"",null,"",null,null,null,null,null,null,null,null,null,null,null,null,null,null,null,null,null,null,null,null,null,null,null,"",null,"",null,null,null,null,null,null,null,null,null,null,null,null,null,null,null,null,null,null,null,null,null,null,null,"",null,"",null,null,null,null,null,null,null,null,null,null,null,null,null,null,null,null,null,null,null,null,null,null,null,"",null,"",null,null,null,null,null,null,null,null,null,null,null,null,null,null,null,null,null,null,null,null,null,null,null,"",null,"",null,null,null,null,null,null,null,null,null,null,null,null,null,null,null,null,null,null,null,null,null,null,null,"",null,"",null,null,null,null,null,null,null,null,null,null,null,null,null,null,null,null,null,null,null,null,null,null,null,"",null,"",null,null,null,null,null,null,null,null,null,null,null,null,null,null,null,null,null,null,null,null,null,null,null,"",null,"",null,null,null,null,null,null,null,null,null,null,null,null,null,null,null,null,null,null,null,null,null,null,null,""]
[null,143,null,null,null,null,"",null,null,null,null,null,null,null,null,null,null,null,null,null,null,null,null,null,null,null,null,null,null,null,"",null,"",null,null,null,null,null,null,null,null,null,null,null,null,null,null,null,null,null,null,null,null,null,null,null,"",null,"",null,null,null,null,null,null,null,null,null,null,null,null,null,null,null,null,null,null,null,null,null,null,null,"",null,"",null,null,null,null,null,null,null,null,null,null,null,null,null,null,null,null,null,null,null,null,null,null,null,"",null,"",null,null,null,null,null,null,null,null,null,null,null,null,null,null,null,null,null,null,null,null,null,null,null,"",null,"",null,null,null,null,null,null,null,null,null,null,null,null,null,null,null,null,null,null,null,null,null,null,null,"",null,"",null,null,null,null,null,null,null,null,null,null,null,null,null,null,null,null,null,null,null,null,null,null,null,"",null,"",null,null,null,null,null,null,null,null,null,null,null,null,null,null,null,null,null,null,null,null,null,null,null,"",null,"",null,null,null,null,null,null,null,null,null,null,null,null,null,null,null,null,null,null,null,null,null,null,null,"",null,"",null,null,null,null,null,null,null,null,null,null,null,null,null,null,null,null,null,null,null,null,null,null,null,"",null,"",null,null,null,null,null,null,null,null,null,null,null,null,null,null,null,null,null,null,null,null,null,null,null,""]
[null,144,null,null,null,null,"",null,null,null,null,null,null,null,null,null,null,null,null,null,null,null,null,null,null,null,null,null,null,null,"",null,"",null,null,null,null,null,null,null,null,null,null,null,null,null,null,null,null,null,null,null,null,null,null,null,"",null,"",null,null,null,null,null,null,null,null,null,null,null,null,null,null,null,null,null,null,null,null,null,null,null,"",null,"",null,null,null,null,null,null,null,null,null,null,null,null,null,null,null,null,null,null,null,null,null,null,null,"",null,"",null,null,null,null,null,null,null,null,null,null,null,null,null,null,null,null,null,null,null,null,null,null,null,"",null,"",null,null,null,null,null,null,null,null,null,null,null,null,null,null,null,null,null,null,null,null,null,null,null,"",null,"",null,null,null,null,null,null,null,null,null,null,null,null,null,null,null,null,null,null,null,null,null,null,null,"",null,"",null,null,null,null,null,null,null,null,null,null,null,null,null,null,null,null,null,null,null,null,null,null,null,"",null,"",null,null,null,null,null,null,null,null,null,null,null,null,null,null,null,null,null,null,null,null,null,null,null,"",null,"",null,null,null,null,null,null,null,null,null,null,null,null,null,null,null,null,null,null,null,null,null,null,null,"",null,"",null,null,null,null,null,null,null,null,null,null,null,null,null,null,null,null,null,null,null,null,null,null,null,""]
[null,145,null,null,null,null,"",null,null,null,null,null,null,null,null,null,null,null,null,null,null,null,null,null,null,null,null,null,null,null,"",null,"",null,null,null,null,null,null,null,null,null,null,null,null,null,null,null,null,null,null,null,null,null,null,null,"",null,"",null,null,null,null,null,null,null,null,null,null,null,null,null,null,null,null,null,null,null,null,null,null,null,"",null,"",null,null,null,null,null,null,null,null,null,null,null,null,null,null,null,null,null,null,null,null,null,null,null,"",null,"",null,null,null,null,null,null,null,null,null,null,null,null,null,null,null,null,null,null,null,null,null,null,null,"",null,"",null,null,null,null,null,null,null,null,null,null,null,null,null,null,null,null,null,null,null,null,null,null,null,"",null,"",null,null,null,null,null,null,null,null,null,null,null,null,null,null,null,null,null,null,null,null,null,null,null,"",null,"",null,null,null,null,null,null,null,null,null,null,null,null,null,null,null,null,null,null,null,null,null,null,null,"",null,"",null,null,null,null,null,null,null,null,null,null,null,null,null,null,null,null,null,null,null,null,null,null,null,"",null,"",null,null,null,null,null,null,null,null,null,null,null,null,null,null,null,null,null,null,null,null,null,null,null,"",null,"",null,null,null,null,null,null,null,null,null,null,null,null,null,null,null,null,null,null,null,null,null,null,null,""]
[null,146,null,null,null,null,"",null,null,null,null,null,null,null,null,null,null,null,null,null,null,null,null,null,null,null,null,null,null,null,"",null,"",null,null,null,null,null,null,null,null,null,null,null,null,null,null,null,null,null,null,null,null,null,null,null,"",null,"",null,null,null,null,null,null,null,null,null,null,null,null,null,null,null,null,null,null,null,null,null,null,null,"",null,"",null,null,null,null,null,null,null,null,null,null,null,null,null,null,null,null,null,null,null,null,null,null,null,"",null,"",null,null,null,null,null,null,null,null,null,null,null,null,null,null,null,null,null,null,null,null,null,null,null,"",null,"",null,null,null,null,null,null,null,null,null,null,null,null,null,null,null,null,null,null,null,null,null,null,null,"",null,"",null,null,null,null,null,null,null,null,null,null,null,null,null,null,null,null,null,null,null,null,null,null,null,"",null,"",null,null,null,null,null,null,null,null,null,null,null,null,null,null,null,null,null,null,null,null,null,null,null,"",null,"",null,null,null,null,null,null,null,null,null,null,null,null,null,null,null,null,null,null,null,null,null,null,null,"",null,"",null,null,null,null,null,null,null,null,null,null,null,null,null,null,null,null,null,null,null,null,null,null,null,"",null,"",null,null,null,null,null,null,null,null,null,null,null,null,null,null,null,null,null,null,null,null,null,null,null,""]
[null,147,null,null,null,null,"",null,null,null,null,null,null,null,null,null,null,null,null,null,null,null,null,null,null,null,null,null,null,null,"",null,"",null,null,null,null,null,null,null,null,null,null,null,null,null,null,null,null,null,null,null,null,null,null,null,"",null,"",null,null,null,null,null,null,null,null,null,null,null,null,null,null,null,null,null,null,null,null,null,null,null,"",null,"",null,null,null,null,null,null,null,null,null,null,null,null,null,null,null,null,null,null,null,null,null,null,null,"",null,"",null,null,null,null,null,null,null,null,null,null,null,null,null,null,null,null,null,null,null,null,null,null,null,"",null,"",null,null,null,null,null,null,null,null,null,null,null,null,null,null,null,null,null,null,null,null,null,null,null,"",null,"",null,null,null,null,null,null,null,null,null,null,null,null,null,null,null,null,null,null,null,null,null,null,null,"",null,"",null,null,null,null,null,null,null,null,null,null,null,null,null,null,null,null,null,null,null,null,null,null,null,"",null,"",null,null,null,null,null,null,null,null,null,null,null,null,null,null,null,null,null,null,null,null,null,null,null,"",null,"",null,null,null,null,null,null,null,null,null,null,null,null,null,null,null,null,null,null,null,null,null,null,null,"",null,"",null,null,null,null,null,null,null,null,null,null,null,null,null,null,null,null,null,null,null,null,null,null,null,""]
[null,148,null,null,null,null,"",null,null,null,null,null,null,null,null,null,null,null,null,null,null,null,null,null,null,null,null,null,null,null,"",null,"",null,null,null,null,null,null,null,null,null,null,null,null,null,null,null,null,null,null,null,null,null,null,null,"",null,"",null,null,null,null,null,null,null,null,null,null,null,null,null,null,null,null,null,null,null,null,null,null,null,"",null,"",null,null,null,null,null,null,null,null,null,null,null,null,null,null,null,null,null,null,null,null,null,null,null,"",null,"",null,null,null,null,null,null,null,null,null,null,null,null,null,null,null,null,null,null,null,null,null,null,null,"",null,"",null,null,null,null,null,null,null,null,null,null,null,null,null,null,null,null,null,null,null,null,null,null,null,"",null,"",null,null,null,null,null,null,null,null,null,null,null,null,null,null,null,null,null,null,null,null,null,null,null,"",null,"",null,null,null,null,null,null,null,null,null,null,null,null,null,null,null,null,null,null,null,null,null,null,null,"",null,"",null,null,null,null,null,null,null,null,null,null,null,null,null,null,null,null,null,null,null,null,null,null,null,"",null,"",null,null,null,null,null,null,null,null,null,null,null,null,null,null,null,null,null,null,null,null,null,null,null,"",null,"",null,null,null,null,null,null,null,null,null,null,null,null,null,null,null,null,null,null,null,null,null,null,null,""]
[null,149,null,null,null,null,"",null,null,null,null,null,null,null,null,null,null,null,null,null,null,null,null,null,null,null,null,null,null,null,"",null,"",null,null,null,null,null,null,null,null,null,null,null,null,null,null,null,null,null,null,null,null,null,null,null,"",null,"",null,null,null,null,null,null,null,null,null,null,null,null,null,null,null,null,null,null,null,null,null,null,null,"",null,"",null,null,null,null,null,null,null,null,null,null,null,null,null,null,null,null,null,null,null,null,null,null,null,"",null,"",null,null,null,null,null,null,null,null,null,null,null,null,null,null,null,null,null,null,null,null,null,null,null,"",null,"",null,null,null,null,null,null,null,null,null,null,null,null,null,null,null,null,null,null,null,null,null,null,null,"",null,"",null,null,null,null,null,null,null,null,null,null,null,null,null,null,null,null,null,null,null,null,null,null,null,"",null,"",null,null,null,null,null,null,null,null,null,null,null,null,null,null,null,null,null,null,null,null,null,null,null,"",null,"",null,null,null,null,null,null,null,null,null,null,null,null,null,null,null,null,null,null,null,null,null,null,null,"",null,"",null,null,null,null,null,null,null,null,null,null,null,null,null,null,null,null,null,null,null,null,null,null,null,"",null,"",null,null,null,null,null,null,null,null,null,null,null,null,null,null,null,null,null,null,null,null,null,null,null,""]
[null,150,null,null,null,null,"",null,null,null,null,null,null,null,null,null,null,null,null,null,null,null,null,null,null,null,null,null,null,null,"",null,"",null,null,null,null,null,null,null,null,null,null,null,null,null,null,null,null,null,null,null,null,null,null,null,"",null,"",null,null,null,null,null,null,null,null,null,null,null,null,null,null,null,null,null,null,null,null,null,null,null,"",null,"",null,null,null,null,null,null,null,null,null,null,null,null,null,null,null,null,null,null,null,null,null,null,null,"",null,"",null,null,null,null,null,null,null,null,null,null,null,null,null,null,null,null,null,null,null,null,null,null,null,"",null,"",null,null,null,null,null,null,null,null,null,null,null,null,null,null,null,null,null,null,null,null,null,null,null,"",null,"",null,null,null,null,null,null,null,null,null,null,null,null,null,null,null,null,null,null,null,null,null,null,null,"",null,"",null,null,null,null,null,null,null,null,null,null,null,null,null,null,null,null,null,null,null,null,null,null,null,"",null,"",null,null,null,null,null,null,null,null,null,null,null,null,null,null,null,null,null,null,null,null,null,null,null,"",null,"",null,null,null,null,null,null,null,null,null,null,null,null,null,null,null,null,null,null,null,null,null,null,null,"",null,"",null,null,null,null,null,null,null,null,null,null,null,null,null,null,null,null,null,null,null,null,null,null,null,""]

{"sheet":"C3_Monit Lectivas","index":12,"n_rows":91,"n_cols":23,"rows_kept":91,"cut":false,"hidden":true,"merged":[[10,2,10,9],[10,10,10,12],[10,13,10,15],[11,2,11,9],[11,10,11,12],[11,13,11,15],[14,2,14,9],[14,10,14,12],[14,13,14,15],[16,2,16,9],[16,10,16,12],[16,13,16,15],[12,2,12,9],[12,10,12,12],[12,13,12,15],[13,2,13,9],[13,10,13,12],[13,13,13,15],[19,2,19,9],[19,10,19,12],[19,13,19,15],[20,2,20,9],[20,10,20,12],[20,13,20,15],[17,2,17,9],[17,10,17,12],[17,13,17,15],[18,2,18,9],[18,10,18,12],[18,13,18,15],[24,2,24,9],[24,10,24,12],[24,13,24,15],[25,2,25,9],[25,10,25,12],[25,13,25,15],[22,2,22,9],[22,10,22,12],[22,13,22,15],[23,2,23,9],[23,10,23,12],[23,13,23,15],[26,2,26,9],[26,10,26,12],[26,13,26,15],[29,2,29,13],[30,2,31,7],[30,8,30,13],[31,8,31,9],[31,10,31,11],[31,12,31,13],[34,2,34,7],[34,8,34,9],[34,10,34,11],[34,12,34,13],[35,2,35,7],[35,8,35,9],[35,10,35,11],[35,12,35,13],[32,2,32,7],[32,8,32,9],[32,10,32,11],[32,12,32,13],[33,2,33,7],[33,8,33,9],[33,10,33,11],[33,12,33,13],[41,2,43,23],[44,2,47,3],[44,4,47,6],[44,7,47,9],[44,10,44,19],[44,20,47,21],[44,22,47,23],[45,10,47,11],[45,12,47,13],[45,14,47,15],[45,16,47,17],[45,18,47,19],[49,22,49,23],[48,22,48,23],[48,2,48,3],[48,4,48,6],[48,7,48,9],[48,10,48,11],[48,12,48,13],[48,14,48,15],[48,16,48,17],[48,18,48,19],[48,20,48,21],[49,2,49,3],[49,4,49,6],[49,7,49,9],[49,10,49,11],[49,12,49,13],[49,14,49,15],[49,16,49,17],[49,18,49,19],[49,20,49,21],[51,22,51,23],[58,4,58,6],[58,7,58,9],[58,10,58,11],[58,12,58,13],[58,14,58,15],[50,2,50,3],[50,4,50,6],[50,7,50,9],[50,10,50,11],[50,12,50,13],[50,14,50,15],[50,16,50,17],[50,18,50,19],[50,20,50,21],[50,22,50,23],[51,2,51,3],[51,4,51,6],[51,7,51,9],[51,10,51,11],[51,12,51,13],[51,14,51,15],[51,16,51,17],[51,18,51,19],[51,20,51,21],[52,2,52,3],[52,4,52,6],[52,7,52,9],[52,10,52,11],[52,12,52,13],[52,14,52,15],[52,16,52,17],[52,18,52,19],[52,20,52,21],[53,22,53,23],[65,4,65,6],[65,7,65,9],[65,10,65,11],[65,12,65,13],[65,14,65,15],[65,16,65,17],[65,18,65,19],[52,22,52,23],[58,16,58,17],[58,18,58,19],[58,20,58,21],[58,22,58,23],[54,22,54,23],[55,18,55,19],[55,20,55,21],[55,22,55,23],[57,18,57,19],[57,20,57,21],[57,22,57,23],[56,22,56,23],[56,18,56,19],[56,20,56,21],[57,12,57,13],[53,2,53,3],[53,4,53,6],[53,7,53,9],[53,10,53,11],[53,12,53,13],[53,14,53,15],[53,16,53,17],[53,18,53,19],[53,20,53,21],[67,20,67,21],[67,22,67,23],[68,22,68,23],[69,20,69,21],[54,2,54,3],[54,4,54,6],[54,7,54,9],[54,10,54,11],[54,12,54,13],[54,14,54,15],[54,16,54,17],[54,18,54,19],[54,20,54,21],[66,4,66,6],[66,7,66,9],[66,10,66,11],[66,12,66,13],[66,14,66,15],[66,16,66,17],[66,18,66,19],[66,20,66,21],[66,22,66,23],[55,2,55,3],[55,4,55,6],[55,7,55,9],[55,10,55,11],[55,12,55,13],[55,14,55,15],[55,16,55,17],[69,4,69,6],[69,7,69,9],[69,10,69,11],[69,12,69,13],[69,14,69,15],[69,16,69,17],[56,2,56,3],[56,4,56,6],[56,7,56,9],[56,10,56,11],[56,12,56,13],[56,14,56,15],[56,16,56,17],[57,2,57,3],[57,4,57,6],[57,7,57,9],[57,10,57,11],[57,14,57,15],[57,16,57,17],[74,4,74,6],[74,7,74,9],[74,10,74,11],[74,12,74,13],[74,14,74,15],[74,16,74,17],[60,2,63,3],[60,4,63,6],[60,7,63,9],[60,10,60,19],[66,2,66,3],[67,2,67,3],[67,4,67,6],[67,7,67,9],[67,10,67,11],[67,12,67,13],[67,14,67,15],[67,16,67,17],[67,18,67,19],[69,2,69,3],[69,18,69,19],[70,2,70,3],[70,4,70,6],[70,7,70,9],[60,20,63,21],[60,22,63,23],[61,10,63,11],[61,12,63,13],[61,14,63,15],[61,16,63,17],[61,18,63,19],[64,22,64,23],[65,2,65,3],[64,2,64,3],[64,4,64,6],[64,7,64,9],[64,10,64,11],[64,12,64,13],[64,14,64,15],[64,16,64,17],[64,18,64,19],[64,20,64,21],[65,20,65,21],[65,22,65,23],[70,20,70,21],[70,22,70,23],[68,2,68,3],[68,4,68,6],[68,7,68,9],[68,10,68,11],[68,12,68,13],[68,14,68,15],[68,16,68,17],[68,18,68,19],[68,20,68,21],[71,2,71,3],[72,2,72,3],[73,2,73,3],[73,4,73,6],[73,7,73,9],[73,10,73,11],[73,12,73,13],[73,14,73,15],[73,16,73,17],[72,4,72,6],[72,7,72,9],[72,10,72,11],[72,12,72,13],[72,14,72,15],[72,16,72,17],[71,4,71,6],[71,7,71,9],[71,10,71,11],[71,12,71,13],[71,14,71,15],[71,16,71,17],[76,10,76,19],[76,20,79,21],[76,22,79,23],[77,10,79,11],[77,12,79,13],[77,14,79,15],[77,16,79,17],[77,18,79,19],[69,22,69,23],[73,18,73,19],[73,20,73,21],[73,22,73,23],[72,18,72,19],[72,20,72,21],[72,22,72,23],[71,18,71,19],[71,20,71,21],[71,22,71,23],[74,22,74,23],[70,10,70,11],[70,12,70,13],[70,14,70,15],[70,16,70,17],[70,18,70,19],[81,22,81,23],[80,2,80,3],[80,4,80,6],[80,7,80,9],[80,10,80,11],[80,12,80,13],[80,14,80,15],[80,16,80,17],[80,18,80,19],[80,20,80,21],[81,2,81,3],[81,4,81,6],[81,7,81,9],[81,10,81,11],[81,12,81,13],[81,14,81,15],[81,16,81,17],[81,18,81,19],[81,20,81,21],[76,2,79,3],[76,4,79,6],[76,7,79,9],[82,22,82,23],[83,2,83,3],[83,4,83,6],[83,7,83,9],[83,10,83,11],[83,12,83,13],[83,14,83,15],[83,16,83,17],[83,18,83,19],[83,20,83,21],[83,22,83,23],[82,2,82,3],[82,4,82,6],[82,7,82,9],[82,10,82,11],[82,12,82,13],[82,14,82,15],[82,16,82,17],[82,18,82,19],[82,20,82,21],[80,22,80,23],[84,22,84,23],[85,2,85,3],[85,4,85,6],[85,7,85,9],[85,10,85,11],[85,12,85,13],[85,14,85,15],[85,16,85,17],[85,18,85,19],[85,20,85,21],[85,22,85,23],[84,2,84,3],[84,4,84,6],[84,7,84,9],[84,10,84,11],[84,12,84,13],[84,14,84,15],[84,16,84,17],[84,18,84,19],[84,20,84,21],[86,22,86,23],[87,2,87,3],[87,4,87,6],[87,7,87,9],[87,10,87,11],[87,12,87,13],[87,14,87,15],[87,16,87,17],[87,18,87,19],[87,20,87,21],[87,22,87,23],[86,2,86,3],[86,4,86,6],[86,7,86,9],[86,10,86,11],[86,12,86,13],[86,14,86,15],[86,16,86,17],[86,18,86,19],[86,20,86,21],[89,22,89,23],[88,2,88,3],[88,4,88,6],[88,7,88,9],[88,10,88,11],[88,12,88,13],[88,14,88,15],[88,16,88,17],[88,18,88,19],[88,20,88,21],[90,22,90,23],[58,2,58,3],[74,2,74,3],[74,18,74,19],[74,20,74,21],[90,2,90,3],[90,4,90,6],[90,7,90,9],[90,10,90,11],[90,12,90,13],[90,14,90,15],[90,16,90,17],[90,18,90,19],[90,20,90,21],[88,22,88,23],[89,2,89,3],[89,4,89,6],[89,7,89,9],[89,10,89,11],[89,12,89,13],[89,14,89,15],[89,16,89,17],[89,18,89,19],[89,20,89,21]]}
[null,null,"Indicador: Porcentaje de horas lectivas cumplidas por nivel."]
[null,null,"Seguimiento del cumplimiento de horas lectivas en el año escolar 2017"]
[null,null,"¿Qué hacer?"]
[null,null,"Los datos de horas lectivas programadas se completan automáticamente en base a los datos que completaste en las hojas de Calendarización."]
[null,null,"1° En la tabla \"Registro mensual de pérdida y recuperación de horas\", registra mensualmente la pérdida y recuperación de horas lectivas, por nivel educativo (puedes cambiar los títulos si ofreces EBA o EBE)."]
[null,null,"2° Las tablas del consolidado se completarán, automáticamente, a medida que ingreses datos en las celdas posteriores."]
[]
[null,null,"CONSOLIDADO del cumplimiento de horas lectivas 2017 ➨"]
[]
[null,null,"Reporte de horas perdidas y recuperadas; y del porcentaje de cumplimiento de horas lectivas, resultado del balance entre las horas programadas y las cumplidas."]
[null,null,"Consolidado - NIVEL INICIAL",null,null,null,null,null,null,null,"Parcial",null,null,"Anual"]
[null,null,"Horas perdidas durante el año ",null,null,null,null,null,null,null,{"$f":"SUM(S49:T52)","v":0},null,null,{"$f":"SUM(S49:T59)","v":0}]
[null,null,"Horas recuperadas durante el año ",null,null,null,null,null,null,null,{"$f":"SUM(U49:V52)","v":0},null,null,{"$f":"SUM(U49:V59)","v":0}]
[null,null,"Balance entre pérdida y recuperación ",null,null,null,null,null,null,null,{"$f":"K13-K12","v":0},null,null,{"$f":"N13-N12","v":0}]
[null,null,"% de cumplimiento de horas lectivas",null,null,null,null,null,null,null,{"$f":"IFERROR((IF(K13>K12,1,1-(ABS(K14)/SUM('C3_Form Ini'!AQ21:AQ32)))),\"\")","v":""},null,null,{"$f":"IFERROR((IF(N13>N12,1,1-(ABS(N14)/SUM('C3_Form Ini'!AQ21:AQ42)))),\"\")","v":""}]
[]
[null,null,"Consolidado - NIVEL PRIMARIA",null,null,null,null,null,null,null,"Parcial",null,null,"Anual"]
[null,null,"Horas perdidas durante el año ",null,null,null,null,null,null,null,{"$f":"SUM(S65:T68)","v":0},null,null,{"$f":"SUM(S65:T75)","v":0}]
[null,null,"Horas recuperadas durante el año ",null,null,null,null,null,null,null,{"$f":"SUM(U65:V68)","v":0},null,null,{"$f":"SUM(U65:V75)","v":0}]
[null,null,"Balance entre pérdida y recuperación ",null,null,null,null,null,null,null,{"$f":"K19-K18","v":0},null,null,{"$f":"N19-N18","v":0}]
[null,null,"% de cumplimiento de horas lectivas",null,null,null,null,null,null,null,{"$f":"IFERROR((IF(K19>K18,1,1-(ABS(K20)/SUM('C3_FormPrim'!AQ21:AQ32)))),\"\")","v":""},null,null,{"$f":"IFERROR((IF(N19>N18,1,1-(ABS(N20)/SUM('C3_FormPrim'!AQ21:AQ42)))),\"\")","v":""}]
[]
[null,null,"Consolidado - NIVEL SECUNDARIA",null,null,null,null,null,null,null,"Parcial",null,null,"Anual"]
[null,null,"Horas perdidas durante el año ",null,null,null,null,null,null,null,{"$f":"SUM(S65:T68)","v":0},null,null,{"$f":"SUM(S81:T91)","v":0}]
[null,null,"Horas recuperadas durante el año ",null,null,null,null,null,null,null,{"$f":"SUM(U81:V84)","v":0},null,null,{"$f":"SUM(U81:V91)","v":0}]
[null,null,"Balance entre pérdida y recuperación ",null,null,null,null,null,null,null,{"$f":"K25-K24","v":0},null,null,{"$f":"N25-N24","v":0}]
[null,null,"% de cumplimiento de horas lectivas",null,null,null,null,null,null,null,{"$f":"IFERROR((IF(K25>K24,1,1-(ABS(K26)/SUM('C3_FormSec'!AQ22:AQ33)))),\"\")","v":1},null,null,{"$f":"IFERROR((IF(N25>N24,1,1-(ABS(N26)/SUM('C3_FormSec'!AQ22:AQ43)))),\"\")","v":1}]
[]
[]
[null,null,"Horas perdidas según causa de pérdida "]
[null,null,"CAUSA",null,null,null,null,null,"Nro. de horas por nivel"]
[null,null,null,null,null,null,null,null,"Inic.",null,"Prim.",null,"Sec."]
[null,null,"Problema climático",null,null,null,null,null,{"$f":"SUM(K49:L59)","v":0},null,{"$f":"SUM(K65:L75)","v":0},null,{"$f":"SUM(K81:L91)","v":0}]
[null,null,"Problema social",null,null,null,null,null,{"$f":"SUM(M49:N59)","v":0},null,{"$f":"SUM(M65:N75)","v":0},null,{"$f":"SUM(M81:N91)","v":0}]
[null,null,"Convocatoria MINEDU/OOII",null,null,null,null,null,{"$f":"SUM(O49:P59)","v":0},null,{"$f":"SUM(O65:P75)","v":0},null,{"$f":"SUM(O81:P91)","v":0}]
[null,null,"Otros motivos",null,null,null,null,null,{"$f":"SUM(Q49:R59)","v":0},null,{"$f":"SUM(Q65:R75)","v":0},null,{"$f":"SUM(Q81:R91)","v":0}]
[null,null,"Este consolidado te permitirá identificar qué tipo de problemas o actividades están mellando en el cumplimiento de la planificación."]
[]
[]
[null,null,"Registro mensual de pérdida y recuperación de horas ➨"]
[]
[null,null,"Esta tabla está dividida según los meses del año escolar y, dentro de ellos, según cada nivel educativo. Deberás escribir el número de horas perdidas en cada mes y nivel educativo según la causa de la pérdida, y luego completa el número de horas recuperadas por mes y nivel educativo. Lo demás procesará automáticamente y el consolidado anual se irá actualizando a medida que agregues más datos."]
[]
[]
[null,null,"MES",null,"NIVEL",null,null,"Días Programados",null,null,"Horas perdidas",null,null,null,null,null,null,null,null,null,"Horas recuperadas",null,"Balance mensual"]
[null,null,null,null,null,null,null,null,null,null,"Problema climático",null,"Problema social",null,"Convocatoria MINEDU/OOII",null,"Otros motivos",null,"Horas perdidas total"]
[]
[]
[null,null,{"$f":"UPPER(TEXT('C3_Form Ini'!B21,\"mmmm\"))","v":"MARZO"},null,"Inicial",null,null,{"$f":"'C3_Form Ini'!AP21","v":15},null,null,0,null,0,null,0,null,0,null,{"$f":"SUM(K49:R49)","v":0},null,0,null,{"$f":"U49-S49","v":0}]
[null,null,{"$f":"UPPER(TEXT('C3_Form Ini'!B23,\"mmmm\"))","v":"ABRIL"},null,"Inicial",null,null,{"$f":"'C3_Form Ini'!AP23","v":20},null,null,0,null,0,null,0,null,0,null,0,null,0,null,{"$f":"U50-S50","v":0}]
[null,null,{"$f":"UPPER(TEXT('C3_Form Ini'!B25,\"mmmm\"))","v":"MAYO"},null,"Inicial",null,null,{"$f":"'C3_Form Ini'!AP25","v":22},null,null,0,null,0,null,0,null,0,null,0,null,0,null,0]
[null,null,{"$f":"UPPER(TEXT('C3_Form Ini'!B27,\"mmmm\"))","v":"JUNIO"},null,"Inicial",null,null,{"$f":"'C3_Form Ini'!AP27","v":20},null,null,0,null,0,null,0,null,0,null,0,null,0,null,0]
[null,null,{"$f":"UPPER(TEXT('C3_Form Ini'!B29,\"mmmm\"))","v":"JULIO"},null,"Inicial",null,null,{"$f":"'C3_Form Ini'!AP29","v":15},null,null,0,null,0,null,0,null,0,null,0,null,0,null,0]
[null,null,{"$f":"UPPER(TEXT('C3_Form Ini'!B31,\"mmmm\"))","v":"AGOSTO"},null,"Inicial",null,null,{"$f":"'C3_Form Ini'!AP31","v":18},null,null,0,null,0,null,0,null,0,null,0,null,0,null,0]
[null,null,{"$f":"UPPER(TEXT('C3_Form Ini'!B33,\"mmmm\"))","v":"SETIEMBRE"},null,"Inicial",null,null,{"$f":"'C3_Form Ini'!AP33","v":21},null,null,0,null,0,null,0,null,0,null,0,null,0,null,0]
[null,null,{"$f":"UPPER(TEXT('C3_Form Ini'!B35,\"mmmm\"))","v":"OCTUBRE"},null,"Inicial",null,null,{"$f":"'C3_Form Ini'!AP35","v":22},null,null,0,null,0,null,0,null,0,null,0,null,0,null,0]
[null,null,{"$f":"UPPER(TEXT('C3_Form Ini'!B37,\"mmmm\"))","v":"NOVIEMBRE"},null,"Inicial",null,null,{"$f":"'C3_Form Ini'!AP37","v":21},null,null,0,null,0,null,0,null,0,null,0,null,0,null,0]
[null,null,{"$f":"'C3_Form Ini'!B39","v":"2017-12-01"},null,"Inicial",null,null,{"$f":"'C3_Form Ini'!AP39","v":10},null,null,0,null,0,null,0,null,0,null,0,null,0,null,0]
[null,null,{"$f":"'C3_Form Ini'!B41","v":"2018-01-01"},null,"Inicial",null,null,{"$f":"'C3_Form Ini'!AP41","v":0},null,null,0,null,0,null,0,null,0,null,{"$f":"SUM(K59:R59)","v":0},null,0,null,{"$f":"U59-S59","v":0}]
[]
[null,null,"MES",null,"NIVEL",null,null,"Días Programados",null,null,"Horas perdidas",null,null,null,null,null,null,null,null,null,"Horas recuperadas",null,"Balance mensual"]
[null,null,null,null,null,null,null,null,null,null,"Problema climático",null,"Problema social",null,"Convocatoria MINEDU/OOII",null,"Otros motivos",null,"Horas perdidas total"]
[]
[]
[null,null,{"$f":"'C3_FormPrim'!B21","v":"2017-03-01"},null,"Primaria",null,null,{"$f":"'C3_FormPrim'!AP21","v":14},null,null,0,null,0,null,0,null,0,null,{"$f":"SUM(K65:R65)","v":0},null,0,null,{"$f":"U65-S65","v":0}]
[null,null,{"$f":"'C3_FormPrim'!B23","v":"2017-04-01"},null,"Primaria",null,null,{"$f":"'C3_FormPrim'!AP23","v":20},null,null,0,null,0,null,0,null,0,null,0,null,0,null,0]
[null,null,{"$f":"'C3_FormPrim'!B25","v":"2017-05-01"},null,"Primaria",null,null,{"$f":"'C3_FormPrim'!AP25","v":22},null,null,0,null,0,null,0,null,0,null,0,null,0,null,0]
[null,null,{"$f":"'C3_FormPrim'!B27","v":"2017-06-01"},null,"Primaria",null,null,{"$f":"'C3_FormPrim'!AP27","v":21},null,null,0,null,0,null,0,null,0,null,0,null,0,null,0]
[null,null,{"$f":"'C3_FormPrim'!B29","v":"2017-07-01"},null,"Primaria",null,null,{"$f":"'C3_FormPrim'!AP29","v":15},null,null,0,null,0,null,0,null,0,null,0,null,0,null,0]
[null,null,{"$f":"'C3_FormPrim'!B31","v":"2017-08-01"},null,"Primaria",null,null,{"$f":"'C3_FormPrim'!AP31","v":18},null,null,0,null,0,null,0,null,0,null,0,null,0,null,0]
[null,null,{"$f":"'C3_FormPrim'!B33","v":"2017-09-01"},null,"Primaria",null,null,{"$f":"'C3_FormPrim'!AP33","v":21},null,null,0,null,0,null,0,null,0,null,0,null,0,null,0]
[null,null,{"$f":"'C3_FormPrim'!B35","v":"2017-10-01"},null,"Primaria",null,null,{"$f":"'C3_FormPrim'!AP35","v":22},null,null,0,null,0,null,0,null,0,null,0,null,0,null,0]
[null,null,{"$f":"'C3_FormPrim'!B37","v":"2017-11-01"},null,"Primaria",null,null,{"$f":"'C3_FormPrim'!AP37","v":21},null,null,0,null,0,null,0,null,0,null,0,null,0,null,0]
[null,null,{"$f":"'C3_FormPrim'!B39","v":"2017-12-01"},null,"Primaria",null,null,{"$f":"'C3_FormPrim'!A39","v":12},null,null,0,null,0,null,0,null,0,null,0,null,0,null,0]
[null,null,{"$f":"'C3_FormPrim'!B41","v":"2018-01-01"},null,"Primaria",null,null,{"$f":"'C3_FormPrim'!AP41","v":0},null,null,0,null,0,null,0,null,0,null,0,null,0,null,0]
[]
[null,null,"MES",null,"NIVEL",null,null,"Días Programados",null,null,"Horas perdidas",null,null,null,null,null,null,null,null,null,"Horas recuperadas",null,"Balance mensual"]
[null,null,null,null,null,null,null,null,null,null,"Problema climático",null,"Problema social",null,"Convocatoria MINEDU/OOII",null,"Otros motivos",null,"Horas perdidas total"]
[]
[]
[null,null,{"$f":"'C3_FormSec'!B22","v":"2017-03-01"},null,"Secundaria",null,null,{"$f":"'C3_FormSec'!AP22","v":15},null,null,0,null,0,null,0,null,0,null,{"$f":"SUM(K81:R81)","v":0},null,0,null,{"$f":"U81-S81","v":0}]
[null,null,{"$f":"'C3_FormSec'!B24","v":"2017-04-01"},null,"Secundaria",null,null,{"$f":"'C3_FormSec'!AP24","v":20},null,null,0,null,0,null,0,null,0,null,0,null,0,null,0]
[null,null,{"$f":"'C3_FormSec'!B26","v":"2017-05-01"},null,"Secundaria",null,null,{"$f":"'C3_FormSec'!AP26","v":22},null,null,0,null,0,null,0,null,0,null,0,null,0,null,0]
[null,null,{"$f":"'C3_FormSec'!B28","v":"2017-06-01"},null,"Secundaria",null,null,{"$f":"'C3_FormSec'!AP28","v":21},null,null,0,null,0,null,0,null,0,null,0,null,0,null,0]
[null,null,{"$f":"'C3_FormSec'!B30","v":"2017-07-01"},null,"Secundaria",null,null,{"$f":"'C3_FormSec'!AP30","v":15},null,null,0,null,0,null,0,null,0,null,0,null,0,null,0]
[null,null,{"$f":"'C3_FormSec'!B32","v":"2017-08-01"},null,"Secundaria",null,null,{"$f":"'C3_FormSec'!AP32","v":18},null,null,0,null,0,null,0,null,0,null,0,null,0,null,0]
[null,null,{"$f":"'C3_FormSec'!B34","v":"2017-09-01"},null,"Secundaria",null,null,{"$f":"'C3_FormSec'!AP34","v":21},null,null,0,null,0,null,0,null,0,null,0,null,0,null,0]
[null,null,{"$f":"'C3_FormSec'!B36","v":"2017-10-01"},null,"Secundaria",null,null,{"$f":"'C3_FormSec'!AP36","v":22},null,null,0,null,0,null,0,null,0,null,0,null,0,null,0]
[null,null,{"$f":"'C3_FormSec'!B38","v":"2017-11-01"},null,"Secundaria",null,null,{"$f":"'C3_FormSec'!AP38","v":21},null,null,0,null,0,null,0,null,0,null,0,null,0,null,0]
[null,null,{"$f":"'C3_FormSec'!B40","v":"2017-12-01"},null,"Secundaria",null,null,{"$f":"'C3_FormSec'!AP40","v":10},null,null,0,null,0,null,0,null,0,null,0,null,0,null,0]
[null,null,{"$f":"'C3_FormSec'!B42","v":"2018-01-01"},null,"Secundaria",null,null,{"$f":"'C3_FormSec'!AP42","v":0},null,null,0,null,0,null,0,null,0,null,0,null,0,null,0]

{"sheet":"C2_Monit 1","index":13,"n_rows":48,"n_cols":10,"rows_kept":48,"cut":false,"hidden":true,"merged":[[2,2,2,9],[3,2,3,9],[7,2,14,2],[7,3,8,3],[9,3,10,3],[11,3,12,3],[13,3,14,3],[16,2,29,2],[16,3,17,3],[18,3,19,3],[20,3,21,3],[22,3,23,3],[24,3,25,3],[26,3,27,3],[28,3,29,3],[44,2,45,3],[47,2,47,9],[31,2,42,2],[31,3,32,3],[33,3,34,3],[35,3,36,3],[37,3,38,3],[39,3,40,3],[41,3,42,3]]}
[null,null,"Indicador: Porcentaje de estudiantes matriculados que concluyen el año escolar."]
[null,null,"¿Qué hacer?"]
[null,null,"Completa los datos. Si no tienes estudiantes en algún grado o nivel, entonces coloca \"0\" en los recuadros correspondientes.  Al colocar los datos correspondientes al número de estudiantes se mostrarán automáticamente los porcentajes de conclusión, abandono y traslado correspondientes al año 2016. \nRecuerda que, como es el año en curso, podrás modificar los datos a medida que vayan surgiendo eventualidades."]
[]
[null,null,"Resultados 2017➨"]
[]
[null,null,"Nivel Educativo","Grado","Datos","Matrícula inicial 2017","Matrícula adicional 2017","Abandono 2017","Traslado 2017","Conclusión 2017"]
[null,null,"INICIAL","3 años","Nro. estudiantes",null,null,null,null,{"$f":"(F8+G8)-(H8+I8)","v":0}]
[null,null,null,null,"Porcentaje",null,null,{"$f":"IFERROR(H8/SUM(F8,G8),\"\")","v":""},{"$f":"IFERROR(I8/SUM(F8,G8),\"\")","v":""},{"$f":"IFERROR(J8/SUM(F8,G8),\"\")","v":""}]
[null,null,null,"4 años","Nro. est.",null,null,null,null,{"$f":"(F10+G10)-(H10+I10)","v":0}]
[null,null,null,null,"Porcentaje",null,null,{"$f":"IFERROR(H10/SUM(F10,G10),\"\")","v":""},{"$f":"IFERROR(I10/SUM(F10,G10),\"\")","v":""},{"$f":"IFERROR(J10/SUM(F10,G10),\"\")","v":""}]
[null,null,null,"5 años","Nro. est.",null,null,null,null,{"$f":"(F12+G12)-(H12+I12)","v":0}]
[null,null,null,null,"Porcentaje",null,null,{"$f":"IFERROR(H12/SUM(F12,G12),\"\")","v":""},{"$f":"IFERROR(I12/SUM(F12,G12),\"\")","v":""},{"$f":"IFERROR(J12/SUM(F12,G12),\"\")","v":""}]
[null,null,null,"TOTAL del nivel","Nro. est.",{"$f":"SUM(F8,F10,F12)","v":0},{"$f":"SUM(G8,G10,G12)","v":0},{"$f":"SUM(H8,H10,H12)","v":0},{"$f":"SUM(I8,I10,I12)","v":0},{"$f":"SUM(J8,J10,J12)","v":0}]
[null,null,null,null,"Porcentaje",null,null,{"$f":"IFERROR(H14/SUM(F14,G14),\"\")","v":""},{"$f":"IFERROR(I14/SUM(F14,G14),\"\")","v":""},{"$f":"IFERROR(J14/SUM(F14,G14),\"\")","v":""}]
[]
[null,null,"PRIMARIA","1er grado","Nro estudiantes",null,null,null,null,{"$f":"(F17+G17)-(H17+I17)","v":0}]
[null,null,null,null,"Porcentaje",null,null,{"$f":"IFERROR(H17/SUM(F17,G17),\"\")","v":""},{"$f":"IFERROR(I17/SUM(F17,G17),\"\")","v":""},{"$f":"IFERROR(J17/SUM(F17,G17),\"\")","v":""}]
[null,null,null,"2do grado","Nro. est.",null,null,null,null,{"$f":"(F19+G19)-(H19+I19)","v":0}]
[null,null,null,null,"Porcentaje",null,null,{"$f":"IFERROR(H19/SUM(F19,G19),\"\")","v":""},{"$f":"IFERROR(I19/SUM(F19,G19),\"\")","v":""},{"$f":"IFERROR(J19/SUM(F19,G19),\"\")","v":""}]
[null,null,null,"3er grado","Nro. est.",null,null,null,null,{"$f":"(F21+G21)-(H21+I21)","v":0}]
[null,null,null,null,"Porcentaje",null,null,{"$f":"IFERROR(H21/SUM(F21,G21),\"\")","v":""},{"$f":"IFERROR(I21/SUM(F21,G21),\"\")","v":""},{"$f":"IFERROR(J21/SUM(F21,G21),\"\")","v":""}]
[null,null,null,"4to grado","Nro estudiantes",null,null,null,null,{"$f":"(F23+G23)-(H23+I23)","v":0}]
[null,null,null,null,"Porcentaje",null,null,{"$f":"IFERROR(H23/SUM(F23,G23),\"\")","v":""},{"$f":"IFERROR(I23/SUM(F23,G23),\"\")","v":""},{"$f":"IFERROR(J23/SUM(F23,G23),\"\")","v":""}]
[null,null,null,"5to grado","Nro. est.",null,null,null,null,{"$f":"(F25+G25)-(H25+I25)","v":0}]
[null,null,null,null,"Porcentaje",null,null,{"$f":"IFERROR(H25/SUM(F25,G25),\"\")","v":""},{"$f":"IFERROR(I25/SUM(F25,G25),\"\")","v":""},{"$f":"IFERROR(J25/SUM(F25,G25),\"\")","v":""}]
[null,null,null,"6to grado","Nro. est.",null,null,null,null,{"$f":"(F27+G27)-(H27+I27)","v":0}]
[null,null,null,null,"Porcentaje",null,null,{"$f":"IFERROR(H27/SUM(F27,G27),\"\")","v":""},{"$f":"IFERROR(I27/SUM(F27,G27),\"\")","v":""},{"$f":"IFERROR(J27/SUM(F27,G27),\"\")","v":""}]
[null,null,null,"TOTAL del nivel","Nro est.",{"$f":"SUM(F17,F19,F21,F23,F25,F27)","v":0},{"$f":"SUM(G17,G19,G21,G23,G25,G27)","v":0},{"$f":"SUM(H17,H19,H21,H23,H25,H27)","v":0},{"$f":"SUM(I17,I19,I21,I23,I25,I27)","v":0},{"$f":"SUM(J17,J19,J21,J23,J25,J27)","v":0}]
[null,null,null,null,"Porcentaje",null,null,{"$f":"IFERROR(H29/SUM(F29,G29),\"\")","v":""},{"$f":"IFERROR(I29/SUM(F29,G29),\"\")","v":""},{"$f":"IFERROR(J29/SUM(F29,G29),\"\")","v":""}]
[]
[null,null,"SECUNDARIA","1er año","Nro. estudiantes",null,null,null,null,{"$f":"(F32+G32)-(H32+I32)","v":0}]
[null,null,null,null,"Porcentaje",null,null,{"$f":"IFERROR(H32/SUM(F32,G32),\"\")","v":""},{"$f":"IFERROR(I32/SUM(F32,G32),\"\")","v":""},{"$f":"IFERROR(J32/SUM(F32,G32),\"\")","v":""}]
[null,null,null,"2do año","Nro est.",null,null,null,null,{"$f":"(F34+G34)-(H34+I34)","v":0}]
[null,null,null,null,"Porcentaje",null,null,{"$f":"IFERROR(H34/SUM(F34,G34),\"\")","v":""},{"$f":"IFERROR(I34/SUM(F34,G34),\"\")","v":""},{"$f":"IFERROR(J34/SUM(F34,G34),\"\")","v":""}]
[null,null,null,"3er año","Nro est.",null,null,null,null,{"$f":"(F36+G36)-(H36+I36)","v":0}]
[null,null,null,null,"Porcentaje",null,null,{"$f":"IFERROR(H36/SUM(F36,G36),\"\")","v":""},{"$f":"IFERROR(I36/SUM(F36,G36),\"\")","v":""},{"$f":"IFERROR(J36/SUM(F36,G36),\"\")","v":""}]
[null,null,null,"4to año","Nro est.",null,null,null,null,{"$f":"(F38+G38)-(H38+I38)","v":0}]
[null,null,null,null,"Porcentaje",null,null,{"$f":"IFERROR(H38/SUM(F38,G38),\"\")","v":""},{"$f":"IFERROR(I38/SUM(F38,G38),\"\")","v":""},{"$f":"IFERROR(J38/SUM(F38,G38),\"\")","v":""}]
[null,null,null,"5to año","Nro. est.",null,null,null,null,{"$f":"(F40+G40)-(H40+I40)","v":0}]
[null,null,null,null,"Porcentaje",null,null,{"$f":"IFERROR(H40/SUM(F40,G40),\"\")","v":""},{"$f":"IFERROR(I40/SUM(F40,G40),\"\")","v":""},{"$f":"IFERROR(J40/SUM(F40,G40),\"\")","v":""}]
[null,null,null,"TOTAL del nivel","Nro. est.",{"$f":"SUM(F32,F34,F36,F38,F40)","v":0},{"$f":"SUM(G32,G34,G36,G38,G40)","v":0},{"$f":"SUM(H32,H34,H36,H38,H40)","v":0},{"$f":"SUM(I32,I34,I36,I38,I40)","v":0},{"$f":"SUM(J32,J34,J36,J38,J40)","v":0}]
[null,null,null,null,"Porcentaje",null,null,{"$f":"IFERROR(H42/SUM(F42,G42),\"\")","v":""},{"$f":"IFERROR(I42/SUM(F42,G42),\"\")","v":""},{"$f":"IFERROR(J42/SUM(F42,G42),\"\")","v":""}]
[]
[null,null,"TOTAL de la I.E.",null,"Nro. est.",{"$f":"SUM(F14,F29,F42)","v":0},{"$f":"SUM(G14,G29,G42)","v":0},{"$f":"SUM(H14,H29,H42)","v":0},{"$f":"SUM(I14,I29,I42)","v":0},{"$f":"SUM(J14,J29,J42)","v":0}]
[null,null,null,null,"Porcentaje",null,null,{"$f":"IFERROR(H45/SUM(F45,G45),\"\")","v":""},{"$f":"IFERROR(I45/SUM(F45,G45),\"\")","v":""},{"$f":"IFERROR(J45/SUM(F45,G45),\"\")","v":""}]
[]
[null,null,"★ Definiciones clave: \nMatrícula: Es el número de matriculados/as en tu I.E. por nivel educativo. En el cuadro de matrícula inicial coloca el número de estudiantes con quienes empezaste el año escolar. Luego, en matrícula adicional puedes ir colocando el número de estudiantes que se matricularon luego del inicio del año escolar.\nConclusión: Se refiere a los estudiantes que se matricularon en tu I.E., culminaron el año escolar en tu misma I.E. El porcentaje de conclusión se calcula teniendo como total al número de matriculados en el año.\nAbandono: Se refiere a aquellos/as estudiantes que se matricularon en tu I.E., pero abandonaron sus estudios y no continuaron en ninguna otra IE. El porcentaje de abandono se calcula teniendo como total al número de matriculados en el año.\nTraslado: Se refiere a los estudiantes que, se matricularon en tu I.E., pero fueron trasladados a otras por diferentes motivos. El porcentaje de traslado se calcula teniendo como total al número de matriculados en el año.\n"]

{"sheet":"C1_Monit Sec2","index":14,"n_rows":70,"n_cols":40,"rows_kept":70,"cut":false,"hidden":true,"merged":[[5,11,6,11],[5,12,6,12],[18,12,19,12],[7,2,15,2],[7,3,7,4],[7,8,15,8],[7,9,7,10],[8,3,11,3],[8,9,11,9],[12,3,15,3],[12,9,15,9],[18,2,19,4],[18,5,19,5],[18,6,19,6],[18,8,19,10],[18,11,19,11],[5,2,6,4],[20,2,28,2],[20,3,20,4],[20,8,28,8],[20,9,20,10],[21,3,24,3],[21,9,24,9],[25,3,28,3],[25,9,28,9],[5,5,6,5],[5,6,6,6],[5,8,6,10],[30,2,38,2],[30,3,30,4],[30,8,38,8],[30,9,30,10],[31,3,34,3],[31,9,34,9],[35,3,38,3],[35,9,38,9],[40,2,48,2],[40,3,40,4],[40,8,48,8],[40,9,40,10],[41,3,44,3],[41,9,44,9],[45,3,48,3],[45,9,48,9],[50,2,58,2],[50,3,50,4],[50,8,58,8],[50,9,50,10],[51,3,54,3],[51,9,54,9],[55,3,58,3],[55,9,58,9],[74,2,76,12],[60,2,68,2],[60,3,60,4],[60,8,68,8],[60,9,60,10],[61,3,64,3],[61,9,64,9],[65,3,68,3],[65,9,68,9]]}
[null,null,"Metas de rendimiento en el Nivel Secundaria - Ciencia, Tecnología y Ambiente; Historia, Geografía y Economía."]
[null,null,"¿Qué hacer?"]
[null,null,"Seguir el procedimiento anterior."]
[]
[null,null,"CONSOLIDADO DE RESULTADOS DEL NIVEL SECUNDARIA (Calificaciones parciales y finales 2017) ➨"]
[null,null,"Área Ciencia, Tecnología y A.",null,null,"Notas  parciales","Notas finales",null,"Área Hia, Geografía y Economía",null,null,"Notas  parciales","Notas finales"]
[null,null,null,null,null,null,null,null,null,null,null,null,null,null,null,null,null,null,null,null,null,null,null,null,null,null,null,null,null,null,null,null,null,null,null,null,null,null,null,""]
[null,null,"Nivel SECUNDARIA","Nro. estudiantes*",null,{"$f":"SUM(F21,F31,F41,F51,F61)","v":0},0,null,"Nivel SECUNDARIA","Nro. estudiantes*",null,{"$f":"SUM(L21,L31,L41,L51,L61)","v":0},0]
[null,null,null,"Nro. de estudiantes según calificación**","18-20",0,0,null,null,"Nro. de estudiantes según calificación**","18-20",0,0]
[null,null,null,null,"14-17",0,0,null,null,null,"14-17",0,0]
[null,null,null,null,"11-13",0,0,null,null,null,"11-13",0,0]
[null,null,null,null,"0-10",0,0,null,null,null,"0-10",0,0]
[null,null,null,"% de estudiantes según calificación","18-20",{"$f":"IFERROR(F9/F8,\"\")","v":""},{"$f":"IFERROR(G9/G8,\"\")","v":""},null,null,"% de estudiantes según calificación","18-20",{"$f":"IFERROR(L9/L8,\"\")","v":""},{"$f":"IFERROR(M9/M8,\"\")","v":""}]
[null,null,null,null,"14-17",{"$f":"IFERROR(F10/F8,\"\")","v":""},{"$f":"IFERROR(G10/G8,\"\")","v":""},null,null,null,"14-17",{"$f":"IFERROR(L10/L8,\"\")","v":""},{"$f":"IFERROR(M10/M8,\"\")","v":""}]
[null,null,null,null,"11-13",{"$f":"IFERROR(F11/F8,\"\")","v":""},{"$f":"IFERROR(G11/G8,\"\")","v":""},null,null,null,"11-13",{"$f":"IFERROR(L11/L8,\"\")","v":""},{"$f":"IFERROR(M11/M8,\"\")","v":""}]
[null,null,null,null,"0-10",{"$f":"IFERROR(F12/F8,\"\")","v":""},{"$f":"IFERROR(G12/G8,\"\")","v":""},null,null,null,"0-10",{"$f":"IFERROR(L12/L8,\"\")","v":""},{"$f":"IFERROR(M12/M8,\"\")","v":""}]
[null,null,"RESULTADOS POR GRADOS  ➨"]
[]
[null,null,"Área Ciencia, Tecnología y A.",null,null,"Notas  parciales","Notas finales",null,"Área Hia, Geografía y Economía",null,null,"Notas  parciales","Notas finales"]
[]
[null,null,"1er\ngrado","Nro. estudiantes*",null,null,null,null,"1er\ngrado","Nro. estudiantes*"]
[null,null,null,"Nro. de estudiantes según calificación**","18-20",null,null,null,null,"Nro. de estudiantes según calificación**","18-20"]
[null,null,null,null,"14-17",null,null,null,null,null,"14-17"]
[null,null,null,null,"11-13",null,null,null,null,null,"11-13"]
[null,null,null,null,"0-10",null,null,null,null,null,"0-10"]
[null,null,null,"% de estudiantes según calificación","18-20",{"$f":"IFERROR(F22/F21,\"\")","v":""},{"$f":"IFERROR(G22/G21,\"\")","v":""},null,null,"% de estudiantes según calificación","18-20",{"$f":"IFERROR(L22/L21,\"\")","v":""},{"$f":"IFERROR(M22/M21,\"\")","v":""}]
[null,null,null,null,"14-17",{"$f":"IFERROR(F23/F21,\"\")","v":""},{"$f":"IFERROR(G23/G21,\"\")","v":""},null,null,null,"14-17",{"$f":"IFERROR(L23/L21,\"\")","v":""},{"$f":"IFERROR(M23/M21,\"\")","v":""}]
[null,null,null,null,"11-13",{"$f":"IFERROR(F24/F21,\"\")","v":""},{"$f":"IFERROR(G24/G21,\"\")","v":""},null,null,null,"11-13",{"$f":"IFERROR(L24/L21,\"\")","v":""},{"$f":"IFERROR(M24/M21,\"\")","v":""}]
[null,null,null,null,"0-10",{"$f":"IFERROR(F25/F21,\"\")","v":""},{"$f":"IFERROR(G25/G21,\"\")","v":""},null,null,null,"0-10",{"$f":"IFERROR(L25/L21,\"\")","v":""},{"$f":"IFERROR(M25/M21,\"\")","v":""}]
[null,null,null,null,null,{"$f":"IF(SUM(F22:F25)=F21,\"\",\"datos erróneos\")","v":""},{"$f":"IF(SUM(G22:G25)=G21,\"\",\"datos erróneos\")","v":""},null,null,null,null,{"$f":"IF(SUM(L22:L25)=L21,\"\",\"datos erróneos\")","v":""},{"$f":"IF(SUM(M22:M25)=M21,\"\",\"datos erróneos\")","v":""}]
[null,null,"2do \ngrado","Nro. estudiantes*",null,null,null,null,"2do \ngrado","Nro. estudiantes*"]
[null,null,null,"Nro. de estudiantes según calificación**","18-20",null,null,null,null,"Nro. de estudiantes según calificación**","18-20"]
[null,null,null,null,"14-17",null,null,null,null,null,"14-17"]
[null,null,null,null,"11-13",null,null,null,null,null,"11-13"]
[null,null,null,null,"0-10",null,null,null,null,null,"0-10"]
[null,null,null,"% de estudiantes según calificación","18-20",{"$f":"IFERROR(F32/F31,\"\")","v":""},{"$f":"IFERROR(G32/G31,\"\")","v":""},null,null,"% de estudiantes según calificación","18-20",{"$f":"IFERROR(L32/L31,\"\")","v":""},{"$f":"IFERROR(M32/M31,\"\")","v":""}]
[null,null,null,null,"14-17",{"$f":"IFERROR(F33/F31,\"\")","v":""},{"$f":"IFERROR(G33/G31,\"\")","v":""},null,null,null,"14-17",{"$f":"IFERROR(L33/L31,\"\")","v":""},{"$f":"IFERROR(M33/M31,\"\")","v":""}]
[null,null,null,null,"11-13",{"$f":"IFERROR(F34/F31,\"\")","v":""},{"$f":"IFERROR(G34/G31,\"\")","v":""},null,null,null,"11-13",{"$f":"IFERROR(L34/L31,\"\")","v":""},{"$f":"IFERROR(M34/M31,\"\")","v":""}]
[null,null,null,null,"0-10",{"$f":"IFERROR(F35/F31,\"\")","v":""},{"$f":"IFERROR(G35/G31,\"\")","v":""},null,null,null,"0-10",{"$f":"IFERROR(L35/L31,\"\")","v":""},{"$f":"IFERROR(M35/M31,\"\")","v":""}]
[null,null,null,null,null,{"$f":"IF(SUM(F32:F35)=F31,\"\",\"datos erróneos\")","v":""},{"$f":"IF(SUM(G32:G35)=G31,\"\",\"datos erróneos\")","v":""},null,null,null,null,{"$f":"IF(SUM(L32:L35)=L31,\"\",\"datos erróneos\")","v":""},{"$f":"IF(SUM(M32:M35)=M31,\"\",\"datos erróneos\")","v":""}]
[null,null,"3er\ngrado","Nro. estudiantes*",null,null,null,null,"3er\ngrado","Nro. estudiantes*"]
[null,null,null,"Nro. de estudiantes según calificación**","18-20",null,null,null,null,"Nro. de estudiantes según calificación**","18-20"]
[null,null,null,null,"14-17",null,null,null,null,null,"14-17"]
[null,null,null,null,"11-13",null,null,null,null,null,"11-13"]
[null,null,null,null,"0-10",null,null,null,null,null,"0-10"]
[null,null,null,"% de estudiantes según calificación","18-20",{"$f":"IFERROR(F42/F41,\"\")","v":""},{"$f":"IFERROR(G42/G41,\"\")","v":""},null,null,"% de estudiantes según calificación","18-20",{"$f":"IFERROR(L42/L41,\"\")","v":""},{"$f":"IFERROR(M42/M41,\"\")","v":""}]
[null,null,null,null,"14-17",{"$f":"IFERROR(F43/F41,\"\")","v":""},{"$f":"IFERROR(G43/G41,\"\")","v":""},null,null,null,"14-17",{"$f":"IFERROR(L43/L41,\"\")","v":""},{"$f":"IFERROR(M43/M41,\"\")","v":""}]
[null,null,null,null,"11-13",{"$f":"IFERROR(F44/F41,\"\")","v":""},{"$f":"IFERROR(G44/G41,\"\")","v":""},null,null,null,"11-13",{"$f":"IFERROR(L44/L41,\"\")","v":""},{"$f":"IFERROR(M44/M41,\"\")","v":""}]
[null,null,null,null,"0-10",{"$f":"IFERROR(F45/F41,\"\")","v":""},{"$f":"IFERROR(G45/G41,\"\")","v":""},null,null,null,"0-10",{"$f":"IFERROR(L45/L41,\"\")","v":""},{"$f":"IFERROR(M45/M41,\"\")","v":""}]
[null,null,null,null,null,{"$f":"IF(SUM(F42:F45)=F41,\"\",\"datos erróneos\")","v":""},{"$f":"IF(SUM(G42:G45)=G41,\"\",\"datos erróneos\")","v":""},null,null,null,null,{"$f":"IF(SUM(L42:L45)=L41,\"\",\"datos erróneos\")","v":""},{"$f":"IF(SUM(M42:M45)=M41,\"\",\"datos erróneos\")","v":""}]
[null,null,"4to \ngrado","Nro. estudiantes*",null,null,null,null,"4to \ngrado","Nro. estudiantes*"]
[null,null,null,"Nro. de estudiantes según calificación**","18-20",null,null,null,null,"Nro. de estudiantes según calificación**","18-20"]
[null,null,null,null,"14-17",null,null,null,null,null,"14-17"]
[null,null,null,null,"11-13",null,null,null,null,null,"11-13"]
[null,null,null,null,"0-10",null,null,null,null,null,"0-10"]
[null,null,null,"% de estudiantes según calificación","18-20",{"$f":"IFERROR(F52/F51,\"\")","v":""},{"$f":"IFERROR(G52/G51,\"\")","v":""},null,null,"% de estudiantes según calificación","18-20",{"$f":"IFERROR(L52/L51,\"\")","v":""},{"$f":"IFERROR(M52/M51,\"\")","v":""}]
[null,null,null,null,"14-17",{"$f":"IFERROR(F53/F51,\"\")","v":""},{"$f":"IFERROR(G53/G51,\"\")","v":""},null,null,null,"14-17",{"$f":"IFERROR(L53/L51,\"\")","v":""},{"$f":"IFERROR(M53/M51,\"\")","v":""}]
[null,null,null,null,"11-13",{"$f":"IFERROR(F54/F51,\"\")","v":""},{"$f":"IFERROR(G54/G51,\"\")","v":""},null,null,null,"11-13",{"$f":"IFERROR(L54/L51,\"\")","v":""},{"$f":"IFERROR(M54/M51,\"\")","v":""}]
[null,null,null,null,"0-10",{"$f":"IFERROR(F55/F51,\"\")","v":""},{"$f":"IFERROR(G55/G51,\"\")","v":""},null,null,null,"0-10",{"$f":"IFERROR(L55/L51,\"\")","v":""},{"$f":"IFERROR(M55/M51,\"\")","v":""}]
[null,null,null,null,null,{"$f":"IF(SUM(F52:F55)=F51,\"\",\"datos erróneos\")","v":""},{"$f":"IF(SUM(G52:G55)=G51,\"\",\"datos erróneos\")","v":""},null,null,null,null,{"$f":"IF(SUM(L52:L55)=L51,\"\",\"datos erróneos\")","v":""},{"$f":"IF(SUM(M52:M55)=M51,\"\",\"datos erróneos\")","v":""}]
[null,null,"5to\ngrado","Nro. estudiantes*",null,null,null,null,"5to\ngrado","Nro. estudiantes*"]
[null,null,null,"Nro. de estudiantes según calificación**","18-20",null,null,null,null,"Nro. de estudiantes según calificación**","18-20"]
[null,null,null,null,"14-17",null,null,null,null,null,"14-17"]
[null,null,null,null,"11-13",null,null,null,null,null,"11-13"]
[null,null,null,null,"0-10",null,null,null,null,null,"0-10"]
[null,null,null,"% de estudiantes según calificación","18-20",{"$f":"IFERROR(F62/F61,\"\")","v":""},{"$f":"IFERROR(G62/G61,\"\")","v":""},null,null,"% de estudiantes según calificación","18-20",{"$f":"IFERROR(L62/L61,\"\")","v":""},{"$f":"IFERROR(M62/M61,\"\")","v":""}]
[null,null,null,null,"14-17",{"$f":"IFERROR(F63/F61,\"\")","v":""},{"$f":"IFERROR(G63/G61,\"\")","v":""},null,null,null,"14-17",{"$f":"IFERROR(L63/L61,\"\")","v":""},{"$f":"IFERROR(M63/M61,\"\")","v":""}]
[null,null,null,null,"11-13",{"$f":"IFERROR(F64/F61,\"\")","v":""},{"$f":"IFERROR(G64/G61,\"\")","v":""},null,null,null,"11-13",{"$f":"IFERROR(L64/L61,\"\")","v":""},{"$f":"IFERROR(M64/M61,\"\")","v":""}]
[null,null,null,null,"0-10",{"$f":"IFERROR(F65/F61,\"\")","v":""},{"$f":"IFERROR(G65/G61,\"\")","v":""},null,null,null,"0-10",{"$f":"IFERROR(L65/L61,\"\")","v":""},{"$f":"IFERROR(M65/M61,\"\")","v":""}]
[null,null,null,null,null,{"$f":"IF(SUM(F62:F65)=F61,\"\",\"datos erróneos\")","v":""},{"$f":"IF(SUM(G62:G65)=G61,\"\",\"datos erróneos\")","v":""},null,null,null,null,{"$f":"IF(SUM(L62:L65)=L61,\"\",\"datos erróneos\")","v":""},{"$f":"IF(SUM(M62:M65)=M61,\"\",\"datos erróneos\")","v":""}]

{"sheet":"C1_Monit Sec","index":15,"n_rows":73,"n_cols":13,"rows_kept":73,"cut":false,"hidden":true,"merged":[[2,2,2,12],[4,2,4,12],[6,2,7,4],[6,5,7,5],[6,6,7,6],[6,8,7,10],[6,11,7,11],[6,12,7,12],[19,12,20,12],[8,2,16,2],[8,3,8,4],[8,8,16,8],[8,9,8,10],[9,3,12,3],[9,9,12,9],[13,3,16,3],[13,9,16,9],[19,2,20,4],[19,5,20,5],[19,6,20,6],[19,8,20,10],[19,11,20,11],[21,2,29,2],[21,3,21,4],[21,8,29,8],[21,9,21,10],[22,3,25,3],[22,9,25,9],[26,3,29,3],[26,9,29,9],[31,2,39,2],[31,3,31,4],[31,8,39,8],[31,9,31,10],[32,3,35,3],[32,9,35,9],[36,3,39,3],[36,9,39,9],[41,2,49,2],[41,3,41,4],[41,8,49,8],[41,9,41,10],[42,3,45,3],[42,9,45,9],[46,3,49,3],[46,9,49,9],[51,2,59,2],[51,3,51,4],[51,8,59,8],[51,9,51,10],[52,3,55,3],[52,9,55,9],[56,3,59,3],[56,9,59,9],[75,2,75,12],[61,2,69,2],[61,3,61,4],[61,8,69,8],[61,9,61,10],[62,3,65,3],[62,9,65,9],[66,3,69,3],[66,9,69,9]]}
[null,null,"Metas de rendimiento en el Nivel Secundaria en Comunicación y Matemática."]
[null,null,"¿Qué hacer?"]
[null,null,"1° En la tabla \"RESULTADOS POR GRADOS\" debe completarse con los datos de las calificaciones de las/los estudiantes en cada grado, según el período. Se presentan dos columnas, en la primera deberás escribir el resultado parcial de las/los estudiantes (si te organizas en bimestres, considerarás los dos primeros; si te organizas por trimestres, considerarás el primero); y en la segunda, los resultados finales de las/los estudiantes. "]
[null,null,"2° La tabla del \"Consolidado\" se procesará, automáticamente, a medida que ingreses datos en las celdas posteriores."]
[]
[null,null,"CONSOLIDADO DE RESULTADOS DEL NIVEL SECUNDARIA (Calificaciones parciales y finales 2017) ➨"]
[null,null,"Área Comunicación",null,null,"Notas  parciales","Notas finales",null,"Área Matemática",null,null,"Notas  parciales","Notas finales"]
[]
[null,null,"Nivel SECUNDARIA","Nro. estudiantes*",null,{"$f":"SUM(F22,F32,F42,F52,F62)","v":0},0,null,"Nivel SECUNDARIA","Nro. estudiantes*",null,{"$f":"SUM(L22,L32,L42,L52,L62)","v":0},0]
[null,null,null,"Nro. de estudiantes según calificación**","18-20",0,0,null,null,"Nro. de estudiantes según calificación**","18-20",0,0]
[null,null,null,null,"14-17",0,0,null,null,null,"14-17",0,0]
[null,null,null,null,"11-13",0,0,null,null,null,"11-13",0,0]
[null,null,null,null,"0-10",0,0,null,null,null,"0-10",0,0]
[null,null,null,"% de estudiantes según calificación","18-20",{"$f":"IFERROR(F10/F9,\"\")","v":""},{"$f":"IFERROR(G10/G9,\"\")","v":""},null,null,"% de estudiantes según calificación","18-20",{"$f":"IFERROR(L10/L9,\"\")","v":""},{"$f":"IFERROR(M10/M9,\"\")","v":""}]
[null,null,null,null,"14-17",{"$f":"IFERROR(F11/F9,\"\")","v":""},{"$f":"IFERROR(G11/G9,\"\")","v":""},null,null,null,"14-17",{"$f":"IFERROR(L11/L9,\"\")","v":""},{"$f":"IFERROR(M11/M9,\"\")","v":""}]
[null,null,null,null,"11-13",{"$f":"IFERROR(F12/F9,\"\")","v":""},{"$f":"IFERROR(G12/G9,\"\")","v":""},null,null,null,"11-13",{"$f":"IFERROR(L12/L9,\"\")","v":""},{"$f":"IFERROR(M12/M9,\"\")","v":""}]
[null,null,null,null,"0-10",{"$f":"IFERROR(F13/F9,\"\")","v":""},{"$f":"IFERROR(G13/G9,\"\")","v":""},null,null,null,"0-10",{"$f":"IFERROR(L13/L9,\"\")","v":""},{"$f":"IFERROR(M13/M9,\"\")","v":""}]
[null,null,"RESULTADOS POR GRADOS   ➨"]
[]
[null,null,"Área Comunicación",null,null,"Notas  parciales","Notas finales",null,"Área Matemática",null,null,"Notas  parciales","Notas finales"]
[]
[null,null,"1er\ngrado","Nro. estudiantes*",null,null,null,null,"1er\ngrado","Nro estudiantes*"]
[null,null,null,"Nro. de estudiantes según calificación**","18-20",null,null,null,null,"Nro. de estudiantes según calificación**","18-20"]
[null,null,null,null,"14-17",null,null,null,null,null,"14-17"]
[null,null,null,null,"11-13",null,null,null,null,null,"11-13"]
[null,null,null,null,"0-10",null,null,null,null,null,"0-10"]
[null,null,null,"% de estudiantes según calificación","18-20",{"$f":"IFERROR(F23/F22,\"\")","v":""},{"$f":"IFERROR(G23/G22,\"\")","v":""},null,null,"% de estudiantes según calificación","18-20",{"$f":"IFERROR(L23/L22,\"\")","v":""},{"$f":"IFERROR(M23/M22,\"\")","v":""}]
[null,null,null,null,"14-17",{"$f":"IFERROR(F24/F22,\"\")","v":""},{"$f":"IFERROR(G24/G22,\"\")","v":""},null,null,null,"14-17",{"$f":"IFERROR(L24/L22,\"\")","v":""},{"$f":"IFERROR(M24/M22,\"\")","v":""}]
[null,null,null,null,"11-13",{"$f":"IFERROR(F25/F22,\"\")","v":""},{"$f":"IFERROR(G25/G22,\"\")","v":""},null,null,null,"11-13",{"$f":"IFERROR(L25/L22,\"\")","v":""},{"$f":"IFERROR(M25/M22,\"\")","v":""}]
[null,null,null,null,"0-10",{"$f":"IFERROR(F26/F22,\"\")","v":""},{"$f":"IFERROR(G26/G22,\"\")","v":""},null,null,null,"0-10",{"$f":"IFERROR(L26/L22,\"\")","v":""},{"$f":"IFERROR(M26/M22,\"\")","v":""}]
[null,null,null,null,null,{"$f":"IF(SUM(F23:F26)=F22,\"\",\"datos erróneos\")","v":""},{"$f":"IF(SUM(G23:G26)=G22,\"\",\"datos erróneos\")","v":""},null,null,null,null,{"$f":"IF(SUM(L23:L26)=L22,\"\",\"datos erróneos\")","v":""},{"$f":"IF(SUM(M23:M26)=M22,\"\",\"datos erróneos\")","v":""}]
[null,null,"2do \ngrado","Nro. estudiantes*",null,null,null,null,"2do \ngrado","Nro. estudiantes*"]
[null,null,null,"Nro. de estudiantes según calificación**","18-20",null,null,null,null,"Nro. de estudiantes según calificación**","18-20"]
[null,null,null,null,"14-17",null,null,null,null,null,"14-17"]
[null,null,null,null,"11-13",null,null,null,null,null,"11-13"]
[null,null,null,null,"0-10",null,null,null,null,null,"0-10"]
[null,null,null,"% de estudiantes según calificación","18-20",{"$f":"IFERROR(F33/F32,\"\")","v":""},{"$f":"IFERROR(G33/G32,\"\")","v":""},null,null,"% de estudiantes según calificación","18-20",{"$f":"IFERROR(L33/L32,\"\")","v":""},{"$f":"IFERROR(M33/M32,\"\")","v":""}]
[null,null,null,null,"14-17",{"$f":"IFERROR(F34/F32,\"\")","v":""},{"$f":"IFERROR(G34/G32,\"\")","v":""},null,null,null,"14-17",{"$f":"IFERROR(L34/L32,\"\")","v":""},{"$f":"IFERROR(M34/M32,\"\")","v":""}]
[null,null,null,null,"11-13",{"$f":"IFERROR(F35/F32,\"\")","v":""},{"$f":"IFERROR(G35/G32,\"\")","v":""},null,null,null,"11-13",{"$f":"IFERROR(L35/L32,\"\")","v":""},{"$f":"IFERROR(M35/M32,\"\")","v":""}]
[null,null,null,null,"0-10",{"$f":"IFERROR(F36/F32,\"\")","v":""},{"$f":"IFERROR(G36/G32,\"\")","v":""},null,null,null,"0-10",{"$f":"IFERROR(L36/L32,\"\")","v":""},{"$f":"IFERROR(M36/M32,\"\")","v":""}]
[null,null,null,null,null,{"$f":"IF(SUM(F33:F36)=F32,\"\",\"datos erróneos\")","v":""},{"$f":"IF(SUM(G33:G36)=G32,\"\",\"datos erróneos\")","v":""},null,null,null,null,{"$f":"IF(SUM(L33:L36)=L32,\"\",\"datos erróneos\")","v":""},{"$f":"IF(SUM(M33:M36)=M32,\"\",\"datos erróneos\")","v":""}]
[null,null,"3er\ngrado","Nro. estudiantes*",null,null,null,null,"3er\ngrado","Nro. estudiantes*"]
[null,null,null,"Nro. de estudiantes según calificación**","18-20",null,null,null,null,"Nro. de estudiantes según calificación**","18-20"]
[null,null,null,null,"14-17",null,null,null,null,null,"14-17"]
[null,null,null,null,"11-13",null,null,null,null,null,"11-13"]
[null,null,null,null,"0-10",null,null,null,null,null,"0-10"]
[null,null,null,"% de estudiantes según calificación","18-20",{"$f":"IFERROR(F43/F42,\"\")","v":""},{"$f":"IFERROR(G43/G42,\"\")","v":""},null,null,"% de estudiantes según calificación","18-20",{"$f":"IFERROR(L43/L42,\"\")","v":""},{"$f":"IFERROR(M43/M42,\"\")","v":""}]
[null,null,null,null,"14-17",{"$f":"IFERROR(F44/F42,\"\")","v":""},{"$f":"IFERROR(G44/G42,\"\")","v":""},null,null,null,"14-17",{"$f":"IFERROR(L44/L42,\"\")","v":""},{"$f":"IFERROR(M44/M42,\"\")","v":""}]
[null,null,null,null,"11-13",{"$f":"IFERROR(F45/F42,\"\")","v":""},{"$f":"IFERROR(G45/G42,\"\")","v":""},null,null,null,"11-13",{"$f":"IFERROR(L45/L42,\"\")","v":""},{"$f":"IFERROR(M45/M42,\"\")","v":""}]
[null,null,null,null,"0-10",{"$f":"IFERROR(F46/F42,\"\")","v":""},{"$f":"IFERROR(G46/G42,\"\")","v":""},null,null,null,"0-10",{"$f":"IFERROR(L46/L42,\"\")","v":""},{"$f":"IFERROR(M46/M42,\"\")","v":""}]
[null,null,null,null,null,{"$f":"IF(SUM(F43:F46)=F42,\"\",\"datos erróneos\")","v":""},{"$f":"IF(SUM(G43:G46)=G42,\"\",\"datos erróneos\")","v":""},null,null,null,null,{"$f":"IF(SUM(L43:L46)=L42,\"\",\"datos erróneos\")","v":""},{"$f":"IF(SUM(M43:M46)=M42,\"\",\"datos erróneos\")","v":""}]
[null,null,"4to \ngrado","Nro. estudiantes*",null,null,null,null,"4to \ngrado","Nro. estudiantes*"]
[null,null,null,"Nro. de estudiantes según calificación**","18-20",null,null,null,null,"Nro. de estudiantes según calificación**","18-20"]
[null,null,null,null,"14-17",null,null,null,null,null,"14-17"]
[null,null,null,null,"11-13",null,null,null,null,null,"11-13"]
[null,null,null,null,"0-10",null,null,null,null,null,"0-10"]
[null,null,null,"% de estudiantes según calificación","18-20",{"$f":"IFERROR(F53/F52,\"\")","v":""},{"$f":"IFERROR(G53/G52,\"\")","v":""},null,null,"% de estudiantes según calificación","18-20",{"$f":"IFERROR(L53/L52,\"\")","v":""},{"$f":"IFERROR(M53/M52,\"\")","v":""}]
[null,null,null,null,"14-17",{"$f":"IFERROR(F54/F52,\"\")","v":""},{"$f":"IFERROR(G54/G52,\"\")","v":""},null,null,null,"14-17",{"$f":"IFERROR(L54/L52,\"\")","v":""},{"$f":"IFERROR(M54/M52,\"\")","v":""}]
[null,null,null,null,"11-13",{"$f":"IFERROR(F55/F52,\"\")","v":""},{"$f":"IFERROR(G55/G52,\"\")","v":""},null,null,null,"11-13",{"$f":"IFERROR(L55/L52,\"\")","v":""},{"$f":"IFERROR(M55/M52,\"\")","v":""}]
[null,null,null,null,"0-10",{"$f":"IFERROR(F56/F52,\"\")","v":""},{"$f":"IFERROR(G56/G52,\"\")","v":""},null,null,null,"0-10",{"$f":"IFERROR(L56/L52,\"\")","v":""},{"$f":"IFERROR(M56/M52,\"\")","v":""}]
[null,null,null,null,null,{"$f":"IF(SUM(F53:F56)=F52,\"\",\"datos erróneos\")","v":""},{"$f":"IF(SUM(G53:G56)=G52,\"\",\"datos erróneos\")","v":""},null,null,null,null,{"$f":"IF(SUM(L53:L56)=L52,\"\",\"datos erróneos\")","v":""},{"$f":"IF(SUM(M53:M56)=M52,\"\",\"datos erróneos\")","v":""}]
[null,null,"5to\ngrado","Nro. estudiantes*",null,null,null,null,"5to\ngrado","Nro. estudiantes*"]
[null,null,null,"Nro. de estudiantes según calificación**","18-20",null,null,null,null,"Nro. de estudiantes según calificación**","18-20"]
[null,null,null,null,"14-17",null,null,null,null,null,"14-17"]
[null,null,null,null,"11-13",null,null,null,null,null,"11-13"]
[null,null,null,null,"0-10",null,null,null,null,null,"0-10"]
[null,null,null,"% de estudiantes según calificación","18-20",{"$f":"IFERROR(F63/F62,\"\")","v":""},{"$f":"IFERROR(G63/G62,\"\")","v":""},null,null,"% de estudiantes según calificación","18-20",{"$f":"IFERROR(L63/L62,\"\")","v":""},{"$f":"IFERROR(M63/M62,\"\")","v":""}]
[null,null,null,null,"14-17",{"$f":"IFERROR(F64/F62,\"\")","v":""},{"$f":"IFERROR(G64/G62,\"\")","v":""},null,null,null,"14-17",{"$f":"IFERROR(L64/L62,\"\")","v":""},{"$f":"IFERROR(M64/M62,\"\")","v":""}]
[null,null,null,null,"11-13",{"$f":"IFERROR(F65/F62,\"\")","v":""},{"$f":"IFERROR(G65/G62,\"\")","v":""},null,null,null,"11-13",{"$f":"IFERROR(L65/L62,\"\")","v":""},{"$f":"IFERROR(M65/M62,\"\")","v":""}]
[null,null,null,null,"0-10",{"$f":"IFERROR(F66/F62,\"\")","v":""},{"$f":"IFERROR(G66/G62,\"\")","v":""},null,null,null,"0-10",{"$f":"IFERROR(L66/L62,\"\")","v":""},{"$f":"IFERROR(M66/M62,\"\")","v":""}]
[null,null,null,null,null,{"$f":"IF(SUM(F63:F66)=F62,\"\",\"datos erróneos\")","v":""},{"$f":"IF(SUM(G63:G66)=G62,\"\",\"datos erróneos\")","v":""},null,null,null,null,{"$f":"IF(SUM(L63:L66)=L62,\"\",\"datos erróneos\")","v":""},{"$f":"IF(SUM(M63:M66)=M62,\"\",\"datos erróneos\")","v":""}]
[null,null,"* Nro de estudiantes:  Idealmente será el mismo número desde el inicio de año, hasta el final. Sin embargo, puede variar de periodo a periodo y al final del año."]
[null,null,"** Estudiantes según calificación: En estos recuadros coloca el número de estudiantes con cada calificación según periodo indicado."]

{"sheet":"C1_Monit Prim2","index":16,"n_rows":80,"n_cols":13,"rows_kept":80,"cut":false,"hidden":true,"merged":[[3,2,3,12],[5,2,6,4],[5,5,6,5],[5,6,6,6],[5,8,6,10],[5,11,6,11],[5,12,6,12],[18,12,19,12],[7,2,15,2],[7,3,7,4],[7,8,15,8],[7,9,7,10],[8,3,11,3],[8,9,11,9],[12,3,15,3],[12,9,15,9],[18,2,19,4],[18,5,19,5],[18,6,19,6],[18,8,19,10],[18,11,19,11],[20,2,28,2],[20,3,20,4],[20,8,28,8],[20,9,20,10],[21,3,24,3],[21,9,24,9],[25,3,28,3],[25,9,28,9],[30,2,38,2],[30,3,30,4],[30,8,38,8],[30,9,30,10],[31,3,34,3],[31,9,34,9],[35,3,38,3],[35,9,38,9],[40,2,48,2],[40,3,40,4],[40,8,48,8],[40,9,40,10],[41,3,44,3],[41,9,44,9],[45,3,48,3],[45,9,48,9],[50,2,58,2],[50,3,50,4],[50,8,58,8],[50,9,50,10],[51,3,54,3],[51,9,54,9],[55,3,58,3],[55,9,58,9],[60,2,68,2],[60,3,60,4],[60,8,68,8],[60,9,60,10],[61,3,64,3],[61,9,64,9],[65,3,68,3],[65,9,68,9],[84,2,84,12],[70,2,78,2],[70,3,70,4],[70,8,78,8],[70,9,70,10],[71,3,74,3],[71,9,74,9],[75,3,78,3],[75,9,78,9]]}
[null,null,"Metas de rendimiento en Ciencia y Ambiente, Personal Social."]
[null,null,"¿Qué hacer?"]
[null,null,"Seguir el procedimiento anterior."]
[]
[null,null,"CONSOLIDADO DE RESULTADOS DEL NIVEL PRIMARIA (Calificaciones parciales y finales 2017) ➨"]
[null,null,"Área Ciencia y Ambiente",null,null,"Notas  parciales","Notas finales",null,"Área Personal Social",null,null,"Notas  parciales","Notas finales"]
[]
[null,null,"Nivel PRIMARIA","Nro. estudiantes*",null,{"$f":"SUM(F21,F31,F41,F51,F61,F71)","v":0},0,null,"Nivel PRIMARIA","Nro. estudiantes*",null,{"$f":"SUM(L21,L31,L41,L51,L61,L71)","v":0},0]
[null,null,null,"Nro. de estudiantes según calificación**","AD",0,0,null,null,"Nro. de estudiantes según calificación**","AD",0,0]
[null,null,null,null,"A",0,0,null,null,null,"A",0,0]
[null,null,null,null,"B",0,0,null,null,null,"B",0,0]
[null,null,null,null,"C",0,0,null,null,null,"C",0,0]
[null,null,null,"% de estudiantes según calificación","AD",{"$f":"IFERROR(F9/F8,\"\")","v":""},{"$f":"IFERROR(G9/G8,\"\")","v":""},null,null,"% de estudiantes según calificación","AD",{"$f":"IFERROR(L9/L8,\"\")","v":""},{"$f":"IFERROR(M9/M8,\"\")","v":""}]
[null,null,null,null,"A",{"$f":"IFERROR(F10/F8,\"\")","v":""},{"$f":"IFERROR(G10/G8,\"\")","v":""},null,null,null,"A",{"$f":"IFERROR(L10/L8,\"\")","v":""},{"$f":"IFERROR(M10/M8,\"\")","v":""}]
[null,null,null,null,"B",{"$f":"IFERROR(F11/F8,\"\")","v":""},{"$f":"IFERROR(G11/G8,\"\")","v":""},null,null,null,"B",{"$f":"IFERROR(L11/L8,\"\")","v":""},{"$f":"IFERROR(M11/M8,\"\")","v":""}]
[null,null,null,null,"C",{"$f":"IFERROR(F12/F8,\"\")","v":""},{"$f":"IFERROR(G12/G8,\"\")","v":""},null,null,null,"C",{"$f":"IFERROR(L12/L8,\"\")","v":""},{"$f":"IFERROR(M12/M8,\"\")","v":""}]
[null,null,"RESULTADOS POR GRADOS  ➨"]
[]
[null,null,"Área Ciencia y Ambiente",null,null,"Notas  parciales","Notas finales",null,"Área Personal Social",null,null,"Notas  parciales","Notas finales"]
[]
[null,null,"1er grado","Nro. estudiantes*",null,null,null,null,"1er grado","Nro. estudiantes*"]
[null,null,null,"Nro. de estudiantes según calificación**","AD",null,null,null,null,"Nro. de estudiantes según calificación**","AD"]
[null,null,null,null,"A",null,null,null,null,null,"A"]
[null,null,null,null,"B",null,null,null,null,null,"B"]
[null,null,null,null,"C",null,null,null,null,null,"C"]
[null,null,null,"% de estudiantes según calificación","AD",{"$f":"IFERROR(F22/F21,\"\")","v":""},{"$f":"IFERROR(G22/G21,\"\")","v":""},null,null,"% de estudiantes según calificación","AD",{"$f":"IFERROR(L22/L21,\"\")","v":""},{"$f":"IFERROR(M22/M21,\"\")","v":""}]
[null,null,null,null,"A",{"$f":"IFERROR(F23/F21,\"\")","v":""},{"$f":"IFERROR(G23/G21,\"\")","v":""},null,null,null,"A",{"$f":"IFERROR(L23/L21,\"\")","v":""},{"$f":"IFERROR(M23/M21,\"\")","v":""}]
[null,null,null,null,"B",{"$f":"IFERROR(F24/F21,\"\")","v":""},{"$f":"IFERROR(G24/G21,\"\")","v":""},null,null,null,"B",{"$f":"IFERROR(L24/L21,\"\")","v":""},{"$f":"IFERROR(M24/M21,\"\")","v":""}]
[null,null,null,null,"C",{"$f":"IFERROR(F25/F21,\"\")","v":""},{"$f":"IFERROR(G25/G21,\"\")","v":""},null,null,null,"C",{"$f":"IFERROR(L25/L21,\"\")","v":""},{"$f":"IFERROR(M25/M21,\"\")","v":""}]
[null,null,null,null,null,{"$f":"IF(SUM(F22:F25)=F21,\"\",\"datos erróneos\")","v":""},{"$f":"IF(SUM(G22:G25)=G21,\"\",\"datos erróneos\")","v":""},null,null,null,null,{"$f":"IF(SUM(L22:L25)=L21,\"\",\"datos erróneos\")","v":""},{"$f":"IF(SUM(M22:M25)=M21,\"\",\"datos erróneos\")","v":""}]
[null,null,"2do grado","Nro. estudiantes*",null,null,null,null,"2do grado","Nro. estudiantes*"]
[null,null,null,"Nro. de estudiantes según calificación**","AD",null,null,null,null,"Nro. de estudiantes según calificación**","AD"]
[null,null,null,null,"A",null,null,null,null,null,"A"]
[null,null,null,null,"B",null,null,null,null,null,"B"]
[null,null,null,null,"C",null,null,null,null,null,"C"]
[null,null,null,"% de estudiantes según calificación","AD",{"$f":"IFERROR(F32/F31,\"\")","v":""},{"$f":"IFERROR(G32/G31,\"\")","v":""},null,null,"% de estudiantes según calificación","AD",{"$f":"IFERROR(L32/L31,\"\")","v":""},{"$f":"IFERROR(M32/M31,\"\")","v":""}]
[null,null,null,null,"A",{"$f":"IFERROR(F33/F31,\"\")","v":""},{"$f":"IFERROR(G33/G31,\"\")","v":""},null,null,null,"A",{"$f":"IFERROR(L33/L31,\"\")","v":""},{"$f":"IFERROR(M33/M31,\"\")","v":""}]
[null,null,null,null,"B",{"$f":"IFERROR(F34/F31,\"\")","v":""},{"$f":"IFERROR(G34/G31,\"\")","v":""},null,null,null,"B",{"$f":"IFERROR(L34/L31,\"\")","v":""},{"$f":"IFERROR(M34/M31,\"\")","v":""}]
[null,null,null,null,"C",{"$f":"IFERROR(F35/F31,\"\")","v":""},{"$f":"IFERROR(G35/G31,\"\")","v":""},null,null,null,"C",{"$f":"IFERROR(L35/L31,\"\")","v":""},{"$f":"IFERROR(M35/M31,\"\")","v":""}]
[null,null,null,null,null,{"$f":"IF(SUM(F32:F35)=F31,\"\",\"datos erróneos\")","v":""},{"$f":"IF(SUM(G32:G35)=G31,\"\",\"datos erróneos\")","v":""},null,null,null,null,{"$f":"IF(SUM(L32:L35)=L31,\"\",\"datos erróneos\")","v":""},{"$f":"IF(SUM(M32:M35)=M31,\"\",\"datos erróneos\")","v":""}]
[null,null,"3er grado","Nro. estudiantes*",null,null,null,null,"3er grado","Nro. estudiantes*"]
[null,null,null,"Nro. de estudiantes según calificación**","AD",null,null,null,null,"Nro. de estudiantes según calificación**","AD"]
[null,null,null,null,"A",null,null,null,null,null,"A"]
[null,null,null,null,"B",null,null,null,null,null,"B"]
[null,null,null,null,"C",null,null,null,null,null,"C"]
[null,null,null,"% de estudiantes según calificación","AD",{"$f":"IFERROR(F42/F41,\"\")","v":""},{"$f":"IFERROR(G42/G41,\"\")","v":""},null,null,"% de estudiantes según calificación","AD",{"$f":"IFERROR(L42/L41,\"\")","v":""},{"$f":"IFERROR(M42/M41,\"\")","v":""}]
[null,null,null,null,"A",{"$f":"IFERROR(F43/F41,\"\")","v":""},{"$f":"IFERROR(G43/G41,\"\")","v":""},null,null,null,"A",{"$f":"IFERROR(L43/L41,\"\")","v":""},{"$f":"IFERROR(M43/M41,\"\")","v":""}]
[null,null,null,null,"B",{"$f":"IFERROR(F44/F41,\"\")","v":""},{"$f":"IFERROR(G44/G41,\"\")","v":""},null,null,null,"B",{"$f":"IFERROR(L44/L41,\"\")","v":""},{"$f":"IFERROR(M44/M41,\"\")","v":""}]
[null,null,null,null,"C",{"$f":"IFERROR(F45/F41,\"\")","v":""},{"$f":"IFERROR(G45/G41,\"\")","v":""},null,null,null,"C",{"$f":"IFERROR(L45/L41,\"\")","v":""},{"$f":"IFERROR(M45/M41,\"\")","v":""}]
[null,null,null,null,null,{"$f":"IF(SUM(F42:F45)=F41,\"\",\"datos erróneos\")","v":""},{"$f":"IF(SUM(G42:G45)=G41,\"\",\"datos erróneos\")","v":""},null,null,null,null,{"$f":"IF(SUM(L42:L45)=L41,\"\",\"datos erróneos\")","v":""},{"$f":"IF(SUM(M42:M45)=M41,\"\",\"datos erróneos\")","v":""}]
[null,null,"4to grado","Nro. estudiantes*",null,null,null,null,"4to grado","Nro. estudiantes*"]
[null,null,null,"Nro. de estudiantes según calificación**","AD",null,null,null,null,"Nro. de estudiantes según calificación**","AD"]
[null,null,null,null,"A",null,null,null,null,null,"A"]
[null,null,null,null,"B",null,null,null,null,null,"B"]
[null,null,null,null,"C",null,null,null,null,null,"C"]
[null,null,null,"% de estudiantes según calificación","AD",{"$f":"IFERROR(F52/F51,\"\")","v":""},{"$f":"IFERROR(G52/G51,\"\")","v":""},null,null,"% de estudiantes según calificación","AD",{"$f":"IFERROR(L52/L51,\"\")","v":""},{"$f":"IFERROR(M52/M51,\"\")","v":""}]
[null,null,null,null,"A",{"$f":"IFERROR(F53/F51,\"\")","v":""},{"$f":"IFERROR(G53/G51,\"\")","v":""},null,null,null,"A",{"$f":"IFERROR(L53/L51,\"\")","v":""},{"$f":"IFERROR(M53/M51,\"\")","v":""}]
[null,null,null,null,"B",{"$f":"IFERROR(F54/F51,\"\")","v":""},{"$f":"IFERROR(G54/G51,\"\")","v":""},null,null,null,"B",{"$f":"IFERROR(L54/L51,\"\")","v":""},{"$f":"IFERROR(M54/M51,\"\")","v":""}]
[null,null,null,null,"C",{"$f":"IFERROR(F55/F51,\"\")","v":""},{"$f":"IFERROR(G55/G51,\"\")","v":""},null,null,null,"C",{"$f":"IFERROR(L55/L51,\"\")","v":""},{"$f":"IFERROR(M55/M51,\"\")","v":""}]
[null,null,null,null,null,{"$f":"IF(SUM(F52:F55)=F51,\"\",\"datos erróneos\")","v":""},{"$f":"IF(SUM(G52:G55)=G51,\"\",\"datos erróneos\")","v":""},null,null,null,null,{"$f":"IF(SUM(L52:L55)=L51,\"\",\"datos erróneos\")","v":""},{"$f":"IF(SUM(M52:M55)=M51,\"\",\"datos erróneos\")","v":""}]
[null,null,"5to grado","Nro. estudiantes*",null,null,null,null,"5to grado","Nro. estudiantes*"]
[null,null,null,"Nro. de estudiantes según calificación**","AD",null,null,null,null,"Nro. de estudiantes según calificación**","AD"]
[null,null,null,null,"A",null,null,null,null,null,"A"]
[null,null,null,null,"B",null,null,null,null,null,"B"]
[null,null,null,null,"C",null,null,null,null,null,"C"]
[null,null,null,"% de estudiantes según calificación","AD",{"$f":"IFERROR(F62/F61,\"\")","v":""},{"$f":"IFERROR(G62/G61,\"\")","v":""},null,null,"% de estudiantes según calificación","AD",{"$f":"IFERROR(L62/L61,\"\")","v":""},{"$f":"IFERROR(M62/M61,\"\")","v":""}]
[null,null,null,null,"A",{"$f":"IFERROR(F63/F61,\"\")","v":""},{"$f":"IFERROR(G63/G61,\"\")","v":""},null,null,null,"A",{"$f":"IFERROR(L63/L61,\"\")","v":""},{"$f":"IFERROR(M63/M61,\"\")","v":""}]
[null,null,null,null,"B",{"$f":"IFERROR(F64/F61,\"\")","v":""},{"$f":"IFERROR(G64/G61,\"\")","v":""},null,null,null,"B",{"$f":"IFERROR(L64/L61,\"\")","v":""},{"$f":"IFERROR(M64/M61,\"\")","v":""}]
[null,null,null,null,"C",{"$f":"IFERROR(F65/F61,\"\")","v":""},{"$f":"IFERROR(G65/G61,\"\")","v":""},null,null,null,"C",{"$f":"IFERROR(L65/L61,\"\")","v":""},{"$f":"IFERROR(M65/M61,\"\")","v":""}]
[null,null,null,null,null,{"$f":"IF(SUM(F62:F65)=F61,\"\",\"datos erróneos\")","v":""},{"$f":"IF(SUM(G62:G65)=G61,\"\",\"datos erróneos\")","v":""},null,null,null,null,{"$f":"IF(SUM(L62:L65)=L61,\"\",\"datos erróneos\")","v":""},{"$f":"IF(SUM(M62:M65)=M61,\"\",\"datos erróneos\")","v":""}]
[null,null,"6to grado","Nro. estudiantes*",null,null,null,null,"6to grado","Nro. estudiantes*"]
[null,null,null,"Nro. de estudiantes según calificación**","AD",null,null,null,null,"Nro. de estudiantes según calificación**","AD"]
[null,null,null,null,"A",null,null,null,null,null,"A"]
[null,null,null,null,"B",null,null,null,null,null,"B"]
[null,null,null,null,"C",null,null,null,null,null,"C"]
[null,null,null,"% de estudiantes según calificación","AD",{"$f":"IFERROR(F72/F71,\"\")","v":""},{"$f":"IFERROR(G72/G71,\"\")","v":""},null,null,"% de estudiantes según calificación","AD",{"$f":"IFERROR(L72/L71,\"\")","v":""},{"$f":"IFERROR(M72/M71,\"\")","v":""}]
[null,null,null,null,"A",{"$f":"IFERROR(F73/F71,\"\")","v":""},{"$f":"IFERROR(G73/G71,\"\")","v":""},null,null,null,"A",{"$f":"IFERROR(L73/L71,\"\")","v":""},{"$f":"IFERROR(M73/M71,\"\")","v":""}]
[null,null,null,null,"B",{"$f":"IFERROR(F74/F71,\"\")","v":""},{"$f":"IFERROR(G74/G71,\"\")","v":""},null,null,null,"B",{"$f":"IFERROR(L74/L71,\"\")","v":""},{"$f":"IFERROR(M74/M71,\"\")","v":""}]
[null,null,null,null,"C",{"$f":"IFERROR(F75/F71,\"\")","v":""},{"$f":"IFERROR(G75/G71,\"\")","v":""},null,null,null,"C",{"$f":"IFERROR(L75/L71,\"\")","v":""},{"$f":"IFERROR(M75/M71,\"\")","v":""}]
[null,null,null,null,null,{"$f":"IF(SUM(F72:F75)=F71,\"\",\"datos erróneos\")","v":""},{"$f":"IF(SUM(G72:G75)=G71,\"\",\"datos erróneos\")","v":""},null,null,null,null,{"$f":"IF(SUM(L72:L75)=L71,\"\",\"datos erróneos\")","v":""},{"$f":"IF(SUM(M72:M75)=M71,\"\",\"datos erróneos\")","v":""}]

{"sheet":"C1_Monit Prim","index":17,"n_rows":83,"n_cols":13,"rows_kept":83,"cut":false,"hidden":true,"merged":[[2,2,2,12],[4,2,4,12],[6,2,7,4],[6,5,7,5],[6,6,7,6],[6,8,7,10],[6,11,7,11],[6,12,7,12],[19,12,20,12],[8,2,16,2],[8,3,8,4],[8,8,16,8],[8,9,8,10],[9,3,12,3],[9,9,12,9],[13,3,16,3],[13,9,16,9],[19,2,20,4],[19,5,20,5],[19,6,20,6],[19,8,20,10],[19,11,20,11],[21,2,29,2],[21,3,21,4],[21,8,29,8],[21,9,21,10],[22,3,25,3],[22,9,25,9],[26,3,29,3],[26,9,29,9],[31,2,39,2],[31,3,31,4],[31,8,39,8],[31,9,31,10],[32,3,35,3],[32,9,35,9],[36,3,39,3],[36,9,39,9],[41,2,49,2],[41,3,41,4],[41,8,49,8],[41,9,41,10],[42,3,45,3],[42,9,45,9],[46,3,49,3],[46,9,49,9],[51,2,59,2],[51,3,51,4],[51,8,59,8],[51,9,51,10],[52,3,55,3],[52,9,55,9],[56,3,59,3],[56,9,59,9],[61,2,69,2],[61,3,61,4],[61,8,69,8],[61,9,61,10],[62,3,65,3],[62,9,65,9],[66,3,69,3],[66,9,69,9],[85,2,85,12],[71,2,79,2],[71,3,71,4],[71,8,79,8],[71,9,71,10],[72,3,75,3],[72,9,75,9],[76,3,79,3],[76,9,79,9]]}
[null,null,"Metas de rendimiento en Comunicación y Matemática."]
[null,null,"¿Qué hacer?"]
[null,null,"1° En la tabla \"RESULTADOS POR GRADOS\" debe completarse con los datos de las calificaciones de las/los estudiantes en cada grado, según el período. Se presentan dos columnas, en la primera deberás escribir el resultado parcial de las/los estudiantes (si te organizas en bimestres, considerarás los dos primeros; si te organizas por trimestres, considerarás el primero); y en la segunda, los resultados finales de las/los estudiantes. "]
[null,null,"2° La tabla del \"Consolidado\" se procesará, automáticamente, a medida que ingreses datos en las celdas posteriores."]
[]
[null,null,"CONSOLIDADO DE RESULTADOS DEL NIVEL PRIMARIA (Calificaciones parciales y finales 2017) ➨"]
[null,null,"Área Comunicación",null,null,"Parciales","Finales",null,"Área Matemática",null,null,"Parciales","Finales"]
[]
[null,null,"Nivel PRIMARIA","Nro. estudiantes*",null,{"$f":"SUM(F22,F32,F42,F52,F62,F72)","v":0},0,null,"Nivel PRIMARIA","Nro. estudiantes*",null,{"$f":"SUM(L22,L32,L42,L52,L62,L72)","v":0},0]
[null,null,null,"Nro. de estudiantes según calificación**","AD",0,0,null,null,"Nro. de estudiantes según calificación**","AD",0,0]
[null,null,null,null,"A",0,0,null,null,null,"A",0,0]
[null,null,null,null,"B",0,0,null,null,null,"B",0,0]
[null,null,null,null,"C",0,0,null,null,null,"C",0,0]
[null,null,null,"% de estudiantes según calificación","AD",{"$f":"IFERROR(F10/F9,\"\")","v":""},{"$f":"IFERROR(G10/G9,\"\")","v":""},null,null,"% de estudiantes según calificación","AD",{"$f":"IFERROR(L10/L9,\"\")","v":""},{"$f":"IFERROR(M10/M9,\"\")","v":""}]
[null,null,null,null,"A",{"$f":"IFERROR(F11/F9,\"\")","v":""},{"$f":"IFERROR(G11/G9,\"\")","v":""},null,null,null,"A",{"$f":"IFERROR(L11/L9,\"\")","v":""},{"$f":"IFERROR(M11/M9,\"\")","v":""}]
[null,null,null,null,"B",{"$f":"IFERROR(F12/F9,\"\")","v":""},{"$f":"IFERROR(G12/G9,\"\")","v":""},null,null,null,"B",{"$f":"IFERROR(L12/L9,\"\")","v":""},{"$f":"IFERROR(M12/M9,\"\")","v":""}]
[null,null,null,null,"C",{"$f":"IFERROR(F13/F9,\"\")","v":""},{"$f":"IFERROR(G13/G9,\"\")","v":""},null,null,null,"C",{"$f":"IFERROR(L13/L9,\"\")","v":""},{"$f":"IFERROR(M13/M9,\"\")","v":""}]
[null,null,"RESULTADOS POR GRADOS  ➨"]
[]
[null,null,"Área Comunicación",null,null,"Parciales","Finales",null,"Área Matemática",null,null,"Parciales","Finales"]
[]
[null,null,"1er grado","Nro. estudiantes*",null,null,null,null,"1er grado","Nro. estudiantes*"]
[null,null,null,"Nro. de estudiantes según calificación**","AD",null,null,null,null,"Nro. de estudiantes según calificación**","AD"]
[null,null,null,null,"A",null,null,null,null,null,"A"]
[null,null,null,null,"B",null,null,null,null,null,"B"]
[null,null,null,null,"C",null,null,null,null,null,"C"]
[null,null,null,"% de estudiantes según calificación","AD",{"$f":"IFERROR(F23/F22,\"\")","v":""},{"$f":"IFERROR(G23/G22,\"\")","v":""},null,null,"% de estudiantes según calificación","AD",{"$f":"IFERROR(L23/L22,\"\")","v":""},{"$f":"IFERROR(M23/M22,\"\")","v":""}]
[null,null,null,null,"A",{"$f":"IFERROR(F24/F22,\"\")","v":""},{"$f":"IFERROR(G24/G22,\"\")","v":""},null,null,null,"A",{"$f":"IFERROR(L24/L22,\"\")","v":""},{"$f":"IFERROR(M24/M22,\"\")","v":""}]
[null,null,null,null,"B",{"$f":"IFERROR(F25/F22,\"\")","v":""},{"$f":"IFERROR(G25/G22,\"\")","v":""},null,null,null,"B",{"$f":"IFERROR(L25/L22,\"\")","v":""},{"$f":"IFERROR(M25/M22,\"\")","v":""}]
[null,null,null,null,"C",{"$f":"IFERROR(F26/F22,\"\")","v":""},{"$f":"IFERROR(G26/G22,\"\")","v":""},null,null,null,"C",{"$f":"IFERROR(L26/L22,\"\")","v":""},{"$f":"IFERROR(M26/M22,\"\")","v":""}]
[null,null,null,null,null,{"$f":"IF(SUM(F23:F26)=F22,\"\",\"datos erróneos\")","v":""},{"$f":"IF(SUM(G23:G26)=G22,\"\",\"datos erróneos\")","v":""},null,null,null,null,{"$f":"IF(SUM(L23:L26)=L22,\"\",\"datos erróneos\")","v":""},{"$f":"IF(SUM(M23:M26)=M22,\"\",\"datos erróneos\")","v":""}]
[null,null,"2do grado","Nro. estudiantes*",null,null,null,null,"2do grado","Nro. estudiantes*"]
[null,null,null,"Nro. de estudiantes según calificación**","AD",null,null,null,null,"Nro. de estudiantes según calificación**","AD"]
[null,null,null,null,"A",null,null,null,null,null,"A"]
[null,null,null,null,"B",null,null,null,null,null,"B"]
[null,null,null,null,"C",null,null,null,null,null,"C"]
[null,null,null,"% de estudiantes según calificación","AD",{"$f":"IFERROR(F33/F32,\"\")","v":""},{"$f":"IFERROR(G33/G32,\"\")","v":""},null,null,"% de estudiantes según calificación","AD",{"$f":"IFERROR(L33/L32,\"\")","v":""},{"$f":"IFERROR(M33/M32,\"\")","v":""}]
[null,null,null,null,"A",{"$f":"IFERROR(F34/F32,\"\")","v":""},{"$f":"IFERROR(G34/G32,\"\")","v":""},null,null,null,"A",{"$f":"IFERROR(L34/L32,\"\")","v":""},{"$f":"IFERROR(M34/M32,\"\")","v":""}]
[null,null,null,null,"B",{"$f":"IFERROR(F35/F32,\"\")","v":""},{"$f":"IFERROR(G35/G32,\"\")","v":""},null,null,null,"B",{"$f":"IFERROR(L35/L32,\"\")","v":""},{"$f":"IFERROR(M35/M32,\"\")","v":""}]
[null,null,null,null,"C",{"$f":"IFERROR(F36/F32,\"\")","v":""},{"$f":"IFERROR(G36/G32,\"\")","v":""},null,null,null,"C",{"$f":"IFERROR(L36/L32,\"\")","v":""},{"$f":"IFERROR(M36/M32,\"\")","v":""}]
[null,null,null,null,null,{"$f":"IF(SUM(F33:F36)=F32,\"\",\"datos erróneos\")","v":""},{"$f":"IF(SUM(G33:G36)=G32,\"\",\"datos erróneos\")","v":""},null,null,null,null,{"$f":"IF(SUM(L33:L36)=L32,\"\",\"datos erróneos\")","v":""},{"$f":"IF(SUM(M33:M36)=M32,\"\",\"datos erróneos\")","v":""}]
[null,null,"3er grado","Nro estudiantes*",null,null,null,null,"3er grado","Nro estudiantes*"]
[null,null,null,"Nro de estudiantes según calificación**","AD",null,null,null,null,"Nro de estudiantes según calificación**","AD"]
[null,null,null,null,"A",null,null,null,null,null,"A"]
[null,null,null,null,"B",null,null,null,null,null,"B"]
[null,null,null,null,"C",null,null,null,null,null,"C"]
[null,null,null,"% de estudiantes según calificación","AD",{"$f":"IFERROR(F43/F42,\"\")","v":""},{"$f":"IFERROR(G43/G42,\"\")","v":""},null,null,"% de estudiantes según calificación","AD",{"$f":"IFERROR(L43/L42,\"\")","v":""},{"$f":"IFERROR(M43/M42,\"\")","v":""}]
[null,null,null,null,"A",{"$f":"IFERROR(F44/F42,\"\")","v":""},{"$f":"IFERROR(G44/G42,\"\")","v":""},null,null,null,"A",{"$f":"IFERROR(L44/L42,\"\")","v":""},{"$f":"IFERROR(M44/M42,\"\")","v":""}]
[null,null,null,null,"B",{"$f":"IFERROR(F45/F42,\"\")","v":""},{"$f":"IFERROR(G45/G42,\"\")","v":""},null,null,null,"B",{"$f":"IFERROR(L45/L42,\"\")","v":""},{"$f":"IFERROR(M45/M42,\"\")","v":""}]
[null,null,null,null,"C",{"$f":"IFERROR(F46/F42,\"\")","v":""},{"$f":"IFERROR(G46/G42,\"\")","v":""},null,null,null,"C",{"$f":"IFERROR(L46/L42,\"\")","v":""},{"$f":"IFERROR(M46/M42,\"\")","v":""}]
[null,null,null,null,null,{"$f":"IF(SUM(F43:F46)=F42,\"\",\"datos erróneos\")","v":""},{"$f":"IF(SUM(G43:G46)=G42,\"\",\"datos erróneos\")","v":""},null,null,null,null,{"$f":"IF(SUM(L43:L46)=L42,\"\",\"datos erróneos\")","v":""},{"$f":"IF(SUM(M43:M46)=M42,\"\",\"datos erróneos\")","v":""}]
[null,null,"4to grado","Nro estudiantes*",null,null,null,null,"4to grado","Nro estudiantes*"]
[null,null,null,"Nro de estudiantes según calificación**","AD",null,null,null,null,"Nro de estudiantes según calificación**","AD"]
[null,null,null,null,"A",null,null,null,null,null,"A"]
[null,null,null,null,"B",null,null,null,null,null,"B"]
[null,null,null,null,"C",null,null,null,null,null,"C"]
[null,null,null,"% de estudiantes según calificación","AD",{"$f":"IFERROR(F53/F52,\"\")","v":""},{"$f":"IFERROR(G53/G52,\"\")","v":""},null,null,"% de estudiantes según calificación","AD",{"$f":"IFERROR(L53/L52,\"\")","v":""},{"$f":"IFERROR(M53/M52,\"\")","v":""}]
[null,null,null,null,"A",{"$f":"IFERROR(F54/F52,\"\")","v":""},{"$f":"IFERROR(G54/G52,\"\")","v":""},null,null,null,"A",{"$f":"IFERROR(L54/L52,\"\")","v":""},{"$f":"IFERROR(M54/M52,\"\")","v":""}]
[null,null,null,null,"B",{"$f":"IFERROR(F55/F52,\"\")","v":""},{"$f":"IFERROR(G55/G52,\"\")","v":""},null,null,null,"B",{"$f":"IFERROR(L55/L52,\"\")","v":""},{"$f":"IFERROR(M55/M52,\"\")","v":""}]
[null,null,null,null,"C",{"$f":"IFERROR(F56/F52,\"\")","v":""},{"$f":"IFERROR(G56/G52,\"\")","v":""},null,null,null,"C",{"$f":"IFERROR(L56/L52,\"\")","v":""},{"$f":"IFERROR(M56/M52,\"\")","v":""}]
[null,null,null,null,null,{"$f":"IF(SUM(F53:F56)=F52,\"\",\"datos erróneos\")","v":""},{"$f":"IF(SUM(G53:G56)=G52,\"\",\"datos erróneos\")","v":""},null,null,null,null,{"$f":"IF(SUM(L53:L56)=L52,\"\",\"datos erróneos\")","v":""},{"$f":"IF(SUM(M53:M56)=M52,\"\",\"datos erróneos\")","v":""}]
[null,null,"5to grado","Nro. estudiantes*",null,null,null,null,"5to grado","Nro. estudiantes*"]
[null,null,null,"Nro. de estudiantes según calificación**","AD",null,null,null,null,"Nro. de estudiantes según calificación**","AD"]
[null,null,null,null,"A",null,null,null,null,null,"A"]
[null,null,null,null,"B",null,null,null,null,null,"B"]
[null,null,null,null,"C",null,null,null,null,null,"C"]
[null,null,null,"% de estudiantes según calificación","AD",{"$f":"IFERROR(F63/F62,\"\")","v":""},{"$f":"IFERROR(G63/G62,\"\")","v":""},null,null,"% de estudiantes según calificación","AD",{"$f":"IFERROR(L63/L62,\"\")","v":""},{"$f":"IFERROR(M63/M62,\"\")","v":""}]
[null,null,null,null,"A",{"$f":"IFERROR(F64/F62,\"\")","v":""},{"$f":"IFERROR(G64/G62,\"\")","v":""},null,null,null,"A",{"$f":"IFERROR(L64/L62,\"\")","v":""},{"$f":"IFERROR(M64/M62,\"\")","v":""}]
[null,null,null,null,"B",{"$f":"IFERROR(F65/F62,\"\")","v":""},{"$f":"IFERROR(G65/G62,\"\")","v":""},null,null,null,"B",{"$f":"IFERROR(L65/L62,\"\")","v":""},{"$f":"IFERROR(M65/M62,\"\")","v":""}]
[null,null,null,null,"C",{"$f":"IFERROR(F66/F62,\"\")","v":""},{"$f":"IFERROR(G66/G62,\"\")","v":""},null,null,null,"C",{"$f":"IFERROR(L66/L62,\"\")","v":""},{"$f":"IFERROR(M66/M62,\"\")","v":""}]
[null,null,null,null,null,{"$f":"IF(SUM(F63:F66)=F62,\"\",\"datos erróneos\")","v":""},{"$f":"IF(SUM(G63:G66)=G62,\"\",\"datos erróneos\")","v":""},null,null,null,null,{"$f":"IF(SUM(L63:L66)=L62,\"\",\"datos erróneos\")","v":""},{"$f":"IF(SUM(M63:M66)=M62,\"\",\"datos erróneos\")","v":""}]
[null,null,"6to grado","Nro. estudiantes*",null,null,null,null,"6to grado","Nro. estudiantes*"]
[null,null,null,"Nro. de estudiantes según calificación**","AD",null,null,null,null,"Nro. de estudiantes según calificación**","AD"]
[null,null,null,null,"A",null,null,null,null,null,"A"]
[null,null,null,null,"B",null,null,null,null,null,"B"]
[null,null,null,null,"C",null,null,null,null,null,"C"]
[null,null,null,"% de estudiantes según calificación","AD",{"$f":"IFERROR(F73/F72,\"\")","v":""},{"$f":"IFERROR(G73/G72,\"\")","v":""},null,null,"% de estudiantes según calificación","AD",{"$f":"IFERROR(L73/L72,\"\")","v":""},{"$f":"IFERROR(M73/M72,\"\")","v":""}]
[null,null,null,null,"A",{"$f":"IFERROR(F74/F72,\"\")","v":""},{"$f":"IFERROR(G74/G72,\"\")","v":""},null,null,null,"A",{"$f":"IFERROR(L74/L72,\"\")","v":""},{"$f":"IFERROR(M74/M72,\"\")","v":""}]
[null,null,null,null,"B",{"$f":"IFERROR(F75/F72,\"\")","v":""},{"$f":"IFERROR(G75/G72,\"\")","v":""},null,null,null,"B",{"$f":"IFERROR(L75/L72,\"\")","v":""},{"$f":"IFERROR(M75/M72,\"\")","v":""}]
[null,null,null,null,"C",{"$f":"IFERROR(F76/F72,\"\")","v":""},{"$f":"IFERROR(G76/G72,\"\")","v":""},null,null,null,"C",{"$f":"IFERROR(L76/L72,\"\")","v":""},{"$f":"IFERROR(M76/M72,\"\")","v":""}]
[null,null,null,null,null,{"$f":"IF(SUM(F73:F76)=F72,\"\",\"datos erróneos\")","v":""},{"$f":"IF(SUM(G73:G76)=G72,\"\",\"datos erróneos\")","v":""},null,null,null,null,{"$f":"IF(SUM(L73:L76)=L72,\"\",\"datos erróneos\")","v":""},{"$f":"IF(SUM(M73:M76)=M72,\"\",\"datos erróneos\")","v":""}]
[null,null,"* Nro de estudiantes:  Idealmente será el mismo número desde el inicio de año, hasta el final. Sin embargo, puede variar de periodo a periodo y al final del año."]
[null,null,"** Estudiantes según calificación: En estos recuadros coloca el número de estudiantes con cada calificación según periodo indicado."]

{"sheet":"C1_Monit PrimEIB","index":18,"n_rows":84,"n_cols":13,"rows_kept":84,"cut":false,"hidden":true,"merged":[[0,2,0,13],[3,2,3,12],[5,2,5,12],[7,2,8,4],[7,5,8,5],[7,6,8,6],[7,8,8,10],[7,11,8,11],[7,12,8,12],[20,12,21,12],[9,2,17,2],[9,3,9,4],[9,8,17,8],[9,9,9,10],[10,3,13,3],[10,9,13,9],[14,3,17,3],[14,9,17,9],[20,2,21,4],[20,5,21,5],[20,6,21,6],[20,8,21,10],[20,11,21,11],[22,2,30,2],[22,3,22,4],[22,8,30,8],[22,9,22,10],[23,3,26,3],[23,9,26,9],[27,3,30,3],[27,9,30,9],[32,2,40,2],[32,3,32,4],[32,8,40,8],[32,9,32,10],[33,3,36,3],[33,9,36,9],[37,3,40,3],[37,9,40,9],[42,2,50,2],[42,3,42,4],[42,8,50,8],[42,9,42,10],[43,3,46,3],[43,9,46,9],[47,3,50,3],[47,9,50,9],[52,2,60,2],[52,3,52,4],[52,8,60,8],[52,9,52,10],[53,3,56,3],[53,9,56,9],[57,3,60,3],[57,9,60,9],[62,2,70,2],[62,3,62,4],[62,8,70,8],[62,9,62,10],[63,3,66,3],[63,9,66,9],[67,3,70,3],[67,9,70,9],[86,2,86,12],[72,2,80,2],[72,3,72,4],[72,8,80,8],[72,9,72,10],[73,3,76,3],[73,9,76,9],[77,3,80,3],[77,9,80,9]]}
[]
[null,null,"Metas de rendimiento en Comunicación (Lengua materna y Segunda lengua)"]
[null,null,"¿Qué hacer?"]
[null,null,"1° En la tabla \"RESULTADOS POR GRADOS\" debe completarse con los datos de las calificaciones de las/los estudiantes en cada grado, según el período. Se presentan dos columnas, en la primera deberás escribir el resultado parcial de las/los estudiantes (si te organizas en bimestres, considerarás los dos primeros; si te organizas por trimestres, considerarás el primero); y en la segunda, los resultados finales de las/los estudiantes. "]
[null,null,"2° La tabla del \"Consolidado\" se procesará, automáticamente, a medida que ingreses datos en las celdas posteriores."]
[]
[null,null,"CONSOLIDADO DE RESULTADOS DEL NIVEL PRIMARIA (Calificaciones parciales y finales 2017) ➨"]
[null,null,"ÁREA COMUNICACIÓN \nLENGUA MATERNA",null,null,"Parciales","Finales",null,"ÁREA COMUNICACIÓN \nSEGUNDA LENGUA",null,null,"Parciales","Finales"]
[]
[null,null,"Nivel PRIMARIA","Nro. estudiantes*",null,{"$f":"SUM(F23,F33,F43,F53,F63,F73)","v":0},0,null,"Nivel PRIMARIA","Nro. estudiantes*",null,{"$f":"SUM(L23,L33,L43,L53,L63,L73)","v":0},0]
[null,null,null,"Nro. de estudiantes según calificación**","AD",0,0,null,null,"Nro. de estudiantes según calificación**","AD",0,0]
[null,null,null,null,"A",0,0,null,null,null,"A",0,0]
[null,null,null,null,"B",0,0,null,null,null,"B",0,0]
[null,null,null,null,"C",0,0,null,null,null,"C",0,0]
[null,null,null,"% de estudiantes según calificación","AD",{"$f":"IFERROR(F11/F10,\"\")","v":""},{"$f":"IFERROR(G11/G10,\"\")","v":""},null,null,"% de estudiantes según calificación","AD",{"$f":"IFERROR(L11/L10,\"\")","v":""},{"$f":"IFERROR(M11/M10,\"\")","v":""}]
[null,null,null,null,"A",{"$f":"IFERROR(F12/F10,\"\")","v":""},{"$f":"IFERROR(G12/G10,\"\")","v":""},null,null,null,"A",{"$f":"IFERROR(L12/L10,\"\")","v":""},{"$f":"IFERROR(M12/M10,\"\")","v":""}]
[null,null,null,null,"B",{"$f":"IFERROR(F13/F10,\"\")","v":""},{"$f":"IFERROR(G13/G10,\"\")","v":""},null,null,null,"B",{"$f":"IFERROR(L13/L10,\"\")","v":""},{"$f":"IFERROR(M13/M10,\"\")","v":""}]
[null,null,null,null,"C",{"$f":"IFERROR(F14/F10,\"\")","v":""},{"$f":"IFERROR(G14/G10,\"\")","v":""},null,null,null,"C",{"$f":"IFERROR(L14/L10,\"\")","v":""},{"$f":"IFERROR(M14/M10,\"\")","v":""}]
[null,null,"RESULTADOS POR GRADOS ➨"]
[]
[null,null,"Área de Comunicación (LENGUA MATERNA)",null,null,"Parciales","Finales",null,"Área de Comunicación (SEGUNDA LENGUA)",null,null,"Parciales","Finales"]
[]
[null,null,"1er grado","Nro. estudiantes*",null,null,null,null,"1er grado","Nro. estudiantes*"]
[null,null,null,"Nro. de estudiantes según calificación**","AD",null,null,null,null,"Nro. de estudiantes según calificación**","AD"]
[null,null,null,null,"A",null,null,null,null,null,"A"]
[null,null,null,null,"B",null,null,null,null,null,"B"]
[null,null,null,null,"C",null,null,null,null,null,"C"]
[null,null,null,"% de estudiantes según calificación","AD",{"$f":"IFERROR(F24/F23,\"\")","v":""},{"$f":"IFERROR(G24/G23,\"\")","v":""},null,null,"% de estudiantes según calificación","AD",{"$f":"IFERROR(L24/L23,\"\")","v":""},{"$f":"IFERROR(M24/M23,\"\")","v":""}]
[null,null,null,null,"A",{"$f":"IFERROR(F25/F23,\"\")","v":""},{"$f":"IFERROR(G25/G23,\"\")","v":""},null,null,null,"A",{"$f":"IFERROR(L25/L23,\"\")","v":""},{"$f":"IFERROR(M25/M23,\"\")","v":""}]
[null,null,null,null,"B",{"$f":"IFERROR(F26/F23,\"\")","v":""},{"$f":"IFERROR(G26/G23,\"\")","v":""},null,null,null,"B",{"$f":"IFERROR(L26/L23,\"\")","v":""},{"$f":"IFERROR(M26/M23,\"\")","v":""}]
[null,null,null,null,"C",{"$f":"IFERROR(F27/F23,\"\")","v":""},{"$f":"IFERROR(G27/G23,\"\")","v":""},null,null,null,"C",{"$f":"IFERROR(L27/L23,\"\")","v":""},{"$f":"IFERROR(M27/M23,\"\")","v":""}]
[null,null,null,null,null,{"$f":"IF(SUM(F24:F27)=F23,\"\",\"datos erróneos\")","v":""},{"$f":"IF(SUM(G24:G27)=G23,\"\",\"datos erróneos\")","v":""},null,null,null,null,{"$f":"IF(SUM(L24:L27)=L23,\"\",\"datos erróneos\")","v":""},{"$f":"IF(SUM(M24:M27)=M23,\"\",\"datos erróneos\")","v":""}]
[null,null,"2do grado","Nro. estudiantes*",null,null,null,null,"2do grado","Nro. estudiantes*"]
[null,null,null,"Nro. de estudiantes según calificación**","AD",null,null,null,null,"Nro. de estudiantes según calificación**","AD"]
[null,null,null,null,"A",null,null,null,null,null,"A"]
[null,null,null,null,"B",null,null,null,null,null,"B"]
[null,null,null,null,"C",null,null,null,null,null,"C"]
[null,null,null,"% de estudiantes según calificación","AD",{"$f":"IFERROR(F34/F33,\"\")","v":""},{"$f":"IFERROR(G34/G33,\"\")","v":""},null,null,"% de estudiantes según calificación","AD",{"$f":"IFERROR(L34/L33,\"\")","v":""},{"$f":"IFERROR(M34/M33,\"\")","v":""}]
[null,null,null,null,"A",{"$f":"IFERROR(F35/F33,\"\")","v":""},{"$f":"IFERROR(G35/G33,\"\")","v":""},null,null,null,"A",{"$f":"IFERROR(L35/L33,\"\")","v":""},{"$f":"IFERROR(M35/M33,\"\")","v":""}]
[null,null,null,null,"B",{"$f":"IFERROR(F36/F33,\"\")","v":""},{"$f":"IFERROR(G36/G33,\"\")","v":""},null,null,null,"B",{"$f":"IFERROR(L36/L33,\"\")","v":""},{"$f":"IFERROR(M36/M33,\"\")","v":""}]
[null,null,null,null,"C",{"$f":"IFERROR(F37/F33,\"\")","v":""},{"$f":"IFERROR(G37/G33,\"\")","v":""},null,null,null,"C",{"$f":"IFERROR(L37/L33,\"\")","v":""},{"$f":"IFERROR(M37/M33,\"\")","v":""}]
[null,null,null,null,null,{"$f":"IF(SUM(F34:F37)=F33,\"\",\"datos erróneos\")","v":""},{"$f":"IF(SUM(G34:G37)=G33,\"\",\"datos erróneos\")","v":""},null,null,null,null,{"$f":"IF(SUM(L34:L37)=L33,\"\",\"datos erróneos\")","v":""},{"$f":"IF(SUM(M34:M37)=M33,\"\",\"datos erróneos\")","v":""}]
[null,null,"3er grado","Nro estudiantes*",null,null,null,null,"3er grado","Nro estudiantes*"]
[null,null,null,"Nro de estudiantes según calificación**","AD",null,null,null,null,"Nro de estudiantes según calificación**","AD"]
[null,null,null,null,"A",null,null,null,null,null,"A"]
[null,null,null,null,"B",null,null,null,null,null,"B"]
[null,null,null,null,"C",null,null,null,null,null,"C"]
[null,null,null,"% de estudiantes según calificación","AD",{"$f":"IFERROR(F44/F43,\"\")","v":""},{"$f":"IFERROR(G44/G43,\"\")","v":""},null,null,"% de estudiantes según calificación","AD",{"$f":"IFERROR(L44/L43,\"\")","v":""},{"$f":"IFERROR(M44/M43,\"\")","v":""}]
[null,null,null,null,"A",{"$f":"IFERROR(F45/F43,\"\")","v":""},{"$f":"IFERROR(G45/G43,\"\")","v":""},null,null,null,"A",{"$f":"IFERROR(L45/L43,\"\")","v":""},{"$f":"IFERROR(M45/M43,\"\")","v":""}]
[null,null,null,null,"B",{"$f":"IFERROR(F46/F43,\"\")","v":""},{"$f":"IFERROR(G46/G43,\"\")","v":""},null,null,null,"B",{"$f":"IFERROR(L46/L43,\"\")","v":""},{"$f":"IFERROR(M46/M43,\"\")","v":""}]
[null,null,null,null,"C",{"$f":"IFERROR(F47/F43,\"\")","v":""},{"$f":"IFERROR(G47/G43,\"\")","v":""},null,null,null,"C",{"$f":"IFERROR(L47/L43,\"\")","v":""},{"$f":"IFERROR(M47/M43,\"\")","v":""}]
[null,null,null,null,null,{"$f":"IF(SUM(F44:F47)=F43,\"\",\"datos erróneos\")","v":""},{"$f":"IF(SUM(G44:G47)=G43,\"\",\"datos erróneos\")","v":""},null,null,null,null,{"$f":"IF(SUM(L44:L47)=L43,\"\",\"datos erróneos\")","v":""},{"$f":"IF(SUM(M44:M47)=M43,\"\",\"datos erróneos\")","v":""}]
[null,null,"4to grado","Nro estudiantes*",null,null,null,null,"4to grado","Nro estudiantes*"]
[null,null,null,"Nro de estudiantes según calificación**","AD",null,null,null,null,"Nro de estudiantes según calificación**","AD"]
[null,null,null,null,"A",null,null,null,null,null,"A"]
[null,null,null,null,"B",null,null,null,null,null,"B"]
[null,null,null,null,"C",null,null,null,null,null,"C"]
[null,null,null,"% de estudiantes según calificación","AD",{"$f":"IFERROR(F54/F53,\"\")","v":""},{"$f":"IFERROR(G54/G53,\"\")","v":""},null,null,"% de estudiantes según calificación","AD",{"$f":"IFERROR(L54/L53,\"\")","v":""},{"$f":"IFERROR(M54/M53,\"\")","v":""}]
[null,null,null,null,"A",{"$f":"IFERROR(F55/F53,\"\")","v":""},{"$f":"IFERROR(G55/G53,\"\")","v":""},null,null,null,"A",{"$f":"IFERROR(L55/L53,\"\")","v":""},{"$f":"IFERROR(M55/M53,\"\")","v":""}]
[null,null,null,null,"B",{"$f":"IFERROR(F56/F53,\"\")","v":""},{"$f":"IFERROR(G56/G53,\"\")","v":""},null,null,null,"B",{"$f":"IFERROR(L56/L53,\"\")","v":""},{"$f":"IFERROR(M56/M53,\"\")","v":""}]
[null,null,null,null,"C",{"$f":"IFERROR(F57/F53,\"\")","v":""},{"$f":"IFERROR(G57/G53,\"\")","v":""},null,null,null,"C",{"$f":"IFERROR(L57/L53,\"\")","v":""},{"$f":"IFERROR(M57/M53,\"\")","v":""}]
[null,null,null,null,null,{"$f":"IF(SUM(F54:F57)=F53,\"\",\"datos erróneos\")","v":""},{"$f":"IF(SUM(G54:G57)=G53,\"\",\"datos erróneos\")","v":""},null,null,null,null,{"$f":"IF(SUM(L54:L57)=L53,\"\",\"datos erróneos\")","v":""},{"$f":"IF(SUM(M54:M57)=M53,\"\",\"datos erróneos\")","v":""}]
[null,null,"5to grado","Nro. estudiantes*",null,null,null,null,"5to grado","Nro. estudiantes*"]
[null,null,null,"Nro. de estudiantes según calificación**","AD",null,null,null,null,"Nro. de estudiantes según calificación**","AD"]
[null,null,null,null,"A",null,null,null,null,null,"A"]
[null,null,null,null,"B",null,null,null,null,null,"B"]
[null,null,null,null,"C",null,null,null,null,null,"C"]
[null,null,null,"% de estudiantes según calificación","AD",{"$f":"IFERROR(F64/F63,\"\")","v":""},{"$f":"IFERROR(G64/G63,\"\")","v":""},null,null,"% de estudiantes según calificación","AD",{"$f":"IFERROR(L64/L63,\"\")","v":""},{"$f":"IFERROR(M64/M63,\"\")","v":""}]
[null,null,null,null,"A",{"$f":"IFERROR(F65/F63,\"\")","v":""},{"$f":"IFERROR(G65/G63,\"\")","v":""},null,null,null,"A",{"$f":"IFERROR(L65/L63,\"\")","v":""},{"$f":"IFERROR(M65/M63,\"\")","v":""}]
[null,null,null,null,"B",{"$f":"IFERROR(F66/F63,\"\")","v":""},{"$f":"IFERROR(G66/G63,\"\")","v":""},null,null,null,"B",{"$f":"IFERROR(L66/L63,\"\")","v":""},{"$f":"IFERROR(M66/M63,\"\")","v":""}]
[null,null,null,null,"C",{"$f":"IFERROR(F67/F63,\"\")","v":""},{"$f":"IFERROR(G67/G63,\"\")","v":""},null,null,null,"C",{"$f":"IFERROR(L67/L63,\"\")","v":""},{"$f":"IFERROR(M67/M63,\"\")","v":""}]
[null,null,null,null,null,{"$f":"IF(SUM(F64:F67)=F63,\"\",\"datos erróneos\")","v":""},{"$f":"IF(SUM(G64:G67)=G63,\"\",\"datos erróneos\")","v":""},null,null,null,null,{"$f":"IF(SUM(L64:L67)=L63,\"\",\"datos erróneos\")","v":""},{"$f":"IF(SUM(M64:M67)=M63,\"\",\"datos erróneos\")","v":""}]
[null,null,"6to grado","Nro. estudiantes*",null,null,null,null,"6to grado","Nro. estudiantes*"]
[null,null,null,"Nro. de estudiantes según calificación**","AD",null,null,null,null,"Nro. de estudiantes según calificación**","AD"]
[null,null,null,null,"A",null,null,null,null,null,"A"]
[null,null,null,null,"B",null,null,null,null,null,"B"]
[null,null,null,null,"C",null,null,null,null,null,"C"]
[null,null,null,"% de estudiantes según calificación","AD",{"$f":"IFERROR(F74/F73,\"\")","v":""},{"$f":"IFERROR(G74/G73,\"\")","v":""},null,null,"% de estudiantes según calificación","AD",{"$f":"IFERROR(L74/L73,\"\")","v":""},{"$f":"IFERROR(M74/M73,\"\")","v":""}]
[null,null,null,null,"A",{"$f":"IFERROR(F75/F73,\"\")","v":""},{"$f":"IFERROR(G75/G73,\"\")","v":""},null,null,null,"A",{"$f":"IFERROR(L75/L73,\"\")","v":""},{"$f":"IFERROR(M75/M73,\"\")","v":""}]
[null,null,null,null,"B",{"$f":"IFERROR(F76/F73,\"\")","v":""},{"$f":"IFERROR(G76/G73,\"\")","v":""},null,null,null,"B",{"$f":"IFERROR(L76/L73,\"\")","v":""},{"$f":"IFERROR(M76/M73,\"\")","v":""}]
[null,null,null,null,"C",{"$f":"IFERROR(F77/F73,\"\")","v":""},{"$f":"IFERROR(G77/G73,\"\")","v":""},null,null,null,"C",{"$f":"IFERROR(L77/L73,\"\")","v":""},{"$f":"IFERROR(M77/M73,\"\")","v":""}]
[null,null,null,null,null,{"$f":"IF(SUM(F74:F77)=F73,\"\",\"datos erróneos\")","v":""},{"$f":"IF(SUM(G74:G77)=G73,\"\",\"datos erróneos\")","v":""},null,null,null,null,{"$f":"IF(SUM(L74:L77)=L73,\"\",\"datos erróneos\")","v":""},{"$f":"IF(SUM(M74:M77)=M73,\"\",\"datos erróneos\")","v":""}]
[null,null,"* Nro. de estudiantes:  Idealmente será el mismo número desde el inicio de año, hasta el final. Sin embargo, puede variar de periodo a periodo y al final del año."]
[null,null,"** Estudiantes según calificación: En estos recuadros coloca el número de estudiantes con cada calificación según periodo indicado."]

{"sheet":"C1_Monit Ini2","index":19,"n_rows":43,"n_cols":13,"rows_kept":43,"cut":false,"hidden":true,"merged":[[0,2,0,34],[0,36,0,52],[3,2,3,12],[5,2,6,4],[5,5,6,5],[5,6,6,6],[5,8,6,10],[5,11,6,11],[5,12,6,12],[17,12,18,12],[7,2,13,2],[7,3,7,4],[7,8,13,8],[7,9,7,10],[8,3,10,3],[8,9,10,9],[11,3,13,3],[11,9,13,9],[17,2,18,4],[17,5,18,5],[17,6,18,6],[17,8,18,10],[17,11,18,11],[19,2,25,2],[19,3,19,4],[19,8,25,8],[19,9,19,10],[20,3,22,3],[20,9,22,9],[23,3,25,3],[23,9,25,9],[27,2,33,2],[27,3,27,4],[27,8,33,8],[27,9,27,10],[28,3,30,3],[28,9,30,9],[31,3,33,3],[31,9,33,9],[47,2,47,12],[35,2,41,2],[35,3,35,4],[35,8,41,8],[35,9,35,10],[36,3,38,3],[36,9,38,9],[39,3,41,3],[39,9,41,9]]}
[null,null,"Metas de rendimiento en Ciencia y Ambiente, Personal Social."]
[null,null,"¿Qué hacer?"]
[null,null,"Seguir el procedimiento anterior."]
[]
[null,null,"CONSOLIDADO DE RESULTADOS DEL NIVEL INICIAL (Calificaciones parciales y finales 2017) "]
[null,null,"Área de Ciencia y Ambiente",null,null,"Parciales","Finales",null,"Área de Personal Social",null,null,"Parciales","Finales"]
[]
[null,null,"Nivel INICIAL\n","Nro. estudiantes*",null,{"$f":"SUM(F20,F28,F36)","v":0},0,null,"Nivel INICIAL\n","Nro. estudiantes*",null,{"$f":"SUM(L20,L28,L36)","v":0},0]
[null,null,null,"Nro. de estudiantes según calificación**","A",0,0,null,null,"Nro. de estudiantes según calificación**","A",0,0]
[null,null,null,null,"B",0,0,null,null,null,"B",0,0]
[null,null,null,null,"C",0,0,null,null,null,"C",0,0]
[null,null,null,"% de estudiantes según calificación","A",{"$f":"IFERROR(F9/F8,\"\")","v":""},{"$f":"IFERROR(G9/G8,\"\")","v":""},null,null,"% de estudiantes según calificación","A",{"$f":"IFERROR(L9/L8,\"\")","v":""},{"$f":"IFERROR(M9/M8,\"\")","v":""}]
[null,null,null,null,"B",{"$f":"IFERROR(F10/F8,\"\")","v":""},{"$f":"IFERROR(G10/G8,\"\")","v":""},null,null,null,"B",{"$f":"IFERROR(L10/L8,\"\")","v":""},{"$f":"IFERROR(M10/M8,\"\")","v":""}]
[null,null,null,null,"C",{"$f":"IFERROR(F11/F8,\"\")","v":""},{"$f":"IFERROR(G11/G8,\"\")","v":""},null,null,null,"C",{"$f":"IFERROR(L11/L8,\"\")","v":""},{"$f":"IFERROR(M11/M8,\"\")","v":""}]
[]
[null,null,"RESULTADOS POR EDADES ➨"]
[]
[null,null,"Área de Ciencia y Ambiente",null,null,"Parciales","Finales",null,"Área de Personal Social",null,null,"Parciales","Finales"]
[]
[null,null,"3 años","Nro. estudiantes*",null,null,null,null,"3 años","Nro. estudiantes*"]
[null,null,null,"Nro. de estudiantes según calificación**","A",null,null,null,null,"Nro. de estudiantes según calificación**","A"]
[null,null,null,null,"B",null,null,null,null,null,"B"]
[null,null,null,null,"C",null,null,null,null,null,"C"]
[null,null,null,"% de estudiantes según calificación","A",{"$f":"IFERROR(F21/F20,\"\")","v":""},{"$f":"IFERROR(G21/G20,\"\")","v":""},null,null,"% de estudiantes según calificación","A",{"$f":"IFERROR(L21/L20,\"\")","v":""},{"$f":"IFERROR(M21/M20,\"\")","v":""}]
[null,null,null,null,"B",{"$f":"IFERROR(F22/F20,\"\")","v":""},{"$f":"IFERROR(G22/G20,\"\")","v":""},null,null,null,"B",{"$f":"IFERROR(L22/L20,\"\")","v":""},{"$f":"IFERROR(M22/M20,\"\")","v":""}]
[null,null,null,null,"C",{"$f":"IFERROR(F23/F20,\"\")","v":""},{"$f":"IFERROR(G23/G20,\"\")","v":""},null,null,null,"C",{"$f":"IFERROR(L23/L20,\"\")","v":""},{"$f":"IFERROR(M23/M20,\"\")","v":""}]
[null,null,null,null,null,{"$f":"IF(SUM(F21:F23)=F20,\"\",\"datos erróneos\")","v":""},{"$f":"IF(SUM(G21:G23)=G20,\"\",\"datos erróneos\")","v":""},null,null,null,null,{"$f":"IF(SUM(L21:L23)=L20,\"\",\"datos erróneos\")","v":""},{"$f":"IF(SUM(M21:M23)=M20,\"\",\"datos erróneos\")","v":""}]
[null,null,"4 años","Nro. estudiantes*",null,null,null,null,"4 años","Nro. estudiantes*"]
[null,null,null,"Nro. de estudiantes según calificación**","A",null,null,null,null,"Nro. de estudiantes según calificación**","A"]
[null,null,null,null,"B",null,null,null,null,null,"B"]
[null,null,null,null,"C",null,null,null,null,null,"C"]
[null,null,null,"% de estudiantes según calificación","A",{"$f":"IFERROR(F29/F28,\"\")","v":""},{"$f":"IFERROR(G29/G28,\"\")","v":""},null,null,"% de estudiantes según calificación","A",{"$f":"IFERROR(L29/L28,\"\")","v":""},{"$f":"IFERROR(M29/M28,\"\")","v":""}]
[null,null,null,null,"B",{"$f":"IFERROR(F30/F28,\"\")","v":""},{"$f":"IFERROR(G30/G28,\"\")","v":""},null,null,null,"B",{"$f":"IFERROR(L30/L28,\"\")","v":""},{"$f":"IFERROR(M30/M28,\"\")","v":""}]
[null,null,null,null,"C",{"$f":"IFERROR(F31/F28,\"\")","v":""},{"$f":"IFERROR(G31/G28,\"\")","v":""},null,null,null,"C",{"$f":"IFERROR(L31/L28,\"\")","v":""},{"$f":"IFERROR(M31/M28,\"\")","v":""}]
[null,null,null,null,null,{"$f":"IF(SUM(F29:F31)=F28,\"\",\"datos erróneos\")","v":""},{"$f":"IF(SUM(G29:G31)=G28,\"\",\"datos erróneos\")","v":""},null,null,null,null,{"$f":"IF(SUM(L29:L31)=L28,\"\",\"datos erróneos\")","v":""},{"$f":"IF(SUM(M29:M31)=M28,\"\",\"datos erróneos\")","v":""}]
[null,null,"5 años","Nro. estudiantes*",null,null,null,null,"5 años","Nro. estudiantes*"]
[null,null,null,"Nro. de estudiantes según calificación**","A",null,null,null,null,"Nro. de estudiantes según calificación**","A"]
[null,null,null,null,"B",null,null,null,null,null,"B"]
[null,null,null,null,"C",null,null,null,null,null,"C"]
[null,null,null,"% de estudiantes según calificación","A",{"$f":"IFERROR(F37/F36,\"\")","v":""},{"$f":"IFERROR(G37/G36,\"\")","v":""},null,null,"% de estudiantes según calificación","A",{"$f":"IFERROR(L37/L36,\"\")","v":""},{"$f":"IFERROR(M37/M36,\"\")","v":""}]
[null,null,null,null,"B",{"$f":"IFERROR(F38/F36,\"\")","v":""},{"$f":"IFERROR(G38/G36,\"\")","v":""},null,null,null,"B",{"$f":"IFERROR(L38/L36,\"\")","v":""},{"$f":"IFERROR(M38/M36,\"\")","v":""}]
[null,null,null,null,"C",{"$f":"IFERROR(F39/F36,\"\")","v":""},{"$f":"IFERROR(G39/G36,\"\")","v":""},null,null,null,"C",{"$f":"IFERROR(L39/L36,\"\")","v":""},{"$f":"IFERROR(M39/M36,\"\")","v":""}]
[null,null,null,null,null,{"$f":"IF(SUM(F37:F39)=F36,\"\",\"datos erróneos\")","v":""},{"$f":"IF(SUM(G37:G39)=G36,\"\",\"datos erróneos\")","v":""},null,null,null,null,{"$f":"IF(SUM(L37:L39)=L36,\"\",\"datos erróneos\")","v":""},{"$f":"IF(SUM(M37:M39)=M36,\"\",\"datos erróneos\")","v":""}]

{"sheet":"C1_Monit Ini","index":20,"n_rows":46,"n_cols":19,"rows_kept":46,"cut":false,"hidden":true,"merged":[[2,2,2,12],[6,2,7,4],[6,5,7,5],[6,6,7,6],[6,8,7,10],[6,11,7,11],[6,12,7,12],[18,12,19,12],[8,2,14,2],[8,3,8,4],[8,8,14,8],[8,9,8,10],[9,3,11,3],[9,9,11,9],[12,3,14,3],[12,9,14,9],[18,2,19,4],[18,5,19,5],[18,6,19,6],[18,8,19,10],[18,11,19,11],[20,2,26,2],[20,3,20,4],[20,8,26,8],[20,9,20,10],[21,3,23,3],[21,9,23,9],[24,3,26,3],[24,9,26,9],[28,2,34,2],[28,3,28,4],[28,8,34,8],[28,9,28,10],[29,3,31,3],[29,9,31,9],[32,3,34,3],[32,9,34,9],[49,2,51,12],[36,2,42,2],[36,3,36,4],[36,8,42,8],[36,9,36,10],[37,3,39,3],[37,9,39,9],[40,3,42,3],[40,9,42,9]]}
[null,null,"Monitoreo a metas de rendimiento en Comunicación y Matemática."]
[null,null,"¿Qué hacer?"]
[null,null,"1° En la tabla \"RESULTADOS POR EDADES\" debe completarse con los datos de las calificaciones de las/los niñas/os en cada edad según el período. Se presentan dos columnas, en la primera deberás escribir el resultado parcial de las/los niñas/niños (si te organizas en bimestres, considerarás los dos primeros; si te organizas por trimestres, considerarás el primero); y en la segunda, los resultados finales de las/los niñas/niños. "]
[null,null,"2° La tabla del \"Consolidado\" se procesará, automáticamente, a medida que ingreses datos en las celdas posteriores."]
[]
[null,null,"CONSOLIDADO DE RESULTADOS DEL NIVEL INICIAL (Calificaciones parciales y finales 2017) ➨"]
[null,null,"Área de Comunicación",null,null,"Parciales","Finales",null,"Área de Matemática",null,null,"Parciales","Finales"]
[]
[null,null,"Nivel INICIAL\n","Nro. estudiantes*",null,{"$f":"SUM(F21,F29,F37)","v":0},{"$f":"SUM(G21,G29,G37)","v":0},null,"Nivel INICIAL","Nro. estudiantes*",null,{"$f":"SUM(L21,L29,L37)","v":0},0]
[null,null,null,"Nro. de estudiantes según calificación**","A",0,0,null,null,"Nro. de estudiantes según calificación**","A",0,0]
[null,null,null,null,"B",0,0,null,null,null,"B",0,0,null,null,null,null,null,{"$f":"IFERROR(S8/S7,\"\")","v":""}]
[null,null,null,null,"C",0,0,null,null,null,"C",0,0]
[null,null,null,"% de estudiantes según calificación","A",{"$f":"IFERROR(F10/F9,\"\")","v":""},{"$f":"IFERROR(G10/G9,\"\")","v":""},null,null,"% de estudiantes según calificación","A",{"$f":"IFERROR(L10/L9,\"\")","v":""},{"$f":"IFERROR(M10/M9,\"\")","v":""}]
[null,null,null,null,"B",{"$f":"IFERROR(F11/F9,\"\")","v":""},{"$f":"IFERROR(G11/G9,\"\")","v":""},null,null,null,"B",{"$f":"IFERROR(L11/L9,\"\")","v":""},{"$f":"IFERROR(M11/M9,\"\")","v":""}]
[null,null,null,null,"C",{"$f":"IFERROR(F12/F9,\"\")","v":""},{"$f":"IFERROR(G12/G9,\"\")","v":""},null,null,null,"C",{"$f":"IFERROR(L12/L9,\"\")","v":""},{"$f":"IFERROR(M12/M9,\"\")","v":""}]
[]
[null,null,"RESULTADOS POR EDADES ➨"]
[]
[null,null,"Área de Comunicación",null,null,"Parciales","Finales",null,"Área de Matemática",null,null,"Parciales","Finales"]
[]
[null,null,"3 años","Nro. estudiantes*",null,null,null,null,"3 años","Nro. estudiantes*"]
[null,null,null,"Nro. de estudiantes según calificación**","A",null,null,null,null,"Nro. de estudiantes según calificación**","A"]
[null,null,null,null,"B",null,null,null,null,null,"B"]
[null,null,null,null,"C",null,null,null,null,null,"C"]
[null,null,null,"% de estudiantes según calificación","A",{"$f":"IFERROR(F22/F21,\"\")","v":""},{"$f":"IFERROR(G22/G21,\"\")","v":""},null,null,"% de estudiantes según calificación","A",{"$f":"IFERROR(L22/L21,\"\")","v":""},{"$f":"IFERROR(M22/M21,\"\")","v":""}]
[null,null,null,null,"B",{"$f":"IFERROR(F23/F21,\"\")","v":""},{"$f":"IFERROR(G23/G21,\"\")","v":""},null,null,null,"B",{"$f":"IFERROR(L23/L21,\"\")","v":""},{"$f":"IFERROR(M23/M21,\"\")","v":""}]
[null,null,null,null,"C",{"$f":"IFERROR(F24/F21,\"\")","v":""},{"$f":"IFERROR(G24/G21,\"\")","v":""},null,null,null,"C",{"$f":"IFERROR(L24/L21,\"\")","v":""},{"$f":"IFERROR(M24/M21,\"\")","v":""}]
[null,null,null,null,null,{"$f":"IF(SUM(F22:F24)=F21,\"\",\"datos erróneos\")","v":""},{"$f":"IF(SUM(G22:G24)=G21,\"\",\"datos erróneos\")","v":""},null,null,null,null,{"$f":"IF(SUM(L22:L24)=L21,\"\",\"datos erróneos\")","v":""},{"$f":"IF(SUM(M22:M24)=M21,\"\",\"datos erróneos\")","v":""}]
[null,null,"4 años","Nro. estudiantes*",null,null,null,null,"4 años","Nro. estudiantes*"]
[null,null,null,"Nro. de estudiantes según calificación**","A",null,null,null,null,"Nro. de estudiantes según calificación**","A"]
[null,null,null,null,"B",null,null,null,null,null,"B"]
[null,null,null,null,"C",null,null,null,null,null,"C"]
[null,null,null,"% de estudiantes según calificación","A",{"$f":"IFERROR(F30/F29,\"\")","v":""},{"$f":"IFERROR(G30/G29,\"\")","v":""},null,null,"% de estudiantes según calificación","A",{"$f":"IFERROR(L30/L29,\"\")","v":""},{"$f":"IFERROR(M30/M29,\"\")","v":""}]
[null,null,null,null,"B",{"$f":"IFERROR(F31/F29,\"\")","v":""},{"$f":"IFERROR(G31/G29,\"\")","v":""},null,null,null,"B",{"$f":"IFERROR(L31/L29,\"\")","v":""},{"$f":"IFERROR(M31/M29,\"\")","v":""}]
[null,null,null,null,"C",{"$f":"IFERROR(F32/F29,\"\")","v":""},{"$f":"IFERROR(G32/G29,\"\")","v":""},null,null,null,"C",{"$f":"IFERROR(L32/L29,\"\")","v":""},{"$f":"IFERROR(M32/M29,\"\")","v":""}]
[null,null,null,null,null,{"$f":"IF(SUM(F30:F32)=F29,\"\",\"datos erróneos\")","v":""},{"$f":"IF(SUM(G30:G32)=G29,\"\",\"datos erróneos\")","v":""},null,null,null,null,{"$f":"IF(SUM(L30:L32)=L29,\"\",\"datos erróneos\")","v":""},{"$f":"IF(SUM(M30:M32)=M29,\"\",\"datos erróneos\")","v":""}]
[null,null,"5 años","Nro. estudiantes*",null,null,null,null,"5 años","Nro. estudiantes*"]
[null,null,null,"Nro. de estudiantes según calificación**","A",null,null,null,null,"Nro. de estudiantes según calificación**","A"]
[null,null,null,null,"B",null,null,null,null,null,"B"]
[null,null,null,null,"C",null,null,null,null,null,"C"]
[null,null,null,"% de estudiantes según calificación","A",{"$f":"IFERROR(F38/F37,\"\")","v":""},{"$f":"IFERROR(G38/G37,\"\")","v":""},null,null,"% de estudiantes según calificación","A",{"$f":"IFERROR(L38/L37,\"\")","v":""},{"$f":"IFERROR(M38/M37,\"\")","v":""}]
[null,null,null,null,"B",{"$f":"IFERROR(F39/F37,\"\")","v":""},{"$f":"IFERROR(G39/G37,\"\")","v":""},null,null,null,"B",{"$f":"IFERROR(L39/L37,\"\")","v":""},{"$f":"IFERROR(M39/M37,\"\")","v":""}]
[null,null,null,null,"C",{"$f":"IFERROR(F40/F37,\"\")","v":""},{"$f":"IFERROR(G40/G37,\"\")","v":""},null,null,null,"C",{"$f":"IFERROR(L40/L37,\"\")","v":""},{"$f":"IFERROR(M40/M37,\"\")","v":""}]
[null,null,null,null,null,{"$f":"IF(SUM(F38:F40)=F37,\"\",\"datos erróneos\")","v":""},{"$f":"IF(SUM(G38:G40)=G37,\"\",\"datos erróneos\")","v":""},null,null,null,null,{"$f":"IF(SUM(L38:L40)=L37,\"\",\"datos erróneos\")","v":""},{"$f":"IF(SUM(M38:M40)=M37,\"\",\"datos erróneos\")","v":""}]
[null,null,"* Nro de estudiantes:  Idealmente será el mismo número desde el inicio de año, hasta el final. Sin embargo, puede variar de periodo a periodo y al final del año."]
[null,null,"** Estudiantes según calificación: En estos recuadros coloca el número de estudiantes con cada calificación según periodo indicado."]

{"sheet":"C1_Monit IniEIB","index":21,"n_rows":46,"n_cols":19,"rows_kept":46,"cut":false,"hidden":true,"merged":[[2,2,2,12],[6,2,7,4],[6,5,7,5],[6,6,7,6],[6,8,7,10],[6,11,7,11],[6,12,7,12],[18,12,19,12],[8,2,14,2],[8,3,8,4],[8,8,14,8],[8,9,8,10],[9,3,11,3],[9,9,11,9],[12,3,14,3],[12,9,14,9],[18,2,19,4],[18,5,19,5],[18,6,19,6],[18,8,19,10],[18,11,19,11],[20,2,26,2],[20,3,20,4],[20,8,26,8],[20,9,20,10],[21,3,23,3],[21,9,23,9],[24,3,26,3],[24,9,26,9],[28,2,34,2],[28,3,28,4],[28,8,34,8],[28,9,28,10],[29,3,31,3],[29,9,31,9],[32,3,34,3],[32,9,34,9],[49,2,51,12],[36,2,42,2],[36,3,36,4],[36,8,42,8],[36,9,36,10],[37,3,39,3],[37,9,39,9],[40,3,42,3],[40,9,42,9]]}
[null,null,"Monitoreo de metas de rendimiento en Comunicación (Primera y segunda lengua). "]
[null,null,"¿Qué hacer?"]
[null,null,"1° En la tabla \"RESULTADOS POR EDADES\" debe completarse con los datos de las calificaciones de las/los niñas/os en cada edad según el período. Se presentan dos columnas, en la primera deberás escribir el resultado parcial de las/los niñas/niños (si te organizas en bimestres, considerarás los dos primeros; si te organizas por trimestres, considerarás el primero); y en la segunda, los resultados finales de las/los niñas/niños. "]
[null,null,"2° La tabla del \"Consolidado\" se procesará, automáticamente, a medida que ingreses datos en las celdas posteriores."]
[]
[null,null,"CONSOLIDADO DE RESULTADOS DEL NIVEL INICIAL_EIB (Calificaciones parciales y finales 2017) ➨"]
[null,null,"ÁREA COMUNICACIÓN \nPRIMERA LENGUA",null,null,"Parciales","Finales",null,"ÁREA COMUNICACIÓN \nSEGUNDA LENGUA",null,null,"Parciales","Finales"]
[]
[null,null,"Nivel INICIAL\n","Nro. estudiantes*",null,{"$f":"SUM(F21,F29,F37)","v":0},0,null,"Nivel INICIAL","Nro. estudiantes*",null,{"$f":"SUM(L21,L29,L37)","v":0},0]
[null,null,null,"Nro. de estudiantes según calificación**","A",0,0,null,null,"Nro. de estudiantes según calificación**","A",0,0]
[null,null,null,null,"B",0,0,null,null,null,"B",0,0,null,null,null,null,null,{"$f":"IFERROR(S8/S7,\"\")","v":""}]
[null,null,null,null,"C",0,0,null,null,null,"C",0,0]
[null,null,null,"% de estudiantes según calificación","A",{"$f":"IFERROR(F10/F9,\"\")","v":""},{"$f":"IFERROR(G10/G9,\"\")","v":""},null,null,"% de estudiantes según calificación","A",{"$f":"IFERROR(L10/L9,\"\")","v":""},{"$f":"IFERROR(M10/M9,\"\")","v":""}]
[null,null,null,null,"B",{"$f":"IFERROR(F11/F9,\"\")","v":""},{"$f":"IFERROR(G11/G9,\"\")","v":""},null,null,null,"B",{"$f":"IFERROR(L11/L9,\"\")","v":""},{"$f":"IFERROR(M11/M9,\"\")","v":""}]
[null,null,null,null,"C",{"$f":"IFERROR(F12/F9,\"\")","v":""},{"$f":"IFERROR(G12/G9,\"\")","v":""},null,null,null,"C",{"$f":"IFERROR(L12/L9,\"\")","v":""},{"$f":"IFERROR(M12/M9,\"\")","v":""}]
[]
[null,null,"RESULTADOS POR EDADES ➨"]
[]
[null,null,"ÁREA COMUNICACIÓN\n (PRIMERA LENGUA)",null,null,"Parciales","Finales",null,"ÁREA COMUNICACIÓN\n (SEGUNDA LENGUA)",null,null,"Parciales","Finales"]
[]
[null,null,"3 años","Nro. estudiantes*",null,null,null,null,"3 años"]
[null,null,null,"Nro. de estudiantes según calificación**","A"]
[null,null,null,null,"B"]
[null,null,null,null,"C"]
[null,null,null,"% de estudiantes según calificación","A",{"$f":"IFERROR(F22/F21,\"\")","v":""},{"$f":"IFERROR(G22/G21,\"\")","v":""}]
[null,null,null,null,"B",{"$f":"IFERROR(F23/F21,\"\")","v":""},{"$f":"IFERROR(G23/G21,\"\")","v":""}]
[null,null,null,null,"C",{"$f":"IFERROR(F24/F21,\"\")","v":""},{"$f":"IFERROR(G24/G21,\"\")","v":""}]
[null,null,null,null,null,null,null,null,null,null,null,{"$f":"IF(SUM(L22:L24)=L21,\"\",\"datos erróneos\")","v":""},{"$f":"IF(SUM(M22:M24)=M21,\"\",\"datos erróneos\")","v":""}]
[null,null,"4 años","Nro. estudiantes*",null,null,null,null,"4 años"]
[null,null,null,"Nro. de estudiantes según calificación**","A"]
[null,null,null,null,"B"]
[null,null,null,null,"C"]
[null,null,null,"% de estudiantes según calificación","A",{"$f":"IFERROR(F30/F29,\"\")","v":""},{"$f":"IFERROR(G30/G29,\"\")","v":""}]
[null,null,null,null,"B",{"$f":"IFERROR(F31/F29,\"\")","v":""},{"$f":"IFERROR(G31/G29,\"\")","v":""}]
[null,null,null,null,"C",{"$f":"IFERROR(F32/F29,\"\")","v":""},{"$f":"IFERROR(G32/G29,\"\")","v":""}]
[null,null,null,null,null,{"$f":"IF(SUM(F30:F32)=F29,\"\",\"datos erróneos\")","v":""},{"$f":"IF(SUM(G30:G32)=G29,\"\",\"datos erróneos\")","v":""},null,null,null,null,{"$f":"IF(SUM(L30:L32)=L29,\"\",\"datos erróneos\")","v":""},{"$f":"IF(SUM(M30:M32)=M29,\"\",\"datos erróneos\")","v":""}]
[null,null,"5 años","Nro. estudiantes*",null,null,null,null,"5 años","Nro. estudiantes*"]
[null,null,null,"Nro. de estudiantes según calificación**","A",null,null,null,null,"Nro. de estudiantes según calificación**","A"]
[null,null,null,null,"B",null,null,null,null,null,"B"]
[null,null,null,null,"C",null,null,null,null,null,"C"]
[null,null,null,"% de estudiantes según calificación","A",{"$f":"IFERROR(F38/F37,\"\")","v":""},{"$f":"IFERROR(G38/G37,\"\")","v":""},null,null,"% de estudiantes según calificación","A",{"$f":"IFERROR(L38/L37,\"\")","v":""},{"$f":"IFERROR(M38/M37,\"\")","v":""}]
[null,null,null,null,"B",{"$f":"IFERROR(F39/F37,\"\")","v":""},{"$f":"IFERROR(G39/G37,\"\")","v":""},null,null,null,"B",{"$f":"IFERROR(L39/L37,\"\")","v":""},{"$f":"IFERROR(M39/M37,\"\")","v":""}]
[null,null,null,null,"C",{"$f":"IFERROR(F40/F37,\"\")","v":""},{"$f":"IFERROR(G40/G37,\"\")","v":""},null,null,null,"C",{"$f":"IFERROR(L40/L37,\"\")","v":""},{"$f":"IFERROR(M40/M37,\"\")","v":""}]
[null,null,null,null,null,{"$f":"IF(SUM(F38:F40)=F37,\"\",\"datos erróneos\")","v":""},{"$f":"IF(SUM(G38:G40)=G37,\"\",\"datos erróneos\")","v":""},null,null,null,null,{"$f":"IF(SUM(L38:L40)=L37,\"\",\"datos erróneos\")","v":""},{"$f":"IF(SUM(M38:M40)=M37,\"\",\"datos erróneos\")","v":""}]
[null,null,"* Nro de estudiantes:  Idealmente será el mismo número desde el inicio de año, hasta el final. Sin embargo, puede variar de periodo a periodo y al final del año."]
[null,null,"** Estudiantes según calificación: En estos recuadros coloca el número de estudiantes con cada calificación según periodo indicado."]

{"sheet":"1 Monitoreo de Metas","index":22,"n_rows":25,"n_cols":12,"rows_kept":25,"cut":false,"hidden":true,"merged":[[14,10,19,10],[20,10,22,10],[23,10,24,10],[1,1,1,9],[20,8,22,8],[23,2,24,2],[23,3,24,3],[23,4,23,5],[23,8,24,8],[24,4,24,5],[14,8,19,8],[17,4,19,4],[6,8,10,8],[10,4,10,5],[11,1,13,1],[23,1,24,1],[20,1,22,1],[20,2,22,2],[20,3,22,3],[20,4,22,4],[14,1,19,1],[14,2,19,2],[14,3,19,3],[14,4,16,4],[6,1,10,1],[6,2,10,2],[6,3,10,3],[6,4,9,4],[4,4,5,5],[4,1,5,1],[11,2,13,2],[11,3,13,3],[11,4,13,4],[11,8,13,8],[4,11,5,11],[4,2,5,2],[4,3,5,3],[4,8,5,8],[4,10,5,10],[4,9,5,9],[4,6,5,6],[4,7,5,7],[6,10,10,10],[11,10,13,10]]}
[null,"Matriz de monitoreo al logro de indicadores de los Compromisos de Gestión Escolar."]
[null,"Esta matriz te sirve para visualizar cómo estás avanzando en los CGE. La matriz se completa automáticamente con los datos llenados en otras secciones del aplicativo. Los datos parciales son a Junio 2017 (si empiezas en Marzo).\nEn la sección de \"Acciones de contingencia\" podrás completar qué acciones planeas tomar luego de revisar tus resultados parciales del año 2017."]
[null,"Nota: Completa solamente los espacios en blanco."]
[]
[null,"N°","COMPROMISO","OBJETIVO DEL COMPROMISO","INDICADOR\nNo todos están considerados aquí. Revisa la NT 2017.",null,"DATOS 2016 ","METAS 2017","OBJETIVOS DE LA IE","DATOS PARCIALES 2017\nCompleta los espacios blancos","ACCIONES DE CONTINGENCIA","DATOS FINALES 2017\nCompleta los espacios blancos"]
[]
[null,1,"Progreso anual de aprendizajes de todas y todos los estudiantes de la Institución Educativa.","Los estudiantes de la IE mejoran sus resultados de aprendizaje respecto al año anterior.","Porcentaje de estudiantes que logran nivel satisfactorio en la Evaluación Censal de Estudiantes (ECE).","2do prim.Comprensión lectora/ 4to prim. L. Originaria (%)",{"$f":"'C1_ECE'!E10","v":0},{"$f":"'C1_ECE'!F10","v":0},{"$f":"IF('1 Matriz Diagnóstica'!L7:L11=\"\",\"\",'1 Matriz Diagnóstica'!L7:L11)","v":""}]
[null,null,null,null,null,"2do prim. Matemática/ 4to prim. Segunda Lengua (%)",{"$f":"'C1_ECE'!L10","v":0},{"$f":"'C1_ECE'!M10","v":0}]
[null,null,null,null,null,"2do secundaria Comprensión lectora (%)",{"$f":"'C1_ECE'!E54","v":0},{"$f":"'C1_ECE'!F54","v":0}]
[null,null,null,null,null,"2do secundaria Matemática (%)",{"$f":"'C1_ECE'!L54","v":0},{"$f":"'C1_ECE'!M54","v":0}]
[null,null,null,null,"Porcentaje de acciones de mejora de los aprendizajes, a partir de los resultados de la ECE, que están siendo implementadas.",null,null,{"$f":"'1 Matriz Diagnóstica'!H11","v":0},null,{"$f":"'Matriz Implementación'!M8","v":""},null,{"$f":"'Matriz Implementación'!M8","v":""}]
[null,2,"Retención anual de estudiantes en la Institución Educativa.","La IE mantiene el número de estudiantes matriculados al inicio del año escolar.","Porcentaje de estudiantes matriculados que concluyen el año escolar.",{"$f":"'1 Matriz Diagnóstica'!F12","v":"Nivel Inicial"},{"$f":"'C2_Form1'!H19","v":""},{"$f":"'C2_Form1'!G57","v":0},{"$f":"IF('1 Matriz Diagnóstica'!L12:L14=\"\",\"\",'1 Matriz Diagnóstica'!L12:L14)","v":""},null,null,{"$f":"'C2_Monit 1'!J15","v":""}]
[null,null,null,null,null,{"$f":"'1 Matriz Diagnóstica'!F13","v":"Nivel Primaria"},{"$f":"'C2_Form1'!H34","v":""},{"$f":"'C2_Form1'!G59","v":0},null,null,null,{"$f":"'C2_Monit 1'!J30","v":""}]
[null,null,null,null,null,{"$f":"'1 Matriz Diagnóstica'!F14","v":"Nivel Secundaria"},{"$f":"'C2_Form1'!H47","v":""},{"$f":"'C2_Form1'!G61","v":0},null,null,null,{"$f":"'C2_Monit 1'!J43","v":""}]
[null,3,"Cumplimiento de la calendarización planificada en la Institución Educativa.","La IE realiza todas las actividades planificadas (sesiones de aprendizaje, jornadas de reflexión, entre otras) para el año escolar.","Porcentaje de horas lectivas cumplidas por nivel.",{"$f":"'1 Matriz Diagnóstica'!F15","v":"Nivel Inicial"},{"$f":"'1 Matriz Diagnóstica'!G15","v":0},{"$f":"'1 Matriz Diagnóstica'!H15","v":1},{"$f":"IF('1 Matriz Diagnóstica'!L15:L20=\"\",\"\",'1 Matriz Diagnóstica'!L15:L20)","v":""},{"$f":"'C3_Monit Lectivas'!K15","v":""},null,{"$f":"'C3_Monit Lectivas'!N15","v":""}]
[null,null,null,null,null,{"$f":"'1 Matriz Diagnóstica'!F16","v":"Nivel Primaria"},{"$f":"'1 Matriz Diagnóstica'!G16","v":0},1,null,{"$f":"'C3_Monit Lectivas'!K21","v":""},null,{"$f":"'C3_Monit Lectivas'!N21","v":""}]
[null,null,null,null,null,{"$f":"'1 Matriz Diagnóstica'!F17","v":"Nivel Secundaria"},{"$f":"'1 Matriz Diagnóstica'!G17","v":0},1,null,{"$f":"'C3_Monit Lectivas'!K27","v":1},null,{"$f":"'C3_Monit Lectivas'!N27","v":1}]
[null,null,null,null,"Porcentaje de jornadas laborales efectivas de los docentes.",{"$f":"'1 Matriz Diagnóstica'!F18","v":"Nivel Inicial"},{"$f":"'1 Matriz Diagnóstica'!G18","v":0},1,null,{"$f":"'C3_Monit Efectivas Ini'!DL15","v":"100%"},null,{"$f":"'C3_Monit Efectivas Ini'!F15","v":"100%"}]
[null,null,null,null,null,{"$f":"'1 Matriz Diagnóstica'!F19","v":"Nivel Primaria"},{"$f":"'1 Matriz Diagnóstica'!G19","v":0},1,null,{"$f":"'C3_Monit Efectivas Prim'!DL17","v":"100%"},null,{"$f":"'C3_Monit Efectivas Prim'!JL17","v":"100%"}]
[null,null,null,null,null,{"$f":"'1 Matriz Diagnóstica'!F20","v":"Nivel Secundaria"},{"$f":"'1 Matriz Diagnóstica'!G20","v":0},1,null,{"$f":"'C3_Monit Efectivas Sec'!EL18","v":0},null,{"$f":"'C3_Monit Efectivas Sec'!JL18","v":0}]
[null,4,"Acompañamiento y monitoreo a la práctica pedagógica en la Institución Educativa.","El equipo directivo de la IE realiza acompañamiento y monitoreo a los docentes de acuerdo a la planificación del año escolar.","Porcentaje de visitas de monitoreo y acompañamiento o de reuniones de interaprendizaje* programadas en el PAT que han sido ejecutadas.\n\n*Depende de si la IE cuenta con un director con carga lectiva o sin carga lectiva.",{"$f":"'1 Matriz Diagnóstica'!F21","v":"Nivel Inicial"},{"$f":"'C4_Form Acompañamiento'!F12","v":1},{"$f":"'C4_Form Acompañamiento'!N24","v":1},{"$f":"IF('1 Matriz Diagnóstica'!L21:L23=\"\",\"\",'1 Matriz Diagnóstica'!L21:L23)","v":""},{"$f":"'Matriz Implementación'!BE59","v":1},null,{"$f":"'Matriz Implementación'!BF59","v":1}]
[null,null,null,null,null,{"$f":"'1 Matriz Diagnóstica'!F22","v":"Nivel Primaria"},{"$f":"'C4_Form Acompañamiento'!F13","v":1},{"$f":"'C4_Form Acompañamiento'!N25","v":1},null,{"$f":"'Matriz Implementación'!BE60","v":1},null,{"$f":"'Matriz Implementación'!BF60","v":1}]
[null,null,null,null,null,{"$f":"'1 Matriz Diagnóstica'!F23","v":"Nivel Secundaria"},{"$f":"'C4_Form Acompañamiento'!F14","v":1},{"$f":"'C4_Form Acompañamiento'!N26","v":1},null,{"$f":"'Matriz Implementación'!BE61","v":1},null,{"$f":"'Matriz Implementación'!BF61","v":1}]
[null,5,"Gestión de la convivencia escolar en la  Institución Educativa.","El equipo directivo desarrolla acciones para la promoción de la convivencia, la prevención y atención de la violencia en la IE.","Porcentaje de casos atendidos oportunamente del total de casos reportados en el  SISEVE y en el Libro de Incidencias.\n\n* La atención oportuna del caso, se definirá de acuerdo a las acciones de la IE en el marco de los protocolos de atención. ",null,{"$f":"'C5_Convivencia Escolar'!E35","v":"100%"},{"$f":"'C5_Convivencia Escolar'!F35","v":0},{"$f":"IF('1 Matriz Diagnóstica'!L24:L25=\"\",\"\",'1 Matriz Diagnóstica'!L24:L25)","v":""}]
[null,null,null,null,"Porcentaje de actividades implementadas con padres de familia y/o apoderados para brindar orientaciones (información de sus hijas e hijos, aprendizaje, convivencia escolar, etc.) planificada en el PAT.",null,null,{"$f":"'1 Matriz Diagnóstica'!H25","v":0},null,{"$f":"'Matriz Implementación'!N8","v":""},null,{"$f":"'Matriz Implementación'!M8","v":""}]

{"sheet":"Hoja5","index":23,"n_rows":85,"n_cols":13,"rows_kept":85,"cut":false,"hidden":true,"merged":[[87,2,87,12],[73,2,81,2],[73,3,73,4],[73,8,81,8],[73,9,73,10],[74,3,77,3],[74,9,77,9],[78,3,81,3],[78,9,81,9],[63,2,71,2],[63,3,63,4],[63,8,71,8],[63,9,63,10],[64,3,67,3],[64,9,67,9],[68,3,71,3],[68,9,71,9],[53,2,61,2],[53,3,53,4],[53,8,61,8],[53,9,53,10],[54,3,57,3],[54,9,57,9],[58,3,61,3],[58,9,61,9],[43,2,51,2],[43,3,43,4],[43,8,51,8],[43,9,43,10],[44,3,47,3],[44,9,47,9],[48,3,51,3],[48,9,51,9],[33,2,41,2],[33,3,33,4],[33,8,41,8],[33,9,33,10],[34,3,37,3],[34,9,37,9],[38,3,41,3],[38,9,41,9],[23,2,31,2],[23,3,23,4],[23,8,31,8],[23,9,23,10],[24,3,27,3],[24,9,27,9],[28,3,31,3],[28,9,31,9],[21,12,22,12],[10,2,18,2],[10,3,10,4],[10,8,18,8],[10,9,10,10],[11,3,14,3],[11,9,14,9],[15,3,18,3],[15,9,18,9],[21,2,22,4],[21,5,22,5],[21,6,22,6],[21,8,22,10],[21,11,22,11],[0,2,0,13],[4,2,4,12],[6,2,6,12],[8,2,9,4],[8,5,9,5],[8,6,9,6],[8,8,9,10],[8,11,9,11],[8,12,9,12]]}
[]
[null,null,"Indicador: Porcentaje de estudiantes, de los demás grados, que alcanzan rendimiento satisfactorio."]
[null,null,"Metas de rendimiento en Comunicación (Lengua materna y Segunda lengua)"]
[null,null,"¿Qué hacer?"]
[null,null,"1° En la tabla \"RESULTADOS POR GRADOS\" debe completarse con los datos de las calificaciones de las/los estudiantes en cada grado, según el período. Se presentan dos columnas, en la primera deberás escribir el resultado parcial de las/los estudiantes (si te organizas en bimestres, considerarás los dos primeros; si te organizas por trimestres, considerarás el primero); y en la segunda, los resultados finales de las/los estudiantes. "]
[null,null,"2° La tabla del \"Consolidado\" se procesará, automáticamente, a medida que ingreses datos en las celdas posteriores."]
[]
[null,null,"CONSOLIDADO DE RESULTADOS DEL NIVEL PRIMARIA (Calificaciones parciales y finales 2016) ➨"]
[null,null,"ÁREA COMUNICACIÓN \nLENGUA MATERNA",null,null,"Parciales","Finales",null,"ÁREA COMUNICACIÓN \nSEGUNDA LENGUA",null,null,"Parciales","Finales"]
[]
[null,null,"Nivel PRIMARIA","Nro. estudiantes*",null,{"$f":"SUM(F24,F34,F44,F54,F64,F74)","v":1},1,null,"Nivel PRIMARIA","Nro. estudiantes*",null,{"$f":"SUM(L24,L34,L44,L54,L64,L74)","v":1},1]
[null,null,null,"Nro. de estudiantes según calificación**","AD",0,0,null,null,"Nro. de estudiantes según calificación**","AD",0,0]
[null,null,null,null,"A",0,0,null,null,null,"A",0,0]
[null,null,null,null,"B",0,0,null,null,null,"B",0,0]
[null,null,null,null,"C",0,0,null,null,null,"C",0,0]
[null,null,null,"% de estudiantes según calificación","AD",{"$f":"IFERROR(F12/F11,\"\")","v":0},{"$f":"IFERROR(G12/G11,\"\")","v":0},null,null,"% de estudiantes según calificación","AD",{"$f":"IFERROR(L12/L11,\"\")","v":0},{"$f":"IFERROR(M12/M11,\"\")","v":0}]
[null,null,null,null,"A",{"$f":"IFERROR(F13/F11,\"\")","v":0},{"$f":"IFERROR(G13/G11,\"\")","v":0},null,null,null,"A",{"$f":"IFERROR(L13/L11,\"\")","v":0},{"$f":"IFERROR(M13/M11,\"\")","v":0}]
[null,null,null,null,"B",{"$f":"IFERROR(F14/F11,\"\")","v":0},{"$f":"IFERROR(G14/G11,\"\")","v":0},null,null,null,"B",{"$f":"IFERROR(L14/L11,\"\")","v":0},{"$f":"IFERROR(M14/M11,\"\")","v":0}]
[null,null,null,null,"C",{"$f":"IFERROR(F15/F11,\"\")","v":0},{"$f":"IFERROR(G15/G11,\"\")","v":0},null,null,null,"C",{"$f":"IFERROR(L15/L11,\"\")","v":0},{"$f":"IFERROR(M15/M11,\"\")","v":0}]
[null,null,"RESULTADOS POR GRADOS ➨"]
[]
[null,null,"Área de Comunicación (LENGUA MATERNA)",null,null,"Parciales","Finales",null,"Área de Comunicación (SEGUNDA LENGUA)",null,null,"Parciales","Finales"]
[]
[null,null,"1er grado","Nro. estudiantes*",null,1,1,null,"1er grado","Nro. estudiantes*",null,1,1]
[null,null,null,"Nro. de estudiantes según calificación**","AD",0,0,null,null,"Nro. de estudiantes según calificación**","AD",0,0]
[null,null,null,null,"A",0,0,null,null,null,"A",0,0]
[null,null,null,null,"B",0,0,null,null,null,"B",0,0]
[null,null,null,null,"C",0,0,null,null,null,"C",0,0]
[null,null,null,"% de estudiantes según calificación","AD",{"$f":"IFERROR(F25/F24,\"\")","v":0},{"$f":"IFERROR(G25/G24,\"\")","v":0},null,null,"% de estudiantes según calificación","AD",{"$f":"IFERROR(L25/L24,\"\")","v":0},{"$f":"IFERROR(M25/M24,\"\")","v":0}]
[null,null,null,null,"A",{"$f":"IFERROR(F26/F24,\"\")","v":0},{"$f":"IFERROR(G26/G24,\"\")","v":0},null,null,null,"A",{"$f":"IFERROR(L26/L24,\"\")","v":0},{"$f":"IFERROR(M26/M24,\"\")","v":0}]
[null,null,null,null,"B",{"$f":"IFERROR(F27/F24,\"\")","v":0},{"$f":"IFERROR(G27/G24,\"\")","v":0},null,null,null,"B",{"$f":"IFERROR(L27/L24,\"\")","v":0},{"$f":"IFERROR(M27/M24,\"\")","v":0}]
[null,null,null,null,"C",{"$f":"IFERROR(F28/F24,\"\")","v":0},{"$f":"IFERROR(G28/G24,\"\")","v":0},null,null,null,"C",{"$f":"IFERROR(L28/L24,\"\")","v":0},{"$f":"IFERROR(M28/M24,\"\")","v":0}]
[null,null,null,null,null,{"$f":"IF(SUM(F25:F28)=F24,\"\",\"datos erróneos\")","v":"datos erróneos"},{"$f":"IF(SUM(G25:G28)=G24,\"\",\"datos erróneos\")","v":"datos erróneos"},null,null,null,null,{"$f":"IF(SUM(L25:L28)=L24,\"\",\"datos erróneos\")","v":"datos erróneos"},{"$f":"IF(SUM(M25:M28)=M24,\"\",\"datos erróneos\")","v":"datos erróneos"}]
[null,null,"2do grado","Nro. estudiantes*",null,0,0,null,"2do grado","Nro. estudiantes*",null,0,0]
[null,null,null,"Nro. de estudiantes según calificación**","AD",0,0,null,null,"Nro. de estudiantes según calificación**","AD",0,0]
[null,null,null,null,"A",0,0,null,null,null,"A",0,0]
[null,null,null,null,"B",0,0,null,null,null,"B",0,0]
[null,null,null,null,"C",0,0,null,null,null,"C",0,0]
[null,null,null,"% de estudiantes según calificación","AD",{"$f":"IFERROR(F35/F34,\"\")","v":""},{"$f":"IFERROR(G35/G34,\"\")","v":""},null,null,"% de estudiantes según calificación","AD",{"$f":"IFERROR(L35/L34,\"\")","v":""},{"$f":"IFERROR(M35/M34,\"\")","v":""}]
[null,null,null,null,"A",{"$f":"IFERROR(F36/F34,\"\")","v":""},{"$f":"IFERROR(G36/G34,\"\")","v":""},null,null,null,"A",{"$f":"IFERROR(L36/L34,\"\")","v":""},{"$f":"IFERROR(M36/M34,\"\")","v":""}]
[null,null,null,null,"B",{"$f":"IFERROR(F37/F34,\"\")","v":""},{"$f":"IFERROR(G37/G34,\"\")","v":""},null,null,null,"B",{"$f":"IFERROR(L37/L34,\"\")","v":""},{"$f":"IFERROR(M37/M34,\"\")","v":""}]
[null,null,null,null,"C",{"$f":"IFERROR(F38/F34,\"\")","v":""},{"$f":"IFERROR(G38/G34,\"\")","v":""},null,null,null,"C",{"$f":"IFERROR(L38/L34,\"\")","v":""},{"$f":"IFERROR(M38/M34,\"\")","v":""}]
[null,null,null,null,null,{"$f":"IF(SUM(F35:F38)=F34,\"\",\"datos erróneos\")","v":""},{"$f":"IF(SUM(G35:G38)=G34,\"\",\"datos erróneos\")","v":""},null,null,null,null,{"$f":"IF(SUM(L35:L38)=L34,\"\",\"datos erróneos\")","v":""},{"$f":"IF(SUM(M35:M38)=M34,\"\",\"datos erróneos\")","v":""}]
[null,null,"3er grado","Nro estudiantes*",null,0,0,null,"3er grado","Nro estudiantes*",null,0,0]
[null,null,null,"Nro de estudiantes según calificación**","AD",0,0,null,null,"Nro de estudiantes según calificación**","AD",0,0]
[null,null,null,null,"A",0,0,null,null,null,"A",0,0]
[null,null,null,null,"B",0,0,null,null,null,"B",0,0]
[null,null,null,null,"C",0,0,null,null,null,"C",0,0]
[null,null,null,"% de estudiantes según calificación","AD",{"$f":"IFERROR(F45/F44,\"\")","v":""},{"$f":"IFERROR(G45/G44,\"\")","v":""},null,null,"% de estudiantes según calificación","AD",{"$f":"IFERROR(L45/L44,\"\")","v":""},{"$f":"IFERROR(M45/M44,\"\")","v":""}]
[null,null,null,null,"A",{"$f":"IFERROR(F46/F44,\"\")","v":""},{"$f":"IFERROR(G46/G44,\"\")","v":""},null,null,null,"A",{"$f":"IFERROR(L46/L44,\"\")","v":""},{"$f":"IFERROR(M46/M44,\"\")","v":""}]
[null,null,null,null,"B",{"$f":"IFERROR(F47/F44,\"\")","v":""},{"$f":"IFERROR(G47/G44,\"\")","v":""},null,null,null,"B",{"$f":"IFERROR(L47/L44,\"\")","v":""},{"$f":"IFERROR(M47/M44,\"\")","v":""}]
[null,null,null,null,"C",{"$f":"IFERROR(F48/F44,\"\")","v":""},{"$f":"IFERROR(G48/G44,\"\")","v":""},null,null,null,"C",{"$f":"IFERROR(L48/L44,\"\")","v":""},{"$f":"IFERROR(M48/M44,\"\")","v":""}]
[null,null,null,null,null,{"$f":"IF(SUM(F45:F48)=F44,\"\",\"datos erróneos\")","v":""},{"$f":"IF(SUM(G45:G48)=G44,\"\",\"datos erróneos\")","v":""},null,null,null,null,{"$f":"IF(SUM(L45:L48)=L44,\"\",\"datos erróneos\")","v":""},{"$f":"IF(SUM(M45:M48)=M44,\"\",\"datos erróneos\")","v":""}]
[null,null,"4to grado","Nro estudiantes*",null,0,0,null,"4to grado","Nro estudiantes*",null,0,0]
[null,null,null,"Nro de estudiantes según calificación**","AD",0,0,null,null,"Nro de estudiantes según calificación**","AD",0,0]
[null,null,null,null,"A",0,0,null,null,null,"A",0,0]
[null,null,null,null,"B",0,0,null,null,null,"B",0,0]
[null,null,null,null,"C",0,0,null,null,null,"C",0,0]
[null,null,null,"% de estudiantes según calificación","AD",{"$f":"IFERROR(F55/F54,\"\")","v":""},{"$f":"IFERROR(G55/G54,\"\")","v":""},null,null,"% de estudiantes según calificación","AD",{"$f":"IFERROR(L55/L54,\"\")","v":""},{"$f":"IFERROR(M55/M54,\"\")","v":""}]
[null,null,null,null,"A",{"$f":"IFERROR(F56/F54,\"\")","v":""},{"$f":"IFERROR(G56/G54,\"\")","v":""},null,null,null,"A",{"$f":"IFERROR(L56/L54,\"\")","v":""},{"$f":"IFERROR(M56/M54,\"\")","v":""}]
[null,null,null,null,"B",{"$f":"IFERROR(F57/F54,\"\")","v":""},{"$f":"IFERROR(G57/G54,\"\")","v":""},null,null,null,"B",{"$f":"IFERROR(L57/L54,\"\")","v":""},{"$f":"IFERROR(M57/M54,\"\")","v":""}]
[null,null,null,null,"C",{"$f":"IFERROR(F58/F54,\"\")","v":""},{"$f":"IFERROR(G58/G54,\"\")","v":""},null,null,null,"C",{"$f":"IFERROR(L58/L54,\"\")","v":""},{"$f":"IFERROR(M58/M54,\"\")","v":""}]
[null,null,null,null,null,{"$f":"IF(SUM(F55:F58)=F54,\"\",\"datos erróneos\")","v":""},{"$f":"IF(SUM(G55:G58)=G54,\"\",\"datos erróneos\")","v":""},null,null,null,null,{"$f":"IF(SUM(L55:L58)=L54,\"\",\"datos erróneos\")","v":""},{"$f":"IF(SUM(M55:M58)=M54,\"\",\"datos erróneos\")","v":""}]
[null,null,"5to grado","Nro. estudiantes*",null,0,0,null,"5to grado","Nro. estudiantes*",null,0,0]
[null,null,null,"Nro. de estudiantes según calificación**","AD",0,0,null,null,"Nro. de estudiantes según calificación**","AD",0,0]
[null,null,null,null,"A",0,0,null,null,null,"A",0,0]
[null,null,null,null,"B",0,0,null,null,null,"B",0,0]
[null,null,null,null,"C",0,0,null,null,null,"C",0,0]
[null,null,null,"% de estudiantes según calificación","AD",{"$f":"IFERROR(F65/F64,\"\")","v":""},{"$f":"IFERROR(G65/G64,\"\")","v":""},null,null,"% de estudiantes según calificación","AD",{"$f":"IFERROR(L65/L64,\"\")","v":""},{"$f":"IFERROR(M65/M64,\"\")","v":""}]
[null,null,null,null,"A",{"$f":"IFERROR(F66/F64,\"\")","v":""},{"$f":"IFERROR(G66/G64,\"\")","v":""},null,null,null,"A",{"$f":"IFERROR(L66/L64,\"\")","v":""},{"$f":"IFERROR(M66/M64,\"\")","v":""}]
[null,null,null,null,"B",{"$f":"IFERROR(F67/F64,\"\")","v":""},{"$f":"IFERROR(G67/G64,\"\")","v":""},null,null,null,"B",{"$f":"IFERROR(L67/L64,\"\")","v":""},{"$f":"IFERROR(M67/M64,\"\")","v":""}]
[null,null,null,null,"C",{"$f":"IFERROR(F68/F64,\"\")","v":""},{"$f":"IFERROR(G68/G64,\"\")","v":""},null,null,null,"C",{"$f":"IFERROR(L68/L64,\"\")","v":""},{"$f":"IFERROR(M68/M64,\"\")","v":""}]
[null,null,null,null,null,{"$f":"IF(SUM(F65:F68)=F64,\"\",\"datos erróneos\")","v":""},{"$f":"IF(SUM(G65:G68)=G64,\"\",\"datos erróneos\")","v":""},null,null,null,null,{"$f":"IF(SUM(L65:L68)=L64,\"\",\"datos erróneos\")","v":""},{"$f":"IF(SUM(M65:M68)=M64,\"\",\"datos erróneos\")","v":""}]
[null,null,"6to grado","Nro. estudiantes*",null,0,0,null,"6to grado","Nro. estudiantes*",null,0,0]
[null,null,null,"Nro. de estudiantes según calificación**","AD",0,0,null,null,"Nro. de estudiantes según calificación**","AD",0,0]
[null,null,null,null,"A",0,0,null,null,null,"A",0,0]
[null,null,null,null,"B",0,0,null,null,null,"B",0,0]
[null,null,null,null,"C",0,0,null,null,null,"C",0,0]
[null,null,null,"% de estudiantes según calificación","AD",{"$f":"IFERROR(F75/F74,\"\")","v":""},{"$f":"IFERROR(G75/G74,\"\")","v":""},null,null,"% de estudiantes según calificación","AD",{"$f":"IFERROR(L75/L74,\"\")","v":""},{"$f":"IFERROR(M75/M74,\"\")","v":""}]
[null,null,null,null,"A",{"$f":"IFERROR(F76/F74,\"\")","v":""},{"$f":"IFERROR(G76/G74,\"\")","v":""},null,null,null,"A",{"$f":"IFERROR(L76/L74,\"\")","v":""},{"$f":"IFERROR(M76/M74,\"\")","v":""}]
[null,null,null,null,"B",{"$f":"IFERROR(F77/F74,\"\")","v":""},{"$f":"IFERROR(G77/G74,\"\")","v":""},null,null,null,"B",{"$f":"IFERROR(L77/L74,\"\")","v":""},{"$f":"IFERROR(M77/M74,\"\")","v":""}]
[null,null,null,null,"C",{"$f":"IFERROR(F78/F74,\"\")","v":""},{"$f":"IFERROR(G78/G74,\"\")","v":""},null,null,null,"C",{"$f":"IFERROR(L78/L74,\"\")","v":""},{"$f":"IFERROR(M78/M74,\"\")","v":""}]
[null,null,null,null,null,{"$f":"IF(SUM(F75:F78)=F74,\"\",\"datos erróneos\")","v":""},{"$f":"IF(SUM(G75:G78)=G74,\"\",\"datos erróneos\")","v":""},null,null,null,null,{"$f":"IF(SUM(L75:L78)=L74,\"\",\"datos erróneos\")","v":""},{"$f":"IF(SUM(M75:M78)=M74,\"\",\"datos erróneos\")","v":""}]
[null,null,"* Nro. de estudiantes:  Idealmente será el mismo número desde el inicio de año, hasta el final. Sin embargo, puede variar de periodo a periodo y al final del año."]
[null,null,"** Estudiantes según calificación: En estos recuadros coloca el número de estudiantes con cada calificación según periodo indicado."]

{"sheet":"C1_Inicial 2","index":24,"n_rows":44,"n_cols":13,"rows_kept":44,"cut":false,"hidden":true,"merged":[[48,2,48,12],[36,2,42,2],[36,3,36,4],[36,8,42,8],[36,9,36,10],[37,3,39,3],[37,9,39,9],[40,3,42,3],[40,9,42,9],[28,2,34,2],[28,3,28,4],[28,8,34,8],[28,9,28,10],[29,3,31,3],[29,9,31,9],[32,3,34,3],[32,9,34,9],[20,2,26,2],[20,3,20,4],[20,8,26,8],[20,9,20,10],[21,3,23,3],[21,9,23,9],[24,3,26,3],[24,9,26,9],[18,12,19,12],[8,2,14,2],[8,3,8,4],[8,8,14,8],[8,9,8,10],[9,3,11,3],[9,9,11,9],[12,3,14,3],[12,9,14,9],[18,2,19,4],[18,5,19,5],[18,6,19,6],[18,8,19,10],[18,11,19,11],[1,2,1,34],[1,36,1,52],[4,2,4,12],[6,2,7,4],[6,5,7,5],[6,6,7,6],[6,8,7,10],[6,11,7,11],[6,12,7,12]]}
[null,null,"Indicador: Porcentaje de estudiantes, de los demás grados, que alcanzan rendimiento satisfactorio."]
[null,null,"Metas de rendimiento en Ciencia y Ambiente, Personal Social."]
[null,null,"¿Qué hacer?"]
[null,null,"Seguir el procedimiento anterior."]
[]
[null,null,"CONSOLIDADO DE RESULTADOS DEL NIVEL INICIAL (Calificaciones parciales y finales 2016) "]
[null,null,"Área de Ciencia y Ambiente",null,null,"Parciales","Finales",null,"Área de Personal Social",null,null,"Parciales","Finales"]
[]
[null,null,"Nivel INICIAL\n","Nro. estudiantes*",null,{"$f":"SUM(F21,F29,F37)","v":1},1,null,"Nivel INICIAL\n","Nro. estudiantes*",null,{"$f":"SUM(L21,L29,L37)","v":1},1]
[null,null,null,"Nro. de estudiantes según calificación**","A",0,0,null,null,"Nro. de estudiantes según calificación**","A",0,0]
[null,null,null,null,"B",0,0,null,null,null,"B",0,0]
[null,null,null,null,"C",0,0,null,null,null,"C",0,0]
[null,null,null,"% de estudiantes según calificación","A",{"$f":"IFERROR(F10/F9,\"\")","v":0},{"$f":"IFERROR(G10/G9,\"\")","v":0},null,null,"% de estudiantes según calificación","A",{"$f":"IFERROR(L10/L9,\"\")","v":0},{"$f":"IFERROR(M10/M9,\"\")","v":0}]
[null,null,null,null,"B",{"$f":"IFERROR(F11/F9,\"\")","v":0},{"$f":"IFERROR(G11/G9,\"\")","v":0},null,null,null,"B",{"$f":"IFERROR(L11/L9,\"\")","v":0},{"$f":"IFERROR(M11/M9,\"\")","v":0}]
[null,null,null,null,"C",{"$f":"IFERROR(F12/F9,\"\")","v":0},{"$f":"IFERROR(G12/G9,\"\")","v":0},null,null,null,"C",{"$f":"IFERROR(L12/L9,\"\")","v":0},{"$f":"IFERROR(M12/M9,\"\")","v":0}]
[]
[null,null,"RESULTADOS POR EDADES ➨"]
[]
[null,null,"Área de Ciencia y Ambiente",null,null,"Parciales","Finales",null,"Área de Personal Social",null,null,"Parciales","Finales"]
[]
[null,null,"3 años","Nro. estudiantes*",null,1,1,null,"3 años","Nro. estudiantes*",null,1,1]
[null,null,null,"Nro. de estudiantes según calificación**","A",0,0,null,null,"Nro. de estudiantes según calificación**","A",0,0]
[null,null,null,null,"B",0,0,null,null,null,"B",0,0]
[null,null,null,null,"C",0,0,null,null,null,"C",0,0]
[null,null,null,"% de estudiantes según calificación","A",{"$f":"IFERROR(F22/F21,\"\")","v":0},{"$f":"IFERROR(G22/G21,\"\")","v":0},null,null,"% de estudiantes según calificación","A",{"$f":"IFERROR(L22/L21,\"\")","v":0},{"$f":"IFERROR(M22/M21,\"\")","v":0}]
[null,null,null,null,"B",{"$f":"IFERROR(F23/F21,\"\")","v":0},{"$f":"IFERROR(G23/G21,\"\")","v":0},null,null,null,"B",{"$f":"IFERROR(L23/L21,\"\")","v":0},{"$f":"IFERROR(M23/M21,\"\")","v":0}]
[null,null,null,null,"C",{"$f":"IFERROR(F24/F21,\"\")","v":0},{"$f":"IFERROR(G24/G21,\"\")","v":0},null,null,null,"C",{"$f":"IFERROR(L24/L21,\"\")","v":0},{"$f":"IFERROR(M24/M21,\"\")","v":0}]
[null,null,null,null,null,{"$f":"IF(SUM(F22:F24)=F21,\"\",\"datos erróneos\")","v":"datos erróneos"},{"$f":"IF(SUM(G22:G24)=G21,\"\",\"datos erróneos\")","v":"datos erróneos"},null,null,null,null,{"$f":"IF(SUM(L22:L24)=L21,\"\",\"datos erróneos\")","v":"datos erróneos"},{"$f":"IF(SUM(M22:M24)=M21,\"\",\"datos erróneos\")","v":"datos erróneos"}]
[null,null,"4 años","Nro. estudiantes*",null,0,0,null,"4 años","Nro. estudiantes*",null,0,0]
[null,null,null,"Nro. de estudiantes según calificación**","A",0,0,null,null,"Nro. de estudiantes según calificación**","A",0,0]
[null,null,null,null,"B",0,0,null,null,null,"B",0,0]
[null,null,null,null,"C",0,0,null,null,null,"C",0,0]
[null,null,null,"% de estudiantes según calificación","A",{"$f":"IFERROR(F30/F29,\"\")","v":""},{"$f":"IFERROR(G30/G29,\"\")","v":""},null,null,"% de estudiantes según calificación","A",{"$f":"IFERROR(L30/L29,\"\")","v":""},{"$f":"IFERROR(M30/M29,\"\")","v":""}]
[null,null,null,null,"B",{"$f":"IFERROR(F31/F29,\"\")","v":""},{"$f":"IFERROR(G31/G29,\"\")","v":""},null,null,null,"B",{"$f":"IFERROR(L31/L29,\"\")","v":""},{"$f":"IFERROR(M31/M29,\"\")","v":""}]
[null,null,null,null,"C",{"$f":"IFERROR(F32/F29,\"\")","v":""},{"$f":"IFERROR(G32/G29,\"\")","v":""},null,null,null,"C",{"$f":"IFERROR(L32/L29,\"\")","v":""},{"$f":"IFERROR(M32/M29,\"\")","v":""}]
[null,null,null,null,null,{"$f":"IF(SUM(F30:F32)=F29,\"\",\"datos erróneos\")","v":""},{"$f":"IF(SUM(G30:G32)=G29,\"\",\"datos erróneos\")","v":""},null,null,null,null,{"$f":"IF(SUM(L30:L32)=L29,\"\",\"datos erróneos\")","v":""},{"$f":"IF(SUM(M30:M32)=M29,\"\",\"datos erróneos\")","v":""}]
[null,null,"5 años","Nro. estudiantes*",null,0,0,null,"5 años","Nro. estudiantes*",null,0,0]
[null,null,null,"Nro. de estudiantes según calificación**","A",0,0,null,null,"Nro. de estudiantes según calificación**","A",0,0]
[null,null,null,null,"B",0,0,null,null,null,"B",0,0]
[null,null,null,null,"C",0,0,null,null,null,"C",0,0]
[null,null,null,"% de estudiantes según calificación","A",{"$f":"IFERROR(F38/F37,\"\")","v":""},{"$f":"IFERROR(G38/G37,\"\")","v":""},null,null,"% de estudiantes según calificación","A",{"$f":"IFERROR(L38/L37,\"\")","v":""},{"$f":"IFERROR(M38/M37,\"\")","v":""}]
[null,null,null,null,"B",{"$f":"IFERROR(F39/F37,\"\")","v":""},{"$f":"IFERROR(G39/G37,\"\")","v":""},null,null,null,"B",{"$f":"IFERROR(L39/L37,\"\")","v":""},{"$f":"IFERROR(M39/M37,\"\")","v":""}]
[null,null,null,null,"C",{"$f":"IFERROR(F40/F37,\"\")","v":""},{"$f":"IFERROR(G40/G37,\"\")","v":""},null,null,null,"C",{"$f":"IFERROR(L40/L37,\"\")","v":""},{"$f":"IFERROR(M40/M37,\"\")","v":""}]
[null,null,null,null,null,{"$f":"IF(SUM(F38:F40)=F37,\"\",\"datos erróneos\")","v":""},{"$f":"IF(SUM(G38:G40)=G37,\"\",\"datos erróneos\")","v":""},null,null,null,null,{"$f":"IF(SUM(L38:L40)=L37,\"\",\"datos erróneos\")","v":""},{"$f":"IF(SUM(M38:M40)=M37,\"\",\"datos erróneos\")","v":""}]

{"sheet":"C1_Inicial_EIB","index":25,"n_rows":47,"n_cols":19,"rows_kept":47,"cut":false,"hidden":true,"merged":[[50,2,52,12],[37,2,43,2],[37,3,37,4],[37,8,43,8],[37,9,37,10],[38,3,40,3],[38,9,40,9],[41,3,43,3],[41,9,43,9],[29,2,35,2],[29,3,29,4],[29,8,35,8],[29,9,29,10],[30,3,32,3],[30,9,32,9],[33,3,35,3],[33,9,35,9],[21,2,27,2],[21,3,21,4],[21,8,27,8],[21,9,21,10],[22,3,24,3],[22,9,24,9],[25,3,27,3],[25,9,27,9],[19,12,20,12],[9,2,15,2],[9,3,9,4],[9,8,15,8],[9,9,9,10],[10,3,12,3],[10,9,12,9],[13,3,15,3],[13,9,15,9],[19,2,20,4],[19,5,20,5],[19,6,20,6],[19,8,20,10],[19,11,20,11],[3,2,3,12],[7,2,8,4],[7,5,8,5],[7,6,8,6],[7,8,8,10],[7,11,8,11],[7,12,8,12]]}
[null,null,"Indicador: Porcentaje de estudiantes, de los demás grados, que alcanzan rendimiento satisfactorio."]
[null,null,"Monitoreo de metas de rendimiento en Comunicación (Primera y segunda lengua). "]
[null,null,"¿Qué hacer?"]
[null,null,"1° En la tabla \"RESULTADOS POR EDADES\" debe completarse con los datos de las calificaciones de las/los niñas/os en cada edad según el período. Se presentan dos columnas, en la primera deberás escribir el resultado parcial de las/los niñas/niños (si te organizas en bimestres, considerarás los dos primeros; si te organizas por trimestres, considerarás el primero); y en la segunda, los resultados finales de las/los niñas/niños. "]
[null,null,"2° La tabla del \"Consolidado\" se procesará, automáticamente, a medida que ingreses datos en las celdas posteriores."]
[]
[null,null,"CONSOLIDADO DE RESULTADOS DEL NIVEL INICIAL_EIB (Calificaciones parciales y finales 2016) ➨"]
[null,null,"ÁREA COMUNICACIÓN \nPRIMERA LENGUA",null,null,"Parciales","Finales",null,"ÁREA COMUNICACIÓN \nSEGUNDA LENGUA",null,null,"Parciales","Finales"]
[]
[null,null,"Nivel INICIAL\n","Nro. estudiantes*",null,{"$f":"SUM(F22,F30,F38)","v":1},1,null,"Nivel INICIAL","Nro. estudiantes*",null,{"$f":"SUM(L22,L30,L38)","v":1},1]
[null,null,null,"Nro. de estudiantes según calificación**","A",0,0,null,null,"Nro. de estudiantes según calificación**","A",0,0]
[null,null,null,null,"B",0,0,null,null,null,"B",0,0,null,null,null,null,null,{"$f":"IFERROR(S9/S8,\"\")","v":""}]
[null,null,null,null,"C",0,0,null,null,null,"C",0,0]
[null,null,null,"% de estudiantes según calificación","A",{"$f":"IFERROR(F11/F10,\"\")","v":0},{"$f":"IFERROR(G11/G10,\"\")","v":0},null,null,"% de estudiantes según calificación","A",{"$f":"IFERROR(L11/L10,\"\")","v":0},{"$f":"IFERROR(M11/M10,\"\")","v":0}]
[null,null,null,null,"B",{"$f":"IFERROR(F12/F10,\"\")","v":0},{"$f":"IFERROR(G12/G10,\"\")","v":0},null,null,null,"B",{"$f":"IFERROR(L12/L10,\"\")","v":0},{"$f":"IFERROR(M12/M10,\"\")","v":0}]
[null,null,null,null,"C",{"$f":"IFERROR(F13/F10,\"\")","v":0},{"$f":"IFERROR(G13/G10,\"\")","v":0},null,null,null,"C",{"$f":"IFERROR(L13/L10,\"\")","v":0},{"$f":"IFERROR(M13/M10,\"\")","v":0}]
[]
[null,null,"RESULTADOS POR EDADES ➨"]
[]
[null,null,"ÁREA COMUNICACIÓN\n (PRIMERA LENGUA)",null,null,"Parciales","Finales",null,"ÁREA COMUNICACIÓN\n (SEGUNDA LENGUA)",null,null,"Parciales","Finales"]
[]
[null,null,"3 años","Nro. estudiantes*",null,1,1,null,"3 años"]
[null,null,null,"Nro. de estudiantes según calificación**","A",0,0]
[null,null,null,null,"B",0,0]
[null,null,null,null,"C",0,0]
[null,null,null,"% de estudiantes según calificación","A",{"$f":"IFERROR(F23/F22,\"\")","v":0},{"$f":"IFERROR(G23/G22,\"\")","v":0}]
[null,null,null,null,"B",{"$f":"IFERROR(F24/F22,\"\")","v":0},{"$f":"IFERROR(G24/G22,\"\")","v":0}]
[null,null,null,null,"C",{"$f":"IFERROR(F25/F22,\"\")","v":0},{"$f":"IFERROR(G25/G22,\"\")","v":0}]
[null,null,null,null,null,{"$f":"IF(SUM(F23:F25)=F22,\"\",\"datos erróneos\")","v":"datos erróneos"},{"$f":"IF(SUM(G23:G25)=G22,\"\",\"datos erróneos\")","v":"datos erróneos"},null,null,null,null,{"$f":"IF(SUM(L23:L25)=L22,\"\",\"datos erróneos\")","v":""},{"$f":"IF(SUM(M23:M25)=M22,\"\",\"datos erróneos\")","v":""}]
[null,null,"4 años","Nro. estudiantes*",null,0,0,null,"4 años"]
[null,null,null,"Nro. de estudiantes según calificación**","A",0,0]
[null,null,null,null,"B",0,0]
[null,null,null,null,"C",0,0]
[null,null,null,"% de estudiantes según calificación","A",{"$f":"IFERROR(F31/F30,\"\")","v":""},{"$f":"IFERROR(G31/G30,\"\")","v":""}]
[null,null,null,null,"B",{"$f":"IFERROR(F32/F30,\"\")","v":""},{"$f":"IFERROR(G32/G30,\"\")","v":""}]
[null,null,null,null,"C",{"$f":"IFERROR(F33/F30,\"\")","v":""},{"$f":"IFERROR(G33/G30,\"\")","v":""}]
[null,null,null,null,null,{"$f":"IF(SUM(F31:F33)=F30,\"\",\"datos erróneos\")","v":""},{"$f":"IF(SUM(G31:G33)=G30,\"\",\"datos erróneos\")","v":""},null,null,null,null,{"$f":"IF(SUM(L31:L33)=L30,\"\",\"datos erróneos\")","v":""},{"$f":"IF(SUM(M31:M33)=M30,\"\",\"datos erróneos\")","v":""}]
[null,null,"5 años","Nro. estudiantes*",null,0,0,null,"5 años","Nro. estudiantes*",null,1,1]
[null,null,null,"Nro. de estudiantes según calificación**","A",0,0,null,null,"Nro. de estudiantes según calificación**","A",0,0]
[null,null,null,null,"B",0,0,null,null,null,"B",0,0]
[null,null,null,null,"C",0,0,null,null,null,"C",0,0]
[null,null,null,"% de estudiantes según calificación","A",{"$f":"IFERROR(F39/F38,\"\")","v":""},{"$f":"IFERROR(G39/G38,\"\")","v":""},null,null,"% de estudiantes según calificación","A",{"$f":"IFERROR(L39/L38,\"\")","v":0},{"$f":"IFERROR(M39/M38,\"\")","v":0}]
[null,null,null,null,"B",{"$f":"IFERROR(F40/F38,\"\")","v":""},{"$f":"IFERROR(G40/G38,\"\")","v":""},null,null,null,"B",{"$f":"IFERROR(L40/L38,\"\")","v":0},{"$f":"IFERROR(M40/M38,\"\")","v":0}]
[null,null,null,null,"C",{"$f":"IFERROR(F41/F38,\"\")","v":""},{"$f":"IFERROR(G41/G38,\"\")","v":""},null,null,null,"C",{"$f":"IFERROR(L41/L38,\"\")","v":0},{"$f":"IFERROR(M41/M38,\"\")","v":0}]
[null,null,null,null,null,{"$f":"IF(SUM(F39:F41)=F38,\"\",\"datos erróneos\")","v":""},{"$f":"IF(SUM(G39:G41)=G38,\"\",\"datos erróneos\")","v":""},null,null,null,null,{"$f":"IF(SUM(L39:L41)=L38,\"\",\"datos erróneos\")","v":"datos erróneos"},{"$f":"IF(SUM(M39:M41)=M38,\"\",\"datos erróneos\")","v":"datos erróneos"}]
[null,null,"* Nro de estudiantes:  Idealmente será el mismo número desde el inicio de año, hasta el final. Sin embargo, puede variar de periodo a periodo y al final del año."]
[null,null,"** Estudiantes según calificación: En estos recuadros coloca el número de estudiantes con cada calificación según periodo indicado."]

{"sheet":"Monitoreo de metas","index":26,"n_rows":41,"n_cols":12,"rows_kept":41,"cut":false,"hidden":true,"merged":[[38,2,38,3],[38,7,38,8],[39,1,40,1],[39,2,40,3],[39,6,40,6],[39,7,39,8],[40,7,40,8],[32,7,32,8],[33,7,33,8],[34,7,34,8],[35,1,37,1],[35,2,37,3],[35,4,37,4],[35,5,37,5],[35,7,35,8],[36,7,36,8],[37,7,37,8],[27,7,27,8],[28,7,28,8],[29,1,34,1],[29,2,34,3],[29,4,31,4],[29,5,31,5],[29,7,29,8],[30,7,30,8],[31,7,31,8],[32,4,34,4],[26,1,28,1],[26,2,28,3],[26,4,28,4],[26,5,28,5],[26,7,26,8],[32,5,34,5],[21,7,21,8],[22,6,25,6],[22,7,22,8],[23,7,23,8],[24,7,24,8],[25,7,25,8],[8,6,9,6],[8,7,8,8],[9,7,9,8],[10,4,25,4],[10,5,25,5],[10,6,15,6],[10,7,11,7],[12,7,12,8],[13,7,13,8],[14,7,14,8],[15,7,15,8],[16,6,21,6],[16,7,17,7],[18,7,18,8],[19,7,19,8],[20,7,20,8],[4,11,5,11],[6,1,25,1],[6,2,25,3],[6,4,7,4],[6,5,7,5],[6,6,7,6],[6,7,6,8],[7,7,7,8],[8,4,9,4],[8,5,9,5],[4,1,5,1],[4,2,5,3],[4,4,5,4],[4,5,5,6],[4,7,5,8],[4,10,5,10]]}
[null,"Indicador: Porcentaje de actividades planificadas en el PAT que fueron implementadas."]
[]
[null,"Matriz de monitoreo al logro de indicadores de los Compromisos de Gestión Escolar."]
[]
[null,"N°","COMPROMISO",null,"INDICADOR","EXPECTATIVA DE AVANCE",null,"Alcance del indicador",null,"Meta 2016 \n(Trasladar las metas desde la matriz de planificación del aplicativo 1)","Datos parciales - Julio","Datos finales - Diciembre"]
[null,null,null,null,null,null,null,null,null,"% "]
[null,1,"Progreso anual de todas y todos los estudiantes de la Institución Educativa.",null,"Porcentaje de estudiantes que logran un nivel satisfactorio en la Evaluación Censal de Estudiantes ECE y ECELO","La IE demuestra un incremento del porcentaje de estudiantes que logran el nivel satisfactorio en la ECE y ECELO, respecto al año anterior.","2do o 4to de primaria","En relación a Comprensión Lectora en 2° grado; y Lengua 1 en 4° grado de IIEE EIB."]
[null,null,null,null,null,null,null,"En relación a Matemática en 2° grado; y Lengua 2 en 4° grado de IIEE EIB."]
[null,null,null,null,"Porcentaje de estudiantes que logran un nivel satisfactorio en la Evaluación Censal de Estudiantes ECE y ECELO","La IE demuestra un incremento del porcentaje de estudiantes que logran el nivel satisfactorio en la ECE y ECELO, respecto al año anterior.","2do  de secundaria","En relación a Comprensión Lectora en 2do grado de secundaria."]
[null,null,null,null,null,null,null,"En relación a Matemática en 2do grado de secundaria."]
[null,null,null,null,"Porcentaje de estudiantes, de los demás grados, que alcanzan nivel satisfactorio en rendimiento.","La IE demuestra un incremento del porcentaje de estudiantes que logran un nivel satisfactorio de aprendizajes en todos los grados, respecto al año anterior.","Inicial","EIB","En relación al rendimiento en Lengua Materna (L1, en niños/as de 3 a 5 años).",null,0,0]
[null,null,null,null,null,null,null,null,"En relación al rendimiento en Segunda Lengua (L2, Oralidad en niños/as de 5 años).",null,0,0]
[null,null,null,null,null,null,null,"En relación al rendimiento en Comunicación.",null,null,0,0]
[null,null,null,null,null,null,null,"En relación al rendimiento en Matemática.",null,null,0,0]
[null,null,null,null,null,null,null,"En relación al rendimiento en Ciencia y Ambiente.",null,null,0,0]
[null,null,null,null,null,null,null,"En relación al rendimiento en Personal Social.",null,null,0,0]
[null,null,null,null,null,null,"Primaria","EIB","En relación a los estudiantes que alcanzan el nivel satisfactorio (AD y A) en Lengua Materna.",null,0,0]
[null,null,null,null,null,null,null,null,"En relación a los estudiantes que alcanzan  el nivel satisfactorio (AD y A) en Segunda Lengua.",null,0,0]
[null,null,null,null,null,null,null,"El nivel satisfactorio incluye resultados de calificación AD y A en Comunicación.",null,null,0,0]
[null,null,null,null,null,null,null,"El nivel satisfactorio incluye resultados de calificación AD y A en Matemática.",null,null,0,0]
[null,null,null,null,null,null,null,"El nivel satisfactorio incluye resultados de calificación AD y A en Ciencia y Ambiente.",null,null,0,0]
[null,null,null,null,null,null,null,"El nivel satisfactorio incluye resultados de calificación AD y A en Personal Social.",null,null,0,0]
[null,null,null,null,null,null,"Secundaria","El nivel satisfactorio incluye resultados de calificación 18-20; 14-17 en Comunicación.",null,null,0,0]
[null,null,null,null,null,null,null,"El nivel satisfactorio incluye resultados de calificación 18-20; 14-17 en Matemática.",null,null,0,0]
[null,null,null,null,null,null,null,"El nivel satisfactorio incluye resultados de calificación 18-20; 14-17 en Ciencia, Tecnología y Ambiente.",null,null,0,0]
[null,null,null,null,null,null,null,"El nivel satisfactorio incluye resultados de calificación 18-20; 14-17 en Historia, Geografía y Economía.",null,null,0,0]
[null,2,"Retención anual e interanual de estudiantes en la Institución Educativa.",null,"Porcentaje de permanencia (estudiantes que culminan el año escolar y se matriculan en el año siguiente) y conclusión .","La IE incrementa el porcentaje de permanencia y conclusión respecto al año anterior.\nLa IE incrementa el porcentaje de retención respecto al año en curso.","Inicial","Conclusión en el nivel inicial.",null,null,null,0]
[null,null,null,null,null,null,"Prim.","Conclusión en el nivel primaria",null,null,null,0]
[null,null,null,null,null,null,"Sec.","Conclusión en el nivel secundaria.",null,null,null,0]
[null,3,"Cumplimiento de la calendarización planificada por la Institución Educativa.",null,"Porcentaje de horas lectivas cumplidas por nivel.","La IE cumple el 100% de horas lectivas planificadas en la calendarización.","Inicial","Horas lectivas cumplidas en el nivel inicial.",null,null,0.99456521739130432,0.99456521739130432]
[null,null,null,null,null,null,"Prim.","Horas lectivas cumplidas en el nivel primaria.",null,null,0.99456521739130432,0.99456521739130432]
[null,null,null,null,null,null,"Sec.","Horas lectivas cumplidas, en el nivel secundaria.",null,null,0.99456521739130432,0.99456521739130432]
[null,null,null,null,"Porcentaje de jornadas laborables efectivas de los docentes.","La IE asegura la asistencia y permanencia de los docentes en las jornadas laborables.","Inicial","Jornada laboral efectiva de docentes del nivel inicial.",null,null,0.99456521739130432,0.99456521739130432]
[null,null,null,null,null,null,"Primaria","Jornada laboral efectiva de docentes del nivel primaria.",null,null,0.99456521739130432,0.99456521739130432]
[null,null,null,null,null,null,"Secundaria","Jornada laboral efectiva de docentes del nivel secundaria.",null,null,0.99456521739130432,0.99456521739130432]
[null,4,"Acompañamiento y monitoreo a la práctica pedagógica en la Institución Educativa",null,"Porcentaje de docentes que reciben monitoreo y acompañamiento por parte del equipo directivo.","La IE incrementa el número de docentes monitoreados y acompañados en su práctica pedagógica por el equipo directivo, tomando en cuenta el uso pedagógico del tiempo, uso de herramientas pedagógicas y uso de materiales educativos.","Inicial","Con respecto al número de visitas a docentes del nivel inicial",null,null,0.66666666666666663,0.77777777777777779]
[null,null,null,null,null,null,"Prim.","Con respecto al número de visitas a docentes del nivel primaria",null,null,0.16666666666666666,0.16666666666666666]
[null,null,null,null,null,null,"Sec.","Con respecto al número de visitas a docentes del nivel secundaria",null,null,0.125,0.1388888888888889]
[null,5,"Gestión del clima escolar en la Institución Educativa.",null,"Porcentaje de conflictos sobre los que el equipo directivo toma acción, en relación al número de conflictos identificados y registrados.","Se incrementa el número de conflictos sobre los cuales el equipo directivo toma acción, respecto de aquellos identificados y registrados, ocurridos en la IE.","Todos los niveles","Con respecto a los casos de violencia escolar atendidos sobre el total de registrados.",null,null,0.5,0.5]
[null,6,"Implementación del Plan Anual de Trabajo (PAT)",null,"6.1 Porcentaje de actores educativos que participan en la elaboración del PEI.","La IE logra la participación de los actores educativos en la elaboración del PEI.","Todos los niveles","Con respecto a los actores educativos que participan del proceso.",null,null,"%","%"]
[null,null,null,null,"6.2 Porcentaje de actividades planificadas en el Plan Anual de Trabajo (PAT) que fueron implementadas.","La IE implementa las actividades planificadas en el Plan Anual de Trabajo.",null,"Porcentaje de actividades planificadas en el Plan Anual de Trabajo (PAT) que fueron implementadas.",null,null,0.14285714285714285,5.8823529411764705E-2]

{"sheet":"1 Matriz Diagnóstica","index":27,"n_rows":25,"n_cols":13,"rows_kept":25,"cut":false,"hidden":true,"merged":[[23,9,24,9],[23,10,24,10],[23,11,24,11],[23,12,24,12],[23,4,23,5],[23,1,24,1],[23,2,24,2],[23,3,24,3],[24,4,24,5],[23,8,24,8],[4,7,5,7],[4,2,5,2],[6,4,9,4],[6,3,10,3],[4,1,5,1],[6,1,10,1],[4,3,5,3],[4,4,5,5],[4,6,5,6],[6,2,10,2],[10,4,10,5],[11,2,13,2],[11,1,13,1],[14,4,16,4],[14,3,19,3],[17,4,19,4],[11,3,13,3],[11,4,13,4],[20,1,22,1],[20,2,22,2],[20,8,22,8],[11,12,13,12],[14,12,19,12],[14,1,19,1],[11,8,13,8],[14,8,19,8],[14,2,19,2],[20,9,22,9],[20,10,22,10],[20,11,22,11],[20,12,22,12],[20,3,22,3],[20,4,22,4],[14,11,19,11],[14,9,19,9],[14,10,19,10],[6,8,10,8],[6,12,10,12],[4,12,5,12],[6,9,10,9],[6,10,10,10],[11,9,13,9],[11,10,13,10],[4,8,4,10],[4,11,5,11],[6,11,10,11],[11,11,13,11]]}
[null,"Matriz de Diagnóstico, Objetivos y Metas de la IE"]
[null,"Al elaborar esta matriz, toma en cuenta los datos procesados en las hojas de cálculo o \"pestañas\" posteriores. Para formular las fortalezas y/o aspectos críticos, es conveniente tener presente los resultados del año anterior."]
[null,"Nota: Completa solamente los espacios en blanco. Si tu IE ofrece las modalidades EBA o EBE, puedes modificar los nombres de los niveles según se ajuste mejor a tu IE."]
[]
[null,"N°","COMPROMISO","OBJETIVO DEL COMPROMISO","INDICADOR\nNo todos están considerados aquí. Revisa la NT 2017.",null,"DATOS 2016 \nCompleta los espacios blancos","METAS 2017\nCompleta los espacios blancos","DIAGNÓSTICO",null,null,"OBJETIVOS DE LA IE","ALTERNATIVAS DE SOLUCIÓN"]
[null,null,null,null,null,null,null,null,"FORTALEZAS","ASPECTOS CRÍTICOS","CAUSAS"]
[null,1,"Progreso anual de aprendizajes de todas y todos los estudiantes de la Institución Educativa.","Los estudiantes de la IE mejoran sus resultados de aprendizaje respecto al año anterior.","Porcentaje de estudiantes que logran nivel satisfactorio en la Evaluación Censal de Estudiantes (ECE).","2do prim.Comprensión Lectora/ 4to prim. L. Originaria (%)",{"$f":"'C1_ECE'!E10","v":0},{"$f":"'C1_ECE'!F10","v":0}]
[null,null,null,null,null,"2do prim. Matemática/ 4to prim. Segunda Lengua (%)",{"$f":"'C1_ECE'!L10","v":0},{"$f":"'C1_ECE'!M10","v":0}]
[null,null,null,null,null,"2do secundaria Comprensión Lectora (%)",{"$f":"'C1_ECE'!E54","v":0},{"$f":"'C1_ECE'!F54","v":0}]
[null,null,null,null,null,"2do secundaria Matemática (%)",{"$f":"'C1_ECE'!L54","v":0},{"$f":"'C1_ECE'!M54","v":0}]
[null,null,null,null,"Porcentaje de acciones de mejora de los aprendizajes, a partir de los resultados de la ECE, que están siendo implementadas."]
[null,2,"Retención anual de estudiantes en la Institución Educativa.","La IE mantiene el número de estudiantes matriculados al inicio del año escolar.","Porcentaje de estudiantes matriculados que concluyen el año escolar.","Nivel Inicial",{"$f":"'C2_Form1'!H19","v":""},{"$f":"'C2_Form1'!G57","v":0}]
[null,null,null,null,null,"Nivel Primaria",{"$f":"'C2_Form1'!H34","v":""},{"$f":"'C2_Form1'!G59","v":0}]
[null,null,null,null,null,"Nivel Secundaria",{"$f":"'C2_Form1'!H47","v":""},{"$f":"'C2_Form1'!G61","v":0}]
[null,3,"Cumplimiento de la calendarización planificada en la Institución Educativa.","La IE realiza todas las actividades planificadas (sesiones de aprendizaje, jornadas de reflexión, entre otras) para el año escolar.","Porcentaje de horas lectivas cumplidas por nivel.","Nivel Inicial",null,1]
[null,null,null,null,null,"Nivel Primaria",null,1]
[null,null,null,null,null,"Nivel Secundaria",null,1]
[null,null,null,null,"Porcentaje de jornadas laborales efectivas de los docentes.","Nivel Inicial",null,1]
[null,null,null,null,null,"Nivel Primaria",null,1]
[null,null,null,null,null,"Nivel Secundaria",null,1]
[null,4,"Acompañamiento y monitoreo a la práctica pedagógica en la Institución Educativa.","El equipo directivo de la IE realiza acompañamiento y monitoreo a los docentes de acuerdo a la planificación del año escolar.","Porcentaje de visitas de monitoreo y acompañamiento o de reuniones de interaprendizaje* programadas en el PAT que han sido ejecutadas.\n\n*Depende de si la IE cuenta con un director con carga lectiva o sin carga lectiva.","Nivel Inicial",{"$f":"'C4_Form Acompañamiento'!F12","v":1},{"$f":"'C4_Form Acompañamiento'!N24","v":1}]
[null,null,null,null,null,"Nivel Primaria",{"$f":"'C4_Form Acompañamiento'!F13","v":1},{"$f":"'C4_Form Acompañamiento'!N25","v":1}]
[null,null,null,null,null,"Nivel Secundaria",{"$f":"'C4_Form Acompañamiento'!F14","v":1},{"$f":"'C4_Form Acompañamiento'!N26","v":1}]
[null,5,"Gestión de la convivencia escolar en la  Institución Educativa.","El equipo directivo desarrolla acciones para la promoción de la convivencia, la prevención y atención de la violencia en la IE.","Porcentaje de casos atendidos oportunamente del total de casos reportados en el  SISEVE y en el Libro de Incidencias.\n\n* La atención oportuna del caso, se definirá de acuerdo a las acciones de la IE en el marco de los protocolos de atención. ",null,{"$f":"'C5_Convivencia Escolar'!E35","v":"100%"},{"$f":"'C5_Convivencia Escolar'!F35","v":0}]
[null,null,null,null,"Porcentaje de actividades con padres y madres de familia, tutores legales y/o apoderados para brindar orientaciones (información de sus hijas e hijos, aprendizaje, convivencia escolar, etc.) planificadas en el PAT, que han sido implementadas."]

{"sheet":"2 Matriz Planificación","index":28,"n_rows":46,"n_cols":65,"rows_kept":46,"cut":false,"hidden":true,"merged":[[22,2,22,5],[23,2,23,5],[24,2,24,5],[34,2,34,5],[35,2,35,5],[1,1,2,15],[4,49,4,52],[4,53,4,56],[4,57,4,60],[4,61,4,64],[4,16,5,16],[4,15,5,15],[4,14,5,14],[4,17,4,20],[4,21,4,24],[4,25,4,28],[4,29,4,32],[4,33,4,36],[4,37,4,40],[4,41,4,44],[4,45,4,48],[13,2,13,5],[33,2,33,5],[14,2,14,5],[26,2,26,5],[30,2,30,5],[29,2,29,5],[28,2,28,5],[25,2,25,5],[27,2,27,5],[15,2,15,5],[16,2,16,5],[17,2,17,5],[18,2,18,5],[19,2,19,5],[20,2,20,5],[21,2,21,5],[45,2,45,5],[43,2,43,5],[31,2,31,5],[32,2,32,5],[44,2,44,5],[42,2,42,5],[36,2,36,5],[37,2,37,5],[38,2,38,5],[39,2,39,5],[40,2,40,5],[41,2,41,5],[10,2,10,5],[12,2,12,5],[6,2,6,5],[4,1,5,1],[4,7,4,11],[9,2,9,5],[8,2,8,5],[7,2,7,5],[4,6,5,6],[4,2,5,5],[11,2,11,5]]}
[null,"Matriz de Planificación de Actividades de la IE"]
[null,"En este planificador puedes colocar tus actividades priorizadas y según correspondan a alguno de los compromisos y/o los indicadores de actividades de los Compromisos 1 y 5 (Selecciona Sí o No en las casillas correspondientes).\nLo que coloques en esta tabla - hasta la columna \"fuente de verificación\" deberás trasladarlo a la \"Matriz de Seguimiento de actividades de la IE\" en donde podrás monitorear el cumplimiento de tus actividades.\nNota: Responsable directo es quien responde por el cumplimiento de la actividad."]
[]
[]
[null,"Nro","Actividad",null,null,null,"Descripcion de la Actividad","Compromiso",null,null,null,null,"Indicador 2 del CG1","Indicador 2 del CG5","Responsable directo","Equipo responsable","Fuente de verificación","ENE",null,null,null,"FEB",null,null,null,"MAR",null,null,null,"ABR",null,null,null,"MAY",null,null,null,"JUN",null,null,null,"JUL",null,null,null,"AGO",null,null,null,"SEP",null,null,null,"OCT",null,null,null,"NOV",null,null,null,"DIC"]
[null,null,null,null,null,null,null,1,2,3,4,5,"Act. de mejora de los aprendizajes","Act. con PPFF",null,null,null,"S1","S2","S3","S4","S1","S2","S3","S4","S1","S2","S3","S4","S1","S2","S3","S4","S1","S2","S3","S4","S1","S2","S3","S4","S1","S2","S3","S4","S1","S2","S3","S4","S1","S2","S3","S4","S1","S2","S3","S4","S1","S2","S3","S4","S1","S2","S3","S4"]
[null,1]
[null,2]
[null,3]
[null,4]
[null,5]
[null,6]
[null,7]
[null,8]
[null,9]
[null,10]
[null,11]
[null,12]
[null,13]
[null,14]
[null,15]
[null,16]
[null,17]
[null,18]
[null,19]
[null,20]
[null,21]
[null,22]
[null,23]
[null,24]
[null,25]
[null,26]
[null,27]
[null,28]
[null,29]
[null,30]
[null,31]
[null,32]
[null,33]
[null,34]
[null,35]
[null,36]
[null,37]
[null,38]
[null,39]
[null,40]

{"sheet":"C1_ECE","index":29,"n_rows":100,"n_cols":14,"rows_kept":100,"cut":false,"hidden":true,"merged":[[69,2,69,3],[69,9,69,10],[68,2,68,3],[68,9,68,10],[67,2,67,3],[67,9,67,10],[0,1,0,14],[50,10,51,10],[22,2,22,3],[22,9,22,10],[50,5,51,5],[23,9,23,10],[6,11,7,11],[18,8,19,12],[24,9,24,10],[3,7,3,13],[50,8,51,8],[50,4,51,4],[50,1,51,1],[50,9,51,9],[50,3,51,3],[3,1,3,6],[21,9,21,10],[6,2,7,2],[6,10,7,10],[48,1,48,6],[48,7,48,13],[21,2,21,3],[4,1,4,13],[6,9,7,9],[6,12,6,13],[6,4,7,4],[6,3,7,3],[50,2,51,2],[52,9,52,11],[66,2,66,3],[66,9,66,10],[65,2,65,3],[52,2,52,4],[94,1,94,13],[2,1,2,13],[6,1,7,1],[99,3,99,8],[65,9,65,10],[6,8,7,8],[6,5,6,6],[8,2,8,6],[62,8,63,12],[8,9,8,13],[50,12,51,12],[50,11,51,11],[62,1,63,5],[18,1,19,5],[24,2,24,3],[23,2,23,3]]}
[null,"Indicador: Porcentaje de estudiantes que logran nivel satisfactorio en la ECE"]
[]
[null,"¿Qué hacer?\nLa ECE se aplica actualmente en 2do de primaria, 2do de secundaria y 4to de primaria, en el caso de EIB. Completa los datos según los grados y niveles que brinda tu IE.\n1° En las siguientes tablas, trasladar los resultados de la ECE (en EBR) o la ECELO (en EIB) de los años 2014 al 2016 (por ejemplo, si en el 2014 obtuviste 35 % de estudiantes \nen el nivel satisfactorio, deberás escribir 35 en celda correspondiente).\n2° En la columna de \"Pronóstico\" aparecerá automáticamente el resultado que podrías obtener en el 2017, según la tendencia de los años anteriores. \n3° Para proyectar la meta debes considerar los datos del pronóstico y los resultados de la última evaluación (2016). Finalmente, para ajustar las metas debes revisar cuántos estudiantes tendrían que alcanzar el nivel satisfactorio para cumplir con esa proyección, como lo muestran las tablas siguientes."]
[null,"Evaluación Censal de Estudiantes - ECE",null,null,null,null,null,"P R I M A R I A "]
[null,"¿Cuáles fueron mis resultados en los años anteriores?"]
[]
[null,"Comprensión Lectora (L1)",2014,2015,2016,2017,null,null,"Matemática (L2)",2014,2015,2016,2017]
[null,null,null,null,null,"Meta IE*","Pronóstico**",null,null,null,null,null,"Meta IE*","Pronóstico**"]
[null,"Nivel de logro","% de estudiantes en cada nivel de logro.",null,null,null,null,null,"Nivel de logro","% de estudiantes en cada nivel de logro."]
[null,"Satisfactorio",null,null,null,null,{"$f":"IFERROR(FORECAST(F7,$C10:$E10,C7:E7),\"\")","v":""},null,"Satisfactorio",null,null,null,null,{"$f":"IFERROR(FORECAST(M7,$J10:$L10,J7:L7),\"\")","v":""}]
[null,"En proceso",null,null,null,null,{"$f":"IFERROR(FORECAST(F7,$C11:$E11,C7:E7),\"\")","v":""},null,"En proceso",null,null,null,null,{"$f":"IFERROR(FORECAST(M7,$J11:$L11,J7:L7),\"\")","v":""}]
[null,"En inicio",null,null,null,null,{"$f":"IFERROR(FORECAST(F7,$C12:$E12,C7:E7),\"\")","v":""},null,"En inicio",null,null,null,null,{"$f":"IFERROR(FORECAST(M7,$J12:$L12,J7:L7),\"\")","v":""}]
[null,null,{"$f":"IF(SUM(C12,C11,C10,)=100,\"\",(IF(SUM(C12,C11,C10)=0,\"No hay datos\",\"No suma 100%\")))","v":"No hay datos"},{"$f":"IF(SUM(D12,D11,D10,)=100,\"\",(IF(SUM(D12,D11,D10)=0,\"No hay datos\",\"No suma 100%\")))","v":"No hay datos"},{"$f":"IF(SUM(E12,E11,E10,)=100,\"\",(IF(SUM(E12,E11,E10)=0,\"No hay datos\",\"No suma 100%\")))","v":"No hay datos"},{"$f":"IF(SUM(F12,F11,F10,)=100,\"\",(IF(SUM(F12,F11,F10)=0,\"No hay datos\",\"No suma 100%\")))","v":"No hay datos"},null,null,null,{"$f":"IF(SUM(J12,J11,J10,)=100,\"\",(IF(SUM(J12,J11,J10)=0,\"No hay datos\",\"No suma 100%\")))","v":"No hay datos"},{"$f":"IF(SUM(K12,K11,K10,)=100,\"\",(IF(SUM(K12,K11,K10)=0,\"No hay datos\",\"No suma 100%\")))","v":"No hay datos"},{"$f":"IF(SUM(L12,L11,L10,)=100,\"\",(IF(SUM(L12,L11,L10)=0,\"No hay datos\",\"No suma 100%\")))","v":"No hay datos"},{"$f":"IF(SUM(M12,M11,M10,)=100,\"\",(IF(SUM(M12,M11,M10)=0,\"No hay datos\",\"No suma 100%\")))","v":"No hay datos"}]
[]
[]
[null,"¿Cuántos estudiantes tienes en 2do. grado de primaria (ECE) o en 4to. grado de primaria (ECELO) este 2017?",null,null,null,null,null,null,null,"Nro."]
[]
[]
[null,"Para lograr tus metas en Comprensión lectora (L1), el número de estudiantes en cada nivel de logro debería ser…",null,null,null,null,null,null,"Para lograr tus metas en Matemática (L2),el número de estudiantes en cada nivel de logro debería ser…"]
[]
[]
[null,null,"Nivel de logro en Comprensión lectora (L1)",null,"Nro. de estudiantes",null,null,null,null,"Nivel de logro en Matemática (L2)",null,"Nro. de estudiantes"]
[null,null,"Satisfactorio",null,{"$f":"ROUNDUP(F10*K16/100,0)","v":0},null,null,null,null,"Satisfactorio",null,{"$f":"ROUNDUP(M10*K16/100,0)","v":0}]
[null,null,"En proceso",null,{"$f":"ROUNDUP(F11*K16/100,0)","v":0},null,null,null,null,"En proceso",null,{"$f":"ROUNDUP(M11*K16/100,0)","v":0}]
[null,null,"En inicio",null,{"$f":"K16-(E23+E24)","v":0},null,null,null,null,"En inicio",null,{"$f":"K16-(L23+L24)","v":0}]
[]
[null,"¿Cómo se ven esos resultados gráficamente?"]
[]
[null,"★ En los gráficos siguientes puedes ver cómo han variado tus resultados desde el año 2013. Además, te indica dónde estarían tus resultados si llegas a cumplir tus metas planteadas."]
[]
[]
[]
[]
[]
[]
[]
[]
[]
[]
[]
[]
[]
[]
[]
[]
[]
[]
[]
[null,"Evaluación Censal de Estudiantes - ECE ",null,null,null,null,null,"S  E  C  U  N  D  A  R  I  A "]
[]
[null,"Comprensión Lectora","Resultados 2014","Resultados 2015","Resultados 2016","Meta 2017",null,null,"Matemática","Resultados 2014","Resultados 2015","Resultados 2016","Meta 2017"]
[]
[null,"Nivel de logro","% de estudiantes en cada nivel de logro.",null,null,"Meta IE*",null,null,"Nivel de logro","% de estudiantes en cada nivel de logro.",null,null,"Meta IE*"]
[null,"Satisfactorio",null,null,null,null,null,null,"Satisfactorio"]
[null,"En proceso",null,null,null,null,null,null,"En proceso"]
[null,"En inicio",null,null,null,null,null,null,"En inicio"]
[null,"Previo al inicio",null,null,null,null,null,null,"Previo al inicio"]
[null,null,null,{"$f":"IF(SUM(D56,D55,D54,D57)=100,\"\",(IF(SUM(D56,D55,D54,D57)=0,\"No hay datos\",\"No suma 100%\")))","v":"No hay datos"},{"$f":"IF(SUM(E56,E55,E54,E57)=100,\"\",(IF(SUM(E56,E55,E54,E57)=0,\"No hay datos\",\"No suma 100%\")))","v":"No hay datos"},{"$f":"IF(SUM(F56,F55,F54,F57)=100,\"\",(IF(SUM(F56,F55,F54,F57)=0,\"No hay datos\",\"No suma 100%\")))","v":"No hay datos"},null,null,null,null,{"$f":"IF(SUM(K56,K55,K54,K57)=100,\"\",(IF(SUM(K56,K55,K54,K57)=0,\"No hay datos\",\"No suma 100%\")))","v":"No hay datos"},{"$f":"IF(SUM(L56,L55,L54,L57)=100,\"\",(IF(SUM(L56,L55,L54,L57)=0,\"No hay datos\",\"No suma 100%\")))","v":"No hay datos"},{"$f":"IF(SUM(M56,M55,M54,M57)=100,\"\",(IF(SUM(M56,M55,M54,M57)=0,\"No hay datos\",\"No suma 100%\")))","v":"No hay datos"}]
[]
[]
[null,"¿Cuántos estudiantes tienes en 2do. grado de secundaria (ECE) este 2017?",null,null,null,null,null,null,null,"Nro."]
[]
[null,"Para lograr tus metas en Comprensión lectora, el número de estudiantes en cada nivel de logro debería ser:",null,null,null,null,null,null,"Para lograr tus metas en Matemática,el número de estudiantes en cada nivel de logro debería ser:"]
[]
[]
[null,null,"Nivel de logro en Comprensión lectora",null,"Nro. de estudiantes",null,null,null,null,"Nivel de logro en Matemática",null,"Nro. de estudiantes"]
[null,null,"Satisfactorio",null,{"$f":"ROUNDUP(F54*K61/100,0)","v":0},null,null,null,null,"Satisfactorio",null,{"$f":"ROUNDUP(M54*K61/100,0)","v":0}]
[null,null,"En proceso",null,{"$f":"ROUNDUP(F55*K61/100,0)","v":0},null,null,null,null,"En proceso",null,{"$f":"ROUNDUP(M55*K61/100,0)","v":0}]
[null,null,"En inicio",null,{"$f":"ROUNDUP(F56*K61/100,0)","v":0},null,null,null,null,"En inicio",null,{"$f":"ROUNDUP(M56*K61/100,0)","v":0}]
[null,null,"Previo al inicio",null,{"$f":"K61-SUM(E67:E69)","v":0},null,null,null,null,"Previo al inicio",null,{"$f":"K61-SUM(L67:L69)","v":0}]
[null,"¿Cómo se ven esos resultados gráficamente?"]
[]
[null,"★ En los gráficos puedes ver el inicio de los resultados de la evaluación y cómo se proyectan según las metas planteadas."]
[]
[]
[]
[]
[]
[]
[]
[]
[]
[]
[]
[]
[]
[]
[]
[]
[]
[]
[]
[]
[null,"* Meta IE: Son los porcentajes que tu I.E. se propone alcanzar el año 2017."]
[null,"** Pronóstico: Es un porcentaje calculado en función de tus resultados anteriores. Esta columna no sumará 100%, pero sus valores te ayudarán a guiar tus metas. En secundaria no hay pronóstico pues solo son dos años de ECE."]
[]
[]
[]
[]
[null,null,null,"★ Recuerda encontrar más información sobre tus resultados en:",null,null,null,null,null,"SICRECE"]

{"sheet":"C1_Form InEIB","index":30,"n_rows":51,"n_cols":18,"rows_kept":51,"cut":false,"hidden":true,"merged":[[9,7,9,8],[12,11,14,11],[12,2,14,2],[9,1,10,3],[9,4,10,4],[9,5,10,5],[9,6,10,6],[20,7,20,8],[6,1,6,15],[5,1,5,14],[1,1,1,17],[3,1,4,14],[11,1,17,1],[11,2,11,3],[11,7,11,8],[11,10,17,10],[11,11,11,12],[9,10,10,12],[9,13,10,13],[9,14,10,14],[9,15,10,15],[9,16,9,17],[11,16,11,17],[15,2,17,2],[15,11,17,11],[22,1,28,1],[22,2,22,3],[22,7,22,8],[22,10,28,10],[22,11,22,12],[20,10,21,12],[23,2,25,2],[23,11,25,11],[26,2,28,2],[26,11,28,11],[20,1,21,3],[20,4,21,4],[20,5,21,5],[20,6,21,6],[20,13,21,13],[20,14,21,14],[20,15,21,15],[20,16,20,17],[22,16,22,17],[49,1,49,17],[30,16,30,17],[31,2,33,2],[31,11,33,11],[34,2,36,2],[34,11,36,11],[38,1,44,1],[38,2,38,3],[38,7,38,8],[38,10,44,10],[38,11,38,12],[30,1,36,1],[30,2,30,3],[30,7,30,8],[30,10,36,10],[30,11,30,12],[38,16,38,17],[39,2,41,2],[39,11,41,11],[42,2,44,2],[42,11,44,11]]}
[]
[null,"Metas de rendimiento en el Nivel Inicial para escuelas EIB - Comunicación (Primera y Segunda Lengua)"]
[null,"¿Qué hacer?"]
[null,"1° Deberás completar las tablas del \"Histórico de rendimiento...\" en relación a las calificaciones obtenidas en Primera Lengua (3, 4 y 5 años) y en Segunda Lengua (Oralidad en 5 años). Entonces, aparecerá automáticamente los porcentajes respectivos y además, tendrás el pronóstico en cada caso. "]
[]
[null,"2° Tomando como referencia los datos del 2015 y el pronóstico, podrás proyectar tus metas.  Luego, escribe el número de estudiantes matriculados el año 2016; \ny, automáticamente se calculará la meta en número de estudiantes. "]
[null,"3° Se repite la operación por cada edad, para lograr la meta del nivel en cada subárea de Comunicación (Propuesta Pedagógica DIGEIBIRA), en la tabla \"CONSOLIDADO\"."]
[]
[null,"CONSOLIDADO del histórico de rendimiento y formulación de metas 2017 del Nivel Inicial. ➨"]
[null,"Área de Comunicación - Primera Lengua",null,null,2014,2015,2016,2017,null,null,"Área de Comunicación - Segunda Lengua",null,null,2014,2015,2016,2017]
[null,null,null,null,null,null,null,"Meta**","Pronóstico***",null,null,null,null,null,null,null,"Meta**","Pronóstico***"]
[null,"Nivel INICIAL","Nro. estudiantes*",null,{"$f":"SUM(E23,E31,E39)","v":0},{"$f":"SUM(F23,F31,F39)","v":0},{"$f":"SUM(G23,G31,G39)","v":0},{"$f":"SUM(H23,H31,H39)","v":0},null,null,"Nivel INICIAL","Nro. estudiantes*",null,{"$f":"SUM(N23,N31,N39)","v":0},{"$f":"SUM(O23,O31,O39)","v":0},{"$f":"SUM(P23,P31,P39)","v":0},{"$f":"SUM(Q23,Q31,Q39)","v":0}]
[null,null,"Nro. de estudiantes según calificación****","A",{"$f":"SUM(E24,E32,E40)","v":0},{"$f":"SUM(F24,F32,F40)","v":0},0,{"$f":"IFERROR(H16*H12,\"\")","v":""},{"$f":"IFERROR(I16*H12,\"\")","v":""},null,null,"Nro. de estudiantes según calificación****","A",{"$f":"SUM(N24,N32,N40)","v":0},0,0,{"$f":"IFERROR(Q16*Q12,\"\")","v":""},{"$f":"IFERROR(R16*Q12,\"\")","v":""}]
[null,null,null,"B",0,0,0,{"$f":"IFERROR(H17*H12,\"\")","v":""},{"$f":"IFERROR(I17*H12,\"\")","v":""},null,null,null,"B",0,0,0,{"$f":"IFERROR(Q17*Q12,\"\")","v":""},{"$f":"IFERROR(R17*Q12,\"\")","v":""}]
[null,null,null,"C",0,0,0,{"$f":"IFERROR(H18*H12,\"\")","v":""},{"$f":"IFERROR(I18*H12,\"\")","v":""},null,null,null,"C",0,0,0,{"$f":"IFERROR(Q18*Q12,\"\")","v":""},{"$f":"IFERROR(R18*Q12,\"\")","v":""}]
[null,null,"% de estudiantes según calificación","A",{"$f":"IFERROR(E13/E12,\"\")","v":""},{"$f":"IFERROR(F13/F12,\"\")","v":""},{"$f":"IFERROR(G13/G12,\"\")","v":""},{"$f":"IFERROR(SUM(H24,H32,H40)/SUM(H23,H31,H39),\"\")","v":""},{"$f":"IFERROR(FORECAST(H10,E16:G16,E10:G10),\"\")","v":""},null,null,"% de estudiantes según calificación","A",{"$f":"IFERROR(N13/N12,\"\")","v":""},{"$f":"IFERROR(O13/O12,\"\")","v":""},{"$f":"IFERROR(P13/P12,\"\")","v":""},{"$f":"IFERROR(SUM(Q24,Q32,Q40)/SUM(Q23,Q31,Q39),\"\")","v":""},{"$f":"IFERROR(FORECAST(Q10,N16:P16,N10:P10),\"\")","v":""}]
[null,null,null,"B",{"$f":"IFERROR(E14/E12,\"\")","v":""},{"$f":"IFERROR(F14/F12,\"\")","v":""},{"$f":"IFERROR(G14/G12,\"\")","v":""},{"$f":"IFERROR(SUM(H25,H33,H41)/SUM(H23,H31,H39),\"\")","v":""},{"$f":"IFERROR(FORECAST(H10,E17:G17,E10:G10),\"\")","v":""},null,null,null,"B",{"$f":"IFERROR(N14/N12,\"\")","v":""},{"$f":"IFERROR(O14/O12,\"\")","v":""},{"$f":"IFERROR(P14/P12,\"\")","v":""},{"$f":"IFERROR(SUM(Q25,Q33,Q41)/SUM(Q23,Q31,Q39),\"\")","v":""},{"$f":"IFERROR(FORECAST(Q10,N17:P17,N10:P10),\"\")","v":""}]
[null,null,null,"C",{"$f":"IFERROR(E15/E12,\"\")","v":""},{"$f":"IFERROR(F15/F12,\"\")","v":""},{"$f":"IFERROR(G15/G12,\"\")","v":""},{"$f":"IFERROR(SUM(H26,H34,H42)/SUM(H23,H31,H39),\"\")","v":""},{"$f":"IFERROR(FORECAST(H10,E18:G18,E10:G10),\"\")","v":""},null,null,null,"C",{"$f":"IFERROR(N15/N12,\"\")","v":""},{"$f":"IFERROR(O15/O12,\"\")","v":""},{"$f":"IFERROR(P15/P12,\"\")","v":""},{"$f":"IFERROR(SUM(Q26,Q34,Q42)/SUM(Q23,Q31,Q39),\"\")","v":""},{"$f":"IFERROR(FORECAST(Q10,N18:P18,N10:P10),\"\")","v":""}]
[]
[null,"Histórico de rendimiento y formulación de metas 2017 según edad. ➨"]
[null,"Área de Comunicación - Primera Lengua",null,null,2014,2015,2016,2017,null,null,"Área de Comunicación - Segunda Lengua",null,null,2014,2015,2016,2017]
[null,null,null,null,null,null,null,"Meta**","Pronóstico***",null,null,null,null,null,null,null,"Meta**","Pronóstico***"]
[null,"3 años","Nro. estudiantes*",null,null,null,null,null,null,null,"3 años"]
[null,null,"Nro. de estudiantes según calificación****","A",null,null,null,{"$f":"IFERROR(H27*$H$23,\"\")","v":0},{"$f":"IFERROR(I27*H23,\"\")","v":""}]
[null,null,null,"B",null,null,null,{"$f":"IFERROR(H28*$H$23,\"\")","v":0},{"$f":"IFERROR(I28*H23,\"\")","v":""}]
[null,null,null,"C",null,null,null,{"$f":"IFERROR(H29*$H$23,\"\")","v":0},{"$f":"IFERROR(I29*H23,\"\")","v":""}]
[null,null,"% de estudiantes según calificación","A",{"$f":"IFERROR(E24/E23,\"\")","v":""},{"$f":"IFERROR(F24/F23,\"\")","v":""},{"$f":"IFERROR(G24/G23,\"\")","v":""},null,{"$f":"IFERROR(FORECAST(H21,E27:G27,E21:G21),\"\")","v":""}]
[null,null,null,"B",{"$f":"IFERROR(E25/E23,\"\")","v":""},{"$f":"IFERROR(F25/F23,\"\")","v":""},{"$f":"IFERROR(G25/G23,\"\")","v":""},null,{"$f":"IFERROR(FORECAST(H21,E28:G28,E21:G21),\"\")","v":""}]
[null,null,null,"C",{"$f":"IFERROR(E26/E23,\"\")","v":""},{"$f":"IFERROR(F26/F23,\"\")","v":""},{"$f":"IFERROR(G26/G23,\"\")","v":""},null,{"$f":"IFERROR(FORECAST(H21,E29:G29,E21:G21),\"\")","v":""}]
[null,null,null,{"$f":"IF(SUM(D24:D26)=D23,\"\",\"datos erróneos\")","v":""},{"$f":"IF(SUM(E24:E26)=E23,\"\",\"datos erróneos\")","v":""},{"$f":"IF(SUM(F24:F26)=F23,\"\",\"datos erróneos\")","v":""},{"$f":"IF(SUM(G24:G26)=G23,\"\",\"datos erróneos\")","v":""},{"$f":"IF(SUM(H27:H29)=1,\"\",(IF(SUM(H27:H29)=0,\"\",\"datos erróneos\")))","v":""},null,null,null,null,null,{"$f":"IF(SUM(N24:N26)=N23,\"\",\"datos erróneos\")","v":""},{"$f":"IF(SUM(O24:O26)=O23,\"\",\"datos erróneos\")","v":""},{"$f":"IF(SUM(P24:P26)=P23,\"\",\"datos erróneos\")","v":""},{"$f":"IF(SUM(Q27:Q29)=1,\"\",(IF(SUM(Q27:Q29)=0,\"\",\"datos erróneos\")))","v":""}]
[null,"4 años","Nro estudiantes*",null,null,null,null,null,null,null,"4 años"]
[null,null,"Nro de estudiantes según calificación****","A",null,null,null,{"$f":"IFERROR(H35*$H$31,\"\")","v":0},{"$f":"IFERROR(I35*H31,\"\")","v":""}]
[null,null,null,"B",null,null,null,{"$f":"IFERROR(H36*$H$31,\"\")","v":0},{"$f":"IFERROR(I36*H31,\"\")","v":""}]
[null,null,null,"C",null,null,null,{"$f":"IFERROR(H37*$H$31,\"\")","v":0},{"$f":"IFERROR(I37*H31,\"\")","v":""}]
[null,null,"% de estudiantes según calificación","A",{"$f":"IFERROR(E32/E31,\"\")","v":""},{"$f":"IFERROR(F32/F31,\"\")","v":""},{"$f":"IFERROR(G32/G31,\"\")","v":""},null,{"$f":"IFERROR(FORECAST(H21,E35:G35,E21:G21),\"\")","v":""}]
[null,null,null,"B",{"$f":"IFERROR(E33/E31,\"\")","v":""},{"$f":"IFERROR(F33/F31,\"\")","v":""},{"$f":"IFERROR(G33/G31,\"\")","v":""},null,{"$f":"IFERROR(FORECAST(H21,E36:G36,E21:G21),\"\")","v":""}]
[null,null,null,"C",{"$f":"IFERROR(E34/E31,\"\")","v":""},{"$f":"IFERROR(F34/F31,\"\")","v":""},{"$f":"IFERROR(G34/G31,\"\")","v":""},null,{"$f":"IFERROR(FORECAST(H21,E37:G37,E21:G21),\"\")","v":""}]
[null,null,null,null,{"$f":"IF(SUM(E32:E34)=E31,\"\",\"datos erróneos\")","v":""},{"$f":"IF(SUM(F32:F34)=F31,\"\",\"datos erróneos\")","v":""},{"$f":"IF(SUM(G32:G34)=G31,\"\",\"datos erróneos\")","v":""},{"$f":"IF(SUM(H35:H37)=1,\"\",(IF(SUM(H35:H37)=0,\"\",\"datos erróneos\")))","v":""},null,null,null,null,null,{"$f":"IF(SUM(N32:N34)=N31,\"\",\"datos erróneos\")","v":""},{"$f":"IF(SUM(O32:O34)=O31,\"\",\"datos erróneos\")","v":""},{"$f":"IF(SUM(P32:P34)=P31,\"\",\"datos erróneos\")","v":""},{"$f":"IF(SUM(Q35:Q37)=1,\"\",(IF(SUM(Q35:Q37)=0,\"\",\"datos erróneos\")))","v":""}]
[null,"5 años","Nro estudiantes*",null,null,null,null,null,null,null,"5 años","Nro estudiantes*"]
[null,null,"Nro de estudiantes según calificación****","A",null,null,null,{"$f":"IFERROR(H43*$H$39,\"\")","v":0},{"$f":"IFERROR(I43*H39,\"\")","v":""},null,null,"Nro de estudiantes según calificación****","A",null,null,null,{"$f":"IFERROR(Q43*$Q$39,\"\")","v":0},{"$f":"IFERROR(R43*Q39,\"\")","v":""}]
[null,null,null,"B",null,null,null,{"$f":"IFERROR(H44*$H$39,\"\")","v":0},{"$f":"IFERROR(I44*H39,\"\")","v":""},null,null,null,"B",null,null,null,{"$f":"IFERROR(Q44*$Q$39,\"\")","v":0},{"$f":"IFERROR(R44*Q39,\"\")","v":""}]
[null,null,null,"C",null,null,null,{"$f":"IFERROR(H45*$H$39,\"\")","v":0},{"$f":"IFERROR(I45*H39,\"\")","v":""},null,null,null,"C",null,null,null,{"$f":"IFERROR(Q45*$Q$39,\"\")","v":0},{"$f":"IFERROR(R45*Q39,\"\")","v":""}]
[null,null,"% de estudiantes según calificación","A",{"$f":"IFERROR(E40/E39,\"\")","v":""},{"$f":"IFERROR(F40/F39,\"\")","v":""},{"$f":"IFERROR(G40/G39,\"\")","v":""},null,{"$f":"IFERROR(FORECAST(H21,E43:G43,E21:G21),\"\")","v":""},null,null,"% de estudiantes según calificación","A",{"$f":"IFERROR(N40/N39,\"\")","v":""},{"$f":"IFERROR(O40/O39,\"\")","v":""},{"$f":"IFERROR(P40/P39,\"\")","v":""},null,{"$f":"IFERROR(FORECAST(Q21,N43:P43,N21:P21),\"\")","v":""}]
[null,null,null,"B",{"$f":"IFERROR(E41/E39,\"\")","v":""},{"$f":"IFERROR(F41/F39,\"\")","v":""},{"$f":"IFERROR(G41/G39,\"\")","v":""},null,{"$f":"IFERROR(FORECAST(H21,E44:G44,E21:G21),\"\")","v":""},null,null,null,"B",{"$f":"IFERROR(N41/N39,\"\")","v":""},{"$f":"IFERROR(O41/O39,\"\")","v":""},{"$f":"IFERROR(P41/P39,\"\")","v":""},null,{"$f":"IFERROR(FORECAST(Q21,N44:P44,N21:P21),\"\")","v":""}]
[null,null,null,"C",{"$f":"IFERROR(E42/E39,\"\")","v":""},{"$f":"IFERROR(F42/F39,\"\")","v":""},{"$f":"IFERROR(G42/G39,\"\")","v":""},null,{"$f":"IFERROR(FORECAST(H21,E45:G45,E21:G21),\"\")","v":""},null,null,null,"C",{"$f":"IFERROR(N42/N39,\"\")","v":""},{"$f":"IFERROR(O42/O39,\"\")","v":""},{"$f":"IFERROR(P42/P39,\"\")","v":""},null,{"$f":"IFERROR(FORECAST(Q21,N45:P45,N21:P21),\"\")","v":""}]
[null,null,null,null,{"$f":"IF(SUM(E40:E42)=E39,\"\",\"datos erróneos\")","v":""},{"$f":"IF(SUM(F40:F42)=F39,\"\",\"datos erróneos\")","v":""},{"$f":"IF(SUM(G40:G42)=G39,\"\",\"datos erróneos\")","v":""},{"$f":"IF(SUM(H43:H45)=1,\"\",(IF(SUM(H43:H45)=0,\"\",\"datos erróneos\")))","v":""},null,null,null,null,null,{"$f":"IF(SUM(N40:N42)=N39,\"\",\"datos erróneos\")","v":""},{"$f":"IF(SUM(O40:O42)=O39,\"\",\"datos erróneos\")","v":""},{"$f":"IF(SUM(P40:P42)=P39,\"\",\"datos erróneos\")","v":""},{"$f":"IF(SUM(Q43:Q45)=1,\"\",(IF(SUM(Q43:Q45)=0,\"\",\"datos erróneos\")))","v":""}]
[]
[null,"* Nro de estudiantes:  En los años 2014 al 2016 deberás colocar el número de estudiantes según tus actas finales; en el 2016, deberás colocar el número de estudiantes matriculados en ese año."]
[null,"** Meta:  Esta es la meta que te propones para el año 2016, deberás escribirla en las celdas blancas de %. Ten en cuenta el pronóstico para proponerte metas realistas. "]
[null,"*** Pronóstico: Es el porcentaje o número de estudiantes según su desempeño en cada grado. El porcentaje de pronóstico depende de los porcentajes alcanzados en los años anteriores y no suma 100% necesariamente.Del mismo modo, suma el número de estudiantes matriculados en el año. Además pueden haber valores negativos sin que ello afecte la interpretación. En esos casos lo que dice el pronóstico es que tu tendencia es marcadamente hacia la baja."]
[null,"**** Estudiantes según calificación: En los años 2013 al 2015 deberás poner el número de estudiantes con cada calificación según las actas finales. En el 2016, se mostrará lo que deberías alcanzar según tu meta propuesta."]

{"sheet":"C1_Form Ini","index":31,"n_rows":49,"n_cols":18,"rows_kept":49,"cut":false,"hidden":true,"merged":[[8,4,9,4],[8,5,9,5],[8,6,9,6],[8,13,9,13],[3,1,3,14],[4,1,4,14],[29,16,29,17],[30,2,32,2],[5,1,5,13],[37,10,43,10],[37,11,37,12],[37,16,37,17],[38,2,40,2],[8,1,9,3],[8,7,8,8],[8,15,9,15],[21,16,21,17],[8,16,8,17],[21,11,21,12],[19,4,20,4],[19,10,20,12],[37,1,43,1],[38,11,40,11],[41,2,43,2],[41,11,43,11],[8,14,9,14],[29,1,35,1],[37,7,37,8],[8,10,9,12],[19,6,20,6],[29,11,29,12],[29,2,29,3],[29,10,35,10],[25,2,27,2],[33,2,35,2],[33,11,35,11],[30,11,32,11],[21,10,27,10],[21,7,21,8],[22,2,24,2],[21,2,21,3],[22,11,24,11],[25,11,27,11],[19,13,20,13],[10,1,16,1],[19,5,20,5],[10,2,10,3],[10,7,10,8],[47,1,47,17],[10,10,16,10],[10,11,10,12],[19,15,20,15],[37,2,37,3],[29,7,29,8],[19,1,20,3],[21,1,27,1],[10,16,10,17],[11,2,13,2],[11,11,13,11],[14,2,16,2],[14,11,16,11],[19,14,20,14],[19,7,19,8],[19,16,19,17]]}
[]
[null,"Metas de rendimiento en el Nivel Inicial - Comunicación y Matemática."]
[null,"¿Qué hacer?"]
[null,"1° Deberás completar las tablas del \"Histórico de rendimiento...\" en relación a las calificaciones obtenidas en Comunicación y Matemática por cada edad.   Entonces, aparecerá automáticamente los porcentajes respectivos y además, tendrás el pronóstico en cada caso. "]
[null,"2° Tomando como referencia los datos del 2015 y el pronóstico, podrás proyectar tus metas. Luego, escribe el número de estudiantes matriculados el presente año, y automáticamente se calculará la meta en número de estudiantes."]
[null,"3° Se repite la operación por cada edad, para finalmente contar con la meta del nivel en la tabla \"CONSOLIDADO\"."]
[]
[null,"CONSOLIDADO del histórico de rendimiento y formulación de metas 2017 del Nivel Inicial. ➨"]
[null,"Área de Comunicación",null,null,2014,2015,2016,2017,null,null,"Área de Matemática",null,null,2014,2015,2016,2017]
[null,null,null,null,null,null,null,"Meta**","Pronóstico***",null,null,null,null,null,null,null,"Meta**","Pronóstico***"]
[null,"Nivel INICIAL","Nro. estudiantes*",null,{"$f":"SUM(E22,E30,E38)","v":0},{"$f":"SUM(F22,F30,F38)","v":0},{"$f":"SUM(G22,G30,G38)","v":0},{"$f":"SUM(H22,H30,H38)","v":0},null,null,"Nivel INICIAL","Nro. estudiantes*",null,{"$f":"SUM(N22,N30,N38)","v":0},{"$f":"SUM(O22,O30,O38)","v":0},{"$f":"SUM(P22,P30,P38)","v":0},{"$f":"SUM(Q22,Q30,Q38)","v":0}]
[null,null,"Nro. de estudiantes según calificación****","A",{"$f":"SUM(E23,E31,E39)","v":0},0,0,{"$f":"IFERROR(H15*H11,\"\")","v":""},{"$f":"IFERROR(I15*H11,\"\")","v":""},null,null,"Nro. de estudiantes según calificación****","A",{"$f":"SUM(N23,N31,N39)","v":0},0,0,{"$f":"IFERROR(Q15*Q11,\"\")","v":""},{"$f":"IFERROR(R15*Q11,\"\")","v":""}]
[null,null,null,"B",0,0,0,{"$f":"IFERROR(H16*H11,\"\")","v":""},{"$f":"IFERROR(I16*H11,\"\")","v":""},null,null,null,"B",0,0,0,{"$f":"IFERROR(Q16*Q11,\"\")","v":""},{"$f":"IFERROR(R16*Q11,\"\")","v":""}]
[null,null,null,"C",0,0,0,{"$f":"IFERROR(H17*H11,\"\")","v":""},{"$f":"IFERROR(I17*H11,\"\")","v":""},null,null,null,"C",0,0,0,{"$f":"IFERROR(Q17*Q11,\"\")","v":""},{"$f":"IFERROR(R17*Q11,\"\")","v":""}]
[null,null,"% de estudiantes según calificación","A",{"$f":"IFERROR(E12/E11,\"\")","v":""},{"$f":"IFERROR(F12/F11,\"\")","v":""},{"$f":"IFERROR(G12/G11,\"\")","v":""},{"$f":"IFERROR(SUM(H23,H31,H39)/SUM(H22,H30,H38),\"\")","v":""},{"$f":"IFERROR(FORECAST(H9,E15:G15,E9:G9),\"\")","v":""},null,null,"% de estudiantes según calificación","A",{"$f":"IFERROR(N12/N11,\"\")","v":""},{"$f":"IFERROR(O12/O11,\"\")","v":""},{"$f":"IFERROR(P12/P11,\"\")","v":""},{"$f":"IFERROR(SUM(Q23,Q31,Q39)/SUM(Q22,Q30,Q38),\"\")","v":""},{"$f":"IFERROR(FORECAST(Q9,N15:P15,N9:P9),\"\")","v":""}]
[null,null,null,"B",{"$f":"IFERROR(E13/E11,\"\")","v":""},{"$f":"IFERROR(F13/F11,\"\")","v":""},{"$f":"IFERROR(G13/G11,\"\")","v":""},{"$f":"IFERROR(SUM(H24,H32,H40)/SUM(H22,H30,H38),\"\")","v":""},{"$f":"IFERROR(FORECAST(H9,E16:G16,E9:G9),\"\")","v":""},null,null,null,"B",{"$f":"IFERROR(N13/N11,\"\")","v":""},{"$f":"IFERROR(O13/O11,\"\")","v":""},{"$f":"IFERROR(P13/P11,\"\")","v":""},{"$f":"IFERROR(SUM(Q24,Q32,Q40)/SUM(Q22,Q30,Q38),\"\")","v":""},{"$f":"IFERROR(FORECAST(Q9,N16:P16,N9:P9),\"\")","v":""}]
[null,null,null,"C",{"$f":"IFERROR(E14/E11,\"\")","v":""},{"$f":"IFERROR(F14/F11,\"\")","v":""},{"$f":"IFERROR(G14/G11,\"\")","v":""},{"$f":"IFERROR(SUM(H25,H33,H41)/SUM(H22,H30,H38),\"\")","v":""},{"$f":"IFERROR(FORECAST(H9,E17:G17,E9:G9),\"\")","v":""},null,null,null,"C",{"$f":"IFERROR(N14/N11,\"\")","v":""},{"$f":"IFERROR(O14/O11,\"\")","v":""},{"$f":"IFERROR(P14/P11,\"\")","v":""},{"$f":"IFERROR(SUM(Q25,Q33,Q41)/SUM(Q22,Q30,Q38),\"\")","v":""},{"$f":"IFERROR(FORECAST(Q9,N17:P17,N9:P9),\"\")","v":""}]
[]
[null,"Histórico de rendimiento y formulación de metas 2017 según edad. ➨"]
[null,"Área de Comunicación",null,null,2014,2015,2016,2017,null,null,"Área de Matemática",null,null,2014,2015,2016,2017]
[null,null,null,null,null,null,null,"Meta**","Pronóstico***",null,null,null,null,null,null,null,"Meta**","Pronóstico***"]
[null,"3 años","Nro. estudiantes*",null,null,null,null,null,null,null,"3 años","Nro. estudiantes*"]
[null,null,"Nro. de estudiantes según calificación****","A",null,null,null,{"$f":"IFERROR(H26*$H$22,\"\")","v":0},{"$f":"IFERROR(I26*H22,\"\")","v":""},null,null,"Nro. de estudiantes según calificación****","A",null,null,null,{"$f":"IFERROR(Q26*$Q$22,\"\")","v":0},{"$f":"IFERROR(R26*Q22,\"\")","v":""}]
[null,null,null,"B",null,null,null,{"$f":"IFERROR(H27*$H$22,\"\")","v":0},{"$f":"IFERROR(I27*H22,\"\")","v":""},null,null,null,"B",null,null,null,{"$f":"IFERROR(Q27*$Q$22,\"\")","v":0},{"$f":"IFERROR(R27*Q22,\"\")","v":""}]
[null,null,null,"C",null,null,null,{"$f":"IFERROR(H28*$H$22,\"\")","v":0},{"$f":"IFERROR(I28*H22,\"\")","v":""},null,null,null,"C",null,null,null,{"$f":"IFERROR(Q28*$Q$22,\"\")","v":0},{"$f":"IFERROR(R28*Q22,\"\")","v":""}]
[null,null,"% de estudiantes según calificación","A",{"$f":"IFERROR(E23/E22,\"\")","v":""},{"$f":"IFERROR(F23/F22,\"\")","v":""},{"$f":"IFERROR(G23/G22,\"\")","v":""},null,{"$f":"IFERROR(FORECAST(H20,E26:G26,E20:G20),\"\")","v":""},null,null,"% de estudiantes según calificación","A",{"$f":"IFERROR(N23/N22,\"\")","v":""},{"$f":"IFERROR(O23/O22,\"\")","v":""},{"$f":"IFERROR(P23/P22,\"\")","v":""},null,{"$f":"IFERROR(FORECAST(Q20,N26:P26,N20:P20),\"\")","v":""}]
[null,null,null,"B",{"$f":"IFERROR(E24/E22,\"\")","v":""},{"$f":"IFERROR(F24/F22,\"\")","v":""},{"$f":"IFERROR(G24/G22,\"\")","v":""},null,{"$f":"IFERROR(FORECAST(H20,E27:G27,E20:G20),\"\")","v":""},null,null,null,"B",{"$f":"IFERROR(N24/N22,\"\")","v":""},{"$f":"IFERROR(O24/O22,\"\")","v":""},{"$f":"IFERROR(P24/P22,\"\")","v":""},null,{"$f":"IFERROR(FORECAST(Q20,N27:P27,N20:P20),\"\")","v":""}]
[null,null,null,"C",{"$f":"IFERROR(E25/E22,\"\")","v":""},{"$f":"IFERROR(F25/F22,\"\")","v":""},{"$f":"IFERROR(G25/G22,\"\")","v":""},null,{"$f":"IFERROR(FORECAST(H20,E28:G28,E20:G20),\"\")","v":""},null,null,null,"C",{"$f":"IFERROR(N25/N22,\"\")","v":""},{"$f":"IFERROR(O25/O22,\"\")","v":""},{"$f":"IFERROR(P25/P22,\"\")","v":""},null,{"$f":"IFERROR(FORECAST(Q20,N28:P28,N20:P20),\"\")","v":""}]
[null,null,null,null,{"$f":"IF(SUM(E23:E25)=E22,\"\",\"datos erróneos\")","v":""},{"$f":"IF(SUM(F23:F25)=F22,\"\",\"datos erróneos\")","v":""},{"$f":"IF(SUM(G23:G25)=G22,\"\",\"datos erróneos\")","v":""},{"$f":"IF(SUM(H26:H28)=1,\"\",(IF(SUM(H26:H28)=0,\"\",\"datos erróneos\")))","v":""},null,null,null,null,null,{"$f":"IF(SUM(N23:N25)=N22,\"\",\"datos erróneos\")","v":""},{"$f":"IF(SUM(O23:O25)=O22,\"\",\"datos erróneos\")","v":""},{"$f":"IF(SUM(P23:P25)=P22,\"\",\"datos erróneos\")","v":""},{"$f":"IF(SUM(Q26:Q28)=1,\"\",(IF(SUM(Q26:Q28)=0,\"\",\"datos erróneos\")))","v":""}]
[null,"4 años","Nro estudiantes*",null,null,null,null,null,null,null,"4 años","Nro estudiantes*"]
[null,null,"Nro de estudiantes según calificación****","A",null,null,null,{"$f":"IFERROR(H34*$H$30,\"\")","v":0},{"$f":"IFERROR(I34*H30,\"\")","v":""},null,null,"Nro de estudiantes según calificación****","A",null,null,null,{"$f":"IFERROR(Q34*$Q$30,\"\")","v":0},{"$f":"IFERROR(R34*Q30,\"\")","v":""}]
[null,null,null,"B",null,null,null,{"$f":"IFERROR(H35*$H$30,\"\")","v":0},{"$f":"IFERROR(I35*H30,\"\")","v":""},null,null,null,"B",null,null,null,{"$f":"IFERROR(Q35*$Q$30,\"\")","v":0},{"$f":"IFERROR(R35*Q30,\"\")","v":""}]
[null,null,null,"C",null,null,null,{"$f":"IFERROR(H36*$H$30,\"\")","v":0},{"$f":"IFERROR(I36*H30,\"\")","v":""},null,null,null,"C",null,null,null,{"$f":"IFERROR(Q36*$Q$30,\"\")","v":0},{"$f":"IFERROR(R36*Q30,\"\")","v":""}]
[null,null,"% de estudiantes según calificación","A",{"$f":"IFERROR(E31/E30,\"\")","v":""},{"$f":"IFERROR(F31/F30,\"\")","v":""},{"$f":"IFERROR(G31/G30,\"\")","v":""},null,{"$f":"IFERROR(FORECAST(H20,E34:G34,E20:G20),\"\")","v":""},null,null,"% de estudiantes según calificación","A",{"$f":"IFERROR(N31/N30,\"\")","v":""},{"$f":"IFERROR(O31/O30,\"\")","v":""},{"$f":"IFERROR(P31/P30,\"\")","v":""},null,{"$f":"IFERROR(FORECAST(Q20,N34:P34,N20:P20),\"\")","v":""}]
[null,null,null,"B",{"$f":"IFERROR(E32/E30,\"\")","v":""},{"$f":"IFERROR(F32/F30,\"\")","v":""},{"$f":"IFERROR(G32/G30,\"\")","v":""},null,{"$f":"IFERROR(FORECAST(H20,E35:G35,E20:G20),\"\")","v":""},null,null,null,"B",{"$f":"IFERROR(N32/N30,\"\")","v":""},{"$f":"IFERROR(O32/O30,\"\")","v":""},{"$f":"IFERROR(P32/P30,\"\")","v":""},null,{"$f":"IFERROR(FORECAST(Q20,N35:P35,N20:P20),\"\")","v":""}]
[null,null,null,"C",{"$f":"IFERROR(E33/E30,\"\")","v":""},{"$f":"IFERROR(F33/F30,\"\")","v":""},{"$f":"IFERROR(G33/G30,\"\")","v":""},null,{"$f":"IFERROR(FORECAST(H20,E36:G36,E20:G20),\"\")","v":""},null,null,null,"C",{"$f":"IFERROR(N33/N30,\"\")","v":""},{"$f":"IFERROR(O33/O30,\"\")","v":""},{"$f":"IFERROR(P33/P30,\"\")","v":""},null,{"$f":"IFERROR(FORECAST(Q20,N36:P36,N20:P20),\"\")","v":""}]
[null,null,null,null,{"$f":"IF(SUM(E31:E33)=E30,\"\",\"datos erróneos\")","v":""},{"$f":"IF(SUM(F31:F33)=F30,\"\",\"datos erróneos\")","v":""},{"$f":"IF(SUM(G31:G33)=G30,\"\",\"datos erróneos\")","v":""},{"$f":"IF(SUM(H34:H36)=1,\"\",(IF(SUM(H34:H36)=0,\"\",\"datos erróneos\")))","v":""},null,null,null,null,null,{"$f":"IF(SUM(N31:N33)=N30,\"\",\"datos erróneos\")","v":""},{"$f":"IF(SUM(O31:O33)=O30,\"\",\"datos erróneos\")","v":""},{"$f":"IF(SUM(P31:P33)=P30,\"\",\"datos erróneos\")","v":""},{"$f":"IF(SUM(Q34:Q36)=1,\"\",(IF(SUM(Q34:Q36)=0,\"\",\"datos erróneos\")))","v":""}]
[null,"5 años","Nro estudiantes*",null,null,null,null,null,null,null,"5 años","Nro estudiantes*"]
[null,null,"Nro de estudiantes según calificación****","A",null,null,null,{"$f":"IFERROR(H42*$H$38,\"\")","v":0},{"$f":"IFERROR(I42*H38,\"\")","v":""},null,null,"Nro de estudiantes según calificación****","A",null,null,null,{"$f":"IFERROR(Q42*$Q$38,\"\")","v":0},{"$f":"IFERROR(R42*Q38,\"\")","v":""}]
[null,null,null,"B",null,null,null,{"$f":"IFERROR(H43*$H$38,\"\")","v":0},{"$f":"IFERROR(I43*H38,\"\")","v":""},null,null,null,"B",null,null,null,{"$f":"IFERROR(Q43*$Q$38,\"\")","v":0},{"$f":"IFERROR(R43*Q38,\"\")","v":""}]
[null,null,null,"C",null,null,null,{"$f":"IFERROR(H44*$H$38,\"\")","v":0},{"$f":"IFERROR(I44*H38,\"\")","v":""},null,null,null,"C",null,null,null,{"$f":"IFERROR(Q44*$Q$38,\"\")","v":0},{"$f":"IFERROR(R44*Q38,\"\")","v":""}]
[null,null,"% de estudiantes según calificación","A",{"$f":"IFERROR(E39/E38,\"\")","v":""},{"$f":"IFERROR(F39/F38,\"\")","v":""},{"$f":"IFERROR(G39/G38,\"\")","v":""},null,{"$f":"IFERROR(FORECAST(H20,E42:G42,E20:G20),\"\")","v":""},null,null,"% de estudiantes según calificación","A",{"$f":"IFERROR(N39/N38,\"\")","v":""},{"$f":"IFERROR(O39/O38,\"\")","v":""},{"$f":"IFERROR(P39/P38,\"\")","v":""},null,{"$f":"IFERROR(FORECAST(Q20,N42:P42,N20:P20),\"\")","v":""}]
[null,null,null,"B",{"$f":"IFERROR(E40/E38,\"\")","v":""},{"$f":"IFERROR(F40/F38,\"\")","v":""},{"$f":"IFERROR(G40/G38,\"\")","v":""},null,{"$f":"IFERROR(FORECAST(H20,E43:G43,E20:G20),\"\")","v":""},null,null,null,"B",{"$f":"IFERROR(N40/N38,\"\")","v":""},{"$f":"IFERROR(O40/O38,\"\")","v":""},{"$f":"IFERROR(P40/P38,\"\")","v":""},null,{"$f":"IFERROR(FORECAST(Q20,N43:P43,N20:P20),\"\")","v":""}]
[null,null,null,"C",{"$f":"IFERROR(E41/E38,\"\")","v":""},{"$f":"IFERROR(F41/F38,\"\")","v":""},{"$f":"IFERROR(G41/G38,\"\")","v":""},null,{"$f":"IFERROR(FORECAST(H20,E44:G44,E20:G20),\"\")","v":""},null,null,null,"C",{"$f":"IFERROR(N41/N38,\"\")","v":""},{"$f":"IFERROR(O41/O38,\"\")","v":""},{"$f":"IFERROR(P41/P38,\"\")","v":""},null,{"$f":"IFERROR(FORECAST(Q20,N44:P44,N20:P20),\"\")","v":""}]
[]
[null,"* Nro de estudiantes:  En los años 2014 al 2016 deberás colocar el número de estudiantes según tus actas finales; en el 2016, deberás colocar el número de estudiantes matriculados en ese año."]
[null,"** Meta:  Esta es la meta que te propones para el año 2016, deberás escribirla en las celdas blancas de %. Ten en cuenta el pronóstico para proponerte metas realistas. "]
[null,"*** Pronóstico: Es el porcentaje o número de estudiantes según su desempeño en cada grado. El porcentaje de pronóstico depende de los porcentajes alcanzados en los años anteriores y no suma 100% necesariamente.Del mismo modo, suma el número de estudiantes matriculados en el año. Además pueden haber valores negativos sin que ello afecte la interpretación. En esos casos lo que dice el pronóstico es que tu tendencia es marcadamente hacia la baja."]
[null,"**** Estudiantes según calificación: En los años 2013 al 2015 deberás poner el número de estudiantes con cada calificación según las actas finales. En el 2016, se mostrará lo que deberías alcanzar según tu meta propuesta."]

{"sheet":"C1_Form Ini2","index":32,"n_rows":50,"n_cols":18,"rows_kept":50,"cut":false,"hidden":true,"merged":[[35,16,35,17],[27,1,33,1],[27,2,27,3],[27,16,27,17],[28,2,30,2],[28,11,30,11],[31,2,33,2],[27,11,27,12],[31,11,33,11],[35,1,41,1],[27,7,27,8],[27,10,33,10],[35,2,35,3],[36,2,38,2],[36,11,38,11],[35,7,35,8],[35,10,41,10],[35,11,35,12],[39,2,41,2],[6,13,7,13],[6,14,7,14],[6,6,7,6],[17,13,18,13],[17,5,18,5],[17,6,18,6],[4,1,4,17],[6,1,7,3],[6,7,6,8],[17,1,18,3],[6,10,7,12],[17,16,17,17],[17,15,18,15],[17,7,17,8],[17,4,18,4],[17,10,18,12],[6,16,6,17],[6,15,7,15],[6,4,7,4],[6,5,7,5],[8,11,8,12],[17,14,18,14],[8,1,14,1],[8,2,8,3],[8,7,8,8],[8,10,14,10],[9,2,11,2],[46,1,46,17],[8,16,8,17],[9,11,11,11],[12,2,14,2],[12,11,14,11],[19,16,19,17],[20,2,22,2],[20,11,22,11],[23,2,25,2],[19,1,25,1],[39,11,41,11],[23,11,25,11],[19,2,19,3],[19,7,19,8],[19,10,25,10],[19,11,19,12]]}
[]
[null,"Metas de rendimiento en el Nivel Inicial - Ciencia y Ambiente, Personal Social."]
[]
[null,"Estas tablas te servirán para realizar la misma operación anterior considerando otras Áreas Curriculares."]
[]
[null,"CONSOLIDADO del Histórico de rendimiento y formulación de metas 2017 del Nivel Inicial. ➨"]
[null,"Área de Ciencia y Ambiente",null,null,2014,2015,2016,2017,null,null,"Área de Personal Social",null,null,2014,2015,2016,2017]
[null,null,null,null,null,null,null,"Meta**","Pronóstico***",null,null,null,null,null,null,null,"Meta**","Pronóstico***"]
[null,"Nivel INICIAL","Nro. estudiantes*",null,{"$f":"SUM(E20,E28,E36)","v":0},{"$f":"SUM(F20,F28,F36)","v":0},0,{"$f":"SUM(H20,H28,H36)","v":0},null,null,"Nivel INICIAL","Nro. estudiantes*",null,{"$f":"SUM(N20,N28,N36)","v":0},{"$f":"SUM(O20,O28,O36)","v":0},0,{"$f":"SUM(Q20,Q28,Q36)","v":0}]
[null,null,"Nro. de estudiantes según calificación****","A",{"$f":"SUM(E21,E29,E37)","v":0},0,0,{"$f":"IFERROR(H13*H9,\"\")","v":""},{"$f":"IFERROR(I13*H9,\"\")","v":""},null,null,"Nro. de estudiantes según calificación****","A",{"$f":"SUM(N21,N29,N37)","v":0},0,0,{"$f":"IFERROR(Q13*Q9,\"\")","v":""},{"$f":"IFERROR(R13*Q9,\"\")","v":""}]
[null,null,null,"B",{"$f":"SUM(E22,E30,E38)","v":0},0,0,{"$f":"IFERROR(H14*H9,\"\")","v":""},{"$f":"IFERROR(I14*H9,\"\")","v":""},null,null,null,"B",{"$f":"SUM(N22,N30,N38)","v":0},0,0,{"$f":"IFERROR(Q14*Q9,\"\")","v":""},{"$f":"IFERROR(R14*Q9,\"\")","v":""}]
[null,null,null,"C",{"$f":"SUM(E23,E31,E39)","v":0},0,0,{"$f":"IFERROR(H15*H9,\"\")","v":""},{"$f":"IFERROR(I15*H9,\"\")","v":""},null,null,null,"C",{"$f":"SUM(N23,N31,N39)","v":0},0,0,{"$f":"IFERROR(Q15*Q9,\"\")","v":""},{"$f":"IFERROR(R15*Q9,\"\")","v":""}]
[null,null,"% de estudiantes según calificación","A",{"$f":"IFERROR(E10/E9,\"\")","v":""},{"$f":"IFERROR(F10/F9,\"\")","v":""},{"$f":"IFERROR(G10/G9,\"\")","v":""},{"$f":"IFERROR(SUM(H21,H29,H37)/SUM(H20,H28,H36),\"\")","v":""},{"$f":"IFERROR(FORECAST(H$7,E13:G13,E$7:G$7),\"\")","v":""},null,null,"% de estudiantes según calificación","A",{"$f":"IFERROR(N10/N9,\"\")","v":""},{"$f":"IFERROR(O10/O9,\"\")","v":""},{"$f":"IFERROR(P10/P9,\"\")","v":""},{"$f":"IFERROR(SUM(Q21,Q29,Q37)/SUM(Q20,Q28,Q36),\"\")","v":""},{"$f":"IFERROR(FORECAST(Q$7,N13:P13,N$7:P$7),\"\")","v":""}]
[null,null,null,"B",{"$f":"IFERROR(E11/E9,\"\")","v":""},{"$f":"IFERROR(F11/F9,\"\")","v":""},{"$f":"IFERROR(G11/G9,\"\")","v":""},{"$f":"IFERROR(SUM(H22,H30,H38)/SUM(H20,H28,H36),\"\")","v":""},{"$f":"IFERROR(FORECAST(H$7,E14:G14,E$7:G$7),\"\")","v":""},null,null,null,"B",{"$f":"IFERROR(N11/N9,\"\")","v":""},{"$f":"IFERROR(O11/O9,\"\")","v":""},{"$f":"IFERROR(P11/P9,\"\")","v":""},{"$f":"IFERROR(SUM(Q22,Q30,Q38)/SUM(Q20,Q28,Q36),\"\")","v":""},{"$f":"IFERROR(FORECAST(Q$7,N14:P14,N$7:P$7),\"\")","v":""}]
[null,null,null,"C",{"$f":"IFERROR(E12/E9,\"\")","v":""},{"$f":"IFERROR(F12/F9,\"\")","v":""},{"$f":"IFERROR(G12/G9,\"\")","v":""},{"$f":"IFERROR(SUM(H23,H31,H39)/SUM(H20,H28,H36),\"\")","v":""},{"$f":"IFERROR(FORECAST(H$7,E15:G15,E$7:G$7),\"\")","v":""},null,null,null,"C",{"$f":"IFERROR(N12/N9,\"\")","v":""},{"$f":"IFERROR(O12/O9,\"\")","v":""},{"$f":"IFERROR(P12/P9,\"\")","v":""},{"$f":"IFERROR(SUM(Q23,Q31,Q39)/SUM(Q20,Q28,Q36),\"\")","v":""},{"$f":"IFERROR(FORECAST(Q$7,N15:P15,N$7:P$7),\"\")","v":""}]
[null,null,null,null,null,null,{"$f":"IFERROR(G12/G8,\"\")","v":""}]
[null,"Histórico de rendimiento y formulación de metas 2017 según edad. ➨"]
[null,"Área de Ciencia y Ambiente",null,null,2014,2015,2016,2017,null,null,"Área de Personal Social",null,null,2014,2015,2016,2017]
[null,null,null,null,null,null,null,"Meta**","Pronóstico***",null,null,null,null,null,null,null,"Meta**","Pronóstico***"]
[null,"3 años","Nro. estudiantes*",null,null,null,null,null,null,null,"3 años","Nro. estudiantes*"]
[null,null,"Nro. de estudiantes según calificación****","A",null,null,null,{"$f":"IFERROR(H24*$H$20,\"\")","v":0},{"$f":"IFERROR(I24*H20,\"\")","v":""},null,null,"Nro. de estudiantes según calificación****","A",null,null,null,{"$f":"IFERROR(Q24*$Q$20,\"\")","v":0},{"$f":"IFERROR(R24*Q20,\"\")","v":""}]
[null,null,null,"B",null,null,null,{"$f":"IFERROR(H25*$H$20,\"\")","v":0},{"$f":"IFERROR(I25*H20,\"\")","v":""},null,null,null,"B",null,null,null,{"$f":"IFERROR(Q25*$Q$20,\"\")","v":0},{"$f":"IFERROR(R25*Q20,\"\")","v":""}]
[null,null,null,"C",null,null,null,{"$f":"IFERROR(H26*$H$20,\"\")","v":0},{"$f":"IFERROR(I26*H20,\"\")","v":""},null,null,null,"C",null,null,null,{"$f":"IFERROR(Q26*$Q$20,\"\")","v":0},{"$f":"IFERROR(R26*Q20,\"\")","v":""}]
[null,null,"% de estudiantes según calificación","A",{"$f":"IFERROR(E21/E20,\"\")","v":""},{"$f":"IFERROR(F21/F20,\"\")","v":""},{"$f":"IFERROR(G21/G20,\"\")","v":""},null,{"$f":"IFERROR(FORECAST(H18,E24:G24,E18:G18),\"\")","v":""},null,null,"% de estudiantes según calificación","A",{"$f":"IFERROR(N21/N20,\"\")","v":""},"","",null,{"$f":"IFERROR(FORECAST(Q$18,N24:P24,N$18:P$18),\"\")","v":""}]
[null,null,null,"B",{"$f":"IFERROR(E22/E20,\"\")","v":""},{"$f":"IFERROR(F22/F20,\"\")","v":""},{"$f":"IFERROR(G22/G20,\"\")","v":""},null,{"$f":"IFERROR(FORECAST(H18,E25:G25,E18:G18),\"\")","v":""},null,null,null,"B","","","",null,{"$f":"IFERROR(FORECAST(Q$18,N25:P25,N$18:P$18),\"\")","v":""}]
[null,null,null,"C",{"$f":"IFERROR(E23/E20,\"\")","v":""},{"$f":"IFERROR(F23/F20,\"\")","v":""},{"$f":"IFERROR(G23/G20,\"\")","v":""},null,{"$f":"IFERROR(FORECAST(H18,E26:G26,E18:G18),\"\")","v":""},null,null,null,"C","","","",null,{"$f":"IFERROR(FORECAST(Q$18,N26:P26,N$18:P$18),\"\")","v":""}]
[null,null,null,null,{"$f":"IF(SUM(E21:E23)=E20,\"\",\"datos erróneos\")","v":""},{"$f":"IF(SUM(F21:F23)=F20,\"\",\"datos erróneos\")","v":""},{"$f":"IF(SUM(G21:G23)=G20,\"\",\"datos erróneos\")","v":""},{"$f":"IF(SUM(H24:H26)=1,\"\",(IF(SUM(H24:H26)=0,\"\",\"datos erróneos\")))","v":""},null,null,null,null,null,{"$f":"IF(SUM(N21:N23)=N20,\"\",\"datos erróneos\")","v":""},{"$f":"IF(SUM(O21:O23)=O20,\"\",\"datos erróneos\")","v":""},{"$f":"IF(SUM(P21:P23)=P20,\"\",\"datos erróneos\")","v":""},{"$f":"IF(SUM(Q24:Q26)=1,\"\",(IF(SUM(Q24:Q26)=0,\"\",\"datos erróneos\")))","v":""}]
[null,"4 años","Nro. estudiantes*",null,null,null,null,null,null,null,"4 años","Nro. estudiantes*"]
[null,null,"Nro. de estudiantes según calificación****","A",null,null,null,{"$f":"IFERROR(H32*$H$28,\"\")","v":0},{"$f":"IFERROR(I32*H28,\"\")","v":""},null,null,"Nro. de estudiantes según calificación****","A",null,null,null,{"$f":"IFERROR(Q32*$Q$28,\"\")","v":0},{"$f":"IFERROR(R32*Q28,\"\")","v":""}]
[null,null,null,"B",null,null,null,{"$f":"IFERROR(H33*$H$28,\"\")","v":0},{"$f":"IFERROR(I33*H28,\"\")","v":""},null,null,null,"B",null,null,null,{"$f":"IFERROR(Q33*$Q$28,\"\")","v":0},{"$f":"IFERROR(R33*Q28,\"\")","v":""}]
[null,null,null,"C",null,null,null,{"$f":"IFERROR(H34*$H$28,\"\")","v":0},{"$f":"IFERROR(I34*H28,\"\")","v":""},null,null,null,"C",null,null,null,{"$f":"IFERROR(Q34*$Q$28,\"\")","v":0},{"$f":"IFERROR(R34*Q28,\"\")","v":""}]
[null,null,"% de estudiantes según calificación","A",{"$f":"IFERROR(E29/E28,\"\")","v":""},{"$f":"IFERROR(F29/F28,\"\")","v":""},{"$f":"IFERROR(G29/G28,\"\")","v":""},null,{"$f":"IFERROR(FORECAST(H$18,E32:G32,E$18:G$18),\"\")","v":""},null,null,"% de estudiantes según calificación","A",{"$f":"IFERROR(N29/N28,\"\")","v":""},{"$f":"IFERROR(O29/O28,\"\")","v":""},{"$f":"IFERROR(P29/P28,\"\")","v":""},null,{"$f":"IFERROR(FORECAST(Q$18,N32:P32,N$18:P$18),\"\")","v":""}]
[null,null,null,"B",{"$f":"IFERROR(E30/E28,\"\")","v":""},{"$f":"IFERROR(F30/F28,\"\")","v":""},{"$f":"IFERROR(G30/G28,\"\")","v":""},null,{"$f":"IFERROR(FORECAST(H$18,E33:G33,E$18:G$18),\"\")","v":""},null,null,null,"B",{"$f":"IFERROR(N30/N29,\"\")","v":""},"","",null,{"$f":"IFERROR(FORECAST(Q$18,N33:P33,N$18:P$18),\"\")","v":""}]
[null,null,null,"C",{"$f":"IFERROR(E31/E28,\"\")","v":""},{"$f":"IFERROR(F31/F28,\"\")","v":""},{"$f":"IFERROR(G31/G28,\"\")","v":""},null,{"$f":"IFERROR(FORECAST(H$18,E34:G34,E$18:G$18),\"\")","v":""},null,null,null,"C","","","",null,{"$f":"IFERROR(FORECAST(Q$18,N34:P34,N$18:P$18),\"\")","v":""}]
[null,null,null,null,{"$f":"IF(SUM(E29:E31)=E28,\"\",\"datos erróneos\")","v":""},{"$f":"IF(SUM(F29:F31)=F28,\"\",\"datos erróneos\")","v":""},{"$f":"IF(SUM(G29:G31)=G28,\"\",\"datos erróneos\")","v":""},{"$f":"IF(SUM(H32:H34)=1,\"\",(IF(SUM(H32:H34)=0,\"\",\"datos erróneos\")))","v":""},null,null,null,null,null,{"$f":"IF(SUM(N29:N31)=N28,\"\",\"datos erróneos\")","v":""},{"$f":"IF(SUM(O29:O31)=O28,\"\",\"datos erróneos\")","v":""},{"$f":"IF(SUM(P29:P31)=P28,\"\",\"datos erróneos\")","v":""},{"$f":"IF(SUM(Q32:Q34)=1,\"\",(IF(SUM(Q32:Q34)=0,\"\",\"datos erróneos\")))","v":""}]
[null,"5 años","Nro. estudiantes*",null,null,null,null,null,null,null,"5 años","Nro. estudiantes*"]
[null,null,"Nro. de estudiantes según calificación****","A",null,null,null,{"$f":"IFERROR(H40*$H$36,\"\")","v":0},{"$f":"IFERROR(I40*H36,\"\")","v":""},null,null,"Nro. de estudiantes según calificación****","A",null,null,null,{"$f":"IFERROR(Q40*$Q$36,\"\")","v":0},{"$f":"IFERROR(R40*Q36,\"\")","v":""}]
[null,null,null,"B",null,null,null,{"$f":"IFERROR(H41*$H$36,\"\")","v":0},{"$f":"IFERROR(I41*H36,\"\")","v":""},null,null,null,"B",null,null,null,{"$f":"IFERROR(Q41*$Q$36,\"\")","v":0},{"$f":"IFERROR(R41*Q36,\"\")","v":""}]
[null,null,null,"C",null,null,null,{"$f":"IFERROR(H42*$H$36,\"\")","v":0},{"$f":"IFERROR(I42*H36,\"\")","v":""},null,null,null,"C",null,null,null,{"$f":"IFERROR(Q42*$Q$36,\"\")","v":0},{"$f":"IFERROR(R42*Q36,\"\")","v":""}]
[null,null,"% de estudiantes según calificación","A",{"$f":"IFERROR(E37/E36,\"\")","v":""},{"$f":"IFERROR(F37/F36,\"\")","v":""},{"$f":"IFERROR(G37/G36,\"\")","v":""},null,{"$f":"IFERROR(FORECAST(H$18,E40:G40,E$18:G$18),\"\")","v":""},null,null,"% de estudiantes según calificación","A",{"$f":"IFERROR(N37/N36,\"\")","v":""},{"$f":"IFERROR(O37/O36,\"\")","v":""},{"$f":"IFERROR(P37/P36,\"\")","v":""},null,{"$f":"IFERROR(FORECAST(Q$18,N40:P40,N$18:P$18),\"\")","v":""}]
[null,null,null,"B",{"$f":"IFERROR(E38/E36,\"\")","v":""},{"$f":"IFERROR(F38/F36,\"\")","v":""},{"$f":"IFERROR(G38/G36,\"\")","v":""},null,{"$f":"IFERROR(FORECAST(H$18,E41:G41,E$18:G$18),\"\")","v":""},null,null,null,"B",{"$f":"IFERROR(N38/N37,\"\")","v":""},"","",null,{"$f":"IFERROR(FORECAST(Q$18,N41:P41,N$18:P$18),\"\")","v":""}]
[null,null,null,"C",{"$f":"IFERROR(E39/E36,\"\")","v":""},{"$f":"IFERROR(F39/F36,\"\")","v":""},{"$f":"IFERROR(G39/G36,\"\")","v":""},null,{"$f":"IFERROR(FORECAST(H$18,E42:G42,E$18:G$18),\"\")","v":""},null,null,null,"C","","","",null,{"$f":"IFERROR(FORECAST(Q$18,N42:P42,N$18:P$18),\"\")","v":""}]
[null,null,null,null,{"$f":"IF(SUM(E37:E39)=E36,\"\",\"datos erróneos\")","v":""},{"$f":"IF(SUM(F37:F39)=F36,\"\",\"datos erróneos\")","v":""},{"$f":"IF(SUM(G37:G39)=G36,\"\",\"datos erróneos\")","v":""},{"$f":"IF(SUM(H40:H42)=1,\"\",(IF(SUM(H40:H42)=0,\"\",\"datos erróneos\")))","v":""},null,null,null,null,null,{"$f":"IF(SUM(N37:N39)=N36,\"\",\"datos erróneos\")","v":""},{"$f":"IF(SUM(O37:O39)=O36,\"\",\"datos erróneos\")","v":""},{"$f":"IF(SUM(P37:P39)=P36,\"\",\"datos erróneos\")","v":""},{"$f":"IF(SUM(Q40:Q42)=1,\"\",(IF(SUM(Q40:Q42)=0,\"\",\"datos erróneos\")))","v":""}]
[]
[null,"* Nro de estudiantes:  En los años 2014 al 2016 deberás colocar el número de estudiantes según tus actas finales; en el 2016, deberás colocar el número de estudiantes matriculados en ese año."]
[null,"** Meta:  Esta es la meta que te propones para el año 2016, deberás escribirla en las celdas blancas de %. Ten en cuenta el pronóstico para proponerte metas realistas. "]
[null,"*** Pronóstico: Es el porcentaje o número de estudiantes según su desempeño en cada grado. El porcentaje de pronóstico depende de los porcentajes alcanzados en los años anteriores y no suma 100% necesariamente.Del mismo modo, suma el número de estudiantes matriculados en el año. Además pueden haber valores negativos sin que ello afecte la interpretación. En esos casos lo que dice el pronóstico es que tu tendencia es marcadamente hacia la baja."]
[null,"**** Estudiantes según calificación: En los años 2014 al 2015 deberás poner el número de estudiantes con cada calificación según las actas finales. En el 2016, se mostrará lo que deberías alcanzar según tu meta propuesta."]
[]
[null,"\n\n"]

{"sheet":"C1_Form PrimEIB","index":33,"n_rows":91,"n_cols":18,"rows_kept":91,"cut":false,"hidden":true,"merged":[[3,1,4,14],[1,1,1,17],[9,1,10,3],[9,4,10,4],[9,5,10,5],[9,6,10,6],[9,7,9,8],[9,10,10,12],[9,13,10,13],[9,14,10,14],[9,15,10,15],[9,16,9,17],[6,1,6,13],[5,1,5,14],[11,1,19,1],[11,2,11,3],[11,7,11,8],[11,10,19,10],[11,11,11,12],[11,16,11,17],[12,2,15,2],[12,11,15,11],[16,2,19,2],[16,11,19,11],[22,1,23,3],[22,4,23,4],[22,5,23,5],[22,6,23,6],[22,7,22,8],[22,10,23,12],[22,13,23,13],[22,14,23,14],[22,15,23,15],[22,16,22,17],[24,1,32,1],[24,2,24,3],[24,7,24,8],[24,10,32,10],[24,11,24,12],[24,16,24,17],[25,2,28,2],[25,11,28,11],[29,2,32,2],[29,11,32,11],[34,1,42,1],[34,2,34,3],[34,7,34,8],[34,10,42,10],[34,11,34,12],[44,1,52,1],[44,2,44,3],[44,7,44,8],[44,10,52,10],[44,11,44,12],[34,16,34,17],[35,2,38,2],[35,11,38,11],[39,2,42,2],[39,11,42,11],[54,1,62,1],[54,2,54,3],[54,7,54,8],[54,10,62,10],[54,11,54,12],[55,11,58,11],[59,2,62,2],[59,11,62,11],[64,2,64,3],[64,7,64,8],[64,10,72,10],[64,11,64,12],[44,16,44,17],[45,2,48,2],[45,11,48,11],[49,2,52,2],[49,11,52,11],[64,16,64,17],[65,2,68,2],[65,11,68,11],[69,2,72,2],[69,11,72,11],[54,16,54,17],[55,2,58,2],[64,1,72,1],[86,1,86,17],[96,1,96,17],[97,1,98,17],[74,16,74,17],[75,2,78,2],[75,11,78,11],[79,2,82,2],[79,11,82,11],[74,1,82,1],[89,1,89,17],[74,11,74,12],[74,7,74,8],[85,1,85,17],[74,2,74,3],[74,10,82,10]]}
[]
[null,"Metas de rendimiento en el Nivel Primaria para escuelas EIB - Comunicación (Lengua Materna y Segunda Lengua)"]
[null,"¿Qué hacer?"]
[null,"1° Deberás completar las tablas del \"Histórico de rendimiento...\" en relación a las calificaciones obtenidas en Lengua Materna y Segunda Lengua por cada grado.  Entonces, aparecerá automáticamente los porcentajes que representan y además, tendrás el pronóstico en cada caso. "]
[]
[null,"2° Tomando como referencia los datos del 2015 y el pronóstico, podrás proyectar tus metas. Luego, escribir el número de estudiantes matriculados el presente año y \nse calculará la meta en número de estudiantes."]
[null,"3° Se repite la operación en cada uno de los grados. Finalmente contarás con la meta del nivel en la tabla \"CONSOLIDADO\"."]
[]
[null,"CONSOLIDADO del Histórico de rendimiento y formulación de metas 2017 del Nivel Primaria. ➨"]
[null,"Área de Comunicación (LENGUA MATERNA)",null,null,2014,2015,2016,2017,null,null,"Área de Comunicación (SEGUNDA LENGUA)",null,null,2014,2015,2016,2017]
[null,null,null,null,null,null,null,"Meta**","Pronóstico***",null,null,null,null,null,null,null,"Meta**","Pronóstico***"]
[null,"Nivel PRIMARIA","Nro. estudiantes*",null,{"$f":"SUM(E25,E35,E45,E55,E65,E75)","v":0},{"$f":"SUM(F25,F35,F45,F55,F65,F75)","v":0},{"$f":"SUM(G25,G35,G45,G55,G65,G75)","v":0},{"$f":"SUM(H25,H35,H45,H55,H65,H75)","v":0},null,null,"Nivel PRIMARIA","Nro. estudiantes*",null,{"$f":"SUM(N25,N35,N45,N55,N65,N75)","v":0},{"$f":"SUM(O25,O35,O45,O55,O65,O75)","v":0},{"$f":"SUM(P25,P35,P45,P55,P65,P75)","v":0},{"$f":"SUM(Q25,Q35,Q45,Q55,Q65,Q75)","v":0}]
[null,null,"Nro. de estudiantes según calificación****","AD",{"$f":"SUM(E26,E36,E46,E56,E66,E76)","v":0},0,0,{"$f":"IFERROR(H17*H12,\"\")","v":""},{"$f":"IFERROR(I17*H12,\"\")","v":""},null,null,"Nro. de estudiantes según calificación****","AD",{"$f":"SUM(N26,N36,N46,N56,N66,N76)","v":0},0,0,{"$f":"IFERROR(Q17*Q12,\"\")","v":""},{"$f":"IFERROR(R17*Q12,\"\")","v":""}]
[null,null,null,"A",0,0,0,{"$f":"IFERROR(H18*H12,\"\")","v":""},{"$f":"IFERROR(I18*H12,\"\")","v":""},null,null,null,"A",0,0,0,{"$f":"IFERROR(Q18*Q12,\"\")","v":""},{"$f":"IFERROR(R18*Q12,\"\")","v":""}]
[null,null,null,"B",0,0,0,{"$f":"IFERROR(H19*H12,\"\")","v":""},{"$f":"IFERROR(I19*H12,\"\")","v":""},null,null,null,"B",0,0,0,{"$f":"IFERROR(Q19*Q12,\"\")","v":""},{"$f":"IFERROR(R19*Q12,\"\")","v":""}]
[null,null,null,"C",0,0,0,{"$f":"IFERROR(H20*H12,\"\")","v":""},{"$f":"IFERROR(I20*H12,\"\")","v":""},null,null,null,"C",0,0,0,{"$f":"IFERROR(Q20*Q12,\"\")","v":""},{"$f":"IFERROR(R20*Q12,\"\")","v":""}]
[null,null,"% de estudiantes según calificación","AD",{"$f":"IFERROR(E13/E12,\"\")","v":""},{"$f":"IFERROR(F13/F12,\"\")","v":""},{"$f":"IFERROR(G13/G12,\"\")","v":""},{"$f":"IFERROR(SUM(H26,H36,H46,H56,H66,H76)/SUM(H25,H35,H45,H55,H65,H75),\"\")","v":""},{"$f":"IFERROR(FORECAST(H10,E17:G17,E10:G10),\"\")","v":""},null,null,"% de estudiantes según calificación","AD",{"$f":"IFERROR(N13/N12,\"\")","v":""},{"$f":"IFERROR(O13/O12,\"\")","v":""},{"$f":"IFERROR(P13/P12,\"\")","v":""},{"$f":"IFERROR(SUM(Q26,Q36,Q46,Q56,Q66,Q76)/SUM(Q25,Q35,Q45,Q55,Q65,Q75),\"\")","v":""},{"$f":"IFERROR(FORECAST(Q10,N17:P17,N10:P10),\"\")","v":""}]
[null,null,null,"A",{"$f":"IFERROR(E14/E12,\"\")","v":""},{"$f":"IFERROR(F14/F12,\"\")","v":""},{"$f":"IFERROR(G14/G12,\"\")","v":""},{"$f":"IFERROR(SUM(H27,H37,H47,H57,H67,H77)/SUM(H25,H35,H45,H55,H65,H75),\"\")","v":""},{"$f":"IFERROR(FORECAST(H10,E18:G18,E10:G10),\"\")","v":""},null,null,null,"A",{"$f":"IFERROR(N14/N12,\"\")","v":""},{"$f":"IFERROR(O14/O12,\"\")","v":""},{"$f":"IFERROR(P14/P12,\"\")","v":""},{"$f":"IFERROR(SUM(Q27,Q37,Q47,Q57,Q67,Q77)/SUM(Q25,Q35,Q45,Q55,Q65,Q75),\"\")","v":""},{"$f":"IFERROR(FORECAST(Q10,N18:P18,N10:P10),\"\")","v":""}]
[null,null,null,"B",{"$f":"IFERROR(E15/E12,\"\")","v":""},{"$f":"IFERROR(F15/F12,\"\")","v":""},{"$f":"IFERROR(G15/G12,\"\")","v":""},{"$f":"IFERROR(SUM(H28,H38,H48,H58,H68,H78)/SUM(H25,H35,H45,H55,H65,H75),\"\")","v":""},{"$f":"IFERROR(FORECAST(H10,E19:G19,E10:G10),\"\")","v":""},null,null,null,"B",{"$f":"IFERROR(N15/N12,\"\")","v":""},{"$f":"IFERROR(O15/O12,\"\")","v":""},{"$f":"IFERROR(P15/P12,\"\")","v":""},{"$f":"IFERROR(SUM(Q28,Q38,Q48,Q58,Q68,Q78)/SUM(Q25,Q35,Q45,Q55,Q65,Q75),\"\")","v":""},{"$f":"IFERROR(FORECAST(Q10,N19:P19,N10:P10),\"\")","v":""}]
[null,null,null,"C",{"$f":"IFERROR(E16/E12,\"\")","v":""},{"$f":"IFERROR(F16/F12,\"\")","v":""},{"$f":"IFERROR(G16/G12,\"\")","v":""},{"$f":"IFERROR(SUM(H29,H39,H49,H59,H69,H79)/SUM(H25,H35,H45,H55,H65,H75),\"\")","v":""},{"$f":"IFERROR(FORECAST(H10,E20:G20,E10:G10),\"\")","v":""},null,null,null,"C",{"$f":"IFERROR(N16/N12,\"\")","v":""},{"$f":"IFERROR(O16/O12,\"\")","v":""},{"$f":"IFERROR(P16/P12,\"\")","v":""},{"$f":"IFERROR(SUM(Q29,Q39,Q49,Q59,Q69,Q79)/SUM(Q25,Q35,Q45,Q55,Q65,Q75),\"\")","v":""},{"$f":"IFERROR(FORECAST(Q10,N20:P20,N10:P10),\"\")","v":""}]
[null,"Histórico de rendimiento y formulación de metas 2017 según grado. ➨"]
[]
[null,"Área de Comunicación (LENGUA MATERNA)",null,null,2014,2015,2016,2017,null,null,"Área de Comunicación (SEGUNDA LENGUA)",null,null,2014,2015,2016,2017]
[null,null,null,null,null,null,null,"Meta**","Pronóstico***",null,null,null,null,null,null,null,"Meta**","Pronóstico***"]
[null,"1er grado","Nro. estudiantes*",null,null,null,null,null,null,null,"1er grado","Nro. estudiantes*"]
[null,null,"Nro. de estudiantes según calificación****","AD",null,null,null,{"$f":"IFERROR(H30*$H$25,\"\")","v":0},{"$f":"IFERROR(I30*H25,\"\")","v":""},null,null,"Nro. de estudiantes según calificación****","AD",null,null,null,{"$f":"IFERROR(Q30*$Q$25,\"\")","v":0},{"$f":"IFERROR(R30*Q25,\"\")","v":""}]
[null,null,null,"A",null,null,null,{"$f":"IFERROR(H31*$H$25,\"\")","v":0},{"$f":"IFERROR(I31*H25,\"\")","v":""},null,null,null,"A",null,null,null,{"$f":"IFERROR(Q31*$Q$25,\"\")","v":0},{"$f":"IFERROR(R31*Q25,\"\")","v":""}]
[null,null,null,"B",null,null,null,{"$f":"IFERROR(H32*$H$25,\"\")","v":0},{"$f":"IFERROR(I32*H25,\"\")","v":""},null,null,null,"B",null,null,null,{"$f":"IFERROR(Q32*$Q$25,\"\")","v":0},{"$f":"IFERROR(R32*Q25,\"\")","v":""}]
[null,null,null,"C",null,null,null,{"$f":"IFERROR(H33*$H$25,\"\")","v":0},{"$f":"IFERROR(I33*H25,\"\")","v":""},null,null,null,"C",null,null,null,{"$f":"IFERROR(Q33*$Q$25,\"\")","v":0},{"$f":"IFERROR(R33*Q25,\"\")","v":""}]
[null,null,"% de estudiantes según calificación","AD",{"$f":"IFERROR(E26/E25,\"\")","v":""},{"$f":"IFERROR(F26/F25,\"\")","v":""},{"$f":"IFERROR(G26/G25,\"\")","v":""},null,{"$f":"IFERROR(FORECAST(H23,E30:G30,E23:G23),\"\")","v":""},null,null,"% de estudiantes según calificación","AD",{"$f":"IFERROR(N26/N25,\"\")","v":""},{"$f":"IFERROR(O26/O25,\"\")","v":""},{"$f":"IFERROR(P26/P25,\"\")","v":""},null,{"$f":"IFERROR(FORECAST(Q23,N30:P30,N23:P23),\"\")","v":""}]
[null,null,null,"A",{"$f":"IFERROR(E27/E25,\"\")","v":""},{"$f":"IFERROR(F27/F25,\"\")","v":""},{"$f":"IFERROR(G27/G25,\"\")","v":""},null,{"$f":"IFERROR(FORECAST(H23,E31:G31,E23:G23),\"\")","v":""},null,null,null,"A",{"$f":"IFERROR(N27/N25,\"\")","v":""},{"$f":"IFERROR(O27/O25,\"\")","v":""},{"$f":"IFERROR(P27/P25,\"\")","v":""},null,{"$f":"IFERROR(FORECAST(Q23,N31:P31,N23:P23),\"\")","v":""}]
[null,null,null,"B",{"$f":"IFERROR(E28/E25,\"\")","v":""},{"$f":"IFERROR(F28/F25,\"\")","v":""},{"$f":"IFERROR(G28/G25,\"\")","v":""},null,{"$f":"IFERROR(FORECAST(H23,E32:G32,E23:G23),\"\")","v":""},null,null,null,"B",{"$f":"IFERROR(N28/N25,\"\")","v":""},{"$f":"IFERROR(O28/O25,\"\")","v":""},{"$f":"IFERROR(P28/P25,\"\")","v":""},null,{"$f":"IFERROR(FORECAST(Q23,N32:P32,N23:P23),\"\")","v":""}]
[null,null,null,"C",{"$f":"IFERROR(E29/E25,\"\")","v":""},{"$f":"IFERROR(F29/F25,\"\")","v":""},{"$f":"IFERROR(G29/G25,\"\")","v":""},null,{"$f":"IFERROR(FORECAST(H23,E33:G33,E23:G23),\"\")","v":""},null,null,null,"C",{"$f":"IFERROR(N29/N25,\"\")","v":""},{"$f":"IFERROR(O29/O25,\"\")","v":""},{"$f":"IFERROR(P29/P25,\"\")","v":""},null,{"$f":"IFERROR(FORECAST(Q23,N33:P33,N23:P23),\"\")","v":""}]
[null,null,null,null,{"$f":"IF(SUM(E26:E29)=E25,\"\",\"datos erróneos\")","v":""},{"$f":"IF(SUM(F26:F29)=F25,\"\",\"datos erróneos\")","v":""},{"$f":"IF(SUM(G26:G29)=G25,\"\",\"datos erróneos\")","v":""},{"$f":"IF(SUM(H30:H33)=1,\"\",(IF(SUM(H30:H33)=0,\"\",\"datos erróneos\")))","v":""},null,null,null,null,null,{"$f":"IF(SUM(N26:N29)=N25,\"\",\"datos erróneos\")","v":""},{"$f":"IF(SUM(O26:O29)=O25,\"\",\"datos erróneos\")","v":""},{"$f":"IF(SUM(P26:P29)=P25,\"\",\"datos erróneos\")","v":""},{"$f":"IF(SUM(Q30:Q33)=1,\"\",(IF(SUM(Q30:Q33)=0,\"\",\"datos erróneos\")))","v":""}]
[null,"2do grado","Nro. estudiantes*",null,null,null,null,null,null,null,"2do grado","Nro. estudiantes*"]
[null,null,"Nro. de estudiantes según calificación****","AD",null,null,null,{"$f":"IFERROR(H40*$H$35,\"\")","v":0},{"$f":"IFERROR(I40*H35,\"\")","v":""},null,null,"Nro. de estudiantes según calificación****","AD",null,null,null,{"$f":"IFERROR(Q40*$Q$35,\"\")","v":0},{"$f":"IFERROR(R40*Q35,\"\")","v":""}]
[null,null,null,"A",null,null,null,{"$f":"IFERROR(H41*$H$35,\"\")","v":0},{"$f":"IFERROR(I41*H35,\"\")","v":""},null,null,null,"A",null,null,null,{"$f":"IFERROR(Q41*$Q$35,\"\")","v":0},{"$f":"IFERROR(R41*Q35,\"\")","v":""}]
[null,null,null,"B",null,null,null,{"$f":"IFERROR(H42*$H$35,\"\")","v":0},{"$f":"IFERROR(I42*H35,\"\")","v":""},null,null,null,"B",null,null,null,{"$f":"IFERROR(Q42*$Q$35,\"\")","v":0},{"$f":"IFERROR(R42*Q35,\"\")","v":""}]
[null,null,null,"C",null,null,null,{"$f":"IFERROR(H43*$H$35,\"\")","v":0},{"$f":"IFERROR(I43*H35,\"\")","v":""},null,null,null,"C",null,null,null,{"$f":"IFERROR(Q43*$Q$35,\"\")","v":0},{"$f":"IFERROR(R43*Q35,\"\")","v":""}]
[null,null,"% de estudiantes según calificación","AD",{"$f":"IFERROR(E36/E35,\"\")","v":""},{"$f":"IFERROR(F36/F35,\"\")","v":""},{"$f":"IFERROR(G36/G35,\"\")","v":""},null,{"$f":"IFERROR(FORECAST(H23,E40:G40,E23:G23),\"\")","v":""},null,null,"% de estudiantes según calificación","AD",{"$f":"IFERROR(N36/N35,\"\")","v":""},{"$f":"IFERROR(O36/O35,\"\")","v":""},{"$f":"IFERROR(P36/P35,\"\")","v":""},null,{"$f":"IFERROR(FORECAST(Q23,N40:P40,N23:P23),\"\")","v":""}]
[null,null,null,"A",{"$f":"IFERROR(E37/E35,\"\")","v":""},{"$f":"IFERROR(F37/F35,\"\")","v":""},{"$f":"IFERROR(G37/G35,\"\")","v":""},null,{"$f":"IFERROR(FORECAST(H23,E41:G41,E23:G23),\"\")","v":""},null,null,null,"A",{"$f":"IFERROR(N37/N35,\"\")","v":""},{"$f":"IFERROR(O37/O35,\"\")","v":""},{"$f":"IFERROR(P37/P35,\"\")","v":""},null,{"$f":"IFERROR(FORECAST(Q23,N41:P41,N23:P23),\"\")","v":""}]
[null,null,null,"B",{"$f":"IFERROR(E38/E35,\"\")","v":""},{"$f":"IFERROR(F38/F35,\"\")","v":""},{"$f":"IFERROR(G38/G35,\"\")","v":""},null,{"$f":"IFERROR(FORECAST(H23,E42:G42,E23:G23),\"\")","v":""},null,null,null,"B",{"$f":"IFERROR(N38/N35,\"\")","v":""},{"$f":"IFERROR(O38/O35,\"\")","v":""},{"$f":"IFERROR(P38/P35,\"\")","v":""},null,{"$f":"IFERROR(FORECAST(Q23,N42:P42,N23:P23),\"\")","v":""}]
[null,null,null,"C",{"$f":"IFERROR(E39/E35,\"\")","v":""},{"$f":"IFERROR(F39/F35,\"\")","v":""},{"$f":"IFERROR(G39/G35,\"\")","v":""},null,{"$f":"IFERROR(FORECAST(H23,E43:G43,E23:G23),\"\")","v":""},null,null,null,"C",{"$f":"IFERROR(N39/N35,\"\")","v":""},{"$f":"IFERROR(O39/O35,\"\")","v":""},{"$f":"IFERROR(P39/P35,\"\")","v":""},null,{"$f":"IFERROR(FORECAST(Q23,N43:P43,N23:P23),\"\")","v":""}]
[null,null,null,null,{"$f":"IF(SUM(E36:E39)=E35,\"\",\"datos erróneos\")","v":""},{"$f":"IF(SUM(F36:F39)=F35,\"\",\"datos erróneos\")","v":""},{"$f":"IF(SUM(G36:G39)=G35,\"\",\"datos erróneos\")","v":""},{"$f":"IF(SUM(H40:H43)=1,\"\",(IF(SUM(H40:H43)=0,\"\",\"datos erróneos\")))","v":""},null,null,null,null,null,{"$f":"IF(SUM(N36:N39)=N35,\"\",\"datos erróneos\")","v":""},{"$f":"IF(SUM(O36:O39)=O35,\"\",\"datos erróneos\")","v":""},{"$f":"IF(SUM(P36:P39)=P35,\"\",\"datos erróneos\")","v":""},{"$f":"IF(SUM(Q40:Q43)=1,\"\",(IF(SUM(Q40:Q43)=0,\"\",\"datos erróneos\")))","v":""}]
[null,"3er grado","Nro. estudiantes*",null,null,null,null,null,null,null,"3er grado","Nro. estudiantes*"]
[null,null,"Nro. de estudiantes según calificación****","AD",null,null,null,{"$f":"IFERROR(H50*$H$45,\"\")","v":0},{"$f":"IFERROR(I50*H45,\"\")","v":""},null,null,"Nro. de estudiantes según calificación****","AD",null,null,null,{"$f":"IFERROR(Q50*$Q$45,\"\")","v":0},{"$f":"IFERROR(R50*Q45,\"\")","v":""}]
[null,null,null,"A",null,null,null,{"$f":"IFERROR(H51*$H$45,\"\")","v":0},{"$f":"IFERROR(I51*H45,\"\")","v":""},null,null,null,"A",null,null,null,{"$f":"IFERROR(Q51*$Q$45,\"\")","v":0},{"$f":"IFERROR(R51*Q45,\"\")","v":""}]
[null,null,null,"B",null,null,null,{"$f":"IFERROR(H52*$H$45,\"\")","v":0},{"$f":"IFERROR(I52*H45,\"\")","v":""},null,null,null,"B",null,null,null,{"$f":"IFERROR(Q52*$Q$45,\"\")","v":0},{"$f":"IFERROR(R52*Q45,\"\")","v":""}]
[null,null,null,"C",null,null,null,{"$f":"IFERROR(H53*$H$45,\"\")","v":0},{"$f":"IFERROR(I53*H45,\"\")","v":""},null,null,null,"C",null,null,null,{"$f":"IFERROR(Q53*$Q$45,\"\")","v":0},{"$f":"IFERROR(R53*Q45,\"\")","v":""}]
[null,null,"% de estudiantes según calificación","AD",{"$f":"IFERROR(E46/E45,\"\")","v":""},{"$f":"IFERROR(F46/F45,\"\")","v":""},{"$f":"IFERROR(G46/G45,\"\")","v":""},null,{"$f":"IFERROR(FORECAST(H23,E50:G50,E23:G23),\"\")","v":""},null,null,"% de estudiantes según calificación","AD",{"$f":"IFERROR(N46/N45,\"\")","v":""},{"$f":"IFERROR(O46/O45,\"\")","v":""},{"$f":"IFERROR(P46/P45,\"\")","v":""},null,{"$f":"IFERROR(FORECAST(Q23,N50:P50,N23:P23),\"\")","v":""}]
[null,null,null,"A",{"$f":"IFERROR(E47/E45,\"\")","v":""},{"$f":"IFERROR(F47/F45,\"\")","v":""},{"$f":"IFERROR(G47/G45,\"\")","v":""},null,{"$f":"IFERROR(FORECAST(H23,E51:G51,E23:G23),\"\")","v":""},null,null,null,"A",{"$f":"IFERROR(N47/N45,\"\")","v":""},{"$f":"IFERROR(O47/O45,\"\")","v":""},{"$f":"IFERROR(P47/P45,\"\")","v":""},null,{"$f":"IFERROR(FORECAST(Q23,N51:P51,N23:P23),\"\")","v":""}]
[null,null,null,"B",{"$f":"IFERROR(E48/E45,\"\")","v":""},{"$f":"IFERROR(F48/F45,\"\")","v":""},{"$f":"IFERROR(G48/G45,\"\")","v":""},null,{"$f":"IFERROR(FORECAST(H23,E52:G52,E23:G23),\"\")","v":""},null,null,null,"B",{"$f":"IFERROR(N48/N45,\"\")","v":""},{"$f":"IFERROR(O48/O45,\"\")","v":""},{"$f":"IFERROR(P48/P45,\"\")","v":""},null,{"$f":"IFERROR(FORECAST(Q23,N52:P52,N23:P23),\"\")","v":""}]
[null,null,null,"C",{"$f":"IFERROR(E49/E45,\"\")","v":""},{"$f":"IFERROR(F49/F45,\"\")","v":""},{"$f":"IFERROR(G49/G45,\"\")","v":""},null,{"$f":"IFERROR(FORECAST(H23,E53:G53,E23:G23),\"\")","v":""},null,null,null,"C",{"$f":"IFERROR(N49/N45,\"\")","v":""},{"$f":"IFERROR(O49/O45,\"\")","v":""},{"$f":"IFERROR(P49/P45,\"\")","v":""},null,{"$f":"IFERROR(FORECAST(Q23,N53:P53,N23:P23),\"\")","v":""}]
[null,null,null,null,{"$f":"IF(SUM(E46:E49)=E45,\"\",\"datos erróneos\")","v":""},{"$f":"IF(SUM(F46:F49)=F45,\"\",\"datos erróneos\")","v":""},{"$f":"IF(SUM(G46:G49)=G45,\"\",\"datos erróneos\")","v":""},{"$f":"IF(SUM(H50:H53)=1,\"\",(IF(SUM(H50:H53)=0,\"\",\"datos erróneos\")))","v":""},null,null,null,null,null,{"$f":"IF(SUM(N46:N49)=N45,\"\",\"datos erróneos\")","v":""},{"$f":"IF(SUM(O46:O49)=O45,\"\",\"datos erróneos\")","v":""},{"$f":"IF(SUM(P46:P49)=P45,\"\",\"datos erróneos\")","v":""},{"$f":"IF(SUM(Q50:Q53)=1,\"\",(IF(SUM(Q50:Q53)=0,\"\",\"datos erróneos\")))","v":""}]
[null,"4to grado","Nro. estudiantes*",null,null,null,null,null,null,null,"4to grado","Nro. estudiantes*"]
[null,null,"Nro. de estudiantes según calificación****","AD",null,null,null,{"$f":"IFERROR(H60*$H$55,\"\")","v":0},{"$f":"IFERROR(I60*H55,\"\")","v":""},null,null,"Nro. de estudiantes según calificación****","AD",null,null,null,{"$f":"IFERROR(Q60*$Q$55,\"\")","v":0},{"$f":"IFERROR(R60*Q55,\"\")","v":""}]
[null,null,null,"A",null,null,null,{"$f":"IFERROR(H61*$H$55,\"\")","v":0},{"$f":"IFERROR(I61*H55,\"\")","v":""},null,null,null,"A",null,null,null,{"$f":"IFERROR(Q61*$Q$55,\"\")","v":0},{"$f":"IFERROR(R61*Q55,\"\")","v":""}]
[null,null,null,"B",null,null,null,{"$f":"IFERROR(H62*$H$55,\"\")","v":0},{"$f":"IFERROR(I62*H55,\"\")","v":""},null,null,null,"B",null,null,null,{"$f":"IFERROR(Q62*$Q$55,\"\")","v":0},{"$f":"IFERROR(R62*Q55,\"\")","v":""}]
[null,null,null,"C",null,null,null,{"$f":"IFERROR(H63*$H$55,\"\")","v":0},{"$f":"IFERROR(I63*H55,\"\")","v":""},null,null,null,"C",null,null,null,{"$f":"IFERROR(Q63*$Q$55,\"\")","v":0},{"$f":"IFERROR(R63*Q55,\"\")","v":""}]
[null,null,"% de estudiantes según calificación","AD",{"$f":"IFERROR(E56/E55,\"\")","v":""},{"$f":"IFERROR(F56/F55,\"\")","v":""},{"$f":"IFERROR(G56/G55,\"\")","v":""},null,{"$f":"IFERROR(FORECAST(H23,E60:G60,E23:G23),\"\")","v":""},null,null,"% de estudiantes según calificación","AD",{"$f":"IFERROR(N56/N55,\"\")","v":""},{"$f":"IFERROR(O56/O55,\"\")","v":""},{"$f":"IFERROR(P56/P55,\"\")","v":""},null,{"$f":"IFERROR(FORECAST(Q23,N60:P60,N23:P23),\"\")","v":""}]
[null,null,null,"A",{"$f":"IFERROR(E57/E55,\"\")","v":""},{"$f":"IFERROR(F57/F55,\"\")","v":""},{"$f":"IFERROR(G57/G55,\"\")","v":""},null,{"$f":"IFERROR(FORECAST(H23,E61:G61,E23:G23),\"\")","v":""},null,null,null,"A",{"$f":"IFERROR(N57/N55,\"\")","v":""},{"$f":"IFERROR(O57/O55,\"\")","v":""},{"$f":"IFERROR(P57/P55,\"\")","v":""},null,{"$f":"IFERROR(FORECAST(Q23,N61:P61,N23:P23),\"\")","v":""}]
[null,null,null,"B",{"$f":"IFERROR(E58/E55,\"\")","v":""},{"$f":"IFERROR(F58/F55,\"\")","v":""},{"$f":"IFERROR(G58/G55,\"\")","v":""},null,{"$f":"IFERROR(FORECAST(H23,E62:G62,E23:G23),\"\")","v":""},null,null,null,"B",{"$f":"IFERROR(N58/N55,\"\")","v":""},{"$f":"IFERROR(O58/O55,\"\")","v":""},{"$f":"IFERROR(P58/P55,\"\")","v":""},null,{"$f":"IFERROR(FORECAST(Q23,N62:P62,N23:P23),\"\")","v":""}]
[null,null,null,"C",{"$f":"IFERROR(E59/E55,\"\")","v":""},{"$f":"IFERROR(F59/F55,\"\")","v":""},{"$f":"IFERROR(G59/G55,\"\")","v":""},null,{"$f":"IFERROR(FORECAST(H23,E63:G63,E23:G23),\"\")","v":""},null,null,null,"C",{"$f":"IFERROR(N59/N55,\"\")","v":""},{"$f":"IFERROR(O59/O55,\"\")","v":""},{"$f":"IFERROR(P59/P55,\"\")","v":""},null,{"$f":"IFERROR(FORECAST(Q23,N63:P63,N23:P23),\"\")","v":""}]
[null,null,null,null,{"$f":"IF(SUM(E56:E59)=E55,\"\",\"datos erróneos\")","v":""},{"$f":"IF(SUM(F56:F59)=F55,\"\",\"datos erróneos\")","v":""},{"$f":"IF(SUM(G56:G59)=G55,\"\",\"datos erróneos\")","v":""},{"$f":"IF(SUM(H60:H63)=1,\"\",(IF(SUM(H60:H63)=0,\"\",\"datos erróneos\")))","v":""},null,null,null,null,null,{"$f":"IF(SUM(N56:N59)=N55,\"\",\"datos erróneos\")","v":""},{"$f":"IF(SUM(O56:O59)=O55,\"\",\"datos erróneos\")","v":""},{"$f":"IF(SUM(P56:P59)=P55,\"\",\"datos erróneos\")","v":""},{"$f":"IF(SUM(Q60:Q63)=1,\"\",(IF(SUM(Q60:Q63)=0,\"\",\"datos erróneos\")))","v":""}]
[null,"5to grado","Nro. estudiantes*",null,null,null,null,null,null,null,"5to grado","Nro. estudiantes*"]
[null,null,"Nro. de estudiantes según calificación****","AD",null,null,null,{"$f":"IFERROR(H70*$H$65,\"\")","v":0},{"$f":"IFERROR(I70*H65,\"\")","v":""},null,null,"Nro. de estudiantes según calificación****","AD",null,null,null,{"$f":"IFERROR(Q70*$Q$65,\"\")","v":0},{"$f":"IFERROR(R70*Q65,\"\")","v":""}]
[null,null,null,"A",null,null,null,{"$f":"IFERROR(H71*$H$65,\"\")","v":0},{"$f":"IFERROR(I71*H65,\"\")","v":""},null,null,null,"A",null,null,null,{"$f":"IFERROR(Q71*$Q$65,\"\")","v":0},{"$f":"IFERROR(R71*Q65,\"\")","v":""}]
[null,null,null,"B",null,null,null,{"$f":"IFERROR(H72*$H$65,\"\")","v":0},{"$f":"IFERROR(I72*H65,\"\")","v":""},null,null,null,"B",null,null,null,{"$f":"IFERROR(Q72*$Q$65,\"\")","v":0},{"$f":"IFERROR(R72*Q65,\"\")","v":""}]
[null,null,null,"C",null,null,null,{"$f":"IFERROR(H73*$H$65,\"\")","v":0},{"$f":"IFERROR(I73*H65,\"\")","v":""},null,null,null,"C",null,null,null,{"$f":"IFERROR(Q73*$Q$65,\"\")","v":0},{"$f":"IFERROR(R73*Q65,\"\")","v":""}]
[null,null,"% de estudiantes según calificación","AD",{"$f":"IFERROR(E66/E65,\"\")","v":""},{"$f":"IFERROR(F66/F65,\"\")","v":""},{"$f":"IFERROR(G66/G65,\"\")","v":""},null,{"$f":"IFERROR(FORECAST(H23,E70:G70,E23:G23),\"\")","v":""},null,null,"% de estudiantes según calificación","AD",{"$f":"IFERROR(N66/N65,\"\")","v":""},{"$f":"IFERROR(O66/O65,\"\")","v":""},{"$f":"IFERROR(P66/P65,\"\")","v":""},null,{"$f":"IFERROR(FORECAST(Q23,N70:P70,N23:P23),\"\")","v":""}]
[null,null,null,"A",{"$f":"IFERROR(E67/E65,\"\")","v":""},{"$f":"IFERROR(F67/F65,\"\")","v":""},{"$f":"IFERROR(G67/G65,\"\")","v":""},null,{"$f":"IFERROR(FORECAST(H23,E71:G71,E23:G23),\"\")","v":""},null,null,null,"A",{"$f":"IFERROR(N67/N65,\"\")","v":""},{"$f":"IFERROR(O67/O65,\"\")","v":""},{"$f":"IFERROR(P67/P65,\"\")","v":""},null,{"$f":"IFERROR(FORECAST(Q23,N71:P71,N23:P23),\"\")","v":""}]
[null,null,null,"B",{"$f":"IFERROR(E68/E65,\"\")","v":""},{"$f":"IFERROR(F68/F65,\"\")","v":""},{"$f":"IFERROR(G68/G65,\"\")","v":""},null,{"$f":"IFERROR(FORECAST(H23,E72:G72,E23:G23),\"\")","v":""},null,null,null,"B",{"$f":"IFERROR(N68/N65,\"\")","v":""},{"$f":"IFERROR(O68/O65,\"\")","v":""},{"$f":"IFERROR(P68/P65,\"\")","v":""},null,{"$f":"IFERROR(FORECAST(Q23,N72:P72,N23:P23),\"\")","v":""}]
[null,null,null,"C",{"$f":"IFERROR(E69/E65,\"\")","v":""},{"$f":"IFERROR(F69/F65,\"\")","v":""},{"$f":"IFERROR(G69/G65,\"\")","v":""},null,{"$f":"IFERROR(FORECAST(H23,E73:G73,E23:G23),\"\")","v":""},null,null,null,"C",{"$f":"IFERROR(N69/N65,\"\")","v":""},{"$f":"IFERROR(O69/O65,\"\")","v":""},{"$f":"IFERROR(P69/P65,\"\")","v":""},null,{"$f":"IFERROR(FORECAST(Q23,N73:P73,N23:P23),\"\")","v":""}]
[null,null,null,null,{"$f":"IF(SUM(E66:E69)=E65,\"\",\"datos erróneos\")","v":""},{"$f":"IF(SUM(F66:F69)=F65,\"\",\"datos erróneos\")","v":""},{"$f":"IF(SUM(G66:G69)=G65,\"\",\"datos erróneos\")","v":""},{"$f":"IF(SUM(H70:H73)=1,\"\",(IF(SUM(H70:H73)=0,\"\",\"datos erróneos\")))","v":""},null,null,null,null,null,{"$f":"IF(SUM(N66:N69)=N65,\"\",\"datos erróneos\")","v":""},{"$f":"IF(SUM(O66:O69)=O65,\"\",\"datos erróneos\")","v":""},{"$f":"IF(SUM(P66:P69)=P65,\"\",\"datos erróneos\")","v":""},{"$f":"IF(SUM(Q70:Q73)=1,\"\",(IF(SUM(Q70:Q73)=0,\"\",\"datos erróneos\")))","v":""}]
[null,"6to grado","Nro. estudiantes*",null,null,null,null,null,null,null,"6to grado","Nro. estudiantes*"]
[null,null,"Nro. de estudiantes según calificación****","AD",null,null,null,{"$f":"IFERROR(H80*$H$75,\"\")","v":0},{"$f":"IFERROR(I80*H75,\"\")","v":""},null,null,"Nro. de estudiantes según calificación****","AD",null,null,null,{"$f":"IFERROR(Q80*$Q$75,\"\")","v":0},{"$f":"IFERROR(R80*Q75,\"\")","v":""}]
[null,null,null,"A",null,null,null,{"$f":"IFERROR(H81*$H$75,\"\")","v":0},{"$f":"IFERROR(I81*H75,\"\")","v":""},null,null,null,"A",null,null,null,{"$f":"IFERROR(Q81*$Q$75,\"\")","v":0},{"$f":"IFERROR(R81*Q75,\"\")","v":""}]
[null,null,null,"B",null,null,null,{"$f":"IFERROR(H82*$H$75,\"\")","v":0},{"$f":"IFERROR(I82*H75,\"\")","v":""},null,null,null,"B",null,null,null,{"$f":"IFERROR(Q82*$Q$75,\"\")","v":0},{"$f":"IFERROR(R82*Q75,\"\")","v":""}]
[null,null,null,"C",null,null,null,{"$f":"IFERROR(H83*$H$75,\"\")","v":0},{"$f":"IFERROR(I83*H75,\"\")","v":""},null,null,null,"C",null,null,null,{"$f":"IFERROR(Q83*$Q$75,\"\")","v":0},{"$f":"IFERROR(R83*Q75,\"\")","v":""}]
[null,null,"% de estudiantes según calificación","AD",{"$f":"IFERROR(E76/E75,\"\")","v":""},{"$f":"IFERROR(F76/F75,\"\")","v":""},{"$f":"IFERROR(G76/G75,\"\")","v":""},null,{"$f":"IFERROR(FORECAST(H23,E80:G80,E23:G23),\"\")","v":""},null,null,"% de estudiantes según calificación","AD",{"$f":"IFERROR(N76/N75,\"\")","v":""},{"$f":"IFERROR(O76/O75,\"\")","v":""},{"$f":"IFERROR(P76/P75,\"\")","v":""},null,{"$f":"IFERROR(FORECAST(Q23,N80:P80,N23:P23),\"\")","v":""}]
[null,null,null,"A",{"$f":"IFERROR(E77/E75,\"\")","v":""},{"$f":"IFERROR(F77/F75,\"\")","v":""},{"$f":"IFERROR(G77/G75,\"\")","v":""},null,{"$f":"IFERROR(FORECAST(H23,E81:G81,E23:G23),\"\")","v":""},null,null,null,"A",{"$f":"IFERROR(N77/N75,\"\")","v":""},{"$f":"IFERROR(O77/O75,\"\")","v":""},{"$f":"IFERROR(P77/P75,\"\")","v":""},null,{"$f":"IFERROR(FORECAST(Q23,N81:P81,N23:P23),\"\")","v":""}]
[null,null,null,"B",{"$f":"IFERROR(E78/E75,\"\")","v":""},{"$f":"IFERROR(F78/F75,\"\")","v":""},{"$f":"IFERROR(G78/G75,\"\")","v":""},null,{"$f":"IFERROR(FORECAST(H23,E82:G82,E23:G23),\"\")","v":""},null,null,null,"B",{"$f":"IFERROR(N78/N75,\"\")","v":""},{"$f":"IFERROR(O78/O75,\"\")","v":""},{"$f":"IFERROR(P78/P75,\"\")","v":""},null,{"$f":"IFERROR(FORECAST(Q23,N82:P82,N23:P23),\"\")","v":""}]
[null,null,null,"C",{"$f":"IFERROR(E79/E75,\"\")","v":""},{"$f":"IFERROR(F79/F75,\"\")","v":""},{"$f":"IFERROR(G79/G75,\"\")","v":""},null,{"$f":"IFERROR(FORECAST(H23,E83:G83,E23:G23),\"\")","v":""},null,null,null,"C",{"$f":"IFERROR(N79/N75,\"\")","v":""},{"$f":"IFERROR(O79/O75,\"\")","v":""},{"$f":"IFERROR(P79/P75,\"\")","v":""},null,{"$f":"IFERROR(FORECAST(Q23,N83:P83,N23:P23),\"\")","v":""}]
[null,null,null,null,{"$f":"IF(SUM(E76:E79)=E75,\"\",\"datos erróneos\")","v":""},{"$f":"IF(SUM(F76:F79)=F75,\"\",\"datos erróneos\")","v":""},{"$f":"IF(SUM(G76:G79)=G75,\"\",\"datos erróneos\")","v":""},{"$f":"IF(SUM(H80:H83)=1,\"\",(IF(SUM(H80:H83)=0,\"\",\"datos erróneos\")))","v":""},null,null,null,null,null,{"$f":"IF(SUM(N76:N79)=N75,\"\",\"datos erróneos\")","v":""},{"$f":"IF(SUM(O76:O79)=O75,\"\",\"datos erróneos\")","v":""},{"$f":"IF(SUM(P76:P79)=P75,\"\",\"datos erróneos\")","v":""},{"$f":"IF(SUM(Q80:Q83)=1,\"\",(IF(SUM(Q80:Q83)=0,\"\",\"datos erróneos\")))","v":""}]
[]
[null,"En las II.EE. Intercultural Bilingüe, se consignará en COMUNICACIÓN la Calificación diferenciada de Lengua Materna y Segunda Lengua, de acuerdo a la Directiva N° 004 VMGP-2005, aprobada por RM N° 0234-2005-ED."]
[null,"Para las II.EE. organizadas en REDES EDUCATIVAS, considerarán la consolidación de la calificación final de cada una de las II.EE. que conforman la RED, lo que les permitirá proyectar una meta de RED EDUCATIVA que incluya las aspiraciones de cada una de las II.EE. que la componen."]
[null,"* Nro de estudiantes:  En los años 2014 al 2016 deberás colocar el número de estudiantes según tus actas finales; en el 2016, deberás colocar el número de estudiantes matriculados en ese año."]
[null,"** Meta:  Esta es la meta que te propones para el año 2016, deberás escribirla en las celdas blancas de %. Ten en cuenta el pronóstico para proponerte metas realistas. "]
[null,"*** Pronóstico: Es el porcentaje o número de estudiantes según su desempeño en cada grado. El porcentaje de pronóstico depende de los porcentajes alcanzados en los años anteriores y no suma 100% necesariamente.Del mismo modo, suma el número de estudiantes matriculados en el año. Además pueden haber valores negativos sin que ello afecte la interpretación. En esos casos lo que dice el pronóstico es que tu tendencia es marcadamente hacia la baja."]
[null,"**** Estudiantes según calificación: En los años 2013 al 2015 deberás poner el número de estudiantes con cada calificación según las actas finales. En el 2016, se mostrará lo que deberías alcanzar según tu meta propuesta."]

{"sheet":"C1_FormPrim","index":34,"n_rows":87,"n_cols":42,"rows_kept":87,"cut":false,"hidden":true,"merged":[[3,1,3,13],[4,1,4,13],[5,1,5,13],[8,1,9,3],[8,4,9,4],[8,5,9,5],[8,6,9,6],[8,7,8,8],[8,16,8,17],[10,1,18,1],[10,2,10,3],[10,7,10,8],[10,10,18,10],[10,11,10,12],[10,16,10,17],[11,2,14,2],[11,11,14,11],[15,2,18,2],[15,11,18,11],[8,10,9,12],[8,13,9,13],[8,14,9,14],[8,15,9,15],[21,1,22,3],[21,4,22,4],[21,5,22,5],[21,6,22,6],[21,7,21,8],[21,10,22,12],[21,13,22,13],[21,14,22,14],[21,15,22,15],[21,16,21,17],[23,1,31,1],[23,2,23,3],[23,7,23,8],[23,10,31,10],[23,11,23,12],[23,16,23,17],[24,2,27,2],[24,11,27,11],[28,2,31,2],[28,11,31,11],[33,1,41,1],[33,2,33,3],[33,7,33,8],[33,10,41,10],[33,11,33,12],[43,1,51,1],[43,2,43,3],[43,7,43,8],[43,10,51,10],[43,11,43,12],[33,16,33,17],[34,2,37,2],[34,11,37,11],[38,2,41,2],[38,11,41,11],[53,1,61,1],[53,2,53,3],[53,7,53,8],[53,10,61,10],[53,11,53,12],[54,11,57,11],[58,2,61,2],[58,11,61,11],[63,2,63,3],[63,7,63,8],[63,10,71,10],[63,11,63,12],[43,16,43,17],[44,2,47,2],[44,11,47,11],[48,2,51,2],[48,11,51,11],[63,16,63,17],[64,2,67,2],[64,11,67,11],[68,2,71,2],[68,11,71,11],[53,16,53,17],[54,2,57,2],[63,1,71,1],[101,1,101,17],[102,1,103,17],[73,16,73,17],[74,2,77,2],[74,11,77,11],[78,2,81,2],[78,11,81,11],[85,1,85,17],[73,1,81,1],[73,2,73,3],[73,7,73,8],[73,10,81,10],[73,11,73,12],[89,1,89,17],[90,1,90,17]]}
[]
[null,"Metas de rendimiento en el Nivel Primaria - Comunicación y Matemática."]
[null,"¿Qué hacer?"]
[null,"1° Primero, en la tabla \"Histórico de rendimiento...\" debes completar los datos con respecto al número de estudiantes matriculados y su nivel de logro al final de los años 2013 al 2015. Luego, aparecerán automáticamente los porcentajes respectivos y tendrás el pronóstico en cada caso."]
[null,"2° Tomando como referencia los resultados del año anterior y el pronóstico, podrás proyectar tus metas para cada grado. Luego escribe el número de estudiantes por cada grado y tendrás la distribución de estudiantes, según la meta. "]
[null,"3° Esta formulación de metas por año permitirá que se calculen los datos y la meta del nivel educativo en la tabla del \"CONSOLIDADO\"."]
[]
[null,"CONSOLIDADO del Histórico de rendimiento y formulación de metas 2017 del Nivel Primaria. ➨"]
[null,"Área de Comunicación ",null,null,2014,2015,2016,2017,null,null,"Área de Matemática",null,null,2014,2015,2016,2017]
[null,null,null,null,null,null,null,"Meta**","Pronóstico***",null,null,null,null,null,null,null,"Meta**","Pronóstico***"]
[null,"Nivel PRIMARIA","Nro. estudiantes*",null,{"$f":"SUM(E24,E34,E44,E54,E64,E74)","v":0},{"$f":"SUM(F24,F34,F44,F54,F64,F74)","v":0},{"$f":"SUM(G24,G34,G44,G54,G64,G74)","v":0},{"$f":"SUM(H24,H34,H44,H54,H64,H74)","v":0},null,null,"Nivel PRIMARIA","Nro. estudiantes*",null,{"$f":"SUM(N24,N34,N44,N54,N64,N74)","v":0},{"$f":"SUM(O24,O34,O44,O54,O64,O74)","v":0},{"$f":"SUM(P24,P34,P44,P54,P64,P74)","v":0},{"$f":"SUM(Q24,Q34,Q44,Q54,Q64,Q74)","v":0},null,null,null,null,null,null,null,null,null,null,null,null,null,null,null,null,null,null,null,null,null,null,33,60,57]
[null,null,"Nro. de estudiantes según calificación****","AD",{"$f":"SUM(E25,E35,E45,E55,E65,E75)","v":0},0,0,{"$f":"IFERROR(H16*H11,\"\")","v":""},{"$f":"IFERROR(I16*H11,\"\")","v":""},null,null,"Nro. de estudiantes según calificación****","AD",{"$f":"SUM(N25,N35,N45,N55,N65,N75)","v":0},0,0,{"$f":"IFERROR(Q16*Q11,\"\")","v":""},{"$f":"IFERROR(R16*Q11,\"\")","v":""},null,null,null,null,null,null,null,null,null,null,null,null,null,null,null,null,null,null,null,null,null,33,36,32]
[null,null,null,"A",0,0,0,{"$f":"IFERROR(H17*H11,\"\")","v":""},{"$f":"IFERROR(I17*H11,\"\")","v":""},null,null,null,"A",0,0,0,{"$f":"IFERROR(Q17*Q11,\"\")","v":""},{"$f":"IFERROR(R17*Q11,\"\")","v":""},null,null,null,null,null,null,null,null,null,null,null,null,null,null,null,null,null,null,null,null,null,59,36,32]
[null,null,null,"B",0,0,0,{"$f":"IFERROR(H18*H11,\"\")","v":""},{"$f":"IFERROR(I18*H11,\"\")","v":""},null,null,null,"B",0,0,0,{"$f":"IFERROR(Q18*Q11,\"\")","v":""},{"$f":"IFERROR(R18*Q11,\"\")","v":""},null,null,null,null,null,null,null,null,null,null,null,null,null,null,null,null,null,null,null,null,null,7,12,6]
[null,null,null,"C",0,0,0,{"$f":"IFERROR(H19*H11,\"\")","v":""},{"$f":"IFERROR(I19*H11,\"\")","v":""},null,null,null,"C",0,0,0,{"$f":"IFERROR(Q19*Q11,\"\")","v":""},{"$f":"IFERROR(R19*Q11,\"\")","v":""},null,null,null,null,null,null,null,null,null,null,null,null,null,null,null,null,null,null,null,null,null,{"$f":"SUM(AN11:AN14)","v":132},{"$f":"SUM(AO11:AO14)","v":144},{"$f":"SUM(AP11:AP14)","v":127}]
[null,null,"% de estudiantes según calificación","AD",{"$f":"IFERROR(E12/E11,\"\")","v":""},{"$f":"IFERROR(F12/F11,\"\")","v":""},{"$f":"IFERROR(G12/G11,\"\")","v":""},{"$f":"IFERROR(SUM(H25,H35,H45,H55,H65,H75)/SUM(H24,H34,H44,H54,H64,H74),\"\")","v":""},{"$f":"IFERROR(FORECAST(H9,E16:G16,E9:G9),\"\")","v":""},null,null,"% de estudiantes según calificación","AD",{"$f":"IFERROR(N12/N11,\"\")","v":""},{"$f":"IFERROR(O12/O11,\"\")","v":""},{"$f":"IFERROR(P12/P11,\"\")","v":""},{"$f":"IFERROR(SUM(Q25,Q35,Q45,Q55,Q65,Q75)/SUM(Q24,Q34,Q44,Q54,Q64,Q74),\"\")","v":""},{"$f":"IFERROR(FORECAST(Q9,N16:P16,N9:P9),\"\")","v":""},null,null,null,null,null,null,null,null,null,null,null,null,null,null,null,null,null,null,null,null,null,null,{"$f":"21*6","v":126}]
[null,null,null,"A",{"$f":"IFERROR(E13/E11,\"\")","v":""},{"$f":"IFERROR(F13/F11,\"\")","v":""},{"$f":"IFERROR(G13/G11,\"\")","v":""},{"$f":"IFERROR(SUM(H26,H36,H46,H56,H66,H76)/SUM(H24,H34,H44,H54,H64,H74),\"\")","v":""},{"$f":"IFERROR(FORECAST(H9,E17:G17,E9:G9),\"\")","v":""},null,null,null,"A",{"$f":"IFERROR(N13/N11,\"\")","v":""},{"$f":"IFERROR(O13/O11,\"\")","v":""},{"$f":"IFERROR(P13/P11,\"\")","v":""},{"$f":"IFERROR(SUM(Q26,Q36,Q46,Q56,Q66,Q76)/SUM(Q24,Q34,Q44,Q54,Q64,Q74),\"\")","v":""},{"$f":"IFERROR(FORECAST(Q9,N17:P17,N9:P9),\"\")","v":""}]
[null,null,null,"B",{"$f":"IFERROR(E14/E11,\"\")","v":""},{"$f":"IFERROR(F14/F11,\"\")","v":""},{"$f":"IFERROR(G14/G11,\"\")","v":""},{"$f":"IFERROR(SUM(H27,H37,H47,H57,H67,H77)/SUM(H24,H34,H44,H54,H64,H74),\"\")","v":""},{"$f":"IFERROR(FORECAST(H9,E18:G18,E9:G9),\"\")","v":""},null,null,null,"B",{"$f":"IFERROR(N14/N11,\"\")","v":""},{"$f":"IFERROR(O14/O11,\"\")","v":""},{"$f":"IFERROR(P14/P11,\"\")","v":""},{"$f":"IFERROR(SUM(Q27,Q37,Q47,Q57,Q67,Q77)/SUM(Q24,Q34,Q44,Q54,Q64,Q74),\"\")","v":""},{"$f":"IFERROR(FORECAST(Q9,N18:P18,N9:P9),\"\")","v":""}]
[null,null,null,"C",{"$f":"IFERROR(E15/E11,\"\")","v":""},{"$f":"IFERROR(F15/F11,\"\")","v":""},{"$f":"IFERROR(G15/G11,\"\")","v":""},{"$f":"IFERROR(SUM(H28,H38,H48,H58,H68,H78)/SUM(H24,H34,H44,H54,H64,H74),\"\")","v":""},{"$f":"IFERROR(FORECAST(H9,E19:G19,E9:G9),\"\")","v":""},null,null,null,"C",{"$f":"IFERROR(N15/N11,\"\")","v":""},{"$f":"IFERROR(O15/O11,\"\")","v":""},{"$f":"IFERROR(P15/P11,\"\")","v":""},{"$f":"IFERROR(SUM(Q28,Q38,Q48,Q58,Q68,Q78)/SUM(Q24,Q34,Q44,Q54,Q64,Q74),\"\")","v":""},{"$f":"IFERROR(FORECAST(Q9,N19:P19,N9:P9),\"\")","v":""}]
[null,"Histórico de rendimiento y formulación de metas 2017 según grado. ➨"]
[]
[null,"Área de Comunicación",null,null,2014,2015,2016,2017,null,null,"Área de Matemática",null,null,2014,2015,2016,2017]
[null,null,null,null,null,null,null,"Meta**","Pronóstico***",null,null,null,null,null,null,null,"Meta**","Pronóstico***"]
[null,"1er grado","Nro. estudiantes*",null,null,null,null,null,null,null,"1er grado","Nro. estudiantes*"]
[null,null,"Nro. de estudiantes según calificación****","AD",null,null,null,{"$f":"IFERROR(H29*$H$24,\"\")","v":0},{"$f":"IFERROR(I29*H24,\"\")","v":""},null,null,"Nro. de estudiantes según calificación****","AD",null,null,null,{"$f":"IFERROR(Q29*$Q$24,\"\")","v":0},{"$f":"IFERROR(R29*Q24,\"\")","v":""}]
[null,null,null,"A",null,null,null,{"$f":"IFERROR(H30*$H$24,\"\")","v":0},{"$f":"IFERROR(I30*H24,\"\")","v":""},null,null,null,"A",null,null,null,{"$f":"IFERROR(Q30*$Q$24,\"\")","v":0},{"$f":"IFERROR(R30*Q24,\"\")","v":""}]
[null,null,null,"B",null,null,null,{"$f":"IFERROR(H31*$H$24,\"\")","v":0},{"$f":"IFERROR(I31*H24,\"\")","v":""},null,null,null,"B",null,null,null,{"$f":"IFERROR(Q31*$Q$24,\"\")","v":0},{"$f":"IFERROR(R31*Q24,\"\")","v":""}]
[null,null,null,"C",null,null,null,{"$f":"IFERROR(H32*$H$24,\"\")","v":0},{"$f":"IFERROR(I32*H24,\"\")","v":""},null,null,null,"C",null,null,null,{"$f":"IFERROR(Q32*$Q$24,\"\")","v":0},{"$f":"IFERROR(R32*Q24,\"\")","v":""}]
[null,null,"% de estudiantes según calificación","AD",{"$f":"IFERROR(E25/E24,\"\")","v":""},{"$f":"IFERROR(F25/F24,\"\")","v":""},{"$f":"IFERROR(G25/G24,\"\")","v":""},null,{"$f":"IFERROR(FORECAST(H22,E29:G29,E22:G22),\"\")","v":""},null,null,"% de estudiantes según calificación","AD",{"$f":"IFERROR(N25/N24,\"\")","v":""},{"$f":"IFERROR(O25/O24,\"\")","v":""},{"$f":"IFERROR(P25/P24,\"\")","v":""},null,{"$f":"IFERROR(FORECAST(Q22,N29:P29,N22:P22),\"\")","v":""}]
[null,null,null,"A",{"$f":"IFERROR(E26/E24,\"\")","v":""},{"$f":"IFERROR(F26/F24,\"\")","v":""},{"$f":"IFERROR(G26/G24,\"\")","v":""},null,{"$f":"IFERROR(FORECAST(H22,E30:G30,E22:G22),\"\")","v":""},null,null,null,"A",{"$f":"IFERROR(N26/N24,\"\")","v":""},{"$f":"IFERROR(O26/O24,\"\")","v":""},{"$f":"IFERROR(P26/P24,\"\")","v":""},null,{"$f":"IFERROR(FORECAST(Q22,N30:P30,N22:P22),\"\")","v":""}]
[null,null,null,"B",{"$f":"IFERROR(E27/E24,\"\")","v":""},{"$f":"IFERROR(F27/F24,\"\")","v":""},{"$f":"IFERROR(G27/G24,\"\")","v":""},null,{"$f":"IFERROR(FORECAST(H22,E31:G31,E22:G22),\"\")","v":""},null,null,null,"B",{"$f":"IFERROR(N27/N24,\"\")","v":""},{"$f":"IFERROR(O27/O24,\"\")","v":""},{"$f":"IFERROR(P27/P24,\"\")","v":""},null,{"$f":"IFERROR(FORECAST(Q22,N31:P31,N22:P22),\"\")","v":""}]
[null,null,null,"C",{"$f":"IFERROR(E28/E24,\"\")","v":""},{"$f":"IFERROR(F28/F24,\"\")","v":""},{"$f":"IFERROR(G28/G24,\"\")","v":""},null,{"$f":"IFERROR(FORECAST(H22,E32:G32,E22:G22),\"\")","v":""},null,null,null,"C",{"$f":"IFERROR(N28/N24,\"\")","v":""},{"$f":"IFERROR(O28/O24,\"\")","v":""},{"$f":"IFERROR(P28/P24,\"\")","v":""},null,{"$f":"IFERROR(FORECAST(Q22,N32:P32,N22:P22),\"\")","v":""}]
[null,null,null,null,{"$f":"IF(SUM(E25:E28)=E24,\"\",\"datos erróneos\")","v":""},{"$f":"IF(SUM(F25:F28)=F24,\"\",\"datos erróneos\")","v":""},{"$f":"IF(SUM(G25:G28)=G24,\"\",\"datos erróneos\")","v":""},{"$f":"IF(SUM(H29:H32)=1,\"\",(IF(SUM(H29:H32)=0,\"\",\"datos erróneos\")))","v":""},null,null,null,null,null,{"$f":"IF(SUM(N25:N28)=N24,\"\",\"datos erróneos\")","v":""},{"$f":"IF(SUM(O25:O28)=O24,\"\",\"datos erróneos\")","v":""},{"$f":"IF(SUM(P25:P28)=P24,\"\",\"datos erróneos\")","v":""},{"$f":"IF(SUM(Q29:Q32)=1,\"\",(IF(SUM(Q29:Q32)=0,\"\",\"datos erróneos\")))","v":""}]
[null,"2do grado","Nro. estudiantes*",null,null,null,null,null,null,null,"2do grado","Nro. estudiantes*"]
[null,null,"Nro. de estudiantes según calificación****","AD",null,null,null,{"$f":"IFERROR(H39*$H$34,\"\")","v":0},{"$f":"IFERROR(I39*H34,\"\")","v":""},null,null,"Nro. de estudiantes según calificación****","AD",null,null,null,{"$f":"IFERROR(Q39*$Q$34,\"\")","v":0},{"$f":"IFERROR(R39*Q34,\"\")","v":""}]
[null,null,null,"A",null,null,null,{"$f":"IFERROR(H40*$H$34,\"\")","v":0},{"$f":"IFERROR(I40*H34,\"\")","v":""},null,null,null,"A",null,null,null,{"$f":"IFERROR(Q40*$Q$34,\"\")","v":0},{"$f":"IFERROR(R40*Q34,\"\")","v":""}]
[null,null,null,"B",null,null,null,{"$f":"IFERROR(H41*$H$34,\"\")","v":0},{"$f":"IFERROR(I41*H34,\"\")","v":""},null,null,null,"B",null,null,null,{"$f":"IFERROR(Q41*$Q$34,\"\")","v":0},{"$f":"IFERROR(R41*Q34,\"\")","v":""}]
[null,null,null,"C",null,null,null,{"$f":"IFERROR(H42*$H$34,\"\")","v":0},{"$f":"IFERROR(I42*H34,\"\")","v":""},null,null,null,"C",null,null,null,{"$f":"IFERROR(Q42*$Q$34,\"\")","v":0},{"$f":"IFERROR(R42*Q34,\"\")","v":""}]
[null,null,"% de estudiantes según calificación","AD",{"$f":"IFERROR(E35/E34,\"\")","v":""},{"$f":"IFERROR(F35/F34,\"\")","v":""},{"$f":"IFERROR(G35/G34,\"\")","v":""},null,{"$f":"IFERROR(FORECAST(H22,E39:G39,E22:G22),\"\")","v":""},null,null,"% de estudiantes según calificación","AD",{"$f":"IFERROR(N35/N34,\"\")","v":""},{"$f":"IFERROR(O35/O34,\"\")","v":""},{"$f":"IFERROR(P35/P34,\"\")","v":""},null,{"$f":"IFERROR(FORECAST(Q22,N39:P39,N22:P22),\"\")","v":""}]
[null,null,null,"A",{"$f":"IFERROR(E36/E34,\"\")","v":""},{"$f":"IFERROR(F36/F34,\"\")","v":""},{"$f":"IFERROR(G36/G34,\"\")","v":""},null,{"$f":"IFERROR(FORECAST(H22,E40:G40,E22:G22),\"\")","v":""},null,null,null,"A",{"$f":"IFERROR(N36/N34,\"\")","v":""},{"$f":"IFERROR(O36/O34,\"\")","v":""},{"$f":"IFERROR(P36/P34,\"\")","v":""},null,{"$f":"IFERROR(FORECAST(Q22,N40:P40,N22:P22),\"\")","v":""}]
[null,null,null,"B",{"$f":"IFERROR(E37/E34,\"\")","v":""},{"$f":"IFERROR(F37/F34,\"\")","v":""},{"$f":"IFERROR(G37/G34,\"\")","v":""},null,{"$f":"IFERROR(FORECAST(H22,E41:G41,E22:G22),\"\")","v":""},null,null,null,"B",{"$f":"IFERROR(N37/N34,\"\")","v":""},{"$f":"IFERROR(O37/O34,\"\")","v":""},{"$f":"IFERROR(P37/P34,\"\")","v":""},null,{"$f":"IFERROR(FORECAST(Q22,N41:P41,N22:P22),\"\")","v":""}]
[null,null,null,"C",{"$f":"IFERROR(E38/E34,\"\")","v":""},{"$f":"IFERROR(F38/F34,\"\")","v":""},{"$f":"IFERROR(G38/G34,\"\")","v":""},null,{"$f":"IFERROR(FORECAST(H22,E42:G42,E22:G22),\"\")","v":""},null,null,null,"C",{"$f":"IFERROR(N38/N34,\"\")","v":""},{"$f":"IFERROR(O38/O34,\"\")","v":""},{"$f":"IFERROR(P38/P34,\"\")","v":""},null,{"$f":"IFERROR(FORECAST(Q22,N42:P42,N22:P22),\"\")","v":""}]
[null,null,null,null,{"$f":"IF(SUM(E35:E38)=E34,\"\",\"datos erróneos\")","v":""},{"$f":"IF(SUM(F35:F38)=F34,\"\",\"datos erróneos\")","v":""},{"$f":"IF(SUM(G35:G38)=G34,\"\",\"datos erróneos\")","v":""},{"$f":"IF(SUM(H39:H42)=1,\"\",(IF(SUM(H39:H42)=0,\"\",\"datos erróneos\")))","v":""},null,null,null,null,null,{"$f":"IF(SUM(N35:N38)=N34,\"\",\"datos erróneos\")","v":""},{"$f":"IF(SUM(O35:O38)=O34,\"\",\"datos erróneos\")","v":""},{"$f":"IF(SUM(P35:P38)=P34,\"\",\"datos erróneos\")","v":""},{"$f":"IF(SUM(Q39:Q42)=1,\"\",(IF(SUM(Q39:Q42)=0,\"\",\"datos erróneos\")))","v":""}]
[null,"3er grado","Nro. estudiantes*",null,null,null,null,null,null,null,"3er grado","Nro. estudiantes*"]
[null,null,"Nro. de estudiantes según calificación****","AD",null,null,null,{"$f":"IFERROR(H49*$H$44,\"\")","v":0},{"$f":"IFERROR(I49*H44,\"\")","v":""},null,null,"Nro. de estudiantes según calificación****","AD",null,null,null,{"$f":"IFERROR(Q49*$Q$44,\"\")","v":0},{"$f":"IFERROR(R49*Q44,\"\")","v":""}]
[null,null,null,"A",null,null,null,{"$f":"IFERROR(H50*$H$44,\"\")","v":0},{"$f":"IFERROR(I50*H44,\"\")","v":""},null,null,null,"A",null,null,null,{"$f":"IFERROR(Q50*$Q$44,\"\")","v":0},{"$f":"IFERROR(R50*Q44,\"\")","v":""}]
[null,null,null,"B",null,null,null,{"$f":"IFERROR(H51*$H$44,\"\")","v":0},{"$f":"IFERROR(I51*H44,\"\")","v":""},null,null,null,"B",null,null,null,{"$f":"IFERROR(Q51*$Q$44,\"\")","v":0},{"$f":"IFERROR(R51*Q44,\"\")","v":""}]
[null,null,null,"C",null,null,null,{"$f":"IFERROR(H52*$H$44,\"\")","v":0},{"$f":"IFERROR(I52*H44,\"\")","v":""},null,null,null,"C",null,null,null,{"$f":"IFERROR(Q52*$Q$44,\"\")","v":0},{"$f":"IFERROR(R52*Q44,\"\")","v":""}]
[null,null,"% de estudiantes según calificación","AD",{"$f":"IFERROR(E45/E44,\"\")","v":""},{"$f":"IFERROR(F45/F44,\"\")","v":""},{"$f":"IFERROR(G45/G44,\"\")","v":""},null,{"$f":"IFERROR(FORECAST(H22,E49:G49,E22:G22),\"\")","v":""},null,null,"% de estudiantes según calificación","AD",{"$f":"IFERROR(N45/N44,\"\")","v":""},{"$f":"IFERROR(O45/O44,\"\")","v":""},{"$f":"IFERROR(P45/P44,\"\")","v":""},null,{"$f":"IFERROR(FORECAST(Q22,N49:P49,N22:P22),\"\")","v":""}]
[null,null,null,"A",{"$f":"IFERROR(E46/E44,\"\")","v":""},{"$f":"IFERROR(F46/F44,\"\")","v":""},{"$f":"IFERROR(G46/G44,\"\")","v":""},null,{"$f":"IFERROR(FORECAST(H22,E50:G50,E22:G22),\"\")","v":""},null,null,null,"A",{"$f":"IFERROR(N46/N44,\"\")","v":""},{"$f":"IFERROR(O46/O44,\"\")","v":""},{"$f":"IFERROR(P46/P44,\"\")","v":""},null,{"$f":"IFERROR(FORECAST(Q22,N50:P50,N22:P22),\"\")","v":""}]
[null,null,null,"B",{"$f":"IFERROR(E47/E44,\"\")","v":""},{"$f":"IFERROR(F47/F44,\"\")","v":""},{"$f":"IFERROR(G47/G44,\"\")","v":""},null,{"$f":"IFERROR(FORECAST(H22,E51:G51,E22:G22),\"\")","v":""},null,null,null,"B",{"$f":"IFERROR(N47/N44,\"\")","v":""},{"$f":"IFERROR(O47/O44,\"\")","v":""},{"$f":"IFERROR(P47/P44,\"\")","v":""},null,{"$f":"IFERROR(FORECAST(Q22,N51:P51,N22:P22),\"\")","v":""}]
[null,null,null,"C",{"$f":"IFERROR(E48/E44,\"\")","v":""},{"$f":"IFERROR(F48/F44,\"\")","v":""},{"$f":"IFERROR(G48/G44,\"\")","v":""},null,{"$f":"IFERROR(FORECAST(H22,E52:G52,E22:G22),\"\")","v":""},null,null,null,"C",{"$f":"IFERROR(N48/N44,\"\")","v":""},{"$f":"IFERROR(O48/O44,\"\")","v":""},{"$f":"IFERROR(P48/P44,\"\")","v":""},null,{"$f":"IFERROR(FORECAST(Q22,N52:P52,N22:P22),\"\")","v":""}]
[null,null,null,null,{"$f":"IF(SUM(E45:E48)=E44,\"\",\"datos erróneos\")","v":""},{"$f":"IF(SUM(F45:F48)=F44,\"\",\"datos erróneos\")","v":""},{"$f":"IF(SUM(G45:G48)=G44,\"\",\"datos erróneos\")","v":""},{"$f":"IF(SUM(H49:H52)=1,\"\",(IF(SUM(H49:H52)=0,\"\",\"datos erróneos\")))","v":""},null,null,null,null,null,{"$f":"IF(SUM(N45:N48)=N44,\"\",\"datos erróneos\")","v":""},{"$f":"IF(SUM(O45:O48)=O44,\"\",\"datos erróneos\")","v":""},{"$f":"IF(SUM(P45:P48)=P44,\"\",\"datos erróneos\")","v":""},{"$f":"IF(SUM(Q49:Q52)=1,\"\",(IF(SUM(Q49:Q52)=0,\"\",\"datos erróneos\")))","v":""}]
[null,"4to grado","Nro. estudiantes*",null,null,null,null,null,null,null,"4to grado","Nro. estudiantes*"]
[null,null,"Nro. de estudiantes según calificación****","AD",null,null,null,{"$f":"IFERROR(H59*$H$54,\"\")","v":0},{"$f":"IFERROR(I59*H54,\"\")","v":""},null,null,"Nro. de estudiantes según calificación****","AD",null,null,null,{"$f":"IFERROR(Q59*$Q$54,\"\")","v":0},{"$f":"IFERROR(R59*Q54,\"\")","v":""}]
[null,null,null,"A",null,null,null,{"$f":"IFERROR(H60*$H$54,\"\")","v":0},{"$f":"IFERROR(I60*H54,\"\")","v":""},null,null,null,"A",null,null,null,{"$f":"IFERROR(Q60*$Q$54,\"\")","v":0},{"$f":"IFERROR(R60*Q54,\"\")","v":""}]
[null,null,null,"B",null,null,null,{"$f":"IFERROR(H61*$H$54,\"\")","v":0},{"$f":"IFERROR(I61*H54,\"\")","v":""},null,null,null,"B",null,null,null,{"$f":"IFERROR(Q61*$Q$54,\"\")","v":0},{"$f":"IFERROR(R61*Q54,\"\")","v":""}]
[null,null,null,"C",null,null,null,{"$f":"IFERROR(H62*$H$54,\"\")","v":0},{"$f":"IFERROR(I62*H54,\"\")","v":""},null,null,null,"C",null,null,null,{"$f":"IFERROR(Q62*$Q$54,\"\")","v":0},{"$f":"IFERROR(R62*Q54,\"\")","v":""}]
[null,null,"% de estudiantes según calificación","AD",{"$f":"IFERROR(E55/E54,\"\")","v":""},{"$f":"IFERROR(F55/F54,\"\")","v":""},{"$f":"IFERROR(G55/G54,\"\")","v":""},null,{"$f":"IFERROR(FORECAST(H22,E59:G59,E22:G22),\"\")","v":""},null,null,"% de estudiantes según calificación","AD",{"$f":"IFERROR(N55/N54,\"\")","v":""},{"$f":"IFERROR(O55/O54,\"\")","v":""},{"$f":"IFERROR(P55/P54,\"\")","v":""},null,{"$f":"IFERROR(FORECAST(Q22,N59:P59,N22:P22),\"\")","v":""}]
[null,null,null,"A",{"$f":"IFERROR(E56/E54,\"\")","v":""},{"$f":"IFERROR(F56/F54,\"\")","v":""},{"$f":"IFERROR(G56/G54,\"\")","v":""},null,{"$f":"IFERROR(FORECAST(H22,E60:G60,E22:G22),\"\")","v":""},null,null,null,"A",{"$f":"IFERROR(N56/N54,\"\")","v":""},{"$f":"IFERROR(O56/O54,\"\")","v":""},{"$f":"IFERROR(P56/P54,\"\")","v":""},null,{"$f":"IFERROR(FORECAST(Q22,N60:P60,N22:P22),\"\")","v":""}]
[null,null,null,"B",{"$f":"IFERROR(E57/E54,\"\")","v":""},{"$f":"IFERROR(F57/F54,\"\")","v":""},{"$f":"IFERROR(G57/G54,\"\")","v":""},null,{"$f":"IFERROR(FORECAST(H22,E61:G61,E22:G22),\"\")","v":""},null,null,null,"B",{"$f":"IFERROR(N57/N54,\"\")","v":""},{"$f":"IFERROR(O57/O54,\"\")","v":""},{"$f":"IFERROR(P57/P54,\"\")","v":""},null,{"$f":"IFERROR(FORECAST(Q22,N61:P61,N22:P22),\"\")","v":""}]
[null,null,null,"C",{"$f":"IFERROR(E58/E54,\"\")","v":""},{"$f":"IFERROR(F58/F54,\"\")","v":""},{"$f":"IFERROR(G58/G54,\"\")","v":""},null,{"$f":"IFERROR(FORECAST(H22,E62:G62,E22:G22),\"\")","v":""},null,null,null,"C",{"$f":"IFERROR(N58/N54,\"\")","v":""},{"$f":"IFERROR(O58/O54,\"\")","v":""},{"$f":"IFERROR(P58/P54,\"\")","v":""},null,{"$f":"IFERROR(FORECAST(Q22,N62:P62,N22:P22),\"\")","v":""}]
[null,null,null,null,{"$f":"IF(SUM(E55:E58)=E54,\"\",\"datos erróneos\")","v":""},{"$f":"IF(SUM(F55:F58)=F54,\"\",\"datos erróneos\")","v":""},{"$f":"IF(SUM(G55:G58)=G54,\"\",\"datos erróneos\")","v":""},{"$f":"IF(SUM(H59:H62)=1,\"\",(IF(SUM(H59:H62)=0,\"\",\"datos erróneos\")))","v":""},null,null,null,null,null,{"$f":"IF(SUM(N55:N58)=N54,\"\",\"datos erróneos\")","v":""},{"$f":"IF(SUM(O55:O58)=O54,\"\",\"datos erróneos\")","v":""},{"$f":"IF(SUM(P55:P58)=P54,\"\",\"datos erróneos\")","v":""},{"$f":"IF(SUM(Q59:Q62)=1,\"\",(IF(SUM(Q59:Q62)=0,\"\",\"datos erróneos\")))","v":""}]
[null,"5to grado","Nro. estudiantes*",null,null,null,null,null,null,null,"5to grado","Nro. estudiantes*"]
[null,null,"Nro. de estudiantes según calificación****","AD",null,null,null,{"$f":"IFERROR(H69*$H$64,\"\")","v":0},{"$f":"IFERROR(I69*H64,\"\")","v":""},null,null,"Nro. de estudiantes según calificación****","AD",null,null,null,{"$f":"IFERROR(Q69*$Q$64,\"\")","v":0},{"$f":"IFERROR(R69*Q64,\"\")","v":""}]
[null,null,null,"A",null,null,null,{"$f":"IFERROR(H70*$H$64,\"\")","v":0},{"$f":"IFERROR(I70*H64,\"\")","v":""},null,null,null,"A",null,null,null,{"$f":"IFERROR(Q70*$Q$64,\"\")","v":0},{"$f":"IFERROR(R70*Q64,\"\")","v":""}]
[null,null,null,"B",null,null,null,{"$f":"IFERROR(H71*$H$64,\"\")","v":0},{"$f":"IFERROR(I71*H64,\"\")","v":""},null,null,null,"B",null,null,null,{"$f":"IFERROR(Q71*$Q$64,\"\")","v":0},{"$f":"IFERROR(R71*Q64,\"\")","v":""}]
[null,null,null,"C",null,null,null,{"$f":"IFERROR(H72*$H$64,\"\")","v":0},{"$f":"IFERROR(I72*H64,\"\")","v":""},null,null,null,"C",null,null,null,{"$f":"IFERROR(Q72*$Q$64,\"\")","v":0},{"$f":"IFERROR(R72*Q64,\"\")","v":""}]
[null,null,"% de estudiantes según calificación","AD",{"$f":"IFERROR(E65/E64,\"\")","v":""},{"$f":"IFERROR(F65/F64,\"\")","v":""},{"$f":"IFERROR(G65/G64,\"\")","v":""},null,{"$f":"IFERROR(FORECAST(H22,E69:G69,E22:G22),\"\")","v":""},null,null,"% de estudiantes según calificación","AD",{"$f":"IFERROR(N65/N64,\"\")","v":""},{"$f":"IFERROR(O65/O64,\"\")","v":""},{"$f":"IFERROR(P65/P64,\"\")","v":""},null,{"$f":"IFERROR(FORECAST(Q22,N69:P69,N22:P22),\"\")","v":""}]
[null,null,null,"A",{"$f":"IFERROR(E66/E64,\"\")","v":""},{"$f":"IFERROR(F66/F64,\"\")","v":""},{"$f":"IFERROR(G66/G64,\"\")","v":""},null,{"$f":"IFERROR(FORECAST(H22,E70:G70,E22:G22),\"\")","v":""},null,null,null,"A",{"$f":"IFERROR(N66/N64,\"\")","v":""},{"$f":"IFERROR(O66/O64,\"\")","v":""},{"$f":"IFERROR(P66/P64,\"\")","v":""},null,{"$f":"IFERROR(FORECAST(Q22,N70:P70,N22:P22),\"\")","v":""}]
[null,null,null,"B",{"$f":"IFERROR(E67/E64,\"\")","v":""},{"$f":"IFERROR(F67/F64,\"\")","v":""},{"$f":"IFERROR(G67/G64,\"\")","v":""},null,{"$f":"IFERROR(FORECAST(H22,E71:G71,E22:G22),\"\")","v":""},null,null,null,"B",{"$f":"IFERROR(N67/N64,\"\")","v":""},{"$f":"IFERROR(O67/O64,\"\")","v":""},{"$f":"IFERROR(P67/P64,\"\")","v":""},null,{"$f":"IFERROR(FORECAST(Q22,N71:P71,N22:P22),\"\")","v":""}]
[null,null,null,"C",{"$f":"IFERROR(E68/E64,\"\")","v":""},{"$f":"IFERROR(F68/F64,\"\")","v":""},{"$f":"IFERROR(G68/G64,\"\")","v":""},null,{"$f":"IFERROR(FORECAST(H22,E72:G72,E22:G22),\"\")","v":""},null,null,null,"C",{"$f":"IFERROR(N68/N64,\"\")","v":""},{"$f":"IFERROR(O68/O64,\"\")","v":""},{"$f":"IFERROR(P68/P64,\"\")","v":""},null,{"$f":"IFERROR(FORECAST(Q22,N72:P72,N22:P22),\"\")","v":""}]
[null,null,null,null,{"$f":"IF(SUM(E65:E68)=E64,\"\",\"datos erróneos\")","v":""},{"$f":"IF(SUM(F65:F68)=F64,\"\",\"datos erróneos\")","v":""},{"$f":"IF(SUM(G65:G68)=G64,\"\",\"datos erróneos\")","v":""},{"$f":"IF(SUM(H69:H72)=1,\"\",(IF(SUM(H69:H72)=0,\"\",\"datos erróneos\")))","v":""},null,null,null,null,null,{"$f":"IF(SUM(N65:N68)=N64,\"\",\"datos erróneos\")","v":""},{"$f":"IF(SUM(O65:O68)=O64,\"\",\"datos erróneos\")","v":""},{"$f":"IF(SUM(P65:P68)=P64,\"\",\"datos erróneos\")","v":""},{"$f":"IF(SUM(Q69:Q72)=1,\"\",(IF(SUM(Q69:Q72)=0,\"\",\"datos erróneos\")))","v":""}]
[null,"6to grado","Nro. estudiantes*",null,null,null,null,null,null,null,"6to grado","Nro. estudiantes*"]
[null,null,"Nro. de estudiantes según calificación****","AD",null,null,null,{"$f":"IFERROR(H79*$H$74,\"\")","v":0},{"$f":"IFERROR(I79*H74,\"\")","v":""},null,null,"Nro. de estudiantes según calificación****","AD",null,null,null,{"$f":"IFERROR(Q79*$Q$74,\"\")","v":0},{"$f":"IFERROR(R79*Q74,\"\")","v":""}]
[null,null,null,"A",null,null,null,{"$f":"IFERROR(H80*$H$74,\"\")","v":0},{"$f":"IFERROR(I80*H74,\"\")","v":""},null,null,null,"A",null,null,null,{"$f":"IFERROR(Q80*$Q$74,\"\")","v":0},{"$f":"IFERROR(R80*Q74,\"\")","v":""}]
[null,null,null,"B",null,null,null,{"$f":"IFERROR(H81*$H$74,\"\")","v":0},{"$f":"IFERROR(I81*H74,\"\")","v":""},null,null,null,"B",null,null,null,{"$f":"IFERROR(Q81*$Q$74,\"\")","v":0},{"$f":"IFERROR(R81*Q74,\"\")","v":""}]
[null,null,null,"C",null,null,null,{"$f":"IFERROR(H82*$H$74,\"\")","v":0},{"$f":"IFERROR(I82*H74,\"\")","v":""},null,null,null,"C",null,null,null,{"$f":"IFERROR(Q82*$Q$74,\"\")","v":0},{"$f":"IFERROR(R82*Q74,\"\")","v":""}]
[null,null,"% de estudiantes según calificación","AD",{"$f":"IFERROR(E75/E74,\"\")","v":""},{"$f":"IFERROR(F75/F74,\"\")","v":""},{"$f":"IFERROR(G75/G74,\"\")","v":""},null,{"$f":"IFERROR(FORECAST(H22,E79:G79,E22:G22),\"\")","v":""},null,null,"% de estudiantes según calificación","AD",{"$f":"IFERROR(N75/N74,\"\")","v":""},{"$f":"IFERROR(O75/O74,\"\")","v":""},{"$f":"IFERROR(P75/P74,\"\")","v":""},null,{"$f":"IFERROR(FORECAST(Q22,N79:P79,N22:P22),\"\")","v":""}]
[null,null,null,"A",{"$f":"IFERROR(E76/E74,\"\")","v":""},{"$f":"IFERROR(F76/F74,\"\")","v":""},{"$f":"IFERROR(G76/G74,\"\")","v":""},null,{"$f":"IFERROR(FORECAST(H22,E80:G80,E22:G22),\"\")","v":""},null,null,null,"A",{"$f":"IFERROR(N76/N74,\"\")","v":""},{"$f":"IFERROR(O76/O74,\"\")","v":""},{"$f":"IFERROR(P76/P74,\"\")","v":""},null,{"$f":"IFERROR(FORECAST(Q22,N80:P80,N22:P22),\"\")","v":""}]
[null,null,null,"B",{"$f":"IFERROR(E77/E74,\"\")","v":""},{"$f":"IFERROR(F77/F74,\"\")","v":""},{"$f":"IFERROR(G77/G74,\"\")","v":""},null,{"$f":"IFERROR(FORECAST(H22,E81:G81,E22:G22),\"\")","v":""},null,null,null,"B",{"$f":"IFERROR(N77/N74,\"\")","v":""},{"$f":"IFERROR(O77/O74,\"\")","v":""},{"$f":"IFERROR(P77/P74,\"\")","v":""},null,{"$f":"IFERROR(FORECAST(Q22,N81:P81,N22:P22),\"\")","v":""}]
[null,null,null,"C",{"$f":"IFERROR(E78/E74,\"\")","v":""},{"$f":"IFERROR(F78/F74,\"\")","v":""},{"$f":"IFERROR(G78/G74,\"\")","v":""},null,{"$f":"IFERROR(FORECAST(H22,E82:G82,E22:G22),\"\")","v":""},null,null,null,"C",{"$f":"IFERROR(N78/N74,\"\")","v":""},{"$f":"IFERROR(O78/O74,\"\")","v":""},{"$f":"IFERROR(P78/P74,\"\")","v":""},null,{"$f":"IFERROR(FORECAST(Q22,N82:P82,N22:P22),\"\")","v":""}]
[]
[null,"* Nro de estudiantes:  En los años 2014 al 2016 deberás colocar el número de estudiantes según tus actas finales; en el 2016, deberás colocar el número de estudiantes matriculados en ese año."]
[null,"** Meta:  Esta es la meta que te propones para el año 2016, deberás escribirla en las celdas blancas de %. Ten en cuenta el pronóstico para proponerte metas realistas. "]
[null,"*** Pronóstico: Es el porcentaje o número de estudiantes según su desempeño en cada grado. El porcentaje de pronóstico depende de los porcentajes alcanzados en los años anteriores y no suma 100% necesariamente.Del mismo modo, suma el número de estudiantes matriculados en el año. Además pueden haber valores negativos sin que ello afecte la interpretación. En esos casos lo que dice el pronóstico es que tu tendencia es marcadamente hacia la baja."]
[null,"**** Estudiantes según calificación: En los años 2013 al 2015 deberás poner el número de estudiantes con cada calificación según las actas finales. En el 2016, se mostrará lo que deberías alcanzar según tu meta propuesta."]

{"sheet":"C1_FormPrim2","index":35,"n_rows":87,"n_cols":42,"rows_kept":87,"cut":false,"hidden":true,"merged":[[85,1,85,17],[6,4,7,4],[6,5,7,5],[6,6,7,6],[6,13,7,13],[6,14,7,14],[71,16,71,17],[72,2,75,2],[72,11,75,11],[76,2,79,2],[61,16,61,17],[62,2,65,2],[62,11,65,11],[66,2,69,2],[66,11,69,11],[61,1,69,1],[61,2,61,3],[61,7,61,8],[61,10,69,10],[61,11,61,12],[71,1,79,1],[71,2,71,3],[71,7,71,8],[71,10,79,10],[71,11,71,12],[76,11,79,11],[41,11,41,12],[51,16,51,17],[52,2,55,2],[52,11,55,11],[56,2,59,2],[56,11,59,11],[51,11,51,12],[41,16,41,17],[42,2,45,2],[42,11,45,11],[46,2,49,2],[46,11,49,11],[19,16,19,17],[19,13,20,13],[21,1,29,1],[51,1,59,1],[51,2,51,3],[51,7,51,8],[51,10,59,10],[41,10,49,10],[31,1,39,1],[31,2,31,3],[31,7,31,8],[36,2,39,2],[36,11,39,11],[41,1,49,1],[41,2,41,3],[41,7,41,8],[31,16,31,17],[32,2,35,2],[32,11,35,11],[22,2,25,2],[22,11,25,11],[26,2,29,2],[26,11,29,11],[31,10,39,10],[31,11,31,12],[21,10,29,10],[21,16,21,17],[21,11,21,12],[21,2,21,3],[21,7,21,8],[8,16,8,17],[9,2,12,2],[9,11,12,11],[13,2,16,2],[13,11,16,11],[8,11,8,12],[19,14,20,14],[19,15,20,15],[19,10,20,12],[19,4,20,4],[19,5,20,5],[19,6,20,6],[19,7,19,8],[19,1,20,3],[8,1,16,1],[8,2,8,3],[8,7,8,8],[8,10,16,10],[6,1,7,3],[6,7,6,8],[6,10,7,12],[6,16,6,17],[6,15,7,15]]}
[]
[null,"Metas de rendimiento en el Nivel Primaria - Ciencia y Ambiente, Personal Social"]
[]
[null,"Estas tablas te servirán para realizar la misma operación anterior considerando otras Áreas Curriculares."]
[]
[null,"CONSOLIDADO del Histórico de rendimiento y formulación de metas 2017 del Nivel Primaria. ➨"]
[null,"Área de Ciencia y Ambiente",null,null,2014,2015,2016,2017,null,null,"Área de Personal Social",null,null,2014,2015,2016,2017]
[null,null,null,null,null,null,null,"Meta**","Pronóstico***",null,null,null,null,null,null,null,"Meta**","Pronóstico***"]
[null,"Nivel PRIMARIA","Nro. estudiantes*",null,{"$f":"SUM(E22,E32,E42,E52,E62,E72)","v":0},{"$f":"SUM(F22,F32,F42,F52,F62,F72)","v":0},{"$f":"SUM(G22,G32,G42,G52,G62,G72)","v":0},{"$f":"SUM(H22,H32,H42,H52,H62,H72)","v":0},null,null,"Nivel PRIMARIA","Nro. estudiantes*",null,{"$f":"SUM(N22,N32,N42,N52,N62,N72)","v":0},{"$f":"SUM(O22,O32,O42,O52,O62,O72)","v":0},{"$f":"SUM(P22,P32,P42,P52,P62,P72)","v":0},{"$f":"SUM(Q22,Q32,Q42,Q52,Q62,Q72)","v":0}]
[null,null,"Nro. de estudiantes según calificación****","AD",{"$f":"SUM(E23,E33,E43,E53,E63,E73)","v":0},0,0,{"$f":"IFERROR(H14*H9,\"\")","v":""},{"$f":"IFERROR(I14*H9,\"\")","v":""},null,null,"Nro. de estudiantes según calificación****","AD",{"$f":"SUM(N23,N33,N43,N53,N63,N73)","v":0},0,0,{"$f":"IFERROR(Q14*Q9,\"\")","v":""},{"$f":"IFERROR(R14*Q9,\"\")","v":""},null,null,null,null,null,null,null,null,null,null,null,null,null,null,null,null,null,null,null,null,null,null,57,56.7]
[null,null,null,"A",0,0,0,{"$f":"IFERROR(H15*H9,\"\")","v":""},{"$f":"IFERROR(I15*H9,\"\")","v":""},null,null,null,"A",0,0,0,{"$f":"IFERROR(Q15*Q9,\"\")","v":""},{"$f":"IFERROR(R15*Q9,\"\")","v":""},null,null,null,null,null,null,null,null,null,null,null,null,null,null,null,null,null,null,null,null,null,null,32,31.5]
[null,null,null,"B",0,0,0,{"$f":"IFERROR(H16*H9,\"\")","v":""},{"$f":"IFERROR(I16*H9,\"\")","v":""},null,null,null,"B",0,0,0,{"$f":"IFERROR(Q16*Q9,\"\")","v":""},{"$f":"IFERROR(R16*Q9,\"\")","v":""},null,null,null,null,null,null,null,null,null,null,null,null,null,null,null,null,null,null,null,null,null,null,32,31.5]
[null,null,null,"C",0,0,0,{"$f":"IFERROR(H17*H9,\"\")","v":""},{"$f":"IFERROR(I17*H9,\"\")","v":""},null,null,null,"C",0,0,0,{"$f":"IFERROR(Q17*Q9,\"\")","v":""},{"$f":"IFERROR(R17*Q9,\"\")","v":""},null,null,null,null,null,null,null,null,null,null,null,null,null,null,null,null,null,null,null,null,null,null,6,6.3]
[null,null,"% de estudiantes según calificación","AD",{"$f":"IFERROR(E10/E9,\"\")","v":""},{"$f":"IFERROR(F10/F9,\"\")","v":""},{"$f":"IFERROR(G10/G9,\"\")","v":""},{"$f":"IFERROR(SUM(H23,H33,H43,H53,H63,H73)/SUM(H22,H32,H42,H52,H62,H72),\"\")","v":""},{"$f":"IFERROR(FORECAST(H7,E14:G14,E7:G7),\"\")","v":""},null,null,"% de estudiantes según calificación","AD",{"$f":"IFERROR(N10/N9,\"\")","v":""},{"$f":"IFERROR(O10/O9,\"\")","v":""},{"$f":"IFERROR(P10/P9,\"\")","v":""},{"$f":"IFERROR(SUM(Q23,Q33,Q43,Q53,Q63,Q73)/SUM(Q22,Q32,Q42,Q52,Q62,Q72),\"\")","v":""},{"$f":"IFERROR(FORECAST(Q7,N14:P14,N7:P7),\"\")","v":""},null,null,null,null,null,null,null,null,null,null,null,null,null,null,null,null,null,null,null,null,null,null,{"$f":"SUM(AO10:AO13)","v":127},{"$f":"SUM(AP10:AP13)","v":126}]
[null,null,null,"A",{"$f":"IFERROR(E11/E9,\"\")","v":""},{"$f":"IFERROR(F11/F9,\"\")","v":""},{"$f":"IFERROR(G11/G9,\"\")","v":""},{"$f":"IFERROR(SUM(H24,H34,H44,H54,H64,H74)/SUM(H22,H32,H42,H52,H62,H72),\"\")","v":""},{"$f":"IFERROR(FORECAST(H7,E15:G15,E7:G7),\"\")","v":""},null,null,null,"A",{"$f":"IFERROR(N11/N9,\"\")","v":""},{"$f":"IFERROR(O11/O9,\"\")","v":""},{"$f":"IFERROR(P11/P9,\"\")","v":""},{"$f":"IFERROR(SUM(Q24,Q34,Q44,Q54,Q64,Q74)/SUM(Q22,Q32,Q42,Q52,Q62,Q72),\"\")","v":""},{"$f":"IFERROR(FORECAST(Q7,N15:P15,N7:P7),\"\")","v":""}]
[null,null,null,"B",{"$f":"IFERROR(E12/E9,\"\")","v":""},{"$f":"IFERROR(F12/F9,\"\")","v":""},{"$f":"IFERROR(G12/G9,\"\")","v":""},{"$f":"IFERROR(SUM(H25,H35,H45,H55,H65,H75)/SUM(H22,H32,H42,H52,H62,H72),\"\")","v":""},{"$f":"IFERROR(FORECAST(H7,E16:G16,E7:G7),\"\")","v":""},null,null,null,"B",{"$f":"IFERROR(N12/N9,\"\")","v":""},{"$f":"IFERROR(O12/O9,\"\")","v":""},{"$f":"IFERROR(P12/P9,\"\")","v":""},{"$f":"IFERROR(SUM(Q25,Q35,Q45,Q55,Q65,Q75)/SUM(Q22,Q32,Q42,Q52,Q62,Q72),\"\")","v":""},{"$f":"IFERROR(FORECAST(Q7,N16:P16,N7:P7),\"\")","v":""}]
[null,null,null,"C",{"$f":"IFERROR(E13/E9,\"\")","v":""},{"$f":"IFERROR(F13/F9,\"\")","v":""},{"$f":"IFERROR(G13/G9,\"\")","v":""},{"$f":"IFERROR(SUM(H26,H36,H46,H56,H66,H76)/SUM(H22,H32,H42,H52,H62,H72),\"\")","v":""},{"$f":"IFERROR(FORECAST(H7,E17:G17,E7:G7),\"\")","v":""},null,null,null,"C",{"$f":"IFERROR(N13/N9,\"\")","v":""},{"$f":"IFERROR(O13/O9,\"\")","v":""},{"$f":"IFERROR(P13/P9,\"\")","v":""},{"$f":"IFERROR(SUM(Q26,Q36,Q46,Q56,Q66,Q76)/SUM(Q22,Q32,Q42,Q52,Q62,Q72),\"\")","v":""},{"$f":"IFERROR(FORECAST(Q7,N17:P17,N7:P7),\"\")","v":""}]
[null,"Histórico de rendimiento y formulación de metas 2017 según grado ➨"]
[]
[null,"Área de Ciencia y Ambiente",null,null,2014,2015,2016,2017,null,null,"Área de Personal Social",null,null,2014,2015,2016,2017]
[null,null,null,null,null,null,null,"Meta**","Pronóstico***",null,null,null,null,null,null,null,"Meta**","Pronóstico***"]
[null,"1er grado","Nro. estudiantes*",null,null,null,null,null,null,null,"1er grado","Nro. estudiantes*"]
[null,null,"Nro. de estudiantes según calificación****","AD",null,null,null,{"$f":"IFERROR(H27*$H$22,\"\")","v":0},{"$f":"IFERROR(I27*H22,\"\")","v":""},null,null,"Nro. de estudiantes según calificación****","AD",null,null,null,{"$f":"IFERROR(Q27*$Q$22,\"\")","v":0},{"$f":"IFERROR(R27*Q22,\"\")","v":""}]
[null,null,null,"A",null,null,null,{"$f":"IFERROR(H28*$H$22,\"\")","v":0},{"$f":"IFERROR(I28*H22,\"\")","v":""},null,null,null,"A",null,null,null,{"$f":"IFERROR(Q28*$Q$22,\"\")","v":0},{"$f":"IFERROR(R28*Q22,\"\")","v":""}]
[null,null,null,"B",null,null,null,{"$f":"IFERROR(H29*$H$22,\"\")","v":0},{"$f":"IFERROR(I29*H22,\"\")","v":""},null,null,null,"B",null,null,null,{"$f":"IFERROR(Q29*$Q$22,\"\")","v":0},{"$f":"IFERROR(R29*Q22,\"\")","v":""}]
[null,null,null,"C",null,null,null,{"$f":"IFERROR(H30*$H$22,\"\")","v":0},{"$f":"IFERROR(I30*H22,\"\")","v":""},null,null,null,"C",null,null,null,{"$f":"IFERROR(Q30*$Q$22,\"\")","v":0},{"$f":"IFERROR(R30*Q22,\"\")","v":""}]
[null,null,"% de estudiantes según calificación","AD",{"$f":"IFERROR(E23/E22,\"\")","v":""},{"$f":"IFERROR(F23/F22,\"\")","v":""},{"$f":"IFERROR(G23/G22,\"\")","v":""},null,{"$f":"IFERROR(FORECAST(H20,E27:G27,E20:G20),\"\")","v":""},null,null,"% de estudiantes según calificación","AD",{"$f":"IFERROR(N23/N22,\"\")","v":""},{"$f":"IFERROR(O23/O22,\"\")","v":""},{"$f":"IFERROR(P23/P22,\"\")","v":""},null,{"$f":"IFERROR(FORECAST(Q20,N27:P27,N20:P20),\"\")","v":""}]
[null,null,null,"A",{"$f":"IFERROR(E24/E22,\"\")","v":""},{"$f":"IFERROR(F24/F22,\"\")","v":""},{"$f":"IFERROR(G24/G22,\"\")","v":""},null,{"$f":"IFERROR(FORECAST(H20,E28:G28,E20:G20),\"\")","v":""},null,null,null,"A",{"$f":"IFERROR(N24/N22,\"\")","v":""},{"$f":"IFERROR(O24/O22,\"\")","v":""},{"$f":"IFERROR(P24/P22,\"\")","v":""},null,{"$f":"IFERROR(FORECAST(Q20,N28:P28,N20:P20),\"\")","v":""}]
[null,null,null,"B",{"$f":"IFERROR(E25/E22,\"\")","v":""},{"$f":"IFERROR(F25/F22,\"\")","v":""},{"$f":"IFERROR(G25/G22,\"\")","v":""},null,{"$f":"IFERROR(FORECAST(H20,E29:G29,E20:G20),\"\")","v":""},null,null,null,"B",{"$f":"IFERROR(N25/N22,\"\")","v":""},{"$f":"IFERROR(O25/O22,\"\")","v":""},{"$f":"IFERROR(P25/P22,\"\")","v":""},null,{"$f":"IFERROR(FORECAST(Q20,N29:P29,N20:P20),\"\")","v":""}]
[null,null,null,"C",{"$f":"IFERROR(E26/E22,\"\")","v":""},{"$f":"IFERROR(F26/F22,\"\")","v":""},{"$f":"IFERROR(G26/G22,\"\")","v":""},null,{"$f":"IFERROR(FORECAST(H20,E30:G30,E20:G20),\"\")","v":""},null,null,null,"C",{"$f":"IFERROR(N26/N22,\"\")","v":""},{"$f":"IFERROR(O26/O22,\"\")","v":""},{"$f":"IFERROR(P26/P22,\"\")","v":""},null,{"$f":"IFERROR(FORECAST(Q20,N30:P30,N20:P20),\"\")","v":""}]
[null,null,null,null,{"$f":"IF(SUM(E23:E26)=E22,\"\",\"datos erróneos\")","v":""},{"$f":"IF(SUM(F23:F26)=F22,\"\",\"datos erróneos\")","v":""},{"$f":"IF(SUM(G23:G26)=G22,\"\",\"datos erróneos\")","v":""},{"$f":"IF(SUM(H27:H30)=1,\"\",(IF(SUM(H27:H30)=0,\"\",\"datos erróneos\")))","v":""},null,null,null,null,null,{"$f":"IF(SUM(N23:N26)=N22,\"\",\"datos erróneos\")","v":""},{"$f":"IF(SUM(O23:O26)=O22,\"\",\"datos erróneos\")","v":""},{"$f":"IF(SUM(P23:P26)=P22,\"\",\"datos erróneos\")","v":""},{"$f":"IF(SUM(Q27:Q30)=1,\"\",(IF(SUM(Q27:Q30)=0,\"\",\"datos erróneos\")))","v":""}]
[null,"2do grado","Nro. estudiantes*",null,null,null,null,null,null,null,"2do grado","Nro. estudiantes*"]
[null,null,"Nro. de estudiantes según calificación****","AD",null,null,null,{"$f":"IFERROR(H37*$H$32,\"\")","v":0},{"$f":"IFERROR(I37*H32,\"\")","v":""},null,null,"Nro. de estudiantes según calificación****","AD",null,null,null,{"$f":"IFERROR(Q37*$Q$32,\"\")","v":0},{"$f":"IFERROR(R37*Q32,\"\")","v":""}]
[null,null,null,"A",null,null,null,{"$f":"IFERROR(H38*$H$32,\"\")","v":0},{"$f":"IFERROR(I38*H32,\"\")","v":""},null,null,null,"A",null,null,null,{"$f":"IFERROR(Q38*$Q$32,\"\")","v":0},{"$f":"IFERROR(R38*Q32,\"\")","v":""}]
[null,null,null,"B",null,null,null,{"$f":"IFERROR(H39*$H$32,\"\")","v":0},{"$f":"IFERROR(I39*H32,\"\")","v":""},null,null,null,"B",null,null,null,{"$f":"IFERROR(Q39*$Q$32,\"\")","v":0},{"$f":"IFERROR(R39*Q32,\"\")","v":""}]
[null,null,null,"C",null,null,null,{"$f":"IFERROR(H40*$H$32,\"\")","v":0},{"$f":"IFERROR(I40*H32,\"\")","v":""},null,null,null,"C",null,null,null,{"$f":"IFERROR(Q40*$Q$32,\"\")","v":0},{"$f":"IFERROR(R40*Q32,\"\")","v":""}]
[null,null,"% de estudiantes según calificación","AD",{"$f":"IFERROR(E33/E32,\"\")","v":""},{"$f":"IFERROR(F33/F32,\"\")","v":""},{"$f":"IFERROR(G33/G32,\"\")","v":""},null,{"$f":"IFERROR(FORECAST(H20,E37:G37,E20:G20),\"\")","v":""},null,null,"% de estudiantes según calificación","AD",{"$f":"IFERROR(N33/N32,\"\")","v":""},{"$f":"IFERROR(O33/O32,\"\")","v":""},{"$f":"IFERROR(P33/P32,\"\")","v":""},null,{"$f":"IFERROR(FORECAST(Q20,N37:P37,N20:P20),\"\")","v":""}]
[null,null,null,"A",{"$f":"IFERROR(E34/E32,\"\")","v":""},{"$f":"IFERROR(F34/F32,\"\")","v":""},{"$f":"IFERROR(G34/G32,\"\")","v":""},null,{"$f":"IFERROR(FORECAST(H20,E38:G38,E20:G20),\"\")","v":""},null,null,null,"A",{"$f":"IFERROR(N34/N32,\"\")","v":""},{"$f":"IFERROR(O34/O32,\"\")","v":""},{"$f":"IFERROR(P34/P32,\"\")","v":""},null,{"$f":"IFERROR(FORECAST(Q20,N38:P38,N20:P20),\"\")","v":""}]
[null,null,null,"B",{"$f":"IFERROR(E35/E32,\"\")","v":""},{"$f":"IFERROR(F35/F32,\"\")","v":""},{"$f":"IFERROR(G35/G32,\"\")","v":""},null,{"$f":"IFERROR(FORECAST(H20,E39:G39,E20:G20),\"\")","v":""},null,null,null,"B",{"$f":"IFERROR(N35/N32,\"\")","v":""},{"$f":"IFERROR(O35/O32,\"\")","v":""},{"$f":"IFERROR(P35/P32,\"\")","v":""},null,{"$f":"IFERROR(FORECAST(Q20,N39:P39,N20:P20),\"\")","v":""}]
[null,null,null,"C",{"$f":"IFERROR(E36/E32,\"\")","v":""},{"$f":"IFERROR(F36/F32,\"\")","v":""},{"$f":"IFERROR(G36/G32,\"\")","v":""},null,{"$f":"IFERROR(FORECAST(H20,E40:G40,E20:G20),\"\")","v":""},null,null,null,"C",{"$f":"IFERROR(N36/N32,\"\")","v":""},{"$f":"IFERROR(O36/O32,\"\")","v":""},{"$f":"IFERROR(P36/P32,\"\")","v":""},null,{"$f":"IFERROR(FORECAST(Q20,N40:P40,N20:P20),\"\")","v":""}]
[null,null,null,null,{"$f":"IF(SUM(E33:E36)=E32,\"\",\"datos erróneos\")","v":""},{"$f":"IF(SUM(F33:F36)=F32,\"\",\"datos erróneos\")","v":""},{"$f":"IF(SUM(G33:G36)=G32,\"\",\"datos erróneos\")","v":""},{"$f":"IF(SUM(H37:H40)=1,\"\",(IF(SUM(H37:H40)=0,\"\",\"datos erróneos\")))","v":""},null,null,null,null,null,{"$f":"IF(SUM(N33:N36)=N32,\"\",\"datos erróneos\")","v":""},{"$f":"IF(SUM(O33:O36)=O32,\"\",\"datos erróneos\")","v":""},{"$f":"IF(SUM(P33:P36)=P32,\"\",\"datos erróneos\")","v":""},{"$f":"IF(SUM(Q37:Q40)=1,\"\",(IF(SUM(Q37:Q40)=0,\"\",\"datos erróneos\")))","v":""}]
[null,"3er grado","Nro estudiantes*",null,null,null,null,null,null,null,"3er grado","Nro estudiantes*"]
[null,null,"Nro de estudiantes según calificación****","AD",null,null,null,{"$f":"IFERROR(H47*$H$42,\"\")","v":0},{"$f":"IFERROR(I47*H42,\"\")","v":""},null,null,"Nro de estudiantes según calificación****","AD",null,null,null,{"$f":"IFERROR(Q47*$Q$42,\"\")","v":0},{"$f":"IFERROR(R47*Q42,\"\")","v":""}]
[null,null,null,"A",null,null,null,{"$f":"IFERROR(H48*$H$42,\"\")","v":0},{"$f":"IFERROR(I48*H42,\"\")","v":""},null,null,null,"A",null,null,null,{"$f":"IFERROR(Q48*$Q$42,\"\")","v":0},{"$f":"IFERROR(R48*Q42,\"\")","v":""}]
[null,null,null,"B",null,null,null,{"$f":"IFERROR(H49*$H$42,\"\")","v":0},{"$f":"IFERROR(I49*H42,\"\")","v":""},null,null,null,"B",null,null,null,{"$f":"IFERROR(Q49*$Q$42,\"\")","v":0},{"$f":"IFERROR(R49*Q42,\"\")","v":""}]
[null,null,null,"C",null,null,null,{"$f":"IFERROR(H50*$H$42,\"\")","v":0},{"$f":"IFERROR(I50*H42,\"\")","v":""},null,null,null,"C",null,null,null,{"$f":"IFERROR(Q50*$Q$42,\"\")","v":0},{"$f":"IFERROR(R50*Q42,\"\")","v":""}]
[null,null,"% de estudiantes según calificación","AD",{"$f":"IFERROR(E43/E42,\"\")","v":""},{"$f":"IFERROR(F43/F42,\"\")","v":""},{"$f":"IFERROR(G43/G42,\"\")","v":""},null,{"$f":"IFERROR(FORECAST(H20,E47:G47,E20:G20),\"\")","v":""},null,null,"% de estudiantes según calificación","AD",{"$f":"IFERROR(N43/N42,\"\")","v":""},{"$f":"IFERROR(O43/O42,\"\")","v":""},{"$f":"IFERROR(P43/P42,\"\")","v":""},null,{"$f":"IFERROR(FORECAST(Q20,N47:P47,N20:P20),\"\")","v":""}]
[null,null,null,"A",{"$f":"IFERROR(E44/E42,\"\")","v":""},{"$f":"IFERROR(F44/F42,\"\")","v":""},{"$f":"IFERROR(G44/G42,\"\")","v":""},null,{"$f":"IFERROR(FORECAST(H20,E48:G48,E20:G20),\"\")","v":""},null,null,null,"A",{"$f":"IFERROR(N44/N42,\"\")","v":""},{"$f":"IFERROR(O44/O42,\"\")","v":""},{"$f":"IFERROR(P44/P42,\"\")","v":""},null,{"$f":"IFERROR(FORECAST(Q20,N48:P48,N20:P20),\"\")","v":""}]
[null,null,null,"B",{"$f":"IFERROR(E45/E42,\"\")","v":""},{"$f":"IFERROR(F45/F42,\"\")","v":""},{"$f":"IFERROR(G45/G42,\"\")","v":""},null,{"$f":"IFERROR(FORECAST(H20,E49:G49,E20:G20),\"\")","v":""},null,null,null,"B",{"$f":"IFERROR(N45/N42,\"\")","v":""},{"$f":"IFERROR(O45/O42,\"\")","v":""},{"$f":"IFERROR(P45/P42,\"\")","v":""},null,{"$f":"IFERROR(FORECAST(Q20,N49:P49,N20:P20),\"\")","v":""}]
[null,null,null,"C",{"$f":"IFERROR(E46/E42,\"\")","v":""},{"$f":"IFERROR(F46/F42,\"\")","v":""},{"$f":"IFERROR(G46/G42,\"\")","v":""},null,{"$f":"IFERROR(FORECAST(H20,E50:G50,E20:G20),\"\")","v":""},null,null,null,"C",{"$f":"IFERROR(N46/N42,\"\")","v":""},{"$f":"IFERROR(O46/O42,\"\")","v":""},{"$f":"IFERROR(P46/P42,\"\")","v":""},null,{"$f":"IFERROR(FORECAST(Q20,N50:P50,N20:P20),\"\")","v":""}]
[null,null,null,null,{"$f":"IF(SUM(E43:E46)=E42,\"\",\"datos erróneos\")","v":""},{"$f":"IF(SUM(F43:F46)=F42,\"\",\"datos erróneos\")","v":""},{"$f":"IF(SUM(G43:G46)=G42,\"\",\"datos erróneos\")","v":""},{"$f":"IF(SUM(H47:H50)=1,\"\",(IF(SUM(H47:H50)=0,\"\",\"datos erróneos\")))","v":""},null,null,null,null,{"$f":"IF(SUM(M43:M46)=M42,\"\",\"datos erróneos\")","v":""},{"$f":"IF(SUM(N43:N46)=N42,\"\",\"datos erróneos\")","v":""},{"$f":"IF(SUM(O43:O46)=O42,\"\",\"datos erróneos\")","v":""},{"$f":"IF(SUM(P43:P46)=P42,\"\",\"datos erróneos\")","v":""},{"$f":"IF(SUM(Q47:Q50)=1,\"\",(IF(SUM(Q47:Q50)=0,\"\",\"datos erróneos\")))","v":""}]
[null,"4to grado","Nro estudiantes*",null,null,null,null,null,null,null,"4to grado","Nro estudiantes*"]
[null,null,"Nro de estudiantes según calificación****","AD",null,null,null,{"$f":"IFERROR(H57*$H$52,\"\")","v":0},{"$f":"IFERROR(I57*H52,\"\")","v":""},null,null,"Nro de estudiantes según calificación****","AD",null,null,null,{"$f":"IFERROR(Q57*$Q$52,\"\")","v":0},{"$f":"IFERROR(R57*Q52,\"\")","v":""}]
[null,null,null,"A",null,null,null,{"$f":"IFERROR(H58*$H$52,\"\")","v":0},{"$f":"IFERROR(I58*H52,\"\")","v":""},null,null,null,"A",null,null,null,{"$f":"IFERROR(Q58*$Q$52,\"\")","v":0},{"$f":"IFERROR(R58*Q52,\"\")","v":""}]
[null,null,null,"B",null,null,null,{"$f":"IFERROR(H59*$H$52,\"\")","v":0},{"$f":"IFERROR(I59*H52,\"\")","v":""},null,null,null,"B",null,null,null,{"$f":"IFERROR(Q59*$Q$52,\"\")","v":0},{"$f":"IFERROR(R59*Q52,\"\")","v":""}]
[null,null,null,"C",null,null,null,{"$f":"IFERROR(H60*$H$52,\"\")","v":0},{"$f":"IFERROR(I60*H52,\"\")","v":""},null,null,null,"C",null,null,null,{"$f":"IFERROR(Q60*$Q$52,\"\")","v":0},{"$f":"IFERROR(R60*Q52,\"\")","v":""}]
[null,null,"% de estudiantes según calificación","AD",{"$f":"IFERROR(E53/E52,\"\")","v":""},{"$f":"IFERROR(F53/F52,\"\")","v":""},{"$f":"IFERROR(G53/G52,\"\")","v":""},null,{"$f":"IFERROR(FORECAST(H20,E57:G57,E20:G20),\"\")","v":""},null,null,"% de estudiantes según calificación","AD",{"$f":"IFERROR(N53/N52,\"\")","v":""},{"$f":"IFERROR(O53/O52,\"\")","v":""},{"$f":"IFERROR(P53/P52,\"\")","v":""},null,{"$f":"IFERROR(FORECAST(Q20,N57:P57,N20:P20),\"\")","v":""}]
[null,null,null,"A",{"$f":"IFERROR(E54/E52,\"\")","v":""},{"$f":"IFERROR(F54/F52,\"\")","v":""},{"$f":"IFERROR(G54/G52,\"\")","v":""},null,{"$f":"IFERROR(FORECAST(H20,E58:G58,E20:G20),\"\")","v":""},null,null,null,"A",{"$f":"IFERROR(N54/N52,\"\")","v":""},{"$f":"IFERROR(O54/O52,\"\")","v":""},{"$f":"IFERROR(P54/P52,\"\")","v":""},null,{"$f":"IFERROR(FORECAST(Q20,N58:P58,N20:P20),\"\")","v":""}]
[null,null,null,"B",{"$f":"IFERROR(E55/E52,\"\")","v":""},{"$f":"IFERROR(F55/F52,\"\")","v":""},{"$f":"IFERROR(G55/G52,\"\")","v":""},null,{"$f":"IFERROR(FORECAST(H20,E59:G59,E20:G20),\"\")","v":""},null,null,null,"B",{"$f":"IFERROR(N55/N52,\"\")","v":""},{"$f":"IFERROR(O55/O52,\"\")","v":""},{"$f":"IFERROR(P55/P52,\"\")","v":""},null,{"$f":"IFERROR(FORECAST(Q20,N59:P59,N20:P20),\"\")","v":""}]
[null,null,null,"C",{"$f":"IFERROR(E56/E52,\"\")","v":""},{"$f":"IFERROR(F56/F52,\"\")","v":""},{"$f":"IFERROR(G56/G52,\"\")","v":""},null,{"$f":"IFERROR(FORECAST(H20,E60:G60,E20:G20),\"\")","v":""},null,null,null,"C",{"$f":"IFERROR(N56/N52,\"\")","v":""},{"$f":"IFERROR(O56/O52,\"\")","v":""},{"$f":"IFERROR(P56/P52,\"\")","v":""},null,{"$f":"IFERROR(FORECAST(Q20,N60:P60,N20:P20),\"\")","v":""}]
[null,null,null,null,{"$f":"IF(SUM(E53:E56)=E52,\"\",\"datos erróneos\")","v":""},{"$f":"IF(SUM(F53:F56)=F52,\"\",\"datos erróneos\")","v":""},{"$f":"IF(SUM(G53:G56)=G52,\"\",\"datos erróneos\")","v":""},{"$f":"IF(SUM(H57:H60)=1,\"\",(IF(SUM(H57:H60)=0,\"\",\"datos erróneos\")))","v":""},null,null,null,null,null,{"$f":"IF(SUM(N53:N56)=N52,\"\",\"datos erróneos\")","v":""},{"$f":"IF(SUM(O53:O56)=O52,\"\",\"datos erróneos\")","v":""},{"$f":"IF(SUM(P53:P56)=P52,\"\",\"datos erróneos\")","v":""},{"$f":"IF(SUM(Q57:Q60)=1,\"\",(IF(SUM(Q57:Q60)=0,\"\",\"datos erróneos\")))","v":""}]
[null,"5to grado","Nro estudiantes*",null,null,null,null,null,null,null,"5to grado","Nro estudiantes*"]
[null,null,"Nro de estudiantes según calificación****","AD",null,null,null,{"$f":"IFERROR(H67*$H$62,\"\")","v":0},{"$f":"IFERROR(I67*H62,\"\")","v":""},null,null,"Nro de estudiantes según calificación****","AD",null,null,null,{"$f":"IFERROR(Q67*$Q$62,\"\")","v":0},{"$f":"IFERROR(R67*Q62,\"\")","v":""}]
[null,null,null,"A",null,null,null,{"$f":"IFERROR(H68*$H$62,\"\")","v":0},{"$f":"IFERROR(I68*H62,\"\")","v":""},null,null,null,"A",null,null,null,{"$f":"IFERROR(Q68*$Q$62,\"\")","v":0},{"$f":"IFERROR(R68*Q62,\"\")","v":""}]
[null,null,null,"B",null,null,null,{"$f":"IFERROR(H69*$H$62,\"\")","v":0},{"$f":"IFERROR(I69*H62,\"\")","v":""},null,null,null,"B",null,null,null,{"$f":"IFERROR(Q69*$Q$62,\"\")","v":0},{"$f":"IFERROR(R69*Q62,\"\")","v":""}]
[null,null,null,"C",null,null,null,{"$f":"IFERROR(H70*$H$62,\"\")","v":0},{"$f":"IFERROR(I70*H62,\"\")","v":""},null,null,null,"C",null,null,null,{"$f":"IFERROR(Q70*$Q$62,\"\")","v":0},{"$f":"IFERROR(R70*Q62,\"\")","v":""}]
[null,null,"% de estudiantes según calificación","AD",{"$f":"IFERROR(E63/E62,\"\")","v":""},{"$f":"IFERROR(F63/F62,\"\")","v":""},{"$f":"IFERROR(G63/G62,\"\")","v":""},null,{"$f":"IFERROR(FORECAST(H20,E67:G67,E20:G20),\"\")","v":""},null,null,"% de estudiantes según calificación","AD",{"$f":"IFERROR(N63/N62,\"\")","v":""},{"$f":"IFERROR(O63/O62,\"\")","v":""},{"$f":"IFERROR(P63/P62,\"\")","v":""},null,{"$f":"IFERROR(FORECAST(Q20,N67:P67,N20:P20),\"\")","v":""}]
[null,null,null,"A",{"$f":"IFERROR(E64/E62,\"\")","v":""},{"$f":"IFERROR(F64/F62,\"\")","v":""},{"$f":"IFERROR(G64/G62,\"\")","v":""},null,{"$f":"IFERROR(FORECAST(H20,E68:G68,E20:G20),\"\")","v":""},null,null,null,"A",{"$f":"IFERROR(N64/N62,\"\")","v":""},{"$f":"IFERROR(O64/O62,\"\")","v":""},{"$f":"IFERROR(P64/P62,\"\")","v":""},null,{"$f":"IFERROR(FORECAST(Q20,N68:P68,N20:P20),\"\")","v":""}]
[null,null,null,"B",{"$f":"IFERROR(E65/E62,\"\")","v":""},{"$f":"IFERROR(F65/F62,\"\")","v":""},{"$f":"IFERROR(G65/G62,\"\")","v":""},null,{"$f":"IFERROR(FORECAST(H20,E69:G69,E20:G20),\"\")","v":""},null,null,null,"B",{"$f":"IFERROR(N65/N62,\"\")","v":""},{"$f":"IFERROR(O65/O62,\"\")","v":""},{"$f":"IFERROR(P65/P62,\"\")","v":""},null,{"$f":"IFERROR(FORECAST(Q20,N69:P69,N20:P20),\"\")","v":""}]
[null,null,null,"C",{"$f":"IFERROR(E66/E62,\"\")","v":""},{"$f":"IFERROR(F66/F62,\"\")","v":""},{"$f":"IFERROR(G66/G62,\"\")","v":""},null,{"$f":"IFERROR(FORECAST(H20,E70:G70,E20:G20),\"\")","v":""},null,null,null,"C",{"$f":"IFERROR(N66/N62,\"\")","v":""},{"$f":"IFERROR(O66/O62,\"\")","v":""},{"$f":"IFERROR(P66/P62,\"\")","v":""},null,{"$f":"IFERROR(FORECAST(Q20,N70:P70,N20:P20),\"\")","v":""}]
[null,null,null,{"$f":"IF(SUM(D63:D66)=D62,\"\",\"datos erróneos\")","v":""},{"$f":"IF(SUM(E63:E66)=E62,\"\",\"datos erróneos\")","v":""},{"$f":"IF(SUM(F63:F66)=F62,\"\",\"datos erróneos\")","v":""},{"$f":"IF(SUM(G63:G66)=G62,\"\",\"datos erróneos\")","v":""},{"$f":"IF(SUM(H67:H70)=1,\"\",(IF(SUM(H67:H70)=0,\"\",\"datos erróneos\")))","v":""},null,null,null,null,{"$f":"IF(SUM(M63:M66)=M62,\"\",\"datos erróneos\")","v":""},{"$f":"IF(SUM(N63:N66)=N62,\"\",\"datos erróneos\")","v":""},{"$f":"IF(SUM(O63:O66)=O62,\"\",\"datos erróneos\")","v":""},{"$f":"IF(SUM(P63:P66)=P62,\"\",\"datos erróneos\")","v":""},{"$f":"IF(SUM(Q67:Q70)=1,\"\",(IF(SUM(Q67:Q70)=0,\"\",\"datos erróneos\")))","v":""}]
[null,"6to grado","Nro estudiantes*",null,null,null,null,null,null,null,"6to grado","Nro estudiantes*"]
[null,null,"Nro de estudiantes según calificación****","AD",null,null,null,{"$f":"IFERROR(H77*$H$72,\"\")","v":0},{"$f":"IFERROR(I77*H72,\"\")","v":""},null,null,"Nro de estudiantes según calificación****","AD",null,null,null,{"$f":"IFERROR(Q77*$Q$72,\"\")","v":0},{"$f":"IFERROR(R77*Q72,\"\")","v":""}]
[null,null,null,"A",null,null,null,{"$f":"IFERROR(H78*$H$72,\"\")","v":0},{"$f":"IFERROR(I78*H72,\"\")","v":""},null,null,null,"A",null,null,null,{"$f":"IFERROR(Q78*$Q$72,\"\")","v":0},{"$f":"IFERROR(R78*Q72,\"\")","v":""}]
[null,null,null,"B",null,null,null,{"$f":"IFERROR(H79*$H$72,\"\")","v":0},{"$f":"IFERROR(I79*H72,\"\")","v":""},null,null,null,"B",null,null,null,{"$f":"IFERROR(Q79*$Q$72,\"\")","v":0},{"$f":"IFERROR(R79*Q72,\"\")","v":""}]
[null,null,null,"C",null,null,null,{"$f":"IFERROR(H80*$H$72,\"\")","v":0},{"$f":"IFERROR(I80*H72,\"\")","v":""},null,null,null,"C",null,null,null,{"$f":"IFERROR(Q80*$Q$72,\"\")","v":0},{"$f":"IFERROR(R80*Q72,\"\")","v":""}]
[null,null,"% de estudiantes según calificación","AD",{"$f":"IFERROR(E73/E72,\"\")","v":""},{"$f":"IFERROR(F73/F72,\"\")","v":""},{"$f":"IFERROR(G73/G72,\"\")","v":""},null,{"$f":"IFERROR(FORECAST(H20,E77:G77,E20:G20),\"\")","v":""},null,null,"% de estudiantes según calificación","AD",{"$f":"IFERROR(N73/N72,\"\")","v":""},{"$f":"IFERROR(O73/O72,\"\")","v":""},{"$f":"IFERROR(P73/P72,\"\")","v":""},null,{"$f":"IFERROR(FORECAST(Q20,N77:P77,N20:P20),\"\")","v":""}]
[null,null,null,"A",{"$f":"IFERROR(E74/E72,\"\")","v":""},{"$f":"IFERROR(F74/F72,\"\")","v":""},{"$f":"IFERROR(G74/G72,\"\")","v":""},null,{"$f":"IFERROR(FORECAST(H20,E78:G78,E20:G20),\"\")","v":""},null,null,null,"A",{"$f":"IFERROR(N74/N72,\"\")","v":""},{"$f":"IFERROR(O74/O72,\"\")","v":""},{"$f":"IFERROR(P74/P72,\"\")","v":""},null,{"$f":"IFERROR(FORECAST(Q20,N78:P78,N20:P20),\"\")","v":""}]
[null,null,null,"B",{"$f":"IFERROR(E75/E72,\"\")","v":""},{"$f":"IFERROR(F75/F72,\"\")","v":""},{"$f":"IFERROR(G75/G72,\"\")","v":""},null,{"$f":"IFERROR(FORECAST(H20,E79:G79,E20:G20),\"\")","v":""},null,null,null,"B",{"$f":"IFERROR(N75/N72,\"\")","v":""},{"$f":"IFERROR(O75/O72,\"\")","v":""},{"$f":"IFERROR(P75/P72,\"\")","v":""},null,{"$f":"IFERROR(FORECAST(Q20,N79:P79,N20:P20),\"\")","v":""}]
[null,null,null,"C",{"$f":"IFERROR(E76/E72,\"\")","v":""},{"$f":"IFERROR(F76/F72,\"\")","v":""},{"$f":"IFERROR(G76/G72,\"\")","v":""},null,{"$f":"IFERROR(FORECAST(H20,E80:G80,E20:G20),\"\")","v":""},null,null,null,"C",{"$f":"IFERROR(N76/N72,\"\")","v":""},{"$f":"IFERROR(O76/O72,\"\")","v":""},{"$f":"IFERROR(P76/P72,\"\")","v":""},null,{"$f":"IFERROR(FORECAST(Q20,N80:P80,N20:P20),\"\")","v":""}]
[null,null,null,null,{"$f":"IF(SUM(E73:E76)=E72,\"\",\"datos erróneos\")","v":""},{"$f":"IF(SUM(F73:F76)=F72,\"\",\"datos erróneos\")","v":""},{"$f":"IF(SUM(G73:G76)=G72,\"\",\"datos erróneos\")","v":""},{"$f":"IF(SUM(H77:H80)=1,\"\",(IF(SUM(H77:H80)=0,\"\",\"datos erróneos\")))","v":""},null,null,null,null,null,{"$f":"IF(SUM(N73:N76)=N72,\"\",\"datos erróneos\")","v":""},{"$f":"IF(SUM(O73:O76)=O72,\"\",\"datos erróneos\")","v":""},{"$f":"IF(SUM(P73:P76)=P72,\"\",\"datos erróneos\")","v":""},{"$f":"IF(SUM(Q77:Q80)=1,\"\",(IF(SUM(Q77:Q80)=0,\"\",\"datos erróneos\")))","v":""}]
[]
[]
[null,"* Nro de estudiantes:  En los años 2014 al 2016 deberás colocar el número de estudiantes según tus actas finales; en el 2016, deberás colocar el número de estudiantes matriculados en ese año."]
[null,"** Meta:  Esta es la meta que te propones para el año 2016, deberás escribirla en las celdas blancas de %. Ten en cuenta el pronóstico para proponerte metas realistas. "]
[null,"*** Pronóstico: Es el porcentaje o número de estudiantes según su desempeño en cada grado. El porcentaje de pronóstico depende de los porcentajes alcanzados en los años anteriores y no suma 100% necesariamente.Del mismo modo, suma el número de estudiantes matriculados en el año. Además pueden haber valores negativos sin que ello afecte la interpretación. En esos casos lo que dice el pronóstico es que tu tendencia es marcadamente hacia la baja."]
[null,"**** Estudiantes según calificación: En los años 2013 al 2015 deberás poner el número de estudiantes con cada calificación según las actas finales. En el 2016, se mostrará lo que deberías alcanzar según tu meta propuesta."]

{"sheet":"C1_FormSec","index":36,"n_rows":79,"n_cols":18,"rows_kept":79,"cut":false,"hidden":true,"merged":[[77,1,77,17],[23,16,23,17],[24,2,27,2],[24,11,27,11],[28,2,31,2],[28,11,31,11],[34,2,37,2],[34,11,37,11],[43,1,51,1],[43,2,43,3],[33,16,33,17],[33,10,41,10],[33,11,33,12],[38,11,41,11],[23,1,31,1],[23,2,23,3],[23,7,23,8],[21,10,22,12],[21,16,21,17],[10,16,10,17],[8,16,8,17],[23,10,31,10],[23,11,23,12],[11,11,14,11],[21,1,22,3],[8,4,9,4],[8,5,9,5],[8,15,9,15],[21,4,22,4],[21,15,22,15],[21,5,22,5],[21,6,22,6],[8,13,9,13],[21,13,22,13],[21,14,22,14],[8,6,9,6],[21,7,21,8],[43,16,43,17],[44,2,47,2],[44,11,47,11],[48,2,51,2],[48,11,51,11],[43,7,43,8],[43,10,51,10],[43,11,43,12],[63,16,63,17],[64,2,67,2],[64,11,67,11],[68,2,71,2],[53,16,53,17],[54,11,57,11],[58,2,61,2],[58,11,61,11],[53,11,53,12],[63,11,63,12],[53,1,61,1],[53,2,53,3],[53,7,53,8],[68,11,71,11],[33,1,41,1],[33,2,33,3],[33,7,33,8],[38,2,41,2],[54,2,57,2],[63,1,71,1],[63,2,63,3],[63,7,63,8],[63,10,71,10],[53,10,61,10],[6,1,6,13],[3,1,3,14],[4,1,4,14],[5,1,5,14],[10,11,10,12],[8,1,9,3],[8,7,8,8],[8,10,9,12],[8,14,9,14],[10,1,18,1],[10,2,10,3],[10,7,10,8],[10,10,18,10],[15,2,18,2],[15,11,18,11],[11,2,14,2]]}
[]
[null,"Metas de rendimiento en el Nivel Secundaria - Comunicación y Matemática"]
[null,"¿Qué hacer?"]
[null,"1° Deberás completar las tablas del \"Histórico de rendimiento...\" en relación a las calificaciones obtenidas en Comunicación y Matemática por cada grado. Entonces, contarás con los porcentajes respectivos y el pronóstico en cada caso."]
[null,"2° Tomando como referencia los datos del 2015 y el pronóstico, podrás proyectar tus metas. "]
[null,"3° A continuación, debes escribir el número de estudiantes matriculados el año 2016; y verás la distribución de estudiantes según la meta. "]
[null,"4° Se repite la operación en cada uno de los grados, para contar con la meta del nivel educativo en la tabla \"CONSOLIDADO\"."]
[null,"CONSOLIDADO del histórico de rendimiento y formulación de metas 2017 del Nivel Secundaria. ➨"]
[null,"Área de Comunicación",null,null,2014,2015,2016,2017,null,null,"Área de Matemática",null,null,2014,2015,2016,2017]
[null,null,null,null,null,null,null,"Meta**","Pronóstico***",null,null,null,null,null,null,null,"Meta**","Pronóstico***"]
[null,"Nivel SECUNDARIA","Nro. estudiantes*",null,{"$f":"SUM(E24,E34,E44,E54,E64)","v":0},{"$f":"SUM(F24,F34,F44,F54,F64)","v":0},{"$f":"SUM(G24,G34,G44,G54,G64)","v":0},{"$f":"SUM(H24,H34,H44,H54,H64)","v":0},null,null,"Nivel SECUNDARIA","Nro. estudiantes*",null,{"$f":"SUM(N24,N34,N44,N54,N64)","v":0},{"$f":"SUM(O24,O34,O44,O54,O64)","v":0},{"$f":"SUM(P24,P34,P44,P54,P64)","v":0},{"$f":"SUM(Q24,Q34,Q44,Q54,Q64)","v":0}]
[null,null,"Nro. de estudiantes según calificación****","18-20",{"$f":"SUM(E25,E35,E45,E55,E65)","v":0},0,0,{"$f":"IFERROR(H16*H11,\"\")","v":""},{"$f":"IFERROR(I16*H11,\"\")","v":""},null,null,"Nro. de estudiantes según calificación****","18-20",{"$f":"SUM(N25,N35,N45,N55,N65)","v":0},0,0,{"$f":"IFERROR(Q16*Q11,\"\")","v":""},{"$f":"IFERROR(R16*Q11,\"\")","v":""}]
[null,null,null,"14-17",0,0,0,{"$f":"IFERROR(H17*H11,\"\")","v":""},{"$f":"IFERROR(I17*H11,\"\")","v":""},null,null,null,"14-17",0,0,0,{"$f":"IFERROR(Q17*Q11,\"\")","v":""},{"$f":"IFERROR(R17*Q11,\"\")","v":""}]
[null,null,null,"11-13",0,0,0,{"$f":"IFERROR(H18*H11,\"\")","v":""},{"$f":"IFERROR(I18*H11,\"\")","v":""},null,null,null,"11-13",0,0,0,{"$f":"IFERROR(Q18*Q11,\"\")","v":""},{"$f":"IFERROR(R18*Q11,\"\")","v":""}]
[null,null,null,"0-10",0,0,0,{"$f":"IFERROR(H19*H11,\"\")","v":""},{"$f":"IFERROR(I19*H11,\"\")","v":""},null,null,null,"0-10",0,0,0,{"$f":"IFERROR(Q19*Q11,\"\")","v":""},{"$f":"IFERROR(R19*Q11,\"\")","v":""}]
[null,null,"% de estudiantes según calificación","18-20",{"$f":"IFERROR(E12/E11,\"\")","v":""},{"$f":"IFERROR(F12/F11,\"\")","v":""},{"$f":"IFERROR(G12/G11,\"\")","v":""},{"$f":"IFERROR(SUM(H25,H35,H45,H55,H65)/SUM(H24,H34,H44,H54,H64),\"\")","v":""},{"$f":"IFERROR(FORECAST(H9,E16:G16,E9:G9),\"\")","v":""},null,null,"% de estudiantes según calificación","18-20",{"$f":"IFERROR(N12/N11,\"\")","v":""},{"$f":"IFERROR(O12/O11,\"\")","v":""},{"$f":"IFERROR(P12/P11,\"\")","v":""},{"$f":"IFERROR(SUM(Q25,Q35,Q45,Q55,Q65)/SUM(Q24,Q34,Q44,Q54,Q64),\"\")","v":""},{"$f":"IFERROR(FORECAST(Q9,N16:P16,N9:P9),\"\")","v":""}]
[null,null,null,"14-17",{"$f":"IFERROR(E13/E11,\"\")","v":""},{"$f":"IFERROR(F13/F11,\"\")","v":""},{"$f":"IFERROR(G13/G11,\"\")","v":""},{"$f":"IFERROR(SUM(H26,H36,H46,H56,H66)/SUM(H24,H34,H44,H54,H64),\"\")","v":""},{"$f":"IFERROR(FORECAST(H9,E17:G17,E9:G9),\"\")","v":""},null,null,null,"14-17",{"$f":"IFERROR(N13/N11,\"\")","v":""},{"$f":"IFERROR(O13/O11,\"\")","v":""},{"$f":"IFERROR(P13/P11,\"\")","v":""},{"$f":"IFERROR(SUM(Q26,Q36,Q46,Q56,Q66)/SUM(Q24,Q34,Q44,Q54,Q64),\"\")","v":""},{"$f":"IFERROR(FORECAST(Q9,N17:P17,N9:P9),\"\")","v":""}]
[null,null,null,"11-13",{"$f":"IFERROR(E14/E11,\"\")","v":""},{"$f":"IFERROR(F14/F11,\"\")","v":""},{"$f":"IFERROR(G14/G11,\"\")","v":""},{"$f":"IFERROR(SUM(H27,H37,H47,H57,H67)/SUM(H24,H34,H44,H54,H64),\"\")","v":""},{"$f":"IFERROR(FORECAST(H9,E18:G18,E9:G9),\"\")","v":""},null,null,null,"11-13",{"$f":"IFERROR(N14/N11,\"\")","v":""},{"$f":"IFERROR(O14/O11,\"\")","v":""},{"$f":"IFERROR(P14/P11,\"\")","v":""},{"$f":"IFERROR(SUM(Q27,Q37,Q47,Q57,Q67)/SUM(Q24,Q34,Q44,Q54,Q64),\"\")","v":""},{"$f":"IFERROR(FORECAST(Q9,N18:P18,N9:P9),\"\")","v":""}]
[null,null,null,"0-10",{"$f":"IFERROR(E15/E11,\"\")","v":""},{"$f":"IFERROR(F15/F11,\"\")","v":""},{"$f":"IFERROR(G15/G11,\"\")","v":""},{"$f":"IFERROR(SUM(H28,H38,H48,H58,H68)/SUM(H24,H34,H44,H54,H64),\"\")","v":""},{"$f":"IFERROR(FORECAST(H9,E19:G19,E9:G9),\"\")","v":""},null,null,null,"0-10",{"$f":"IFERROR(N15/N11,\"\")","v":""},{"$f":"IFERROR(O15/O11,\"\")","v":""},{"$f":"IFERROR(P15/P11,\"\")","v":""},{"$f":"IFERROR(SUM(Q28,Q38,Q48,Q58,Q68)/SUM(Q24,Q34,Q44,Q54,Q64),\"\")","v":""},{"$f":"IFERROR(FORECAST(Q9,N19:P19,N9:P9),\"\")","v":""}]
[null,"Histórico de rendimento y formulación de metas 2017 según grado. ➨"]
[]
[null,"Área de Comunicación",null,null,2014,2015,2016,2017,null,null,"Área de Matemática",null,null,2014,2015,2016,2017]
[null,null,null,null,null,null,null,"Meta**","Pronóstico***",null,null,null,null,null,null,null,"Meta**","Pronóstico***"]
[null,"1er.\ngrado","Nro. estudiantes*",null,null,null,null,null,null,null,"1er.\ngrado","Nro. estudiantes*"]
[null,null,"Nro. de estudiantes según calificación****","18-20",null,null,null,{"$f":"IFERROR(H29*$H$24,\"\")","v":0},{"$f":"IFERROR(I29*H24,\"\")","v":""},null,null,"Nro. de estudiantes según calificación****","18-20",null,null,null,{"$f":"IFERROR(Q29*$Q$24,\"\")","v":0},{"$f":"IFERROR(R29*Q24,\"\")","v":""}]
[null,null,null,"14-17",null,null,null,{"$f":"IFERROR(H30*$H$24,\"\")","v":0},{"$f":"IFERROR(I30*H24,\"\")","v":""},null,null,null,"14-17",null,null,null,{"$f":"IFERROR(Q30*$Q$24,\"\")","v":0},{"$f":"IFERROR(R30*Q24,\"\")","v":""}]
[null,null,null,"11-13",null,null,null,{"$f":"IFERROR(H31*$H$24,\"\")","v":0},{"$f":"IFERROR(I31*H24,\"\")","v":""},null,null,null,"11-13",null,null,null,{"$f":"IFERROR(Q31*$Q$24,\"\")","v":0},{"$f":"IFERROR(R31*Q24,\"\")","v":""}]
[null,null,null,"0-10",null,null,null,{"$f":"IFERROR(H32*$H$24,\"\")","v":0},{"$f":"IFERROR(I32*H24,\"\")","v":""},null,null,null,"0-10",null,null,null,{"$f":"IFERROR(Q32*$Q$24,\"\")","v":0},{"$f":"IFERROR(R32*Q24,\"\")","v":""}]
[null,null,"% de estudiantes según calificación","18-20",{"$f":"IFERROR(E25/E24,\"\")","v":""},{"$f":"IFERROR(F25/F24,\"\")","v":""},{"$f":"IFERROR(G25/G24,\"\")","v":""},null,{"$f":"IFERROR(FORECAST(H22,E29:G29,E22:G22),\"\")","v":""},null,null,"% de estudiantes según calificación","18-20",{"$f":"IFERROR(N25/N24,\"\")","v":""},{"$f":"IFERROR(O25/O24,\"\")","v":""},{"$f":"IFERROR(P25/P24,\"\")","v":""},null,{"$f":"IFERROR(FORECAST(Q22,N29:P29,N22:P22),\"\")","v":""}]
[null,null,null,"14-17",{"$f":"IFERROR(E26/E24,\"\")","v":""},{"$f":"IFERROR(F26/F24,\"\")","v":""},{"$f":"IFERROR(G26/G24,\"\")","v":""},null,{"$f":"IFERROR(FORECAST(H22,E30:G30,E22:G22),\"\")","v":""},null,null,null,"14-17",{"$f":"IFERROR(N26/N24,\"\")","v":""},{"$f":"IFERROR(O26/O24,\"\")","v":""},{"$f":"IFERROR(P26/P24,\"\")","v":""},null,{"$f":"IFERROR(FORECAST(Q22,N30:P30,N22:P22),\"\")","v":""}]
[null,null,null,"11-13",{"$f":"IFERROR(E27/E24,\"\")","v":""},{"$f":"IFERROR(F27/F24,\"\")","v":""},{"$f":"IFERROR(G27/G24,\"\")","v":""},null,{"$f":"IFERROR(FORECAST(H22,E31:G31,E22:G22),\"\")","v":""},null,null,null,"11-13",{"$f":"IFERROR(N27/N24,\"\")","v":""},{"$f":"IFERROR(O27/O24,\"\")","v":""},{"$f":"IFERROR(P27/P24,\"\")","v":""},null,{"$f":"IFERROR(FORECAST(Q22,N31:P31,N22:P22),\"\")","v":""}]
[null,null,null,"0-10",{"$f":"IFERROR(E28/E24,\"\")","v":""},{"$f":"IFERROR(F28/F24,\"\")","v":""},{"$f":"IFERROR(G28/G24,\"\")","v":""},null,{"$f":"IFERROR(FORECAST(H22,E32:G32,E22:G22),\"\")","v":""},null,null,null,"0-10",{"$f":"IFERROR(N28/N24,\"\")","v":""},{"$f":"IFERROR(O28/O24,\"\")","v":""},{"$f":"IFERROR(P28/P24,\"\")","v":""},null,{"$f":"IFERROR(FORECAST(Q22,N32:P32,N22:P22),\"\")","v":""}]
[null,null,null,null,{"$f":"IF(SUM(E25:E28)=E24,\"\",\"datos erróneos\")","v":""},{"$f":"IF(SUM(F25:F28)=F24,\"\",\"datos erróneos\")","v":""},{"$f":"IF(SUM(G25:G28)=G24,\"\",\"datos erróneos\")","v":""},{"$f":"IF(SUM(H29:H32)=1,\"\",(IF(SUM(H29:H32)=0,\"\",\"datos erróneos\")))","v":""},null,null,null,null,null,{"$f":"IF(SUM(N25:N28)=N24,\"\",\"datos erróneos\")","v":""},{"$f":"IF(SUM(O25:O28)=O24,\"\",\"datos erróneos\")","v":""},{"$f":"IF(SUM(P25:P28)=P24,\"\",\"datos erróneos\")","v":""},{"$f":"IF(SUM(Q29:Q32)=1,\"\",(IF(SUM(Q29:Q32)=0,\"\",\"datos erróneos\")))","v":""}]
[null,"2do.\ngrado","Nro. estudiantes*",null,null,null,null,null,null,null,"2do.\ngrado","Nro. estudiantes*"]
[null,null,"Nro. de estudiantes según calificación****","18-20",null,null,null,{"$f":"IFERROR(H39*$H$34,\"\")","v":0},{"$f":"IFERROR(I39*H34,\"\")","v":""},null,null,"Nro. de estudiantes según calificación****","18-20",null,null,null,{"$f":"IFERROR(Q39*$Q$34,\"\")","v":0},{"$f":"IFERROR(R39*Q34,\"\")","v":""}]
[null,null,null,"14-17",null,null,null,{"$f":"IFERROR(H40*$H$34,\"\")","v":0},{"$f":"IFERROR(I40*H34,\"\")","v":""},null,null,null,"14-17",null,null,null,{"$f":"IFERROR(Q40*$Q$34,\"\")","v":0},{"$f":"IFERROR(R40*Q34,\"\")","v":""}]
[null,null,null,"11-13",null,null,null,{"$f":"IFERROR(H41*$H$34,\"\")","v":0},{"$f":"IFERROR(I41*H34,\"\")","v":""},null,null,null,"11-13",null,null,null,{"$f":"IFERROR(Q41*$Q$34,\"\")","v":0},{"$f":"IFERROR(R41*Q34,\"\")","v":""}]
[null,null,null,"0-10",null,null,null,{"$f":"IFERROR(H42*$H$34,\"\")","v":0},{"$f":"IFERROR(I42*H34,\"\")","v":""},null,null,null,"0-10",null,null,null,{"$f":"IFERROR(Q42*$Q$34,\"\")","v":0},{"$f":"IFERROR(R42*Q34,\"\")","v":""}]
[null,null,"% de estudiantes según calificación","18-20",{"$f":"IFERROR(E35/E34,\"\")","v":""},{"$f":"IFERROR(F35/F34,\"\")","v":""},{"$f":"IFERROR(G35/G34,\"\")","v":""},null,{"$f":"IFERROR(FORECAST(H22,E39:G39,E22:G22),\"\")","v":""},null,null,"% de estudiantes según calificación","18-20",{"$f":"IFERROR(N35/N34,\"\")","v":""},{"$f":"IFERROR(O35/O34,\"\")","v":""},{"$f":"IFERROR(P35/P34,\"\")","v":""},null,{"$f":"IFERROR(FORECAST(Q22,N39:P39,N22:P22),\"\")","v":""}]
[null,null,null,"14-17",{"$f":"IFERROR(E36/E34,\"\")","v":""},{"$f":"IFERROR(F36/F34,\"\")","v":""},{"$f":"IFERROR(G36/G34,\"\")","v":""},null,{"$f":"IFERROR(FORECAST(H22,E40:G40,E22:G22),\"\")","v":""},null,null,null,"14-17",{"$f":"IFERROR(N36/N34,\"\")","v":""},{"$f":"IFERROR(O36/O34,\"\")","v":""},{"$f":"IFERROR(P36/P34,\"\")","v":""},null,{"$f":"IFERROR(FORECAST(Q22,N40:P40,N22:P22),\"\")","v":""}]
[null,null,null,"11-13",{"$f":"IFERROR(E37/E34,\"\")","v":""},{"$f":"IFERROR(F37/F34,\"\")","v":""},{"$f":"IFERROR(G37/G34,\"\")","v":""},null,{"$f":"IFERROR(FORECAST(H22,E41:G41,E22:G22),\"\")","v":""},null,null,null,"11-13",{"$f":"IFERROR(N37/N34,\"\")","v":""},{"$f":"IFERROR(O37/O34,\"\")","v":""},{"$f":"IFERROR(P37/P34,\"\")","v":""},null,{"$f":"IFERROR(FORECAST(Q22,N41:P41,N22:P22),\"\")","v":""}]
[null,null,null,"0-10",{"$f":"IFERROR(E38/E34,\"\")","v":""},{"$f":"IFERROR(F38/F34,\"\")","v":""},{"$f":"IFERROR(G38/G34,\"\")","v":""},null,{"$f":"IFERROR(FORECAST(H22,E42:G42,E22:G22),\"\")","v":""},null,null,null,"0-10",{"$f":"IFERROR(N38/N34,\"\")","v":""},{"$f":"IFERROR(O38/O34,\"\")","v":""},{"$f":"IFERROR(P38/P34,\"\")","v":""},null,{"$f":"IFERROR(FORECAST(Q22,N42:P42,N22:P22),\"\")","v":""}]
[null,null,null,{"$f":"IF(SUM(D35:D38)=D34,\"\",\"datos erróneos\")","v":""},{"$f":"IF(SUM(E35:E38)=E34,\"\",\"datos erróneos\")","v":""},{"$f":"IF(SUM(F35:F38)=F34,\"\",\"datos erróneos\")","v":""},{"$f":"IF(SUM(G35:G38)=G34,\"\",\"datos erróneos\")","v":""},{"$f":"IF(SUM(H39:H42)=1,\"\",(IF(SUM(H39:H42)=0,\"\",\"datos erróneos\")))","v":""},null,null,null,null,null,{"$f":"IF(SUM(N35:N38)=N34,\"\",\"datos erróneos\")","v":""},{"$f":"IF(SUM(O35:O38)=O34,\"\",\"datos erróneos\")","v":""},{"$f":"IF(SUM(P35:P38)=P34,\"\",\"datos erróneos\")","v":""},{"$f":"IF(SUM(Q39:Q42)=1,\"\",(IF(SUM(Q39:Q42)=0,\"\",\"datos erróneos\")))","v":""}]
[null,"3er.\ngrado","Nro. estudiantes*",null,null,null,null,null,null,null,"3er.\ngrado","Nro. estudiantes*"]
[null,null,"Nro. de estudiantes según calificación****","18-20",null,null,null,{"$f":"IFERROR(H49*$H$44,\"\")","v":0},{"$f":"IFERROR(I49*H44,\"\")","v":""},null,null,"Nro. de estudiantes según calificación****","18-20",null,null,null,{"$f":"IFERROR(Q49*$Q$44,\"\")","v":0},{"$f":"IFERROR(R49*Q44,\"\")","v":""}]
[null,null,null,"14-17",null,null,null,{"$f":"IFERROR(H50*$H$44,\"\")","v":0},{"$f":"IFERROR(I50*H44,\"\")","v":""},null,null,null,"14-17",null,null,null,{"$f":"IFERROR(Q50*$Q$44,\"\")","v":0},{"$f":"IFERROR(R50*Q44,\"\")","v":""}]
[null,null,null,"11-13",null,null,null,{"$f":"IFERROR(H51*$H$44,\"\")","v":0},{"$f":"IFERROR(I51*H44,\"\")","v":""},null,null,null,"11-13",null,null,null,{"$f":"IFERROR(Q51*$Q$44,\"\")","v":0},{"$f":"IFERROR(R51*Q44,\"\")","v":""}]
[null,null,null,"0-10",null,null,null,{"$f":"IFERROR(H52*$H$44,\"\")","v":0},{"$f":"IFERROR(I52*H44,\"\")","v":""},null,null,null,"0-10",null,null,null,{"$f":"IFERROR(Q52*$Q$44,\"\")","v":0},{"$f":"IFERROR(R52*Q44,\"\")","v":""}]
[null,null,"% de estudiantes según calificación","18-20",{"$f":"IFERROR(E45/E44,\"\")","v":""},{"$f":"IFERROR(F45/F44,\"\")","v":""},{"$f":"IFERROR(G45/G44,\"\")","v":""},null,{"$f":"IFERROR(FORECAST(H22,E49:G49,E22:G22),\"\")","v":""},null,null,"% de estudiantes según calificación","18-20",{"$f":"IFERROR(N45/N44,\"\")","v":""},{"$f":"IFERROR(O45/O44,\"\")","v":""},{"$f":"IFERROR(P45/P44,\"\")","v":""},null,{"$f":"IFERROR(FORECAST(Q22,N49:P49,N22:P22),\"\")","v":""}]
[null,null,null,"14-17",{"$f":"IFERROR(E46/E44,\"\")","v":""},{"$f":"IFERROR(F46/F44,\"\")","v":""},{"$f":"IFERROR(G46/G44,\"\")","v":""},null,{"$f":"IFERROR(FORECAST(H22,E50:G50,E22:G22),\"\")","v":""},null,null,null,"14-17",{"$f":"IFERROR(N46/N44,\"\")","v":""},{"$f":"IFERROR(O46/O44,\"\")","v":""},{"$f":"IFERROR(P46/P44,\"\")","v":""},null,{"$f":"IFERROR(FORECAST(Q22,N50:P50,N22:P22),\"\")","v":""}]
[null,null,null,"11-13",{"$f":"IFERROR(E47/E44,\"\")","v":""},{"$f":"IFERROR(F47/F44,\"\")","v":""},{"$f":"IFERROR(G47/G44,\"\")","v":""},null,{"$f":"IFERROR(FORECAST(H22,E51:G51,E22:G22),\"\")","v":""},null,null,null,"11-13",{"$f":"IFERROR(N47/N44,\"\")","v":""},{"$f":"IFERROR(O47/O44,\"\")","v":""},{"$f":"IFERROR(P47/P44,\"\")","v":""},null,{"$f":"IFERROR(FORECAST(Q22,N51:P51,N22:P22),\"\")","v":""}]
[null,null,null,"0-10",{"$f":"IFERROR(E48/E44,\"\")","v":""},{"$f":"IFERROR(F48/F44,\"\")","v":""},{"$f":"IFERROR(G48/G44,\"\")","v":""},null,{"$f":"IFERROR(FORECAST(H22,E52:G52,E22:G22),\"\")","v":""},null,null,null,"0-10",{"$f":"IFERROR(N48/N44,\"\")","v":""},{"$f":"IFERROR(O48/O44,\"\")","v":""},{"$f":"IFERROR(P48/P44,\"\")","v":""},null,{"$f":"IFERROR(FORECAST(Q22,N52:P52,N22:P22),\"\")","v":""}]
[null,null,null,null,{"$f":"IF(SUM(E45:E48)=E44,\"\",\"datos erróneos\")","v":""},{"$f":"IF(SUM(F45:F48)=F44,\"\",\"datos erróneos\")","v":""},{"$f":"IF(SUM(G45:G48)=G44,\"\",\"datos erróneos\")","v":""},{"$f":"IF(SUM(H49:H52)=1,\"\",(IF(SUM(H49:H52)=0,\"\",\"datos erróneos\")))","v":""},null,null,null,null,null,{"$f":"IF(SUM(N45:N48)=N44,\"\",\"datos erróneos\")","v":""},{"$f":"IF(SUM(O45:O48)=O44,\"\",\"datos erróneos\")","v":""},{"$f":"IF(SUM(P45:P48)=P44,\"\",\"datos erróneos\")","v":""},{"$f":"IF(SUM(Q49:Q52)=1,\"\",(IF(SUM(Q49:Q52)=0,\"\",\"datos erróneos\")))","v":""}]
[null,"4to. \ngrado","Nro estudiantes*",null,null,null,null,null,null,null,"4to. \ngrado","Nro estudiantes*"]
[null,null,"Nro de estudiantes según calificación****","18-20",null,null,null,{"$f":"IFERROR(H59*$H$54,\"\")","v":0},{"$f":"IFERROR(I59*H54,\"\")","v":""},null,null,"Nro de estudiantes según calificación****","18-20",null,null,null,{"$f":"IFERROR(Q59*$Q$54,\"\")","v":0},{"$f":"IFERROR(R59*Q54,\"\")","v":""}]
[null,null,null,"14-17",null,null,null,{"$f":"IFERROR(H60*$H$54,\"\")","v":0},{"$f":"IFERROR(I60*H54,\"\")","v":""},null,null,null,"14-17",null,null,null,{"$f":"IFERROR(Q60*$Q$54,\"\")","v":0},{"$f":"IFERROR(R60*Q54,\"\")","v":""}]
[null,null,null,"11-13",null,null,null,{"$f":"IFERROR(H61*$H$54,\"\")","v":0},{"$f":"IFERROR(I61*H54,\"\")","v":""},null,null,null,"11-13",null,null,null,{"$f":"IFERROR(Q61*$Q$54,\"\")","v":0},{"$f":"IFERROR(R61*Q54,\"\")","v":""}]
[null,null,null,"0-10",null,null,null,{"$f":"IFERROR(H62*$H$54,\"\")","v":0},{"$f":"IFERROR(I62*H54,\"\")","v":""},null,null,null,"0-10",null,null,null,{"$f":"IFERROR(Q62*$Q$54,\"\")","v":0},{"$f":"IFERROR(R62*Q54,\"\")","v":""}]
[null,null,"% de estudiantes según calificación","18-20",{"$f":"IFERROR(E55/E54,\"\")","v":""},{"$f":"IFERROR(F55/F54,\"\")","v":""},{"$f":"IFERROR(G55/G54,\"\")","v":""},null,{"$f":"IFERROR(FORECAST(H22,E59:G59,E22:G22),\"\")","v":""},null,null,"% de estudiantes según calificación","18-20",{"$f":"IFERROR(N55/N54,\"\")","v":""},{"$f":"IFERROR(O55/O54,\"\")","v":""},{"$f":"IFERROR(P55/P54,\"\")","v":""},null,{"$f":"IFERROR(FORECAST(Q22,N59:P59,N22:P22),\"\")","v":""}]
[null,null,null,"14-17",{"$f":"IFERROR(E56/E54,\"\")","v":""},{"$f":"IFERROR(F56/F54,\"\")","v":""},{"$f":"IFERROR(G56/G54,\"\")","v":""},null,{"$f":"IFERROR(FORECAST(H22,E60:G60,E22:G22),\"\")","v":""},null,null,null,"14-17",{"$f":"IFERROR(N56/N54,\"\")","v":""},{"$f":"IFERROR(O56/O54,\"\")","v":""},{"$f":"IFERROR(P56/P54,\"\")","v":""},null,{"$f":"IFERROR(FORECAST(Q22,N60:P60,N22:P22),\"\")","v":""}]
[null,null,null,"11-13",{"$f":"IFERROR(E57/E54,\"\")","v":""},{"$f":"IFERROR(F57/F54,\"\")","v":""},{"$f":"IFERROR(G57/G54,\"\")","v":""},null,{"$f":"IFERROR(FORECAST(H22,E61:G61,E22:G22),\"\")","v":""},null,null,null,"11-13",{"$f":"IFERROR(N57/N54,\"\")","v":""},{"$f":"IFERROR(O57/O54,\"\")","v":""},{"$f":"IFERROR(P57/P54,\"\")","v":""},null,{"$f":"IFERROR(FORECAST(Q22,N61:P61,N22:P22),\"\")","v":""}]
[null,null,null,"0-10",{"$f":"IFERROR(E58/E54,\"\")","v":""},{"$f":"IFERROR(F58/F54,\"\")","v":""},{"$f":"IFERROR(G58/G54,\"\")","v":""},null,{"$f":"IFERROR(FORECAST(H22,E62:G62,E22:G22),\"\")","v":""},null,null,null,"0-10",{"$f":"IFERROR(N58/N54,\"\")","v":""},{"$f":"IFERROR(O58/O54,\"\")","v":""},{"$f":"IFERROR(P58/P54,\"\")","v":""},null,{"$f":"IFERROR(FORECAST(Q22,N62:P62,N22:P22),\"\")","v":""}]
[null,null,null,null,{"$f":"IF(SUM(E55:E58)=E54,\"\",\"datos erróneos\")","v":""},{"$f":"IF(SUM(F55:F58)=F54,\"\",\"datos erróneos\")","v":""},{"$f":"IF(SUM(G55:G58)=G54,\"\",\"datos erróneos\")","v":""},{"$f":"IF(SUM(H59:H62)=1,\"\",(IF(SUM(H59:H62)=0,\"\",\"datos erróneos\")))","v":""},null,null,null,null,null,{"$f":"IF(SUM(N55:N58)=N54,\"\",\"datos erróneos\")","v":""},{"$f":"IF(SUM(O55:O58)=O54,\"\",\"datos erróneos\")","v":""},{"$f":"IF(SUM(P55:P58)=P54,\"\",\"datos erróneos\")","v":""},{"$f":"IF(SUM(Q59:Q62)=1,\"\",(IF(SUM(Q59:Q62)=0,\"\",\"datos erróneos\")))","v":""}]
[null,"5to.\ngrado","Nro estudiantes*",null,null,null,null,null,null,null,"5to.\ngrado","Nro estudiantes*"]
[null,null,"Nro de estudiantes según calificación****","18-20",null,null,null,{"$f":"IFERROR(H69*$H$64,\"\")","v":0},{"$f":"IFERROR(I69*H64,\"\")","v":""},null,null,"Nro de estudiantes según calificación****","18-20",null,null,null,{"$f":"IFERROR(Q69*$Q$64,\"\")","v":0},{"$f":"IFERROR(R69*Q64,\"\")","v":""}]
[null,null,null,"14-17",null,null,null,{"$f":"IFERROR(H70*$H$64,\"\")","v":0},{"$f":"IFERROR(I70*H64,\"\")","v":""},null,null,null,"14-17",null,null,null,{"$f":"IFERROR(Q70*$Q$64,\"\")","v":0},{"$f":"IFERROR(R70*Q64,\"\")","v":""}]
[null,null,null,"11-13",null,null,null,{"$f":"IFERROR(H71*$H$64,\"\")","v":0},{"$f":"IFERROR(I71*H64,\"\")","v":""},null,null,null,"11-13",null,null,null,{"$f":"IFERROR(Q71*$Q$64,\"\")","v":0},{"$f":"IFERROR(R71*Q64,\"\")","v":""}]
[null,null,null,"0-10",null,null,null,{"$f":"IFERROR(H72*$H$64,\"\")","v":0},{"$f":"IFERROR(I72*H64,\"\")","v":""},null,null,null,"0-10",null,null,null,{"$f":"IFERROR(Q72*$Q$64,\"\")","v":0},{"$f":"IFERROR(R72*Q64,\"\")","v":""}]
[null,null,"% de estudiantes según calificación","18-20",{"$f":"IFERROR(E65/E64,\"\")","v":""},{"$f":"IFERROR(F65/F64,\"\")","v":""},{"$f":"IFERROR(G65/G64,\"\")","v":""},null,{"$f":"IFERROR(FORECAST(H22,E69:G69,E22:G22),\"\")","v":""},null,null,"% de estudiantes según calificación","18-20",{"$f":"IFERROR(N65/N64,\"\")","v":""},{"$f":"IFERROR(O65/O64,\"\")","v":""},{"$f":"IFERROR(P65/P64,\"\")","v":""},null,{"$f":"IFERROR(FORECAST(Q22,N69:P69,N22:P22),\"\")","v":""}]
[null,null,null,"14-17",{"$f":"IFERROR(E66/E64,\"\")","v":""},{"$f":"IFERROR(F66/F64,\"\")","v":""},{"$f":"IFERROR(G66/G64,\"\")","v":""},null,{"$f":"IFERROR(FORECAST(H22,E70:G70,E22:G22),\"\")","v":""},null,null,null,"14-17",{"$f":"IFERROR(N66/N64,\"\")","v":""},{"$f":"IFERROR(O66/O64,\"\")","v":""},{"$f":"IFERROR(P66/P64,\"\")","v":""},null,{"$f":"IFERROR(FORECAST(Q22,N70:P70,N22:P22),\"\")","v":""}]
[null,null,null,"11-13",{"$f":"IFERROR(E67/E64,\"\")","v":""},{"$f":"IFERROR(F67/F64,\"\")","v":""},{"$f":"IFERROR(G67/G64,\"\")","v":""},null,{"$f":"IFERROR(FORECAST(H22,E71:G71,E22:G22),\"\")","v":""},null,null,null,"11-13",{"$f":"IFERROR(N67/N64,\"\")","v":""},{"$f":"IFERROR(O67/O64,\"\")","v":""},{"$f":"IFERROR(P67/P64,\"\")","v":""},null,{"$f":"IFERROR(FORECAST(Q22,N71:P71,N22:P22),\"\")","v":""}]
[null,null,null,"0-10",{"$f":"IFERROR(E68/E64,\"\")","v":""},{"$f":"IFERROR(F68/F64,\"\")","v":""},{"$f":"IFERROR(G68/G64,\"\")","v":""},null,{"$f":"IFERROR(FORECAST(H22,E72:G72,E22:G22),\"\")","v":""},null,null,null,"0-10",{"$f":"IFERROR(N68/N64,\"\")","v":""},{"$f":"IFERROR(O68/O64,\"\")","v":""},{"$f":"IFERROR(P68/P64,\"\")","v":""},null,{"$f":"IFERROR(FORECAST(Q22,N72:P72,N22:P22),\"\")","v":""}]
[null,null,null,null,{"$f":"IF(SUM(E65:E68)=E64,\"\",\"datos erróneos\")","v":""},{"$f":"IF(SUM(F65:F68)=F64,\"\",\"datos erróneos\")","v":""},{"$f":"IF(SUM(G65:G68)=G64,\"\",\"datos erróneos\")","v":""},{"$f":"IF(SUM(H69:H72)=1,\"\",(IF(SUM(H69:H72)=0,\"\",\"datos erróneos\")))","v":""},null,null,null,null,null,{"$f":"IF(SUM(N65:N68)=N64,\"\",\"datos erróneos\")","v":""},{"$f":"IF(SUM(O65:O68)=O64,\"\",\"datos erróneos\")","v":""},{"$f":"IF(SUM(P65:P68)=P64,\"\",\"datos erróneos\")","v":""},{"$f":"IF(SUM(Q69:Q72)=1,\"\",(IF(SUM(Q69:Q72)=0,\"\",\"datos erróneos\")))","v":""}]
[]
[]
[null,"* Nro de estudiantes:  En los años 2014 al 2016 deberás colocar el número de estudiantes según tus actas finales; en el 2016, deberás colocar el número de estudiantes matriculados en ese año."]
[null,"** Meta:  Esta es la meta que te propones para el año 2016, deberás escribirla en las celdas blancas de %. Ten en cuenta el pronóstico para proponerte metas realistas. "]
[null,"*** Pronóstico: Es el porcentaje o número de estudiantes según su desempeño en cada grado. El porcentaje de pronóstico depende de los porcentajes alcanzados en los años anteriores y no suma 100% necesariamente.Del mismo modo, suma el número de estudiantes matriculados en el año. Además pueden haber valores negativos sin que ello afecte la interpretación. En esos casos lo que dice el pronóstico es que tu tendencia es marcadamente hacia la baja."]
[null,"**** Estudiantes según calificación: En los años 2013 al 2015 deberás poner el número de estudiantes con cada calificación según las actas finales. En el 2016, se mostrará lo que deberías alcanzar según tu meta propuesta."]

{"sheet":"C1_FormSec2","index":37,"n_rows":77,"n_cols":18,"rows_kept":77,"cut":false,"hidden":true,"merged":[[75,1,75,17],[8,11,8,12],[19,4,20,4],[19,5,20,5],[19,6,20,6],[19,1,20,3],[19,7,19,8],[19,10,20,12],[9,11,12,11],[13,11,16,11],[61,1,69,1],[61,2,61,3],[61,7,61,8],[61,10,69,10],[62,2,65,2],[66,2,69,2],[66,11,69,11],[51,16,51,17],[52,2,55,2],[52,11,55,11],[56,2,59,2],[56,11,59,11],[61,11,61,12],[61,16,61,17],[62,11,65,11],[51,2,51,3],[51,7,51,8],[51,10,59,10],[51,11,51,12],[41,16,41,17],[42,2,45,2],[42,11,45,11],[46,2,49,2],[46,11,49,11],[41,10,49,10],[51,1,59,1],[32,2,35,2],[32,11,35,11],[36,2,39,2],[36,11,39,11],[41,1,49,1],[41,2,41,3],[41,7,41,8],[41,11,41,12],[31,1,39,1],[31,2,31,3],[31,7,31,8],[31,10,39,10],[31,11,31,12],[26,11,29,11],[19,13,20,13],[19,14,20,14],[13,2,16,2],[31,16,31,17],[8,10,16,10],[8,7,8,8],[21,1,29,1],[21,2,21,3],[6,6,7,6],[21,16,21,17],[22,2,25,2],[22,11,25,11],[19,15,20,15],[21,7,21,8],[21,10,29,10],[21,11,21,12],[9,2,12,2],[6,13,7,13],[6,14,7,14],[6,15,7,15],[19,16,19,17],[26,2,29,2],[4,1,4,17],[6,1,7,3],[6,7,6,8],[6,10,7,12],[8,16,8,17],[6,16,6,17],[6,4,7,4],[6,5,7,5],[8,1,16,1],[8,2,8,3]]}
[]
[null,"Metas de rendimiento en el Nivel Secundaria - Ciencia, Tecnología y Ambiente; Historia, Geografía y Economía."]
[null,"Estas tablas te servirán para realizar la misma operación anterior considerando otras Áreas Curriculares."]
[]
[null,"\n"]
[null,"CONSOLIDADO del histórico de rendimiento y formulación de metas 2017 del Nivel Secundaria.  ➨"]
[null,"Área de Ciencia, Tecnología y Ambiente",null,null,2014,2015,2016,2017,null,null,"Área de Historia, Geografía y Economía",null,null,2014,2015,2016,2017]
[null,null,null,null,null,null,null,"Meta**","Pronóstico***",null,null,null,null,null,null,null,"Meta**","Pronóstico***"]
[null,"Nivel SECUNDARIA","Nro. estudiantes*",null,{"$f":"SUM(E22,E32,E42,E52,E62)","v":0},{"$f":"SUM(F22,F32,F42,F52,F62)","v":0},{"$f":"SUM(G22,G32,G42,G52,G62)","v":0},{"$f":"SUM(H22,H32,H42,H52,H62)","v":0},null,null,"Nivel SECUNDARIA","Nro. estudiantes*",null,{"$f":"SUM(N22,N32,N42,N52,N62)","v":0},{"$f":"SUM(O22,O32,O42,O52,O62)","v":0},{"$f":"SUM(P22,P32,P42,P52,P62)","v":0},{"$f":"SUM(Q22,Q32,Q42,Q52,Q62)","v":0}]
[null,null,"Nro. de estudiantes según calificación****","18-20",{"$f":"SUM(E23,E33,E43,E53,E63)","v":0},0,0,{"$f":"IFERROR(H14*H9,\"\")","v":""},{"$f":"IFERROR(I14*H9,\"\")","v":""},null,null,"Nro. de estudiantes según calificación****","18-20",{"$f":"SUM(N23,N33,N43,N53,N63)","v":0},0,0,{"$f":"IFERROR(Q14*Q9,\"\")","v":""},{"$f":"IFERROR(R14*Q9,\"\")","v":""}]
[null,null,null,"14-17",0,0,0,{"$f":"IFERROR(H15*H9,\"\")","v":""},{"$f":"IFERROR(I15*H9,\"\")","v":""},null,null,null,"14-17",0,0,0,{"$f":"IFERROR(Q15*Q9,\"\")","v":""},{"$f":"IFERROR(R15*Q9,\"\")","v":""}]
[null,null,null,"11-13",0,0,0,{"$f":"IFERROR(H16*H9,\"\")","v":""},{"$f":"IFERROR(I16*H9,\"\")","v":""},null,null,null,"11-13",0,0,0,{"$f":"IFERROR(Q16*Q9,\"\")","v":""},{"$f":"IFERROR(R16*Q9,\"\")","v":""}]
[null,null,null,"0-10",0,0,0,{"$f":"IFERROR(H17*H9,\"\")","v":""},{"$f":"IFERROR(I17*H9,\"\")","v":""},null,null,null,"0-10",0,0,0,{"$f":"IFERROR(Q17*Q9,\"\")","v":""},{"$f":"IFERROR(R17*Q9,\"\")","v":""}]
[null,null,"% de estudiantes según calificación","18-20",{"$f":"IFERROR(E10/E9,\"\")","v":""},{"$f":"IFERROR(F10/F9,\"\")","v":""},{"$f":"IFERROR(G10/G9,\"\")","v":""},{"$f":"IFERROR(SUM(H23,H33,H43,H53,H63)/SUM(H22,H32,H42,H52,H62),\"\")","v":""},{"$f":"IFERROR(FORECAST(H7,E14:G14,E7:G7),\"\")","v":""},null,null,"% de estudiantes según calificación","18-20",{"$f":"IFERROR(N10/N9,\"\")","v":""},{"$f":"IFERROR(O10/O9,\"\")","v":""},{"$f":"IFERROR(P10/P9,\"\")","v":""},{"$f":"IFERROR(SUM(Q23,Q33,Q43,Q53,Q63)/SUM(Q22,Q32,Q42,Q52,Q62),\"\")","v":""},{"$f":"IFERROR(FORECAST(Q7,N14:P14,N7:P7),\"\")","v":""}]
[null,null,null,"14-17",{"$f":"IFERROR(E11/E9,\"\")","v":""},{"$f":"IFERROR(F11/F9,\"\")","v":""},{"$f":"IFERROR(G11/G9,\"\")","v":""},{"$f":"IFERROR(SUM(H24,H34,H44,H54,H64)/SUM(H22,H32,H42,H52,H62),\"\")","v":""},{"$f":"IFERROR(FORECAST(H7,E15:G15,E7:G7),\"\")","v":""},null,null,null,"14-17",{"$f":"IFERROR(N11/N9,\"\")","v":""},{"$f":"IFERROR(O11/O9,\"\")","v":""},{"$f":"IFERROR(P11/P9,\"\")","v":""},{"$f":"IFERROR(SUM(Q24,Q34,Q44,Q54,Q64)/SUM(Q22,Q32,Q42,Q52,Q62),\"\")","v":""},{"$f":"IFERROR(FORECAST(Q7,N15:P15,N7:P7),\"\")","v":""}]
[null,null,null,"11-13",{"$f":"IFERROR(E12/E9,\"\")","v":""},{"$f":"IFERROR(F12/F9,\"\")","v":""},{"$f":"IFERROR(G12/G9,\"\")","v":""},{"$f":"IFERROR(SUM(H25,H35,H45,H55,H65)/SUM(H22,H32,H42,H52,H62),\"\")","v":""},{"$f":"IFERROR(FORECAST(H7,E16:G16,E7:G7),\"\")","v":""},null,null,null,"11-13",{"$f":"IFERROR(N12/N9,\"\")","v":""},{"$f":"IFERROR(O12/O9,\"\")","v":""},{"$f":"IFERROR(P12/P9,\"\")","v":""},{"$f":"IFERROR(SUM(Q25,Q35,Q45,Q55,Q65)/SUM(Q22,Q32,Q42,Q52,Q62),\"\")","v":""},{"$f":"IFERROR(FORECAST(Q7,N16:P16,N7:P7),\"\")","v":""}]
[null,null,null,"0-10",{"$f":"IFERROR(E13/E9,\"\")","v":""},{"$f":"IFERROR(F13/F9,\"\")","v":""},{"$f":"IFERROR(G13/G9,\"\")","v":""},{"$f":"IFERROR(SUM(H26,H36,H46,H56,H66)/SUM(H22,H32,H42,H52,H62),\"\")","v":""},{"$f":"IFERROR(FORECAST(H7,E17:G17,E7:G7),\"\")","v":""},null,null,null,"0-10",{"$f":"IFERROR(N13/N9,\"\")","v":""},{"$f":"IFERROR(O13/O9,\"\")","v":""},{"$f":"IFERROR(P13/P9,\"\")","v":""},{"$f":"IFERROR(SUM(Q26,Q36,Q46,Q56,Q66)/SUM(Q22,Q32,Q42,Q52,Q62),\"\")","v":""},{"$f":"IFERROR(FORECAST(Q7,N17:P17,N7:P7),\"\")","v":""}]
[null,"Histórico de rendimiento y formulación de metas 2017 según grado. ➨"]
[]
[null,"Área de Ciencia, Tecnología y Ambiente",null,null,2014,2015,2016,2017,null,null,"Área de Historia, Geografía y Economía",null,null,2014,2015,2016,2017]
[null,null,null,null,null,null,null,"Meta**","Pronóstico***",null,null,null,null,null,null,null,"Meta**","Pronóstico***"]
[null,"1er.\nGrado","Nro. estudiantes*",null,null,null,null,null,null,null,"1er.\nGrado","Nro. estudiantes*"]
[null,null,"Nro. de estudiantes según calificación****","18-20",null,null,null,{"$f":"IFERROR(H27*$H$22,\"\")","v":0},{"$f":"IFERROR(I27*H22,\"\")","v":""},null,null,"Nro. de estudiantes según calificación****","18-20",null,null,null,{"$f":"IFERROR(Q27*$Q$22,\"\")","v":0},{"$f":"IFERROR(R27*Q22,\"\")","v":""}]
[null,null,null,"14-17",null,null,null,{"$f":"IFERROR(H28*$H$22,\"\")","v":0},{"$f":"IFERROR(I28*H22,\"\")","v":""},null,null,null,"14-17",null,null,null,{"$f":"IFERROR(Q28*$Q$22,\"\")","v":0},{"$f":"IFERROR(R28*Q22,\"\")","v":""}]
[null,null,null,"11-13",null,null,null,{"$f":"IFERROR(H29*$H$22,\"\")","v":0},{"$f":"IFERROR(I29*H22,\"\")","v":""},null,null,null,"11-13",null,null,null,{"$f":"IFERROR(Q29*$Q$22,\"\")","v":0},{"$f":"IFERROR(R29*Q22,\"\")","v":""}]
[null,null,null,"0-10",null,null,null,{"$f":"IFERROR(H30*$H$22,\"\")","v":0},{"$f":"IFERROR(I30*H22,\"\")","v":""},null,null,null,"0-10",null,null,null,{"$f":"IFERROR(Q30*$Q$22,\"\")","v":0},{"$f":"IFERROR(R30*Q22,\"\")","v":""}]
[null,null,"% de estudiantes según calificación","18-20",{"$f":"IFERROR(E23/E22,\"\")","v":""},{"$f":"IFERROR(F23/F22,\"\")","v":""},{"$f":"IFERROR(G23/G22,\"\")","v":""},null,{"$f":"IFERROR(FORECAST(H20,E27:G27,E20:G20),\"\")","v":""},null,null,"% de estudiantes según calificación","18-20",{"$f":"IFERROR(N23/N22,\"\")","v":""},{"$f":"IFERROR(O23/O22,\"\")","v":""},{"$f":"IFERROR(P23/P22,\"\")","v":""},null,{"$f":"IFERROR(FORECAST(Q20,N27:P27,N20:P20),\"\")","v":""}]
[null,null,null,"14-17",{"$f":"IFERROR(E24/E22,\"\")","v":""},{"$f":"IFERROR(F24/F22,\"\")","v":""},{"$f":"IFERROR(G24/G22,\"\")","v":""},null,{"$f":"IFERROR(FORECAST(H20,E28:G28,E20:G20),\"\")","v":""},null,null,null,"14-17",{"$f":"IFERROR(N24/N22,\"\")","v":""},{"$f":"IFERROR(O24/O22,\"\")","v":""},{"$f":"IFERROR(P24/P22,\"\")","v":""},null,{"$f":"IFERROR(FORECAST(Q20,N28:P28,N20:P20),\"\")","v":""}]
[null,null,null,"11-13",{"$f":"IFERROR(E25/E22,\"\")","v":""},{"$f":"IFERROR(F25/F22,\"\")","v":""},{"$f":"IFERROR(G25/G22,\"\")","v":""},null,{"$f":"IFERROR(FORECAST(H20,E29:G29,E20:G20),\"\")","v":""},null,null,null,"11-13",{"$f":"IFERROR(N25/N22,\"\")","v":""},{"$f":"IFERROR(O25/O22,\"\")","v":""},{"$f":"IFERROR(P25/P22,\"\")","v":""},null,{"$f":"IFERROR(FORECAST(Q20,N29:P29,N20:P20),\"\")","v":""}]
[null,null,null,"0-10",{"$f":"IFERROR(E26/E22,\"\")","v":""},{"$f":"IFERROR(F26/F22,\"\")","v":""},{"$f":"IFERROR(G26/G22,\"\")","v":""},null,{"$f":"IFERROR(FORECAST(H20,E30:G30,E20:G20),\"\")","v":""},null,null,null,"0-10",{"$f":"IFERROR(N26/N22,\"\")","v":""},{"$f":"IFERROR(O26/O22,\"\")","v":""},{"$f":"IFERROR(P26/P22,\"\")","v":""},null,{"$f":"IFERROR(FORECAST(Q20,N30:P30,N20:P20),\"\")","v":""}]
[null,null,null,null,{"$f":"IF(SUM(E23:E26)=E22,\"\",\"datos erróneos\")","v":""},{"$f":"IF(SUM(F23:F26)=F22,\"\",\"datos erróneos\")","v":""},{"$f":"IF(SUM(G23:G26)=G22,\"\",\"datos erróneos\")","v":""},{"$f":"IF(SUM(H27:H30)=1,\"\",(IF(SUM(H27:H30)=0,\"\",\"datos erróneos\")))","v":""},null,null,null,null,null,{"$f":"IF(SUM(N23:N26)=N22,\"\",\"datos erróneos\")","v":""},{"$f":"IF(SUM(O23:O26)=O22,\"\",\"datos erróneos\")","v":""},{"$f":"IF(SUM(P23:P26)=P22,\"\",\"datos erróneos\")","v":""},{"$f":"IF(SUM(Q27:Q30)=1,\"\",(IF(SUM(Q27:Q30)=0,\"\",\"datos erróneos\")))","v":""}]
[null,"2do.\ngrado","Nro. estudiantes*",null,null,null,null,null,null,null,"2do.\ngrado","Nro. estudiantes*"]
[null,null,"Nro. de estudiantes según calificación****","18-20",null,null,null,{"$f":"IFERROR(H37*$H$32,\"\")","v":0},{"$f":"IFERROR(I37*H32,\"\")","v":""},null,null,"Nro. de estudiantes según calificación****","18-20",null,null,null,{"$f":"IFERROR(Q37*$Q$32,\"\")","v":0},{"$f":"IFERROR(R37*Q32,\"\")","v":""}]
[null,null,null,"14-17",null,null,null,{"$f":"IFERROR(H38*$H$32,\"\")","v":0},{"$f":"IFERROR(I38*H32,\"\")","v":""},null,null,null,"14-17",null,null,null,{"$f":"IFERROR(Q38*$Q$32,\"\")","v":0},{"$f":"IFERROR(R38*Q32,\"\")","v":""}]
[null,null,null,"11-13",null,null,null,{"$f":"IFERROR(H39*$H$32,\"\")","v":0},{"$f":"IFERROR(I39*H32,\"\")","v":""},null,null,null,"11-13",null,null,null,{"$f":"IFERROR(Q39*$Q$32,\"\")","v":0},{"$f":"IFERROR(R39*Q32,\"\")","v":""}]
[null,null,null,"0-10",null,null,null,{"$f":"IFERROR(H40*$H$32,\"\")","v":0},{"$f":"IFERROR(I40*H32,\"\")","v":""},null,null,null,"0-10",null,null,null,{"$f":"IFERROR(Q40*$Q$32,\"\")","v":0},{"$f":"IFERROR(R40*Q32,\"\")","v":""}]
[null,null,"% de estudiantes según calificación","18-20",{"$f":"IFERROR(E33/E32,\"\")","v":""},{"$f":"IFERROR(F33/F32,\"\")","v":""},{"$f":"IFERROR(G33/G32,\"\")","v":""},null,{"$f":"IFERROR(FORECAST(H20,E37:G37,E20:G20),\"\")","v":""},null,null,"% de estudiantes según calificación","18-20",{"$f":"IFERROR(N33/N32,\"\")","v":""},{"$f":"IFERROR(O33/O32,\"\")","v":""},{"$f":"IFERROR(P33/P32,\"\")","v":""},null,{"$f":"IFERROR(FORECAST(Q20,N37:P37,N20:P20),\"\")","v":""}]
[null,null,null,"14-17",{"$f":"IFERROR(E34/E32,\"\")","v":""},{"$f":"IFERROR(F34/F32,\"\")","v":""},{"$f":"IFERROR(G34/G32,\"\")","v":""},null,{"$f":"IFERROR(FORECAST(H20,E38:G38,E20:G20),\"\")","v":""},null,null,null,"14-17",{"$f":"IFERROR(N34/N32,\"\")","v":""},{"$f":"IFERROR(O34/O32,\"\")","v":""},{"$f":"IFERROR(P34/P32,\"\")","v":""},null,{"$f":"IFERROR(FORECAST(Q20,N38:P38,N20:P20),\"\")","v":""}]
[null,null,null,"11-13",{"$f":"IFERROR(E35/E32,\"\")","v":""},{"$f":"IFERROR(F35/F32,\"\")","v":""},{"$f":"IFERROR(G35/G32,\"\")","v":""},null,{"$f":"IFERROR(FORECAST(H20,E39:G39,E20:G20),\"\")","v":""},null,null,null,"11-13",{"$f":"IFERROR(N35/N32,\"\")","v":""},{"$f":"IFERROR(O35/O32,\"\")","v":""},{"$f":"IFERROR(P35/P32,\"\")","v":""},null,{"$f":"IFERROR(FORECAST(Q20,N39:P39,N20:P20),\"\")","v":""}]
[null,null,null,"0-10",{"$f":"IFERROR(E36/E32,\"\")","v":""},{"$f":"IFERROR(F36/F32,\"\")","v":""},{"$f":"IFERROR(G36/G32,\"\")","v":""},null,{"$f":"IFERROR(FORECAST(H20,E40:G40,E20:G20),\"\")","v":""},null,null,null,"0-10",{"$f":"IFERROR(N36/N32,\"\")","v":""},{"$f":"IFERROR(O36/O32,\"\")","v":""},{"$f":"IFERROR(P36/P32,\"\")","v":""},null,{"$f":"IFERROR(FORECAST(Q20,N40:P40,N20:P20),\"\")","v":""}]
[null,null,null,null,{"$f":"IF(SUM(E33:E36)=E32,\"\",\"datos erróneos\")","v":""},{"$f":"IF(SUM(F33:F36)=F32,\"\",\"datos erróneos\")","v":""},{"$f":"IF(SUM(G33:G36)=G32,\"\",\"datos erróneos\")","v":""},{"$f":"IF(SUM(H37:H40)=1,\"\",(IF(SUM(H37:H40)=0,\"\",\"datos erróneos\")))","v":""},null,null,null,null,null,{"$f":"IF(SUM(N33:N36)=N32,\"\",\"datos erróneos\")","v":""},{"$f":"IF(SUM(O33:O36)=O32,\"\",\"datos erróneos\")","v":""},{"$f":"IF(SUM(P33:P36)=P32,\"\",\"datos erróneos\")","v":""},{"$f":"IF(SUM(Q37:Q40)=1,\"\",(IF(SUM(Q37:Q40)=0,\"\",\"datos erróneos\")))","v":""}]
[null,"3er.\ngrado","Nro. estudiantes*",null,null,null,null,null,null,null,"3er.\ngrado","Nro. estudiantes*"]
[null,null,"Nro. de estudiantes según calificación****","18-20",null,null,null,{"$f":"IFERROR(H47*$H$42,\"\")","v":0},{"$f":"IFERROR(I47*H42,\"\")","v":""},null,null,"Nro. de estudiantes según calificación****","18-20",null,null,null,{"$f":"IFERROR(Q47*$Q$42,\"\")","v":0},{"$f":"IFERROR(R47*Q42,\"\")","v":""}]
[null,null,null,"14-17",null,null,null,{"$f":"IFERROR(H48*$H$42,\"\")","v":0},{"$f":"IFERROR(I48*H42,\"\")","v":""},null,null,null,"14-17",null,null,null,{"$f":"IFERROR(Q48*$Q$42,\"\")","v":0},{"$f":"IFERROR(R48*Q42,\"\")","v":""}]
[null,null,null,"11-13",null,null,null,{"$f":"IFERROR(H49*$H$42,\"\")","v":0},{"$f":"IFERROR(I49*H42,\"\")","v":""},null,null,null,"11-13",null,null,null,{"$f":"IFERROR(Q49*$Q$42,\"\")","v":0},{"$f":"IFERROR(R49*Q42,\"\")","v":""}]
[null,null,null,"0-10",null,null,null,{"$f":"IFERROR(H50*$H$42,\"\")","v":0},{"$f":"IFERROR(I50*H42,\"\")","v":""},null,null,null,"0-10",null,null,null,{"$f":"IFERROR(Q50*$Q$42,\"\")","v":0},{"$f":"IFERROR(R50*Q42,\"\")","v":""}]
[null,null,"% de estudiantes según calificación","18-20",{"$f":"IFERROR(E43/E42,\"\")","v":""},{"$f":"IFERROR(F43/F42,\"\")","v":""},{"$f":"IFERROR(G43/G42,\"\")","v":""},null,{"$f":"IFERROR(FORECAST(H20,E47:G47,E20:G20),\"\")","v":""},null,null,"% de estudiantes según calificación","18-20",{"$f":"IFERROR(N43/N42,\"\")","v":""},{"$f":"IFERROR(O43/O42,\"\")","v":""},{"$f":"IFERROR(P43/P42,\"\")","v":""},null,{"$f":"IFERROR(FORECAST(Q20,N47:P47,N20:P20),\"\")","v":""}]
[null,null,null,"14-17",{"$f":"IFERROR(E44/E42,\"\")","v":""},{"$f":"IFERROR(F44/F42,\"\")","v":""},{"$f":"IFERROR(G44/G42,\"\")","v":""},null,{"$f":"IFERROR(FORECAST(H20,E48:G48,E20:G20),\"\")","v":""},null,null,null,"14-17",{"$f":"IFERROR(N44/N42,\"\")","v":""},{"$f":"IFERROR(O44/O42,\"\")","v":""},{"$f":"IFERROR(P44/P42,\"\")","v":""},null,{"$f":"IFERROR(FORECAST(Q20,N48:P48,N20:P20),\"\")","v":""}]
[null,null,null,"11-13",{"$f":"IFERROR(E45/E42,\"\")","v":""},{"$f":"IFERROR(F45/F42,\"\")","v":""},{"$f":"IFERROR(G45/G42,\"\")","v":""},null,{"$f":"IFERROR(FORECAST(H20,E49:G49,E20:G20),\"\")","v":""},null,null,null,"11-13",{"$f":"IFERROR(N45/N42,\"\")","v":""},{"$f":"IFERROR(O45/O42,\"\")","v":""},{"$f":"IFERROR(P45/P42,\"\")","v":""},null,{"$f":"IFERROR(FORECAST(Q20,N49:P49,N20:P20),\"\")","v":""}]
[null,null,null,"0-10",{"$f":"IFERROR(E46/E42,\"\")","v":""},{"$f":"IFERROR(F46/F42,\"\")","v":""},{"$f":"IFERROR(G46/G42,\"\")","v":""},null,{"$f":"IFERROR(FORECAST(H20,E50:G50,E20:G20),\"\")","v":""},null,null,null,"0-10",{"$f":"IFERROR(N46/N42,\"\")","v":""},{"$f":"IFERROR(O46/O42,\"\")","v":""},{"$f":"IFERROR(P46/P42,\"\")","v":""},null,{"$f":"IFERROR(FORECAST(Q20,N50:P50,N20:P20),\"\")","v":""}]
[null,null,null,null,{"$f":"IF(SUM(E43:E46)=E42,\"\",\"datos erróneos\")","v":""},{"$f":"IF(SUM(F43:F46)=F42,\"\",\"datos erróneos\")","v":""},{"$f":"IF(SUM(G43:G46)=G42,\"\",\"datos erróneos\")","v":""},{"$f":"IF(SUM(H47:H50)=1,\"\",(IF(SUM(H47:H50)=0,\"\",\"datos erróneos\")))","v":""},null,null,null,null,{"$f":"IF(SUM(M43:M46)=M42,\"\",\"datos erróneos\")","v":""},{"$f":"IF(SUM(N43:N46)=N42,\"\",\"datos erróneos\")","v":""},{"$f":"IF(SUM(O43:O46)=O42,\"\",\"datos erróneos\")","v":""},{"$f":"IF(SUM(P43:P46)=P42,\"\",\"datos erróneos\")","v":""},{"$f":"IF(SUM(Q47:Q50)=1,\"\",(IF(SUM(Q47:Q50)=0,\"\",\"datos erróneos\")))","v":""}]
[null,"4to.\ngrado","Nro. estudiantes*",null,null,null,null,null,null,null,"4to.\ngrado","Nro. estudiantes*"]
[null,null,"Nro. de estudiantes según calificación****","18-20",null,null,null,{"$f":"IFERROR(H57*$H$52,\"\")","v":0},{"$f":"IFERROR(I57*H52,\"\")","v":""},null,null,"Nro. de estudiantes según calificación****","18-20",null,null,null,{"$f":"IFERROR(Q57*$Q$52,\"\")","v":0},{"$f":"IFERROR(R57*Q52,\"\")","v":""}]
[null,null,null,"14-17",null,null,null,{"$f":"IFERROR(H58*$H$52,\"\")","v":0},{"$f":"IFERROR(I58*H52,\"\")","v":""},null,null,null,"14-17",null,null,null,{"$f":"IFERROR(Q58*$Q$52,\"\")","v":0},{"$f":"IFERROR(R58*Q52,\"\")","v":""}]
[null,null,null,"11-13",null,null,null,{"$f":"IFERROR(H59*$H$52,\"\")","v":0},{"$f":"IFERROR(I59*H52,\"\")","v":""},null,null,null,"11-13",null,null,null,{"$f":"IFERROR(Q59*$Q$52,\"\")","v":0},{"$f":"IFERROR(R59*Q52,\"\")","v":""}]
[null,null,null,"0-10",null,null,null,{"$f":"IFERROR(H60*$H$52,\"\")","v":0},{"$f":"IFERROR(I60*H52,\"\")","v":""},null,null,null,"0-10",null,null,null,{"$f":"IFERROR(Q60*$Q$52,\"\")","v":0},{"$f":"IFERROR(R60*Q52,\"\")","v":""}]
[null,null,"% de estudiantes según calificación","18-20",{"$f":"IFERROR(E53/E52,\"\")","v":""},{"$f":"IFERROR(F53/F52,\"\")","v":""},{"$f":"IFERROR(G53/G52,\"\")","v":""},null,{"$f":"IFERROR(FORECAST(H20,E57:G57,E20:G20),\"\")","v":""},null,null,"% de estudiantes según calificación","18-20",{"$f":"IFERROR(N53/N52,\"\")","v":""},{"$f":"IFERROR(O53/O52,\"\")","v":""},{"$f":"IFERROR(P53/P52,\"\")","v":""},null,{"$f":"IFERROR(FORECAST(Q20,N57:P57,N20:P20),\"\")","v":""}]
[null,null,null,"14-17",{"$f":"IFERROR(E54/E52,\"\")","v":""},{"$f":"IFERROR(F54/F52,\"\")","v":""},{"$f":"IFERROR(G54/G52,\"\")","v":""},null,{"$f":"IFERROR(FORECAST(H20,E58:G58,E20:G20),\"\")","v":""},null,null,null,"14-17",{"$f":"IFERROR(N54/N52,\"\")","v":""},{"$f":"IFERROR(O54/O52,\"\")","v":""},{"$f":"IFERROR(P54/P52,\"\")","v":""},null,{"$f":"IFERROR(FORECAST(Q20,N58:P58,N20:P20),\"\")","v":""}]
[null,null,null,"11-13",{"$f":"IFERROR(E55/E52,\"\")","v":""},{"$f":"IFERROR(F55/F52,\"\")","v":""},{"$f":"IFERROR(G55/G52,\"\")","v":""},null,{"$f":"IFERROR(FORECAST(H20,E59:G59,E20:G20),\"\")","v":""},null,null,null,"11-13",{"$f":"IFERROR(N55/N52,\"\")","v":""},{"$f":"IFERROR(O55/O52,\"\")","v":""},{"$f":"IFERROR(P55/P52,\"\")","v":""},null,{"$f":"IFERROR(FORECAST(Q20,N59:P59,N20:P20),\"\")","v":""}]
[null,null,null,"0-10",{"$f":"IFERROR(E56/E52,\"\")","v":""},{"$f":"IFERROR(F56/F52,\"\")","v":""},{"$f":"IFERROR(G56/G52,\"\")","v":""},null,{"$f":"IFERROR(FORECAST(H20,E60:G60,E20:G20),\"\")","v":""},null,null,null,"0-10",{"$f":"IFERROR(N56/N52,\"\")","v":""},{"$f":"IFERROR(O56/O52,\"\")","v":""},{"$f":"IFERROR(P56/P52,\"\")","v":""},null,{"$f":"IFERROR(FORECAST(Q20,N60:P60,N20:P20),\"\")","v":""}]
[null,null,null,null,{"$f":"IF(SUM(E53:E56)=E52,\"\",\"datos erróneos\")","v":""},{"$f":"IF(SUM(F53:F56)=F52,\"\",\"datos erróneos\")","v":""},{"$f":"IF(SUM(G53:G56)=G52,\"\",\"datos erróneos\")","v":""},{"$f":"IF(SUM(H57:H60)=1,\"\",(IF(SUM(H57:H60)=0,\"\",\"datos erróneos\")))","v":""},null,null,null,null,null,{"$f":"IF(SUM(N53:N56)=N52,\"\",\"datos erróneos\")","v":""},{"$f":"IF(SUM(O53:O56)=O52,\"\",\"datos erróneos\")","v":""},{"$f":"IF(SUM(P53:P56)=P52,\"\",\"datos erróneos\")","v":""},{"$f":"IF(SUM(Q57:Q60)=1,\"\",(IF(SUM(Q57:Q60)=0,\"\",\"datos erróneos\")))","v":""}]
[null,"5to.\ngrado","Nro. estudiantes*",null,null,null,null,null,null,null,"5to.\ngrado","Nro. estudiantes*"]
[null,null,"Nro. de estudiantes según calificación****","18-20",null,null,null,{"$f":"IFERROR(H67*$H$62,\"\")","v":0},{"$f":"IFERROR(I67*H62,\"\")","v":""},null,null,"Nro. de estudiantes según calificación****","18-20",null,null,null,{"$f":"IFERROR(Q67*$Q$62,\"\")","v":0},{"$f":"IFERROR(R67*Q62,\"\")","v":""}]
[null,null,null,"14-17",null,null,null,{"$f":"IFERROR(H68*$H$62,\"\")","v":0},{"$f":"IFERROR(I68*H62,\"\")","v":""},null,null,null,"14-17",null,null,null,{"$f":"IFERROR(Q68*$Q$62,\"\")","v":0},{"$f":"IFERROR(R68*Q62,\"\")","v":""}]
[null,null,null,"11-13",null,null,null,{"$f":"IFERROR(H69*$H$62,\"\")","v":0},{"$f":"IFERROR(I69*H62,\"\")","v":""},null,null,null,"11-13",null,null,null,{"$f":"IFERROR(Q69*$Q$62,\"\")","v":0},{"$f":"IFERROR(R69*Q62,\"\")","v":""}]
[null,null,null,"0-10",null,null,null,{"$f":"IFERROR(H70*$H$62,\"\")","v":0},{"$f":"IFERROR(I70*H62,\"\")","v":""},null,null,null,"0-10",null,null,null,{"$f":"IFERROR(Q70*$Q$62,\"\")","v":0},{"$f":"IFERROR(R70*Q62,\"\")","v":""}]
[null,null,"% de estudiantes según calificación","18-20",{"$f":"IFERROR(E63/E62,\"\")","v":""},{"$f":"IFERROR(F63/F62,\"\")","v":""},{"$f":"IFERROR(G63/G62,\"\")","v":""},null,{"$f":"IFERROR(FORECAST(H20,E67:G67,E20:G20),\"\")","v":""},null,null,"% de estudiantes según calificación","18-20",{"$f":"IFERROR(N63/N62,\"\")","v":""},{"$f":"IFERROR(O63/O62,\"\")","v":""},{"$f":"IFERROR(P63/P62,\"\")","v":""},null,{"$f":"IFERROR(FORECAST(Q20,N67:P67,N20:P20),\"\")","v":""}]
[null,null,null,"14-17",{"$f":"IFERROR(E64/E62,\"\")","v":""},{"$f":"IFERROR(F64/F62,\"\")","v":""},{"$f":"IFERROR(G64/G62,\"\")","v":""},null,{"$f":"IFERROR(FORECAST(H20,E68:G68,E20:G20),\"\")","v":""},null,null,null,"14-17",{"$f":"IFERROR(N64/N62,\"\")","v":""},{"$f":"IFERROR(O64/O62,\"\")","v":""},{"$f":"IFERROR(P64/P62,\"\")","v":""},null,{"$f":"IFERROR(FORECAST(Q20,N68:P68,N20:P20),\"\")","v":""}]
[null,null,null,"11-13",{"$f":"IFERROR(E65/E62,\"\")","v":""},{"$f":"IFERROR(F65/F62,\"\")","v":""},{"$f":"IFERROR(G65/G62,\"\")","v":""},null,{"$f":"IFERROR(FORECAST(H20,E69:G69,E20:G20),\"\")","v":""},null,null,null,"11-13",{"$f":"IFERROR(N65/N62,\"\")","v":""},{"$f":"IFERROR(O65/O62,\"\")","v":""},{"$f":"IFERROR(P65/P62,\"\")","v":""},null,{"$f":"IFERROR(FORECAST(Q20,N69:P69,N20:P20),\"\")","v":""}]
[null,null,null,"0-10",{"$f":"IFERROR(E66/E62,\"\")","v":""},{"$f":"IFERROR(F66/F62,\"\")","v":""},{"$f":"IFERROR(G66/G62,\"\")","v":""},null,{"$f":"IFERROR(FORECAST(H20,E70:G70,E20:G20),\"\")","v":""},null,null,null,"0-10",{"$f":"IFERROR(N66/N62,\"\")","v":""},{"$f":"IFERROR(O66/O62,\"\")","v":""},{"$f":"IFERROR(P66/P62,\"\")","v":""},null,{"$f":"IFERROR(FORECAST(Q20,N70:P70,N20:P20),\"\")","v":""}]
[null,null,null,null,{"$f":"IF(SUM(E63:E66)=E62,\"\",\"datos erróneos\")","v":""},{"$f":"IF(SUM(F63:F66)=F62,\"\",\"datos erróneos\")","v":""},{"$f":"IF(SUM(G63:G66)=G62,\"\",\"datos erróneos\")","v":""},{"$f":"IF(SUM(H67:H70)=1,\"\",(IF(SUM(H67:H70)=0,\"\",\"datos erróneos\")))","v":""},null,null,null,null,null,{"$f":"IF(SUM(N63:N66)=N62,\"\",\"datos erróneos\")","v":""},{"$f":"IF(SUM(O63:O66)=O62,\"\",\"datos erróneos\")","v":""},{"$f":"IF(SUM(P63:P66)=P62,\"\",\"datos erróneos\")","v":""},{"$f":"IF(SUM(Q67:Q70)=1,\"\",(IF(SUM(Q67:Q70)=0,\"\",\"datos erróneos\")))","v":""}]
[]
[]
[null,"* Nro de estudiantes:  En los años 2014 al 2016 deberás colocar el número de estudiantes según tus actas finales; en el 2016, deberás colocar el número de estudiantes matriculados en ese año."]
[null,"** Meta:  Esta es la meta que te propones para el año 2016, deberás escribirla en las celdas blancas de %. Ten en cuenta el pronóstico para proponerte metas realistas. "]
[null,"*** Pronóstico: Es el porcentaje o número de estudiantes según su desempeño en cada grado. El porcentaje de pronóstico depende de los porcentajes alcanzados en los años anteriores y no suma 100% necesariamente.Del mismo modo, suma el número de estudiantes matriculados en el año. Además pueden haber valores negativos sin que ello afecte la interpretación. En esos casos lo que dice el pronóstico es que tu tendencia es marcadamente hacia la baja."]
[null,"**** Estudiantes según calificación: En los años 2014 al 2016 deberás poner el número de estudiantes con cada calificación según las actas finales. En el 2016, se mostrará lo que deberías alcanzar según tu meta propuesta."]

{"sheet":"C2_Form1","index":38,"n_rows":66,"n_cols":8,"rows_kept":66,"cut":false,"hidden":true,"merged":[[65,1,72,8],[61,2,62,2],[54,1,62,1],[59,2,60,2],[48,1,49,2],[57,2,58,2],[55,2,56,2],[53,1,53,6],[8,1,8,7],[15,2,16,2],[11,2,12,2],[4,1,6,8],[13,2,14,2],[11,1,18,1],[17,2,18,2],[41,2,42,2],[35,1,46,1],[20,1,33,1],[22,2,23,2],[45,2,46,2],[35,2,36,2],[24,2,25,2],[26,2,27,2],[30,2,31,2],[39,2,40,2],[43,2,44,2],[37,2,38,2],[32,2,33,2],[28,2,29,2],[20,2,21,2]]}
[null,"Indicador: Porcentaje de estudiantes matriculados que concluyen el año escolar."]
[]
[]
[null,"¿Qué hacer?"]
[null,"1° En la Tabla \"Resultados 2016\" completa los datos solicitados. Si no tienes estudiantes en algún grado o nivel, entonces coloca \"0\" en los recuadros correspondientes.\n2° Luego, en la tabla siguiente, deberás formularte metas para el 2017 basadas en los resultados del año 2016.\n* Si tu IE ofrece las modalidades EBA o EBE puedes modificar los nombres de los niveles o grados educativos para adaptar tabla a tus necesidades. Al colocar los datos referidos al número de estudiantes, se mostrarán automáticamente los porcentajes de conclusión, abandono y traslado del año 2016.   \n"]
[]
[]
[]
[null,"1° RESULTADOS 2016 ➨"]
[]
[null,"Nivel educativo","Grado","Datos","Matrícula 2016","Abandono 2016","Traslado 2016","Conclusión 2016"]
[null,"INICIAL","3 años","Nro. estudiantes",null,null,null,{"$f":"E12-SUM(F12:G12)","v":0}]
[null,null,null,"Porcentaje",null,{"$f":"IFERROR(F12/E12,\"\")","v":""},{"$f":"IFERROR(G12/E12,\"\")","v":""},{"$f":"IFERROR(H12/E12,\"\")","v":""}]
[null,null,"4 años","Nro. estudiantes",null,null,null,{"$f":"E14-SUM(F14:G14)","v":0}]
[null,null,null,"Porcentaje",null,{"$f":"IFERROR(F14/E14,\"\")","v":""},{"$f":"IFERROR(G14/E14,\"\")","v":""},{"$f":"IFERROR(H14/E14,\"\")","v":""}]
[null,null,"5 años","Nro. estudiantes",null,null,null,{"$f":"E16-SUM(F16:G16)","v":0}]
[null,null,null,"Porcentaje",null,{"$f":"IFERROR(F16/E16,\"\")","v":""},{"$f":"IFERROR(G16/E16,\"\")","v":""},{"$f":"IFERROR(H16/E16,\"\")","v":""}]
[null,null,"TOTAL del nivel","Nro. estudiantes",{"$f":"SUM(E12,E14,E16)","v":0},{"$f":"SUM(F12,F14,F16)","v":0},{"$f":"SUM(G12,G14,G16)","v":0},{"$f":"SUM(H12,H14,H16)","v":0}]
[null,null,null,"Porcentaje",null,{"$f":"IFERROR(F18/E18,\"\")","v":""},{"$f":"IFERROR(G18/E18,\"\")","v":""},{"$f":"IFERROR(H18/E18,\"\")","v":""}]
[]
[null,"PRIMARIA","1er grado","Nro. estudiantes",null,null,null,{"$f":"E21-SUM(F21:G21)","v":0}]
[null,null,null,"Porcentaje",null,{"$f":"IFERROR(F21/E21,\"\")","v":""},{"$f":"IFERROR(G21/E21,\"\")","v":""},{"$f":"IFERROR(H21/E21,\"\")","v":""}]
[null,null,"2do grado","Nro. estudiantes",null,null,null,{"$f":"E23-SUM(F23:G23)","v":0}]
[null,null,null,"Porcentaje",null,{"$f":"IFERROR(F23/E23,\"\")","v":""},{"$f":"IFERROR(G23/E23,\"\")","v":""},{"$f":"IFERROR(H23/E23,\"\")","v":""}]
[null,null,"3er grado","Nro. estudiantes",null,null,null,{"$f":"E25-SUM(F25:G25)","v":0}]
[null,null,null,"Porcentaje",null,{"$f":"IFERROR(F25/E25,\"\")","v":""},{"$f":"IFERROR(G25/E25,\"\")","v":""},{"$f":"IFERROR(H25/E25,\"\")","v":""}]
[null,null,"4to grado","Nro. estudiantes",null,null,null,{"$f":"E27-SUM(F27:G27)","v":0}]
[null,null,null,"Porcentaje",null,{"$f":"IFERROR(F27/E27,\"\")","v":""},{"$f":"IFERROR(G27/E27,\"\")","v":""},{"$f":"IFERROR(H27/E27,\"\")","v":""}]
[null,null,"5to grado","Nro. estudiantes",null,null,null,{"$f":"E29-SUM(F29:G29)","v":0}]
[null,null,null,"Porcentaje",null,{"$f":"IFERROR(F29/E29,\"\")","v":""},{"$f":"IFERROR(G29/E29,\"\")","v":""},{"$f":"IFERROR(H29/E29,\"\")","v":""}]
[null,null,"6to grado","Nro. estudiantes",null,null,null,{"$f":"E31-SUM(F31:G31)","v":0}]
[null,null,null,"Porcentaje",null,{"$f":"IFERROR(F31/E31,\"\")","v":""},{"$f":"IFERROR(G31/E31,\"\")","v":""},{"$f":"IFERROR(H31/E31,\"\")","v":""}]
[null,null,"TOTAL del nivel","Nro. estudiantes",{"$f":"SUM(E21,E23,E25,E27,E29,E31)","v":0},{"$f":"SUM(F21,F23,F25,F27,F29,F31)","v":0},{"$f":"SUM(G21,G23,G25,G27,G29,G31)","v":0},{"$f":"SUM(H21,H23,H25,H27,H29,H31)","v":0}]
[null,null,null,"Porcentaje",null,{"$f":"IFERROR(F33/E33,\"\")","v":""},{"$f":"IFERROR(G33/E33,\"\")","v":""},{"$f":"IFERROR(H33/E33,\"\")","v":""}]
[]
[null,"SECUNDARIA","1er año","Nro. estudiantes",null,null,null,{"$f":"E36-SUM(F36:G36)","v":0}]
[null,null,null,"Porcentaje",null,{"$f":"IFERROR(F36/E36,\"\")","v":""},{"$f":"IFERROR(G36/E36,\"\")","v":""},{"$f":"IFERROR(H36/E36,\"\")","v":""}]
[null,null,"2do año","Nro. estudiantes",null,null,null,{"$f":"E38-SUM(F38:G38)","v":0}]
[null,null,null,"Porcentaje",null,{"$f":"IFERROR(F38/E38,\"\")","v":""},{"$f":"IFERROR(G38/E38,\"\")","v":""},{"$f":"IFERROR(H38/E38,\"\")","v":""}]
[null,null,"3er año","Nro. estudiantes",null,null,null,{"$f":"E40-SUM(F40:G40)","v":0}]
[null,null,null,"Porcentaje",null,{"$f":"IFERROR(F40/E40,\"\")","v":""},{"$f":"IFERROR(G40/E40,\"\")","v":""},{"$f":"IFERROR(H40/E40,\"\")","v":""}]
[null,null,"4to año","Nro. estudiantes",null,null,null,{"$f":"E42-SUM(F42:G42)","v":0}]
[null,null,null,"Porcentaje",null,{"$f":"IFERROR(F42/E42,\"\")","v":""},{"$f":"IFERROR(G42/E42,\"\")","v":""},{"$f":"IFERROR(H42/E42,\"\")","v":""}]
[null,null,"5to año","Nro. estudiantes",null,null,null,{"$f":"E44-SUM(F44:G44)","v":0}]
[null,null,null,"Porcentaje",null,{"$f":"IFERROR(F44/E44,\"\")","v":""},{"$f":"IFERROR(G44/E44,\"\")","v":""},{"$f":"IFERROR(H44/E44,\"\")","v":""}]
[null,null,"TOTAL del nivel","Nro. estudiantes",{"$f":"SUM(E36,E38,E40,E42,E44)","v":0},{"$f":"SUM(F36,F38,F40,F42,F44)","v":0},{"$f":"SUM(G36,G38,G40,G42,G44)","v":0},{"$f":"SUM(H36,H38,H40,H42,H44)","v":0}]
[null,null,null,"Porcentaje",null,{"$f":"IFERROR(F46/$E$46,\"\")","v":""},{"$f":"IFERROR(G46/$E$46,\"\")","v":""},{"$f":"IFERROR(H46/$E$46,\"\")","v":""}]
[]
[null,"TOTAL de la I.E.",null,"Nro. estudiantes",{"$f":"SUM(E18,E33,E46)","v":0},{"$f":"SUM(F18,F33,F46)","v":0},{"$f":"SUM(G18,G33,G46)","v":0},{"$f":"SUM(H18,H33,H46)","v":0}]
[null,null,null,"Porcentaje",null,{"$f":"IFERROR(F49/E49,\"\")","v":""},{"$f":"IFERROR(G49/E49,\"\")","v":""},{"$f":"IFERROR(H49/E49,\"\")","v":""}]
[]
[]
[]
[null,"2° Metas 2017 ➨"]
[null,"Formulación de metas del año 2017","Nivel","Datos","Matrícula 2017","Resultados de Conclusión 2016","Metas de Conclusión \n2017"]
[null,null,"INICIAL","Nro. estudiantes",null,{"$f":"H18","v":0},{"$f":"ROUNDUP(G57*E56,0)","v":0}]
[null,null,null,"Porcentaje",null,{"$f":"H19","v":""}]
[null,null,"PRIMARIA","Nro. estudiantes",null,{"$f":"H33","v":0},{"$f":"ROUNDUP(G59*E58,0)","v":0}]
[null,null,null,"Porcentaje",null,{"$f":"H34","v":""}]
[null,null,"SECUNDARIA","Nro. estudiantes",null,{"$f":"H46","v":0},{"$f":"ROUNDUP(G61*E60,0)","v":0}]
[null,null,null,"Porcentaje",null,{"$f":"H47","v":""}]
[null,null,"TODA LA I.E.","Nro. estudiantes",{"$f":"SUM(E56,E58,E60)","v":0},{"$f":"H49","v":0},{"$f":"SUM(G56,G58,G60)","v":0}]
[null,null,null,"Porcentaje",null,{"$f":"H50","v":""},{"$f":"IFERROR(G62/E62,\"\")","v":""}]
[]
[]
[null,"★ Definiciones clave: \nMatrícula: Es el número de matriculados/as en tu I.E. por nivel educativo. En el cuadro de matrícula inicial coloca el número de estudiantes con quienes empezaste el año escolar. Luego, en matrícula adicional puedes ir colocando el número de estudiantes que se matricularon luego del inicio del año escolar.\nConclusión: Se refiere a los estudiantes que se matricularon en tu I.E., culminaron el año escolar en tu misma I.E. El porcentaje de conclusión se calcula teniendo como total al número de matriculados en el año.\nAbandono: Se refiere a aquellos/as estudiantes que se matricularon en tu I.E., pero abandonaron sus estudios y no continuaron en ninguna otra IE. El porcentaje de abandono se calcula teniendo como total al número de matriculados en el año.\nTraslado: Se refiere a los estudiantes que, se matricularon en tu I.E., pero fueron trasladados a otras por diferentes motivos. El porcentaje de traslado se calcula teniendo como total al número de matriculados en el año.\n"]

{"sheet":"C3_Form Ini","index":39,"n_rows":45,"n_cols":45,"rows_kept":45,"cut":false,"hidden":true,"merged":[[40,42,41,42],[22,43,23,43],[24,43,25,43],[26,43,27,43],[28,43,29,43],[30,43,31,43],[32,43,33,43],[34,43,35,43],[36,43,37,43],[38,43,39,43],[40,43,41,43],[36,42,37,42],[38,42,39,42],[28,42,29,42],[30,42,31,42],[32,42,33,42],[3,1,3,40],[4,1,4,39],[11,34,11,36],[12,34,12,36],[9,34,9,36],[10,34,10,36],[7,24,7,33],[7,34,7,36],[8,24,8,33],[8,34,8,36],[7,5,7,19],[8,5,8,19],[9,5,9,19],[12,3,12,10],[9,38,10,43],[34,42,35,42],[36,41,37,41],[32,41,33,41],[20,42,21,42],[20,43,21,43],[22,42,23,42],[24,42,25,42],[26,42,27,42],[13,34,13,36],[14,34,14,36],[7,3,7,4],[38,41,39,41],[24,41,25,41],[30,41,31,41],[18,32,18,38],[26,41,27,41],[28,41,29,41],[34,41,35,41],[8,3,8,4],[9,3,9,4],[11,38,14,43],[13,3,13,10],[18,43,19,43],[18,42,19,42],[40,41,41,41],[42,1,42,40],[34,1,35,2],[26,1,27,2],[38,1,39,2],[32,1,33,2],[28,1,29,2],[36,1,37,2],[30,1,31,2],[40,1,41,2],[24,1,25,2],[17,1,17,3],[22,1,23,2],[22,41,23,41],[20,41,21,41],[20,1,21,2],[18,4,18,10],[18,11,18,17],[18,18,18,24],[18,25,18,31],[18,1,18,3],[19,1,19,3],[18,39,18,40],[18,41,19,41]]}
[null,"Indicador: Porcentaje de horas lectivas cumplidas por nivel."]
[null,"Calendarización del año escolar, Nivel Inicial ➨ "]
[null,"¿Qué hacer?"]
[null,"1° La calendarización ya está pre-llenada con la fecha de inicio de clases, los feriados y la semana de planificación inicial. Deberás adaptar los demás días en función de la realidad de tu IE. Si tu IE ofrece EBA o EBE, cambia los títulos correspondientes para adaptarlos a la realidad de tu IE."]
[null,"2° En caso que las actividades pre-llenadas varíen en tu I.E., podrás cambiar el tipo de día (guíate por la Leyenda \"Tipos de día\" para seleccionar la letra que corresponda). "]
[]
[null,null,null,"Nota:"]
[null,null,null,"EBA",null,"950 horas de trabajo pedagógico efectivo durante el año electivo",null,null,null,null,null,null,null,null,null,null,null,null,null,null,null,null,null,null,"LEYENDA  \"Tipos de día\"",null,null,null,null,null,null,null,null,null,"Nro. de días",null,null,null,"* Los días efectivos de aprendizaje escolar incluyen al día del logro."]
[null,null,null,"EBE",null,"Como mínimo es de 900 horas  según corresponda",null,null,null,null,null,null,null,null,null,null,null,null,null,null,null,null,null,"A","Día efectivo de aprendizaje escolar*",null,null,null,null,null,null,null,null,null,{"$f":"COUNTIF(E21:AO40,\"A\")","v":184},null,null,null,"**La semana de planificación se inicia en marzo."]
[null,null,null,"ETP",null,"Ciclo Medio: mínimo 2000 horas de estudio (Módulo). ",null,null,null,null,null,null,null,null,null,null,null,null,null,null,null,null,null,"B","Semana de Planificación**",null,null,null,null,null,null,null,null,null,{"$f":"COUNTIF(E21:AO40,\"B\")","v":8},null,null,null,"*** Las Jornadas de Reflexión, se sugiere realizarlas: al conocerse los resultados de la ECE (abril); antes o después del 1er. día del Logro (julio); y antes o después del 2do. día de logro (diciembre)."]
[null,null,null,null,null,null,null,null,null,null,null,null,null,null,null,null,null,null,null,null,null,null,null,"C","Jornadas de reflexión ***",null,null,null,null,null,null,null,null,null,{"$f":"COUNTIF(E21:AO40,\"C\")","v":0}]
[null,null,null,"Complete según los datos del nivel en su IE:",null,null,null,null,null,null,null,null,null,null,null,null,null,null,null,null,null,null,null,"D","Sábados o domingos",null,null,null,null,null,null,null,null,null,{"$f":"COUNTIF(E21:AO40,\"D\")","v":84},null,null,null,"**** Esta semana está prevista para la preparación de la documentación final del año escolar. Además, se inicia la planificación 2017, que implica la evaluación  (balance) de responsabilidades y resultados en la implementación de los CGE, que permita la planificación del año siguiente."]
[null,null,null,"Número de secciones de Nivel Inicial",null,null,null,null,null,null,null,null,null,null,null,null,null,null,null,null,null,null,null,"E","Vacaciones estudiantiles",null,null,null,null,null,null,null,null,null,{"$f":"COUNTIF(E21:AO40,\"E\")","v":8}]
[null,null,null,"Número de horas lectivas diarias",null,null,null,null,null,null,null,null,null,null,null,null,null,null,null,null,null,null,null,"F","Feriados",null,null,null,null,null,null,null,null,null,{"$f":"COUNTIF(E21:AO40,\"F\")","v":10}]
[null,null,null,null,null,null,null,null,null,null,null,null,null,null,null,null,null,null,null,null,null,null,null,"G","Documentación final y Planificación 2017****",null,null,null,null,null,null,null,null,null,{"$f":"COUNTIF(E21:AO40,\"G\")","v":5}]
[null,null,null,null,null,null,null,null,null,null,null,null,null,null,null,null,null,null,null,null,null,null,null," (Ver recomendaciones del \"Fascículo de Gestión Escolar\")"]
[]
[null,2017]
[null,"MES",null,null,"Semana 1",null,null,null,null,null,null,"Semana 2",null,null,null,null,null,null,"Semana 3",null,null,null,null,null,null,"Semana 4",null,null,null,null,null,null,"Semana 5",null,null,null,null,null,null,"Semana 6",null,"N° días","Horas lectivas programadas","Horas laborales efectivas"]
[null,"MARZO",null,null,"L","Ma","Mi","J","V","S","D","L","Ma","Mi","J","V","S","D","L","Ma","Mi","J","V","S","D","L","Ma","Mi","J","V","S","D","L","Ma","Mi","J","V","S","D","L","Ma"]
[{"$f":"IF(B20=\"Febrero\",2,IF(B20=\"MARZO\",3,IF(B20=\"Abril\",4,IF(B20=\"Mayo\",5))))","v":3},{"$f":"DATE($B$18,A21,1)","v":"2017-03-01"},null,"Fecha",{"$f":"B21+1-WEEKDAY(B21,2)","v":"2017-02-27"},{"$f":"E21+1","v":"2017-02-28"},"2017-03-01","2017-03-02","2017-03-03","2017-03-04","2017-03-05","2017-03-06","2017-03-07","2017-03-08","2017-03-09","2017-03-10","2017-03-11","2017-03-12","2017-03-13","2017-03-14","2017-03-15","2017-03-16","2017-03-17","2017-03-18","2017-03-19","2017-03-20","2017-03-21","2017-03-22","2017-03-23","2017-03-24","2017-03-25","2017-03-26","2017-03-27","2017-03-28","2017-03-29","2017-03-30","2017-03-31","2017-04-01","2017-04-02","2017-04-03","2017-04-04",{"$f":"COUNTIF(E22:AO22,\"A\")","v":15},{"$f":"AP21*$L$14","v":0},{"$f":"AQ21*$L$13","v":0},{"$f":"AP21*G10*N10","v":0}]
[null,null,null,"Tipo",null,null,"B","B","B","D","D","B","B","B","B","B","D","D","A","A","A","A","A","D","D","A","A","A","A","A","D","D","A","A","A","A","A"]
[{"$f":"A21+1","v":4},{"$f":"DATE($B$18,A23,1)","v":"2017-04-01"},null,"Fecha",{"$f":"B23+1-WEEKDAY(B23,2)","v":"2017-03-27"},{"$f":"E23+1","v":"2017-03-28"},"2017-03-29","2017-03-30","2017-03-31","2017-04-01","2017-04-02","2017-04-03","2017-04-04","2017-04-05","2017-04-06","2017-04-07","2017-04-08","2017-04-09","2017-04-10","2017-04-11","2017-04-12","2017-04-13","2017-04-14","2017-04-15","2017-04-16","2017-04-17","2017-04-18","2017-04-19","2017-04-20","2017-04-21","2017-04-22","2017-04-23","2017-04-24","2017-04-25","2017-04-26","2017-04-27","2017-04-28","2017-04-29","2017-04-30",42856,42857,{"$f":"COUNTIF(E24:AO24,\"A\")","v":20},{"$f":"AP23*$L$14","v":0},{"$f":"AQ23*$L$13","v":0}]
[null,null,null,"Tipo",null,null,null,null,null,"D","D","A","A","A","A","A","D","D","A","A","A","A","A","D","D","A","A","A","A","A","D","D","A","A","A","A","A","D","D"]
[{"$f":"A23+1","v":5},{"$f":"DATE($B$18,A25,1)","v":"2017-05-01"},null,"Fecha",{"$f":"B25+1-WEEKDAY(B25,2)","v":"2017-05-01"},{"$f":"E25+1","v":"2017-05-02"},"2017-05-03","2017-05-04","2017-05-05","2017-05-06","2017-05-07","2017-05-08","2017-05-09","2017-05-10","2017-05-11","2017-05-12","2017-05-13","2017-05-14","2017-05-15","2017-05-16","2017-05-17","2017-05-18","2017-05-19","2017-05-20","2017-05-21","2017-05-22","2017-05-23","2017-05-24","2017-05-25","2017-05-26","2017-05-27","2017-05-28","2017-05-29","2017-05-30","2017-05-31","2017-06-01","2017-06-02","2017-06-03","2017-06-04",42891,42892,{"$f":"COUNTIF(E26:AO26,\"A\")","v":22},{"$f":"AP25*$L$14","v":0},{"$f":"AQ25*$L$13","v":0}]
[null,null,null,"Tipo","F","A","A","A","A","D","D","A","A","A","A","A","D","D","A","A","A","A","A","D","D","A","A","A","A","A","D","D","A","A","A"]
[{"$f":"A25+1","v":6},{"$f":"DATE($B$18,A27,1)","v":"2017-06-01"},null,"Fecha",{"$f":"B27+1-WEEKDAY(B27,2)","v":"2017-05-29"},{"$f":"E27+1","v":"2017-05-30"},"2017-05-31","2017-06-01","2017-06-02","2017-06-03","2017-06-04","2017-06-05","2017-06-06","2017-06-07","2017-06-08","2017-06-09","2017-06-10","2017-06-11","2017-06-12","2017-06-13","2017-06-14","2017-06-15","2017-06-16","2017-06-17","2017-06-18","2017-06-19","2017-06-20","2017-06-21","2017-06-22","2017-06-23","2017-06-24","2017-06-25","2017-06-26","2017-06-27","2017-06-28","2017-06-29","2017-06-30","2017-07-01","2017-07-02",42919,42920,{"$f":"COUNTIF(E28:AO28,\"A\")","v":20},{"$f":"AP27*$L$14","v":0},{"$f":"AQ27*$L$13","v":0}]
[null,null,null,"Tipo",null,null,null,"A","A","D","D","A","A","A","A","A","D","D","A","A","A","A","A","D","D","A","A","A","A","A","D","D","A","A","A","F"]
[{"$f":"A27+1","v":7},{"$f":"DATE($B$18,A29,1)","v":"2017-07-01"},null,"Fecha",{"$f":"B29+1-WEEKDAY(B29,2)","v":"2017-06-26"},{"$f":"E29+1","v":42913},42914,"2017-06-29","2017-06-30","2017-07-01","2017-07-02","2017-07-03","2017-07-04","2017-07-05","2017-07-06","2017-07-07","2017-07-08","2017-07-09","2017-07-10","2017-07-11","2017-07-12","2017-07-13","2017-07-14","2017-07-15","2017-07-16","2017-07-17","2017-07-18","2017-07-19","2017-07-20","2017-07-21","2017-07-22","2017-07-23","2017-07-24","2017-07-25","2017-07-26","2017-07-27","2017-07-28","2017-07-29","2017-07-30","2017-07-31","2017-08-01",{"$f":"COUNTIF(E30:AO30,\"A\")","v":15},{"$f":"AP29*$L$14","v":0},{"$f":"AQ29*$L$13","v":0}]
[null,null,null,"Tipo",null,null,null,null,null,"D","D","A","A","A","F","A","D","D","A","A","A","A","A","D","D","A","A","A","A","A","D","D","E","E","E","E","F","F","D","A"]
[{"$f":"A29+1","v":8},{"$f":"DATE($B$18,A31,1)","v":"2017-08-01"},null,"Fecha",{"$f":"B31+1-WEEKDAY(B31,2)","v":"2017-07-31"},{"$f":"E31+1","v":"2017-08-01"},"2017-08-02","2017-08-03","2017-08-04","2017-08-05","2017-08-06","2017-08-07","2017-08-08","2017-08-09","2017-08-10","2017-08-11","2017-08-12","2017-08-13","2017-08-14","2017-08-15","2017-08-16","2017-08-17","2017-08-18","2017-08-19","2017-08-20","2017-08-21","2017-08-22","2017-08-23","2017-08-24","2017-08-25","2017-08-26","2017-08-27","2017-08-28","2017-08-29","2017-08-30","2017-08-31","2017-09-01","2017-09-02","2017-09-03","2017-09-04",42983,{"$f":"COUNTIF(E32:AO32,\"A\")","v":18},{"$f":"AP31*$L$14","v":0},{"$f":"AQ31*$L$13","v":0}]
[null,null,null,"Tipo",null,"E","E","E","E","D","D","A","A","A","A","A","D","D","A","A","A","A","A","D","D","A","A","A","A","A","D","D","A","A","F","A"]
[{"$f":"A31+1","v":9},{"$f":"DATE($B$18,A33,1)","v":"2017-09-01"},null,"Fecha",{"$f":"B33+1-WEEKDAY(B33,2)","v":"2017-08-28"},{"$f":"E33+1","v":"2017-08-29"},"2017-08-30","2017-08-31","2017-09-01","2017-09-02","2017-09-03","2017-09-04","2017-09-05","2017-09-06","2017-09-07","2017-09-08","2017-09-09","2017-09-10","2017-09-11","2017-09-12","2017-09-13","2017-09-14","2017-09-15","2017-09-16","2017-09-17","2017-09-18","2017-09-19","2017-09-20","2017-09-21","2017-09-22","2017-09-23","2017-09-24","2017-09-25","2017-09-26","2017-09-27","2017-09-28","2017-09-29","2017-09-30","2017-10-01","2017-10-02","2017-10-03",{"$f":"COUNTIF(E34:AO34,\"A\")","v":21},{"$f":"AP33*$L$14","v":0},{"$f":"AQ33*$L$13","v":0}]
[null,null,null,"Tipo",null,null,null,null,"A","D","D","A","A","A","A","A","D","D","A","A","A","A","A","D","D","A","A","A","A","A","D","D","A","A","A","A","A","D"]
[{"$f":"A33+1","v":10},{"$f":"DATE($B$18,A35,1)","v":"2017-10-01"},null,"Fecha",{"$f":"B35+1-WEEKDAY(B35,2)","v":"2017-09-25"},{"$f":"E35+1","v":43004},43005,"2017-09-28","2017-09-29","2017-09-30","2017-10-01","2017-10-02","2017-10-03","2017-10-04","2017-10-05","2017-10-06",{"$f":"P35+1","v":"2017-10-07"},"2017-10-08","2017-10-09","2017-10-10","2017-10-11","2017-10-12","2017-10-13","2017-10-14","2017-10-15","2017-10-16","2017-10-17","2017-10-18","2017-10-19","2017-10-20","2017-10-21","2017-10-22","2017-10-23","2017-10-24","2017-10-25","2017-10-26","2017-10-27","2017-10-28","2017-10-29","2017-10-30","2017-10-31",{"$f":"COUNTIF(E36:AO36,\"A\")","v":22},{"$f":"AP35*$L$14","v":0},{"$f":"AQ35*$L$13","v":0}]
[null,null,null,"Tipo",null,null,null,null,null,null,"D","A","A","A","A","A","D","F","A","A","A","A","A","D","D","A","A","A","A","A","D","D","A","A","A","A","A","D","D","A","A"]
[{"$f":"A35+1","v":11},{"$f":"DATE($B$18,A37,1)","v":"2017-11-01"},null,"Fecha",{"$f":"B37+1-WEEKDAY(B37,2)","v":"2017-10-30"},{"$f":"E37+1","v":"2017-10-31"},{"$f":"F37+1","v":"2017-11-01"},"2017-11-02","2017-11-03","2017-11-04","2017-11-05","2017-11-06","2017-11-07","2017-11-08","2017-11-09","2017-11-10","2017-11-11","2017-11-12","2017-11-13","2017-11-14","2017-11-15","2017-11-16","2017-11-17","2017-11-18","2017-11-19","2017-11-20","2017-11-21","2017-11-22","2017-11-23","2017-11-24","2017-11-25","2017-11-26","2017-11-27","2017-11-28","2017-11-29","2017-11-30","2017-12-01","2017-12-02","2017-12-03","2017-12-04","2017-12-05",{"$f":"COUNTIF(E38:AO38,\"A\")","v":21},{"$f":"AP37*$L$14","v":0},{"$f":"AQ37*$L$13","v":0}]
[null,null,null,"Tipo",null,null,"F","A","A","D","D","A","A","A","A","A","D","D","A","A","A","A","A","D","D","A","A","A","A","A","D","D","A","A","A","A"]
[{"$f":"A37+1","v":12},{"$f":"DATE($B$18,A39,1)","v":"2017-12-01"},null,"Fecha",{"$f":"IFERROR(B39+1-WEEKDAY(B39,2),\"\")","v":"2017-11-27"},{"$f":"IFERROR(E39+1,\"\")","v":"2017-11-28"},{"$f":"IFERROR(F39+1,\"\")","v":"2017-11-29"},"2017-11-30","2017-12-01","2017-12-02","2017-12-03","2017-12-04","2017-12-05","2017-12-06","2017-12-07","2017-12-08","2017-12-09","2017-12-10","2017-12-11","2017-12-12","2017-12-13","2017-12-14","2017-12-15","2017-12-16","2017-12-17","2017-12-18","2017-12-19","2017-12-20","2017-12-21","2017-12-22","2017-12-23","2017-12-24","2017-12-25","2017-12-26","2017-12-27","2017-12-28","2017-12-29","2017-12-30","2017-12-31","2018-01-01","2018-01-02",{"$f":"COUNTIF(E40:AO40,\"A\")","v":10},{"$f":"AP39*$L$14","v":0},{"$f":"AQ39*$L$13","v":0}]
[null,null,null,"Tipo",null,null,null,null,"A","D","D","A","A","A","A","F","D","D","A","A","A","A","A","D","D","G","G","G","G","G","D","D","F"]
[{"$f":"A39+1","v":13},{"$f":"DATE($B$18,A41,1)","v":"2018-01-01"},null,"Fecha",{"$f":"IFERROR(B41+1-WEEKDAY(B41,2),\"\")","v":"2018-01-01"},{"$f":"IFERROR(E41+1,\"\")","v":"2018-01-02"},{"$f":"IFERROR(F41+1,\"\")","v":"2018-01-03"},"2018-01-04","2018-01-05","2018-01-06","2018-01-07","2018-01-08","2018-01-09","2018-01-10","2018-01-11","2018-01-12","2018-01-13","2018-01-14","2018-01-15","2018-01-16","2018-01-17","2018-01-18","2018-01-19","2018-01-20","2018-01-21","2018-01-22","2018-01-23","2018-01-24","2018-01-25","2018-01-26","2018-01-27","2018-01-28","2018-01-29","2018-01-30","2018-01-31","2018-02-01","2018-02-02","2018-02-03","2018-02-04",43136,43137,{"$f":"COUNTIF(E42:AO42,\"A\")","v":0},{"$f":"AP41*$L$14","v":0},{"$f":"AQ41*$L$13","v":0}]
[null,null,null,"Tipo"]
[null,"Propuesta para la Calendarización del Año Escolar para alcanzar horas mínimas de acuerdo al DS Nº 008-2006- ED. Aprueban los “Lineamientos para el Seguimiento y Control de la Labor Efectiva de Trabajo Docente en las Instituciones Educativas Públicas”. ",null,null,null,null,null,null,null,null,null,null,null,null,null,null,null,null,null,null,null,null,null,null,null,null,null,null,null,null,null,null,null,null,null,null,null,null,null,null,null,{"$f":"SUM(AP21:AP39)","v":184},{"$f":"SUM(AQ21:AQ42)","v":0},{"$f":"SUM(AR21:AR42)","v":0}]
[]
[null,"NOTA:",null,"En las IIEE EIB se debe tener en cuenta las situaciones climáticas, geográficas, distancias y otras, para armonizar con las actividades del Calendario Comunal."]

{"sheet":"C3_FormPrim","index":40,"n_rows":45,"n_cols":44,"rows_kept":45,"cut":false,"hidden":true,"merged":[[38,42,39,42],[40,1,41,2],[42,1,42,40],[34,1,35,2],[36,1,37,2],[38,1,39,2],[38,41,39,41],[34,42,35,42],[28,1,29,2],[28,41,29,41],[30,1,31,2],[30,41,31,41],[32,1,33,2],[3,1,3,40],[4,1,4,39],[7,3,7,4],[7,5,7,19],[20,1,21,2],[8,34,8,36],[9,34,9,36],[10,34,10,36],[11,34,11,36],[12,34,12,36],[20,41,21,41],[26,1,27,2],[26,41,27,41],[8,3,8,4],[8,5,8,19],[9,3,9,4],[9,5,9,19],[13,3,13,10],[22,1,23,2],[22,41,23,41],[24,1,25,2],[24,41,25,41],[12,3,12,10],[18,32,18,38],[18,39,18,40],[8,24,8,33],[32,43,33,43],[36,42,37,42],[18,41,19,41],[17,1,17,3],[18,1,18,3],[18,4,18,10],[18,11,18,17],[18,18,18,24],[18,25,18,31],[19,1,19,3],[20,42,21,42],[20,43,21,43],[22,42,23,42],[22,43,23,43],[24,42,25,42],[24,43,25,43],[26,42,27,42],[26,43,27,43],[32,41,33,41],[38,43,39,43],[40,41,41,41],[40,42,41,42],[40,43,41,43],[36,43,37,43],[34,43,35,43],[28,42,29,42],[36,41,37,41],[34,41,35,41],[28,43,29,43],[30,42,31,42],[30,43,31,43],[32,42,33,42],[18,42,19,42],[18,43,19,43],[9,38,10,44],[11,38,14,44],[13,34,13,36],[14,34,14,36]]}
[null,"Indicador: Porcentaje de horas lectivas cumplidas por nivel."]
[null,"Calendarización del año escolar, Nivel Primaria ➨ "]
[null,"¿Qué hacer?"]
[null,"1° La calendarización ya está pre-llenada con la fecha de inicio de clases, los feriados y la semana de planificación inicial. Deberás adaptar los demás días en función de la realidad de tu IE. Si tu IE ofrece EBA o EBE, cambia los títulos correspondientes para adaptarlos a la realidad de tu IE."]
[null,"2° En caso que las actividades pre-llenadas varíen en tu I.E., podrás cambiar el tipo de día (guíate por la Leyenda \"Tipos de día\" para seleccionar la letra que corresponda). "]
[]
[null,null,null,"Nota:"]
[null,null,null,"EBA",null,"950 horas de trabajo pedagógico efectivo durante el año electivo",null,null,null,null,null,null,null,null,null,null,null,null,null,null,null,null,null,null,"LEYENDA  \"Tipos de día\"",null,null,null,null,null,null,null,null,null,"Nro. de días",null,null,null,"* Los días efectivos de aprendizaje escolar incluyen al día del logro."]
[null,null,null,"EBE",null,"Como mínimo es de 900 horas  según corresponda",null,null,null,null,null,null,null,null,null,null,null,null,null,null,null,null,null,"A","Día efectivo de aprendizaje escolar*",null,null,null,null,null,null,null,null,null,{"$f":"COUNTIF(E21:AO40,\"A\")","v":184},null,null,null,"**La semana de planificación se inicia en marzo."]
[null,null,null,"ETP",null,"Ciclo Medio: mínimo 2000 horas de estudio (Módulo). ",null,null,null,null,null,null,null,null,null,null,null,null,null,null,null,null,null,"B","Semana de Planificación**",null,null,null,null,null,null,null,null,null,{"$f":"COUNTIF(E21:AO40,\"B\")","v":8},null,null,null,"*** Las Jornadas de Reflexión, se sugiere realizarlas: al conocerse los resultados de la ECE (abril); antes o después del 1er. día del Logro (julio); y antes o después del 2do. día de logro (diciembre)."]
[null,null,null,null,null,null,null,null,null,null,null,null,null,null,null,null,null,null,null,null,null,null,null,"C","Jornadas de reflexión ***",null,null,null,null,null,null,null,null,null,{"$f":"COUNTIF(E21:AO40,\"C\")","v":0}]
[null,null,null,"Complete según los datos del nivel en su IE:",null,null,null,null,null,null,null,null,null,null,null,null,null,null,null,null,null,null,null,"D","Sábados o domingos",null,null,null,null,null,null,null,null,null,{"$f":"COUNTIF(E21:AO40,\"D\")","v":84},null,null,null,"**** Esta semana está prevista para la preparación de la documentación final del año escolar. Además, se inicia la planificación 2017, que implica la evaluación  (balance) de responsabilidades y resultados en la implementación de los CGE, que permita la planificación del año siguiente."]
[null,null,null,"Número de secciones de Nivel Primaria",null,null,null,null,null,null,null,null,null,null,null,null,null,null,null,null,null,null,null,"E","Vacaciones estudiantiles",null,null,null,null,null,null,null,null,null,{"$f":"COUNTIF(E21:AO40,\"E\")","v":8}]
[null,null,null,"Número de horas lectivas diarias",null,null,null,null,null,null,null,null,null,null,null,null,null,null,null,null,null,null,null,"F","Feriados",null,null,null,null,null,null,null,null,null,{"$f":"COUNTIF(E21:AO40,\"F\")","v":10}]
[null,null,null,null,null,null,null,null,null,null,null,null,null,null,null,null,null,null,null,null,null,null,null,"G","Documentación final y Planificación 2017****",null,null,null,null,null,null,null,null,null,{"$f":"COUNTIF(E21:AO40,\"G\")","v":5}]
[null,null,null,null,null,null,null,null,null,null,null,null,null,null,null,null,null,null,null,null,null,null,null," (Ver recomendaciones del \"Fascículo de Gestión Escolar\")"]
[]
[null,2017]
[null,"MES",null,null,"Semana 1",null,null,null,null,null,null,"Semana 2",null,null,null,null,null,null,"Semana 3",null,null,null,null,null,null,"Semana 4",null,null,null,null,null,null,"Semana 5",null,null,null,null,null,null,"Semana 6",null,"N° días","Horas Lectivas","Horas Efectvas"]
[null,"MARZO",null,null,"L","Ma","Mi","J","V","S","D","L","Ma","Mi","J","V","S","D","L","Ma","Mi","J","V","S","D","L","Ma","Mi","J","V","S","D","L","Ma","Mi","J","V","S","D","L","Ma"]
[{"$f":"IF(B20=\"Febrero\",2,IF(B20=\"MARZO\",3,IF(B20=\"Abril\",4,IF(B20=\"Mayo\",5))))","v":3},{"$f":"DATE($B$18,A21,1)","v":"2017-03-01"},null,"Fecha",{"$f":"B21+1-WEEKDAY(B21,2)","v":"2017-02-27"},{"$f":"E21+1","v":"2017-02-28"},{"$f":"F21+1","v":"2017-03-01"},"2017-03-02","2017-03-03","2017-03-04","2017-03-05","2017-03-06","2017-03-07","2017-03-08","2017-03-09","2017-03-10","2017-03-11","2017-03-12","2017-03-13","2017-03-14","2017-03-15","2017-03-16",{"$f":"V21+1","v":"2017-03-17"},"2017-03-18","2017-03-19","2017-03-20","2017-03-21","2017-03-22","2017-03-23","2017-03-24","2017-03-25","2017-03-26","2017-03-27","2017-03-28","2017-03-29","2017-03-30","2017-03-31","2017-04-01",{"$f":"AL21+1","v":"2017-04-02"},{"$f":"AM21+1","v":"2017-04-03"},{"$f":"AN21+1","v":"2017-04-04"},{"$f":"COUNTIF(E22:AO22,\"A\")","v":14},{"$f":"AP21*$L$14","v":0},{"$f":"AQ21*$L$13","v":0}]
[null,null,null,"Tipo",null,null,"B","B","B","D","D","B","B","B","B","B","D","D","A","A","A","A","A","D","D","A","A","A","A","A","D","D","A","A","A","A"]
[{"$f":"A21+1","v":4},{"$f":"DATE($B$18,A23,1)","v":"2017-04-01"},null,"Fecha",{"$f":"B23+1-WEEKDAY(B23,2)","v":"2017-03-27"},{"$f":"E23+1","v":"2017-03-28"},{"$f":"F23+1","v":"2017-03-29"},"2017-03-30","2017-03-31","2017-04-01","2017-04-02","2017-04-03","2017-04-04","2017-04-05","2017-04-06","2017-04-07","2017-04-08","2017-04-09","2017-04-10","2017-04-11","2017-04-12","2017-04-13",{"$f":"V23+1","v":"2017-04-14"},"2017-04-15","2017-04-16","2017-04-17","2017-04-18","2017-04-19","2017-04-20","2017-04-21","2017-04-22","2017-04-23","2017-04-24","2017-04-25","2017-04-26","2017-04-27","2017-04-28","2017-04-29",{"$f":"AL23+1","v":"2017-04-30"},{"$f":"AM23+1","v":"2017-05-01"},{"$f":"AN23+1","v":"2017-05-02"},{"$f":"COUNTIF(E24:AO24,\"A\")","v":20},{"$f":"AP23*$L$14","v":0},{"$f":"AQ23*$L$13","v":0}]
[null,null,null,"Tipo",null,null,null,null,null,"D","D","A","A","A","A","A","D","D","A","A","A","A","A","D","D","A","A","A","A","A","D","D","A","A","A","A","A","D","D"]
[{"$f":"A23+1","v":5},{"$f":"DATE($B$18,A25,1)","v":"2017-05-01"},null,"Fecha",{"$f":"B25+1-WEEKDAY(B25,2)","v":"2017-05-01"},{"$f":"E25+1","v":"2017-05-02"},{"$f":"F25+1","v":"2017-05-03"},"2017-05-04","2017-05-05","2017-05-06","2017-05-07","2017-05-08","2017-05-09","2017-05-10","2017-05-11","2017-05-12","2017-05-13","2017-05-14","2017-05-15","2017-05-16","2017-05-17","2017-05-18",{"$f":"V25+1","v":"2017-05-19"},"2017-05-20","2017-05-21","2017-05-22","2017-05-23","2017-05-24","2017-05-25","2017-05-26","2017-05-27","2017-05-28","2017-05-29","2017-05-30","2017-05-31","2017-06-01","2017-06-02","2017-06-03",{"$f":"AL25+1","v":"2017-06-04"},{"$f":"AM25+1","v":"2017-06-05"},{"$f":"AN25+1","v":"2017-06-06"},{"$f":"COUNTIF(E26:AO26,\"A\")","v":22},{"$f":"AP25*$L$14","v":0},{"$f":"AQ25*$L$13","v":0}]
[null,null,null,"Tipo","F","A","A","A","A","D","D","A","A","A","A","A","D","D","A","A","A","A","A","D","D","A","A","A","A","A","D","D","A","A","A"]
[{"$f":"A25+1","v":6},{"$f":"DATE($B$18,A27,1)","v":"2017-06-01"},null,"Fecha",{"$f":"B27+1-WEEKDAY(B27,2)","v":"2017-05-29"},{"$f":"E27+1","v":"2017-05-30"},{"$f":"F27+1","v":"2017-05-31"},"2017-06-01","2017-06-02","2017-06-03","2017-06-04","2017-06-05","2017-06-06","2017-06-07","2017-06-08","2017-06-09","2017-06-10","2017-06-11","2017-06-12","2017-06-13","2017-06-14","2017-06-15",{"$f":"V27+1","v":"2017-06-16"},"2017-06-17","2017-06-18","2017-06-19","2017-06-20","2017-06-21","2017-06-22","2017-06-23","2017-06-24","2017-06-25","2017-06-26","2017-06-27","2017-06-28","2017-06-29","2017-06-30","2017-07-01",{"$f":"AL27+1","v":"2017-07-02"},{"$f":"AM27+1","v":"2017-07-03"},{"$f":"AN27+1","v":"2017-07-04"},{"$f":"COUNTIF(E28:AO28,\"A\")","v":21},{"$f":"AP27*$L$14","v":0},{"$f":"AQ27*$L$13","v":0}]
[null,null,null,"Tipo",null,null,null,"A","A","D","D","A","A","A","A","A","D","D","A","A","A","A","A","D","D","A","A","A","A","A","D","D","A","A","A","F","A"]
[{"$f":"A27+1","v":7},{"$f":"DATE($B$18,A29,1)","v":"2017-07-01"},null,"Fecha",{"$f":"B29+1-WEEKDAY(B29,2)","v":"2017-06-26"},{"$f":"E29+1","v":"2017-06-27"},{"$f":"F29+1","v":"2017-06-28"},"2017-06-29","2017-06-30","2017-07-01","2017-07-02","2017-07-03","2017-07-04","2017-07-05",{"$f":"N29+1","v":"2017-07-06"},"2017-07-07","2017-07-08","2017-07-09","2017-07-10","2017-07-11","2017-07-12","2017-07-13",{"$f":"V29+1","v":"2017-07-14"},"2017-07-15","2017-07-16","2017-07-17","2017-07-18","2017-07-19","2017-07-20","2017-07-21","2017-07-22","2017-07-23","2017-07-24","2017-07-25","2017-07-26","2017-07-27","2017-07-28","2017-07-29",{"$f":"AL29+1","v":"2017-07-30"},{"$f":"AM29+1","v":"2017-07-31"},{"$f":"AN29+1","v":"2017-08-01"},{"$f":"COUNTIF(E30:AO30,\"A\")","v":15},{"$f":"AP29*$L$14","v":0},{"$f":"AQ29*$L$13","v":0}]
[null,null,null,"Tipo",null,null,null,null,null,"D","D","A","A","A","F","A","D","D","A","A","A","A","A","D","D","A","A","A","A","A","D","D","E","E","E","E","F","F","D","A"]
[{"$f":"A29+1","v":8},{"$f":"DATE($B$18,A31,1)","v":"2017-08-01"},null,"Fecha",{"$f":"B31+1-WEEKDAY(B31,2)","v":"2017-07-31"},{"$f":"E31+1","v":"2017-08-01"},{"$f":"F31+1","v":"2017-08-02"},"2017-08-03","2017-08-04","2017-08-05","2017-08-06","2017-08-07","2017-08-08","2017-08-09","2017-08-10","2017-08-11","2017-08-12","2017-08-13","2017-08-14","2017-08-15","2017-08-16","2017-08-17",{"$f":"V31+1","v":"2017-08-18"},"2017-08-19","2017-08-20","2017-08-21","2017-08-22","2017-08-23","2017-08-24","2017-08-25","2017-08-26","2017-08-27","2017-08-28","2017-08-29","2017-08-30","2017-08-31","2017-09-01","2017-09-02",{"$f":"AL31+1","v":"2017-09-03"},{"$f":"AM31+1","v":"2017-09-04"},{"$f":"AN31+1","v":"2017-09-05"},{"$f":"COUNTIF(E32:AO32,\"A\")","v":18},{"$f":"AP31*$L$14","v":0},{"$f":"AQ31*$L$13","v":0}]
[null,null,null,"Tipo",null,"E","E","E","E","D","D","A","A","A","A","A","D","D","A","A","A","A","A","D","D","A","A","A","A","A","D","D","A","A","F","A"]
[{"$f":"A31+1","v":9},{"$f":"DATE($B$18,A33,1)","v":"2017-09-01"},null,"Fecha",{"$f":"B33+1-WEEKDAY(B33,2)","v":"2017-08-28"},{"$f":"E33+1","v":"2017-08-29"},{"$f":"F33+1","v":"2017-08-30"},"2017-08-31","2017-09-01","2017-09-02","2017-09-03","2017-09-04","2017-09-05","2017-09-06","2017-09-07","2017-09-08","2017-09-09","2017-09-10","2017-09-11","2017-09-12","2017-09-13","2017-09-14",{"$f":"V33+1","v":"2017-09-15"},"2017-09-16","2017-09-17","2017-09-18","2017-09-19","2017-09-20","2017-09-21","2017-09-22","2017-09-23","2017-09-24","2017-09-25","2017-09-26","2017-09-27","2017-09-28","2017-09-29","2017-09-30",{"$f":"AL33+1","v":"2017-10-01"},{"$f":"AM33+1","v":"2017-10-02"},{"$f":"AN33+1","v":"2017-10-03"},{"$f":"COUNTIF(E34:AO34,\"A\")","v":21},{"$f":"AP33*$L$14","v":0},{"$f":"AQ33*$L$13","v":0}]
[null,null,null,"Tipo",null,null,null,null,"A","D","D","A","A","A","A","A","D","D","A","A","A","A","A","D","D","A","A","A","A","A","D","D","A","A","A","A","A","D"]
[{"$f":"A33+1","v":10},{"$f":"DATE($B$18,A35,1)","v":"2017-10-01"},null,"Fecha",{"$f":"B35+1-WEEKDAY(B35,2)","v":"2017-09-25"},{"$f":"E35+1","v":"2017-09-26"},{"$f":"F35+1","v":"2017-09-27"},"2017-09-28","2017-09-29","2017-09-30","2017-10-01","2017-10-02","2017-10-03","2017-10-04","2017-10-05","2017-10-06","2017-10-07","2017-10-08","2017-10-09","2017-10-10","2017-10-11","2017-10-12",{"$f":"V35+1","v":"2017-10-13"},"2017-10-14","2017-10-15","2017-10-16","2017-10-17","2017-10-18","2017-10-19","2017-10-20","2017-10-21","2017-10-22","2017-10-23","2017-10-24","2017-10-25","2017-10-26","2017-10-27","2017-10-28","2017-10-29","2017-10-30","2017-10-31",{"$f":"COUNTIF(E36:AO36,\"A\")","v":22},{"$f":"AP35*$L$14","v":0},{"$f":"AQ35*$L$13","v":0}]
[null,null,null,"Tipo",null,null,null,null,null,null,"D","A","A","A","A","A","D","F","A","A","A","A","A","D","D","A","A","A","A","A","D","D","A","A","A","A","A","D","D","A","A"]
[{"$f":"A35+1","v":11},{"$f":"DATE($B$18,A37,1)","v":"2017-11-01"},null,"Fecha",{"$f":"B37+1-WEEKDAY(B37,2)","v":"2017-10-30"},{"$f":"E37+1","v":"2017-10-31"},{"$f":"F37+1","v":"2017-11-01"},"2017-11-02","2017-11-03","2017-11-04","2017-11-05","2017-11-06","2017-11-07","2017-11-08","2017-11-09","2017-11-10","2017-11-11","2017-11-12","2017-11-13","2017-11-14","2017-11-15","2017-11-16","2017-11-17","2017-11-18","2017-11-19","2017-11-20","2017-11-21","2017-11-22","2017-11-23","2017-11-24","2017-11-25","2017-11-26","2017-11-27","2017-11-28","2017-11-29","2017-11-30","2017-12-01","2017-12-02","2017-12-03","2017-12-04","2017-12-05",{"$f":"COUNTIF(E38:AO38,\"A\")","v":21},{"$f":"AP37*$L$14","v":0},{"$f":"AQ37*$L$13","v":0}]
[null,null,null,"Tipo",null,null,"F","A","A","D","D","A","A","A","A","A","D","D","A","A","A","A","A","D","D","A","A","A","A","A","D","D","A","A","A","A"]
[{"$f":"A37+1","v":12},{"$f":"DATE($B$18,A39,1)","v":"2017-12-01"},null,"Fecha",{"$f":"IFERROR(B39+1-WEEKDAY(B39,2),\"\")","v":"2017-11-27"},{"$f":"IFERROR(E39+1,\"\")","v":"2017-11-28"},{"$f":"IFERROR(F39+1,\"\")","v":"2017-11-29"},"2017-11-30","2017-12-01","2017-12-02","2017-12-03","2017-12-04","2017-12-05","2017-12-06","2017-12-07","2017-12-08","2017-12-09","2017-12-10","2017-12-11","2017-12-12","2017-12-13","2017-12-14","2017-12-15","2017-12-16","2017-12-17","2017-12-18","2017-12-19","2017-12-20","2017-12-21","2017-12-22","2017-12-23","2017-12-24","2017-12-25","2017-12-26",{"$f":"IFERROR(AH39+1,\"\")","v":"2017-12-27"},{"$f":"IFERROR(AI39+1,\"\")","v":"2017-12-28"},{"$f":"IFERROR(AJ39+1,\"\")","v":"2017-12-29"},{"$f":"IFERROR(AK39+1,\"\")","v":"2017-12-30"},{"$f":"IFERROR(AL39+1,\"\")","v":"2017-12-31"},{"$f":"IFERROR(AM39+1,\"\")","v":"2018-01-01"},{"$f":"IFERROR(AN39+1,\"\")","v":"2018-01-02"},{"$f":"COUNTIF(E40:AO40,\"A\")","v":10},{"$f":"AP39*$L$14","v":0},{"$f":"AQ39*$L$13","v":0}]
[null,null,null,"Tipo",null,null,null,null,"A","D","D","A","A","A","A","F","D","D","A","A","A","A","A","D","D","G","G","G","G","G","D","D","F"]
[{"$f":"A39+1","v":13},{"$f":"DATE($B$18,A41,1)","v":"2018-01-01"},null,"Fecha",{"$f":"IFERROR(B41+1-WEEKDAY(B41,2),\"\")","v":"2018-01-01"},{"$f":"IFERROR(E41+1,\"\")","v":"2018-01-02"},{"$f":"IFERROR(F41+1,\"\")","v":"2018-01-03"},"2018-01-04","2018-01-05","2018-01-06","2018-01-07","2018-01-08","2018-01-09","2018-01-10","2018-01-11","2018-01-12","2018-01-13","2018-01-14","2018-01-15","2018-01-16","2018-01-17","2018-01-18","2018-01-19","2018-01-20","2018-01-21","2018-01-22","2018-01-23","2018-01-24","2018-01-25","2018-01-26","2018-01-27","2018-01-28","2018-01-29","2018-01-30","2018-01-31","2018-02-01","2018-02-02","2018-02-03","2018-02-04","2018-02-05","2018-02-06",{"$f":"COUNTIF(E42:AO42,\"A\")","v":0},{"$f":"AP41*$L$14","v":0},{"$f":"AQ41*$L$13","v":0}]
[null,null,null,"Tipo"]
[null,"Propuesta para la Calendarización del Año Escolar para alcanzar horas mínimas de acuerdo al DS Nº 008-2006- ED. Aprueban los “Lineamientos para el Seguimiento y Control de la Labor Efectiva de Trabajo Docente en las Instituciones Educativas Públicas”. ",null,null,null,null,null,null,null,null,null,null,null,null,null,null,null,null,null,null,null,null,null,null,null,null,null,null,null,null,null,null,null,null,null,null,null,null,null,null,null,{"$f":"SUM(AP21:AP42)","v":184},{"$f":"SUM(AQ21:AQ42)","v":0},{"$f":"SUM(AR21:AR42)","v":0}]
[]
[null,"NOTA:",null,"En las IIEE EIB se debe tener en cuenta las situaciones climáticas, geográficas, distancias y otras, para armonizar con las actividades del Calendario Comunal."]

{"sheet":"C3_FormSec","index":41,"n_rows":46,"n_cols":44,"rows_kept":46,"cut":false,"hidden":true,"merged":[[41,1,42,2],[43,1,43,40],[35,1,36,2],[37,1,38,2],[33,1,34,2],[33,41,34,41],[39,1,40,2],[39,41,40,41],[29,42,30,42],[21,1,22,2],[21,41,22,41],[23,1,24,2],[23,41,24,41],[25,1,26,2],[25,41,26,41],[27,1,28,2],[27,41,28,41],[29,1,30,2],[29,41,30,41],[31,1,32,2],[31,41,32,41],[8,24,8,33],[8,34,8,36],[9,34,9,36],[10,34,10,36],[7,3,7,4],[7,5,7,19],[8,3,8,4],[8,5,8,19],[9,3,9,4],[9,5,9,19],[3,1,3,40],[4,1,4,39],[7,24,7,33],[7,34,7,36],[27,42,28,42],[9,38,10,43],[13,3,13,10],[19,42,20,42],[12,3,12,10],[18,1,18,3],[19,1,19,3],[19,4,19,10],[19,11,19,17],[19,18,19,24],[19,25,19,31],[20,1,20,3],[27,43,28,43],[11,34,11,36],[12,34,12,36],[13,34,13,36],[14,34,14,36],[19,32,19,38],[19,39,19,40],[19,41,20,41],[21,42,22,42],[21,43,22,43],[23,42,24,42],[23,43,24,43],[25,42,26,42],[25,43,26,43],[11,38,14,43],[19,43,20,43],[35,42,36,42],[35,43,36,43],[37,42,38,42],[37,43,38,43],[37,41,38,41],[35,41,36,41],[29,43,30,43],[31,42,32,42],[31,43,32,43],[33,42,34,42],[33,43,34,43],[39,42,40,42],[39,43,40,43],[41,41,42,41],[41,42,42,42],[41,43,42,43]]}
[null,"Indicador: Porcentaje de horas lectivas cumplidas por nivel."]
[null,"Calendarización del año escolar, Nivel Secundaria ➨ "]
[null,"¿Qué hacer?"]
[null,"1° La calendarización ya está pre-llenada con la fecha de inicio de clases, los feriados y la semana de planificación inicial. Deberás adaptar los demás días en función de la realidad de tu IE. Si tu IE ofrece EBA o EBE, cambia los títulos correspondientes para adaptarlos a la realidad de tu IE."]
[null,"2° En caso que las actividades pre-llenadas varíen en tu I.E., podrás cambiar el tipo de día (guíate por la Leyenda \"Tipos de día\" para seleccionar la letra que corresponda). "]
[]
[null,null,null,"Nota:"]
[null,null,null,"EBA",null,"950 horas de trabajo pedagógico efectivo durante el año electivo",null,null,null,null,null,null,null,null,null,null,null,null,null,null,null,null,null,null,"LEYENDA  \"Tipos de día\"",null,null,null,null,null,null,null,null,null,"Nro. de días",null,null,null,"* Los días efectivos de aprendizaje escolar incluyen al día del logro."]
[null,null,null,"EBE",null,"Como mínimo es de 900 horas  según corresponda",null,null,null,null,null,null,null,null,null,null,null,null,null,null,null,null,null,"A","Día efectivo de aprendizaje escolar*",null,null,null,null,null,null,null,null,null,{"$f":"COUNTIF(E22:AO41,\"A\")","v":185},null,null,null,"**La semana de planificación se inicia en marzo."]
[null,null,null,"ETP",null,"Ciclo Medio: mínimo 2000 horas de estudio (Módulo). ",null,null,null,null,null,null,null,null,null,null,null,null,null,null,null,null,null,"B","Semana de Planificación**",null,null,null,null,null,null,null,null,null,{"$f":"COUNTIF(E22:AO41,\"B\")","v":8},null,null,null,"*** Las Jornadas de Reflexión, se sugiere realizarlas: al conocerse los resultados de la ECE (abril); antes o después del 1er. día del Logro (julio); y antes o después del 2do. día de logro (diciembre)."]
[null,null,null,null,null,null,null,null,null,null,null,null,null,null,null,null,null,null,null,null,null,null,null,"C","Jornadas de reflexión ***",null,null,null,null,null,null,null,null,null,{"$f":"COUNTIF(E22:AO41,\"C\")","v":0}]
[null,null,null,"Complete según los datos del nivel en su IE:",null,null,null,null,null,null,null,null,null,null,null,null,null,null,null,null,null,null,null,"D","Sábados o domingos",null,null,null,null,null,null,null,null,null,{"$f":"COUNTIF(E22:AO41,\"D\")","v":84},null,null,null,"**** Esta semana está prevista para la preparación de la documentación final del año escolar. Además, se inicia la planificación 2017, que implica la evaluación  (balance) de responsabilidades y resultados en la implementación de los CGE, que permita la planificación del año siguiente."]
[null,null,null,"Número de secciones de Nivel Secundaria",null,null,null,null,null,null,null,1,null,null,null,null,null,null,null,null,null,null,null,"E","Vacaciones estudiantiles",null,null,null,null,null,null,null,null,null,{"$f":"COUNTIF(E22:AO41,\"E\")","v":8}]
[null,null,null,"Número de horas lectivas diarias",null,null,null,null,null,null,null,1,null,null,null,null,null,null,null,null,null,null,null,"F","Feriados",null,null,null,null,null,null,null,null,null,{"$f":"COUNTIF(E22:AO41,\"F\")","v":10}]
[null,null,null,"Si tu IE cuenta con JEC, modifica el número de horas lectivas diarias",null,null,null,null,null,null,null,null,null,null,null,null,null,null,null,null,null,null,null,"G","Documentación final y Planificación 2017****",null,null,null,null,null,null,null,null,null,{"$f":"COUNTIF(E22:AO41,\"G\")","v":5}]
[null,null,null,null,null,null,null,null,null,null,null,null,null,null,null,null,null,null,null,null,null,null,null," (Ver recomendaciones del \"Fascículo de Gestión Escolar\")"]
[]
[]
[null,2017]
[null,"MES",null,null,"Semana 1",null,null,null,null,null,null,"Semana 2",null,null,null,null,null,null,"Semana 3",null,null,null,null,null,null,"Semana 4",null,null,null,null,null,null,"Semana 5",null,null,null,null,null,null,"Semana 6",null,"N° días","Horas Lectivas","Horas Efectivas"]
[null,"MARZO",null,null,"L","Ma","Mi","J","V","S","D","L","Ma","Mi","J","V","S","D","L","Ma","Mi","J","V","S","D","L","Ma","Mi","J","V","S","D","L","Ma","Mi","J","V","S","D","L","Ma"]
[{"$f":"IF(B21=\"Febrero\",2,IF(B21=\"MARZO\",3,IF(B21=\"Abril\",4,IF(B21=\"Mayo\",5))))","v":3},{"$f":"DATE($B$19,A22,1)","v":"2017-03-01"},null,"Fecha",{"$f":"B22+1-WEEKDAY(B22,2)","v":"2017-02-27"},{"$f":"E22+1","v":"2017-02-28"},{"$f":"F22+1","v":"2017-03-01"},"2017-03-02","2017-03-03","2017-03-04","2017-03-05","2017-03-06","2017-03-07","2017-03-08","2017-03-09","2017-03-10","2017-03-11","2017-03-12","2017-03-13","2017-03-14","2017-03-15","2017-03-16",{"$f":"V22+1","v":"2017-03-17"},"2017-03-18","2017-03-19","2017-03-20","2017-03-21","2017-03-22","2017-03-23","2017-03-24","2017-03-25","2017-03-26","2017-03-27","2017-03-28","2017-03-29","2017-03-30","2017-03-31","2017-04-01",{"$f":"AL22+1","v":"2017-04-02"},{"$f":"AM22+1","v":"2017-04-03"},{"$f":"AN22+1","v":"2017-04-04"},{"$f":"COUNTIF(E23:AO23,\"A\")","v":15},{"$f":"AP22*$L$14","v":15},{"$f":"AQ22*$L$13","v":15}]
[null,null,null,"Tipo",null,null,"B","B","B","D","D","B","B","B","B","B","D","D","A","A","A","A","A","D","D","A","A","A","A","A","D","D","A","A","A","A","A"]
[{"$f":"A22+1","v":4},{"$f":"DATE($B$19,A24,1)","v":"2017-04-01"},null,"Fecha",{"$f":"B24+1-WEEKDAY(B24,2)","v":"2017-03-27"},{"$f":"E24+1","v":"2017-03-28"},{"$f":"F24+1","v":"2017-03-29"},"2017-03-30","2017-03-31","2017-04-01","2017-04-02","2017-04-03","2017-04-04","2017-04-05","2017-04-06","2017-04-07","2017-04-08","2017-04-09","2017-04-10","2017-04-11","2017-04-12","2017-04-13",{"$f":"V24+1","v":"2017-04-14"},"2017-04-15","2017-04-16","2017-04-17","2017-04-18","2017-04-19","2017-04-20","2017-04-21","2017-04-22","2017-04-23","2017-04-24","2017-04-25","2017-04-26","2017-04-27","2017-04-28","2017-04-29",{"$f":"AL24+1","v":"2017-04-30"},{"$f":"AM24+1","v":"2017-05-01"},{"$f":"AN24+1","v":"2017-05-02"},{"$f":"COUNTIF(E25:AO25,\"A\")","v":20},{"$f":"AP24*$L$14","v":20},{"$f":"AQ24*$L$13","v":20}]
[null,null,null,"Tipo",null,null,null,null,null,"D","D","A","A","A","A","A","D","D","A","A","A","A","A","D","D","A","A","A","A","A","D","D","A","A","A","A","A","D","D"]
[{"$f":"A24+1","v":5},{"$f":"DATE($B$19,A26,1)","v":"2017-05-01"},null,"Fecha",{"$f":"B26+1-WEEKDAY(B26,2)","v":"2017-05-01"},{"$f":"E26+1","v":"2017-05-02"},{"$f":"F26+1","v":"2017-05-03"},"2017-05-04","2017-05-05","2017-05-06","2017-05-07","2017-05-08","2017-05-09","2017-05-10","2017-05-11","2017-05-12","2017-05-13","2017-05-14","2017-05-15","2017-05-16","2017-05-17","2017-05-18",{"$f":"V26+1","v":"2017-05-19"},"2017-05-20","2017-05-21","2017-05-22","2017-05-23","2017-05-24","2017-05-25","2017-05-26","2017-05-27","2017-05-28","2017-05-29","2017-05-30","2017-05-31","2017-06-01","2017-06-02","2017-06-03",{"$f":"AL26+1","v":"2017-06-04"},{"$f":"AM26+1","v":"2017-06-05"},{"$f":"AN26+1","v":"2017-06-06"},{"$f":"COUNTIF(E27:AO27,\"A\")","v":22},{"$f":"AP26*$L$14","v":22},{"$f":"AQ26*$L$13","v":22}]
[null,null,null,"Tipo","F","A","A","A","A","D","D","A","A","A","A","A","D","D","A","A","A","A","A","D","D","A","A","A","A","A","D","D","A","A","A"]
[{"$f":"A26+1","v":6},{"$f":"DATE($B$19,A28,1)","v":"2017-06-01"},null,"Fecha",{"$f":"B28+1-WEEKDAY(B28,2)","v":"2017-05-29"},{"$f":"E28+1","v":"2017-05-30"},{"$f":"F28+1","v":"2017-05-31"},"2017-06-01","2017-06-02","2017-06-03","2017-06-04","2017-06-05","2017-06-06","2017-06-07","2017-06-08","2017-06-09","2017-06-10","2017-06-11","2017-06-12","2017-06-13","2017-06-14","2017-06-15",{"$f":"V28+1","v":"2017-06-16"},"2017-06-17","2017-06-18","2017-06-19","2017-06-20","2017-06-21","2017-06-22","2017-06-23","2017-06-24","2017-06-25","2017-06-26","2017-06-27","2017-06-28","2017-06-29","2017-06-30","2017-07-01",{"$f":"AL28+1","v":"2017-07-02"},{"$f":"AM28+1","v":"2017-07-03"},{"$f":"AN28+1","v":"2017-07-04"},{"$f":"COUNTIF(E29:AO29,\"A\")","v":21},{"$f":"AP28*$L$14","v":21},{"$f":"AQ28*$L$13","v":21}]
[null,null,null,"Tipo",null,null,null,"A","A","D","D","A","A","A","A","A","D","D","A","A","A","A","A","D","D","A","A","A","A","A","D","D","A","A","A","F","A"]
[{"$f":"A28+1","v":7},{"$f":"DATE($B$19,A30,1)","v":"2017-07-01"},null,"Fecha",{"$f":"B30+1-WEEKDAY(B30,2)","v":"2017-06-26"},{"$f":"E30+1","v":"2017-06-27"},{"$f":"F30+1","v":"2017-06-28"},"2017-06-29","2017-06-30","2017-07-01","2017-07-02","2017-07-03","2017-07-04","2017-07-05","2017-07-06","2017-07-07","2017-07-08","2017-07-09","2017-07-10","2017-07-11","2017-07-12","2017-07-13",{"$f":"V30+1","v":"2017-07-14"},"2017-07-15","2017-07-16","2017-07-17","2017-07-18","2017-07-19","2017-07-20","2017-07-21","2017-07-22","2017-07-23","2017-07-24","2017-07-25","2017-07-26","2017-07-27","2017-07-28","2017-07-29",{"$f":"AL30+1","v":"2017-07-30"},{"$f":"AM30+1","v":"2017-07-31"},{"$f":"AN30+1","v":"2017-08-01"},{"$f":"COUNTIF(E31:AO31,\"A\")","v":15},{"$f":"AP30*$L$14","v":15},{"$f":"AQ30*$L$13","v":15}]
[null,null,null,"Tipo",null,null,null,null,null,"D","D","A","A","A","F","A","D","D","A","A","A","A","A","D","D","A","A","A","A","A","D","D","E","E","E","E","F","F","D","A"]
[{"$f":"A30+1","v":8},{"$f":"DATE($B$19,A32,1)","v":"2017-08-01"},null,"Fecha",{"$f":"B32+1-WEEKDAY(B32,2)","v":"2017-07-31"},{"$f":"E32+1","v":"2017-08-01"},{"$f":"F32+1","v":"2017-08-02"},"2017-08-03","2017-08-04","2017-08-05","2017-08-06","2017-08-07","2017-08-08","2017-08-09","2017-08-10","2017-08-11","2017-08-12","2017-08-13","2017-08-14","2017-08-15","2017-08-16","2017-08-17",{"$f":"V32+1","v":"2017-08-18"},"2017-08-19","2017-08-20","2017-08-21","2017-08-22","2017-08-23","2017-08-24","2017-08-25","2017-08-26","2017-08-27","2017-08-28","2017-08-29","2017-08-30","2017-08-31","2017-09-01","2017-09-02",{"$f":"AL32+1","v":"2017-09-03"},{"$f":"AM32+1","v":"2017-09-04"},{"$f":"AN32+1","v":"2017-09-05"},{"$f":"COUNTIF(E33:AO33,\"A\")","v":18},{"$f":"AP32*$L$14","v":18},{"$f":"AQ32*$L$13","v":18}]
[null,null,null,"Tipo",null,"E","E","E","E","D","D","A","A","A","A","A","D","D","A","A","A","A","A","D","D","A","A","A","A","A","D","D","A","A","F","A"]
[{"$f":"A32+1","v":9},{"$f":"DATE($B$19,A34,1)","v":"2017-09-01"},null,"Fecha",{"$f":"B34+1-WEEKDAY(B34,2)","v":"2017-08-28"},{"$f":"E34+1","v":"2017-08-29"},{"$f":"F34+1","v":"2017-08-30"},"2017-08-31","2017-09-01","2017-09-02","2017-09-03","2017-09-04","2017-09-05","2017-09-06","2017-09-07","2017-09-08","2017-09-09","2017-09-10","2017-09-11","2017-09-12","2017-09-13","2017-09-14",{"$f":"V34+1","v":"2017-09-15"},"2017-09-16","2017-09-17","2017-09-18","2017-09-19","2017-09-20","2017-09-21","2017-09-22","2017-09-23","2017-09-24","2017-09-25","2017-09-26","2017-09-27","2017-09-28","2017-09-29","2017-09-30",{"$f":"AL34+1","v":"2017-10-01"},{"$f":"AM34+1","v":"2017-10-02"},{"$f":"AN34+1","v":"2017-10-03"},{"$f":"COUNTIF(E35:AO35,\"A\")","v":21},{"$f":"AP34*$L$14","v":21},{"$f":"AQ34*$L$13","v":21}]
[null,null,null,"Tipo",null,null,null,null,"A","D","D","A","A","A","A","A","D","D","A","A","A","A","A","D","D","A","A","A","A","A","D","D","A","A","A","A","A","D"]
[{"$f":"A34+1","v":10},{"$f":"DATE($B$19,A36,1)","v":"2017-10-01"},null,"Fecha",{"$f":"B36+1-WEEKDAY(B36,2)","v":"2017-09-25"},{"$f":"E36+1","v":"2017-09-26"},{"$f":"F36+1","v":"2017-09-27"},"2017-09-28","2017-09-29","2017-09-30","2017-10-01","2017-10-02","2017-10-03","2017-10-04","2017-10-05","2017-10-06","2017-10-07","2017-10-08","2017-10-09","2017-10-10","2017-10-11","2017-10-12",{"$f":"V36+1","v":"2017-10-13"},"2017-10-14","2017-10-15","2017-10-16","2017-10-17","2017-10-18","2017-10-19","2017-10-20","2017-10-21","2017-10-22","2017-10-23","2017-10-24","2017-10-25","2017-10-26","2017-10-27","2017-10-28","2017-10-29","2017-10-30","2017-10-31",{"$f":"COUNTIF(E37:AO37,\"A\")","v":22},{"$f":"AP36*$L$14","v":22},{"$f":"AQ36*$L$13","v":22}]
[null,null,null,"Tipo",null,null,null,null,null,null,"D","A","A","A","A","A","D","F","A","A","A","A","A","D","D","A","A","A","A","A","D","D","A","A","A","A","A","D","D","A","A"]
[{"$f":"A36+1","v":11},{"$f":"DATE($B$19,A38,1)","v":"2017-11-01"},null,"Fecha",{"$f":"B38+1-WEEKDAY(B38,2)","v":"2017-10-30"},{"$f":"E38+1","v":"2017-10-31"},{"$f":"F38+1","v":"2017-11-01"},"2017-11-02","2017-11-03","2017-11-04","2017-11-05","2017-11-06","2017-11-07","2017-11-08","2017-11-09","2017-11-10","2017-11-11","2017-11-12","2017-11-13","2017-11-14","2017-11-15","2017-11-16","2017-11-17","2017-11-18","2017-11-19","2017-11-20","2017-11-21","2017-11-22","2017-11-23","2017-11-24","2017-11-25","2017-11-26","2017-11-27","2017-11-28","2017-11-29","2017-11-30","2017-12-01","2017-12-02","2017-12-03","2017-12-04","2017-12-05",{"$f":"COUNTIF(E39:AO39,\"A\")","v":21},{"$f":"AP38*$L$14","v":21},{"$f":"AQ38*$L$13","v":21}]
[null,null,null,"Tipo",null,null,"F","A","A","D","D","A","A","A","A","A","D","D","A","A","A","A","A","D","D","A","A","A","A","A","D","D","A","A","A","A"]
[{"$f":"A38+1","v":12},{"$f":"DATE($B$19,A40,1)","v":"2017-12-01"},null,"Fecha",{"$f":"IFERROR(B40+1-WEEKDAY(B40,2),\"\")","v":"2017-11-27"},{"$f":"IFERROR(E40+1,\"\")","v":"2017-11-28"},{"$f":"IFERROR(F40+1,\"\")","v":"2017-11-29"},"2017-11-30","2017-12-01","2017-12-02","2017-12-03","2017-12-04","2017-12-05","2017-12-06","2017-12-07","2017-12-08","2017-12-09","2017-12-10","2017-12-11","2017-12-12","2017-12-13","2017-12-14","2017-12-15","2017-12-16","2017-12-17","2017-12-18","2017-12-19","2017-12-20","2017-12-21","2017-12-22","2017-12-23","2017-12-24","2017-12-25","2017-12-26",{"$f":"P12","v":"00:00:00"},"1900-01-01","1900-01-02","1900-01-03","1900-01-04","1900-01-05","1900-01-06",{"$f":"COUNTIF(E41:AO41,\"A\")","v":10},{"$f":"AP40*$L$14","v":10},{"$f":"AQ40*$L$13","v":10}]
[null,null,null,"Tipo",null,null,null,null,"A","D","D","A","A","A","A","F","D","D","A","A","A","A","A","D","D","G","G","G","G","G","D","D","F"]
[{"$f":"A40+1","v":13},{"$f":"DATE($B$19,A42,1)","v":"2018-01-01"},null,"Fecha",{"$f":"IFERROR(B42+1-WEEKDAY(B42,2),\"\")","v":"2018-01-01"},{"$f":"IFERROR(E42+1,\"\")","v":"2018-01-02"},{"$f":"IFERROR(F42+1,\"\")","v":"2018-01-03"},"2018-01-04","2018-01-05","2018-01-06","2018-01-07","2018-01-08","2018-01-09","2018-01-10","2018-01-11","2018-01-12","2018-01-13","2018-01-14","2018-01-15","2018-01-16","2018-01-17","2018-01-18","2018-01-19","2018-01-20","2018-01-21","2018-01-22","2018-01-23","2018-01-24","2018-01-25","2018-01-26","2018-01-27","2018-01-28","2018-01-29","2018-01-30","2018-01-31","2018-02-01","2018-02-02","2018-02-03","2018-02-04","2018-02-05","2018-02-06",{"$f":"COUNTIF(E43:AO43,\"A\")","v":0},{"$f":"AP42*$L$14","v":0},{"$f":"AQ42*$L$13","v":0}]
[null,null,null,"Tipo"]
[null,"Propuesta para la Calendarización del Año Escolar para alcanzar horas mínimas de acuerdo al DS Nº 008-2006- ED. Aprueban los “Lineamientos para el Seguimiento y Control de la Labor Efectiva de Trabajo Docente en las Instituciones Educativas Públicas”. ",null,null,null,null,null,null,null,null,null,null,null,null,null,null,null,null,null,null,null,null,null,null,null,null,null,null,null,null,null,null,null,null,null,null,null,null,null,null,null,{"$f":"SUM(AP22:AP43)","v":185},{"$f":"SUM(AQ22:AQ43)","v":185},{"$f":"SUM(AR22:AR43)","v":185}]
[]
[null,"NOTA:",null,"En las IIEE EIB se debe tener en cuenta las situaciones climáticas, geográficas, distancias y otras, para armonizar con las actividades del Calendario Comunal."]

{"sheet":"C5_Convivencia Escolar","index":42,"n_rows":37,"n_cols":9,"rows_kept":37,"cut":false,"hidden":true,"merged":[[2,1,2,8],[9,2,9,3],[10,2,10,3],[33,1,33,2],[30,5,33,5],[3,1,3,9],[4,1,5,9],[11,2,11,3],[12,2,12,3],[7,1,7,3],[16,7,16,8],[15,1,15,8],[16,1,17,1],[8,2,8,3],[16,3,16,6],[34,1,34,2],[30,1,30,2],[30,3,30,4],[31,1,31,2],[32,1,32,2]]}
[null,"Indicador: Porcentaje de casos atendidos oportunamente del total de casos reportados"]
[null,"¿Qué hacer?"]
[null,"1° Primero, revisar las condiciones para la Gestión de la Convivencia Escolar en la tabla \"RESULTADOS 2016\". "]
[null,"2° Luego, revisar el cuaderno de incidencias para obtener el reporte de la situación de los casos de violencia escolar. (Revisar información en el aplicativo de monitoreo 2016). Si usas el SíseVe, analiza tus datos ahí y luego solo completa tu meta 2017."]
[null,"3° En la tabla \"META 2017\", aparecerá el porcentaje de casos de violencia escolar sobre los que la escuela tomó alguna acción el 2016, que permitirá estimar la meta que tu Equipo Directivo se proponga alcanzar durante la presente gestión. "]
[]
[]
[null,"1° RESULTADOS 2016\nCondiciones para la gestión de la Convivencia Escolar"]
[null,"CONDICIONES ","Elige la opción que corresponda"]
[null,"Comité de Tutoría, Orientación Educativa, y Convivencia Escolar."]
[null,"Normas de Convivencia actualizadas en el Reglamento Interno a nivel de I.E."]
[null,"Acuerdos de Aula."]
[null,"Afiliación al Síseve"]
[]
[null,"Nota: Si utilizas el portal del SíseVe o tienes otras fuentes de información, no es necesario llenar esta sección."]
[null,"2° RESULTADOS 2016\nEstado de los Casos de Violencia Escolar sobre los que se tomó acción"]
[null,"INVOLUCRADOS",null,"Pasos de atención del protocolo",null,null,null,"CASOS DE VIOLENCIA ESCOLAR"]
[null,null,"Registro","Acción de la IE","Derivación","Seguimiento","Cierre","TOTAL  ","ATENDIDOS"]
[null,"De adultos a escolares",null,null,null,null,null,{"$f":"SUM(C19:G19)","v":0},{"$f":"SUM(D19+E19+F19+G19)","v":0}]
[null,"Entre escolares",null,null,null,null,null,{"$f":"SUM(C20:G20)","v":0},{"$f":"SUM(D20+E20+F20+G20)","v":0}]
[null,"Total del año",{"$f":"SUM(C19:C20)","v":0},0,{"$f":"SUM(E19:E20)","v":0},0,0,0,0]
[]
[]
[]
[]
[]
[]
[]
[]
[]
[null,"3° META 2017 ➨",null,"DIAGNÓSTICO 2016",null,"META \n2017"]
[null,"Porcentaje de casos de Violencia Escolar atendidos sobre el total de casos registrados en el libro de incidencias y/o en la plataforma SíseVe.",null,"N° ATENDIDOS","Porcentaje de casos atendidos"]
[null,"De adultos a escolares",null,{"$f":"+I19","v":0},{"$f":"IF(H19=0,\"100%\",I19/H19)","v":"100%"}]
[null,"Entre escolares",null,{"$f":"+I20","v":0},{"$f":"IF(H20=0,\"100%\",I20/H20)","v":"100%"}]
[null,"TOTAL",null,{"$f":"+I21","v":0},{"$f":"IF(H21=0,\"100%\",I21/H21)","v":"100%"}]
[]
[null,"★ Para conocer el reporte de los casos, ingresa a la plataforma.",null,null,"http://www.siseve.pe/"]

{"sheet":"Matriz Implementación","index":43,"n_rows":61,"n_cols":66,"rows_kept":61,"cut":false,"hidden":true,"merged":[[54,57,57,57],[55,18,57,21],[59,50,59,51],[59,52,59,53],[59,26,59,27],[59,28,59,29],[58,36,58,37],[58,38,58,39],[58,40,58,41],[58,42,58,43],[58,26,58,27],[58,28,58,29],[58,30,58,31],[58,32,58,33],[58,34,58,35],[59,30,59,31],[59,32,59,33],[59,34,59,35],[59,36,59,37],[59,38,59,39],[59,40,59,41],[59,42,59,43],[57,34,57,35],[57,36,57,37],[60,26,60,27],[60,28,60,29],[60,30,60,31],[60,32,60,33],[60,34,60,35],[60,36,60,37],[60,38,60,39],[60,40,60,41],[60,42,60,43],[60,44,60,45],[60,46,60,47],[60,48,60,49],[60,50,60,51],[60,52,60,53],[59,44,59,45],[59,46,59,47],[58,46,58,47],[58,48,58,49],[58,50,58,51],[58,52,58,53],[59,48,59,49],[58,44,58,45],[23,2,23,5],[1,1,2,15],[56,26,56,29],[50,2,50,5],[9,17,10,17],[47,2,47,5],[48,2,48,5],[49,2,49,5],[36,2,36,5],[37,2,37,5],[38,2,38,5],[33,2,33,5],[34,2,34,5],[35,2,35,5],[30,2,30,5],[9,1,10,1],[9,2,10,5],[9,6,10,6],[9,7,9,11],[9,14,10,14],[9,15,10,15],[9,16,10,16],[11,2,11,5],[12,2,12,5],[20,2,20,5],[21,2,21,5],[22,2,22,5],[17,2,17,5],[9,62,9,65],[9,18,9,21],[9,22,9,25],[9,26,9,29],[9,30,9,33],[9,34,9,37],[9,38,9,41],[9,42,9,45],[9,46,9,49],[9,50,9,53],[9,54,9,57],[9,58,9,61],[18,2,18,5],[19,2,19,5],[14,2,14,5],[15,2,15,5],[16,2,16,5],[13,2,13,5],[24,2,24,5],[25,2,25,5],[26,2,26,5],[60,24,60,25],[58,18,58,21],[59,18,59,21],[60,18,60,21],[58,22,58,23],[59,22,59,23],[60,22,60,23],[58,24,58,25],[59,24,59,25],[31,2,31,5],[32,2,32,5],[57,26,57,27],[57,28,57,29],[57,38,57,39],[57,40,57,41],[57,30,57,31],[57,32,57,33],[27,2,27,5],[28,2,28,5],[29,2,29,5],[39,2,39,5],[40,2,40,5],[41,2,41,5],[42,2,42,5],[43,2,43,5],[44,2,44,5],[45,2,45,5],[46,2,46,5],[4,7,4,13],[5,7,5,11],[56,50,56,53],[57,50,57,51],[57,52,57,53],[54,56,57,56],[54,18,54,21],[57,22,57,23],[57,24,57,25],[56,22,56,25],[55,34,55,41],[57,42,57,43],[57,44,57,45],[57,46,57,47],[57,48,57,49],[55,22,55,33],[54,22,54,55],[55,42,55,55],[56,54,56,55],[56,46,56,49],[56,42,56,45],[56,30,56,33],[56,38,56,41],[56,34,56,37]]}
[null,"Matriz de Seguimiento de Actividades de la IE"]
[null,"En este planificador puedes colocar tus actividades priorizadas y según correspondan a alguno de los compromisos y/o los indicadores de actividades de los Compromisos 1 y 5.\nCopia aquí los datos de la \"Matriz de planificación de actividades de la IE\" - hasta la columna \"fuente de verificación\". Luego podrás indicar el estado de cada actividad y colocar cuándo ejecutaste cada actividad.\nNota: Responsable directo es quien responde por el cumplimiento de la actividad."]
[]
[]
[null,null,null,null,null,null,null,"PORCENTAJE DE ACTIVIDADES CUMPLIDAS"]
[null,null,null,null,null,null,null,"Compromiso",null,null,null,null,"Indicador 2 del CG1","Indicador 2 del CG5"]
[null,null,null,null,null,null,null,1,2,3,4,5,"Act. de mejora de los aprendizajes","Act. con PPFF"]
[null,null,null,null,null,null,null,{"$f":"IFERROR((COUNTIFS(compro1,\"Sí\",EStActividad,\"Cumplida\")/COUNTIF(compro1,\"Sí\")),\"\")","v":""},{"$f":"IFERROR((COUNTIFS(compro2,\"Sí\",EStActividad,\"Cumplida\")/COUNTIF(compro1,\"Sí\")),\"\")","v":""},{"$f":"IFERROR((COUNTIFS(compro3,\"Sí\",EStActividad,\"Cumplida\")/COUNTIF(compro1,\"Sí\")),\"\")","v":""},{"$f":"IFERROR((COUNTIFS(compro4,\"Sí\",EStActividad,\"Cumplida\")/COUNTIF(compro1,\"Sí\")),\"\")","v":""},{"$f":"IFERROR((COUNTIFS(compro5,\"Sí\",EStActividad,\"Cumplida\")/COUNTIF(compro1,\"Sí\")),\"\")","v":""},{"$f":"IFERROR((COUNTIFS(Act._Aprendizaje,\"Sí\",EStActividad,\"Cumplida\")/COUNTIF(compro1,\"Sí\")),\"\")","v":""},{"$f":"IFERROR((COUNTIFS(Act._PPFF,\"Sí\",EStActividad,\"Cumplida\")/COUNTIF(compro1,\"Sí\")),\"\")","v":""}]
[]
[null,"Nro","Actividad",null,null,null,"Descripcion de la Actividad","Compromiso",null,null,null,null,"Indicador 2 del CG1","Indicador 2 del CG5","Responsable directo","Equipo responsable","Fuente de verificación","Estado de la actividad","ENE",null,null,null,"FEB",null,null,null,"MAR",null,null,null,"ABR",null,null,null,"MAY",null,null,null,"JUN",null,null,null,"JUL",null,null,null,"AGO",null,null,null,"SEP",null,null,null,"OCT",null,null,null,"NOV",null,null,null,"DIC"]
[null,null,null,null,null,null,null,1,2,3,4,5,"Act. de mejora de los aprendizajes","Act. con PPFF",null,null,null,null,"S1","S2","S3","S4","S1","S2","S3","S4","S1","S2","S3","S4","S1","S2","S3","S4","S1","S2","S3","S4","S1","S2","S3","S4","S1","S2","S3","S4","S1","S2","S3","S4","S1","S2","S3","S4","S1","S2","S3","S4","S1","S2","S3","S4","S1","S2","S3","S4"]
[null,1]
[null,2]
[null,3]
[null,4]
[null,5]
[null,6]
[null,7]
[null,8]
[null,9]
[null,10]
[null,11]
[null,12]
[null,13]
[null,14]
[null,15]
[null,16]
[null,17]
[null,18]
[null,19]
[null,20]
[null,21]
[null,22]
[null,23]
[null,24]
[null,25]
[null,26]
[null,27]
[null,28]
[null,29]
[null,30]
[null,31]
[null,32]
[null,33]
[null,34]
[null,35]
[null,36]
[null,37]
[null,38]
[null,39]
[null,40]
[]
[]
[]
[null,null,null,null,null,null,null,null,null,null,null,null,null,null,null,null,null,null,{"$f":"'C4_Form Acompañamiento'!B21","v":"Marzo"},null,null,null,"PLANIFICACIÓN DE VISITAS A DOCENTES O REUNIONES DE INTERAPRENDIZAJE",null,null,null,null,null,null,null,null,null,null,null,null,null,null,null,null,null,null,null,null,null,null,null,null,null,null,null,null,null,null,null,null,null,"Dato Parcial","Dato Final"]
[null,null,null,null,null,null,null,null,null,null,null,null,null,null,null,null,null,null,"Nivel Educativo",null,null,null,"INICIO",null,null,null,null,null,null,null,null,null,null,null,"PROCESO",null,null,null,null,null,null,null,"SALIDA"]
[null,null,null,null,null,null,null,null,null,null,null,null,null,null,null,null,null,null,null,null,null,null,{"$f":"'C4_Form Acompañamiento'!D23","v":"2017-03-01"},null,null,null,{"$f":"'C4_Form Acompañamiento'!E23","v":"2017-04-01"},null,null,null,{"$f":"'C4_Form Acompañamiento'!F23","v":"2017-05-01"},null,null,null,{"$f":"'C4_Form Acompañamiento'!G23","v":"2017-06-01"},null,null,null,{"$f":"'C4_Form Acompañamiento'!H23","v":"2017-07-01"},null,null,null,{"$f":"'C4_Form Acompañamiento'!I23","v":"2017-08-01"},null,null,null,{"$f":"'C4_Form Acompañamiento'!J23","v":"2017-09-01"},null,null,null,{"$f":"'C4_Form Acompañamiento'!K23","v":"2017-10-01"},null,null,null,{"$f":"'C4_Form Acompañamiento'!L23","v":"noviembre"}]
[null,null,null,null,null,null,null,null,null,null,null,null,null,null,null,null,null,null,null,null,null,null,"Planificadas",null,"Ejecutadas",null,"Planificadas",null,"Ejecutadas",null,"Planificadas",null,"Ejecutadas",null,"Planificadas",null,"Ejecutadas",null,"Planificadas",null,"Ejecutadas",null,"Planificadas",null,"Ejecutadas",null,"Planificadas",null,"Ejecutadas",null,"Planificadas",null,"Ejecutadas",null,"Planificadas","Ejecutadas"]
[null,null,null,null,null,null,null,null,null,null,null,null,null,null,null,null,null,null,"NIVEL INICIAL",null,null,null,{"$f":"'C4_Form Acompañamiento'!D24","v":1},null,1,null,{"$f":"'C4_Form Acompañamiento'!E24","v":0},null,null,null,{"$f":"'C4_Form Acompañamiento'!F24","v":0},null,null,null,{"$f":"'C4_Form Acompañamiento'!G24","v":0},null,null,null,{"$f":"'C4_Form Acompañamiento'!I24","v":0},null,null,null,{"$f":"'C4_Form Acompañamiento'!J24","v":0},null,null,null,{"$f":"'C4_Form Acompañamiento'!K24","v":0},null,null,null,{"$f":"'C4_Form Acompañamiento'!L24","v":0},null,null,null,{"$f":"'C4_Form Acompañamiento'!L24","v":0},null,{"$f":"SUM(Y59,AC59,AG59,AK59)/SUM(W59,AA59,AE59,AI59)","v":1},{"$f":"SUM(Y59,AC59,AG59,AK59,AO59,AS59,AW59,BA59,BD59)/SUM(W59,AA59,AE59,AI59,AM59,AQ59,AU59,AY59,BC59)","v":1}]
[null,null,null,null,null,null,null,null,null,null,null,null,null,null,null,null,null,null,"NIVEL PRIMARIA",null,null,null,{"$f":"'C4_Form Acompañamiento'!D25","v":1},null,1,null,{"$f":"'C4_Form Acompañamiento'!E25","v":0},null,null,null,{"$f":"'C4_Form Acompañamiento'!F25","v":0},null,null,null,{"$f":"'C4_Form Acompañamiento'!G25","v":0},null,null,null,{"$f":"'C4_Form Acompañamiento'!I25","v":0},null,null,null,{"$f":"'C4_Form Acompañamiento'!J25","v":0},null,null,null,{"$f":"'C4_Form Acompañamiento'!K25","v":0},null,null,null,{"$f":"'C4_Form Acompañamiento'!L25","v":0},null,null,null,{"$f":"'C4_Form Acompañamiento'!L25","v":0},null,{"$f":"SUM(Y60,AC60,AG60,AK60)/SUM(W60,AA60,AE60,AI60)","v":1},{"$f":"SUM(Y60,AC60,AG60,AK60,AO60,AS60,AW60,BA60,BD60)/SUM(W60,AA60,AE60,AI60,AM60,AQ60,AU60,AY60,BC60)","v":1}]
[null,null,null,null,null,null,null,null,null,null,null,null,null,null,null,null,null,null,"NIVEL SECUNDARIA",null,null,null,{"$f":"'C4_Form Acompañamiento'!D26","v":1},null,1,null,{"$f":"'C4_Form Acompañamiento'!E26","v":0},null,null,null,{"$f":"'C4_Form Acompañamiento'!F26","v":0},null,null,null,{"$f":"'C4_Form Acompañamiento'!G26","v":0},null,null,null,{"$f":"'C4_Form Acompañamiento'!I26","v":0},null,null,null,{"$f":"'C4_Form Acompañamiento'!J26","v":0},null,null,null,{"$f":"'C4_Form Acompañamiento'!K26","v":0},null,null,null,{"$f":"'C4_Form Acompañamiento'!L26","v":0},null,null,null,{"$f":"'C4_Form Acompañamiento'!L26","v":0},null,{"$f":"SUM(Y61,AC61,AG61,AK61)/SUM(W61,AA61,AE61,AI61)","v":1},{"$f":"SUM(Y61,AC61,AG61,AK61,AO61,AS61,AW61,BA61,BD61)/SUM(W61,AA61,AE61,AI61,AM61,AQ61,AU61,AY61,BC61)","v":1}]

{"sheet":"C4_Form Acompañamiento","index":44,"n_rows":27,"n_cols":14,"rows_kept":27,"cut":false,"hidden":true,"merged":[[2,1,2,12],[14,8,15,13],[3,1,3,12],[24,1,24,2],[25,1,25,2],[23,1,23,2],[12,8,12,9],[20,13,22,13],[21,3,21,5],[21,6,21,8],[21,1,22,2],[20,1,20,2],[20,3,20,11],[20,12,22,12],[7,1,7,5],[11,8,11,9],[7,8,7,13],[9,10,10,10],[4,1,5,15],[9,13,10,13],[9,3,10,3],[9,4,10,4],[9,8,10,9],[9,17,10,17],[9,15,10,15],[9,1,10,2],[9,12,10,12],[20,17,22,17],[21,9,21,11],[20,16,22,16],[11,1,11,2],[18,1,18,13],[12,1,12,2],[17,1,17,13],[14,1,15,5],[9,11,10,11],[9,5,10,5],[13,1,13,2],[13,8,13,9]]}
[null,"Indicador: Porcentaje de visitas de monitoreo y acompañamiento o reuniones de interaprendizaje que han sido implementadas."]
[null,"¿Qué hacer?"]
[null,"¿El director cuenta con carga lectiva en tu IE? Si es así, entonces te corresponde usar el indicador referido a \"reuniones de interaprendizaje\". Si no tiene carga lectiva y, además de las visitas de monitoreo, requieres planificar reuniones puedes duplicar esta pestaña para planificar las reuniones de interaprendizaje."]
[null,"1° En la tabla \"RESULTADOS 2016\" podrás identificar el porcentaje de docentes monitoreados."]
["|","2° En la tabla \"META 2017\", a partir de los datos anteriores, podrás proyectar las acciones de monitoreo y acompañamiento para el presente año.                                    \n* Primero, debes decidir a cuántos docentes monitorearás (se sugiere a todos, aunque en las escuelas grandes se optará por un grupo elegido, de preferencia, al azar).\n3° Luego, en la tabla \"PLANIFICACIÓN DE MONITOREO Y ACOMPAÑAMIENTO\", organizarás el número de visitas durante cada momento del año (inicio, proceso y salida).\nNota: Si tu IE ofrece las modalidades EBA o EBE puedes modificar los nombres de los niveles para que la tabla se ajuste mejor a tu realidad."]
[]
[]
[null,"1° RESULTADOS 2016\n(Revisar resultados de aplicativo de monitoreo 2016)",null,null,null,null,null,null,"2° META DE VISITAS DE MONITOREO O REUNIONES DE INTERAPRENDIZAJE 2017"]
[]
[null,"Nivel educativo",null,"TOTAL DE DOCENTES  2016","N° DOCENTES MONITOREA-DOS 2016","% DE EJECUCIÓN",null,null,"Nivel educativo",null,"TOTAL DE DOCENTES 2017","N° DOCENTES POR ACOMPAÑAR","N° DE VISITAS O REUNIONES PREVISTAS","META 2017\n(Total de visitas o reuniones)"]
[]
[null,"Nivel INICIAL",null,1,1,{"$f":"E12*1/D12","v":1},null,null,"Nivel INICIAL",null,1,1,1,{"$f":"L12*M12","v":1}]
[null,"Nivel PRIMARIA",null,1,1,{"$f":"E13*1/D13","v":1},null,null,"Nivel PRIMARIA",null,1,1,1,{"$f":"L13*M13","v":1}]
[null,"Nivel SECUNDARIA",null,1,1,{"$f":"E14*1/D14","v":1},null,null,"Nivel SECUNDARIA",null,1,1,1,{"$f":"L14*M14","v":1}]
[null,"Para ser considerado un \"docente monitoreado\" se le debe realizar tres visitas al año (inicio, proceso, salida).",null,null,null,null,null,null,"Si en tu IE realizarás reuniones de interaprendizaje, entonces coloca 1 en \"N° de docentes por acompañar\""]
[]
[]
[null,"★ En esta tabla, organizarás el número de docentes que visitarás por cada momento del año y/o el número de reuniones de interaprendizaje que realizarás en cada mes. Luego, verás cómo esa distribución contribuye al logro de la meta propuesta."]
[null,"3° PLANIFICACIÓN DE ACOMPAÑAMIENTO 2017"]
[]
[null,"Marzo",null,"PLANIFICACIÓN DE VISITAS A DOCENTES O REUNIONES DE INTERAPRENDIZAJE",null,null,null,null,null,null,null,null,"Meta Parcial","META 2017"]
[null,"Nivel educativo",null,"INICIO",null,null,"PROCESO",null,null,"SALIDA"]
[null,null,null,{"$f":"DATE(YEAR(TODAY()),$C$27,1)","v":"2017-03-01"},{"$f":"EDATE(D23,1)","v":"2017-04-01"},{"$f":"EDATE(E23,1)","v":"2017-05-01"},"2017-06-01",{"$f":"EDATE(G23,1)","v":"2017-07-01"},{"$f":"EDATE(H23,1)","v":"2017-08-01"},{"$f":"EDATE(I23,1)","v":"2017-09-01"},{"$f":"EDATE(J23,1)","v":"2017-10-01"},"noviembre"]
[null,"Nivel INICIAL",null,1,null,null,null,null,null,null,null,null,{"$f":"SUM(D24:G24)/N12","v":1},{"$f":"SUM(D24:L24)/N12","v":1}]
[null,"Nivel PRIMARIA",null,1,null,null,null,null,null,null,null,null,{"$f":"SUM(D25:G25)/N13","v":1},{"$f":"SUM(D25:L25)/N13","v":1}]
[null,"Nivel SECUNDARIA",null,1,null,null,null,null,null,null,null,null,{"$f":"SUM(D26:G26)/N14","v":1},{"$f":"SUM(D26:L26)/N14","v":1}]
[null,null,{"$f":"IF(B21=\"febrero\",2,IF(B21=\"marzo\",3,IF(B21=\"abril\",4,5)))","v":3}]